{"text_format":"1","workbook":"xlsx","n_sheets":9,"sheets":["Home","40-now","report1","report2","report3","report4","ทะเบียนคุมทรัพย์สิน"," Search","Sheet2"],"not_rendered":{"charts":0,"images":13,"macros":1,"external_links":0,"defined_names":5,"comments":2,"pivot_tables":4},"unopened":[],"bounds":{"document_bytes":16777216,"sheet_cells":100000,"rows_first":2000,"rows_last":500,"rows_between":2000,"halvings":0,"cell_chars":16384,"cell_head_chars":4096},"cells_cut":0,"cells_raw":0,"read":"whole","date_system":"1900"}

{"sheet":"Home","index":0,"n_rows":0,"n_cols":0,"rows_kept":0,"cut":false,"hidden":false,"merged":[[1,1,27,13]]}

{"sheet":"40-now","index":1,"n_rows":5690,"n_cols":78,"rows_kept":1125,"cut":true,"hidden":false,"merged":[[0,0,0,77],[1,0,1,77]],"bounds":{"rows_first":500,"rows_last":125,"rows_between":500,"halvings":2}}
["มหาวิทยาลัยราชภัฏราชนครินทร์"]
["บัญชีรายการค่าเสื่อมราคาและค่าเสื่อมราคาสะสม ครุภัณฑ์ ประจำปีงบประมาณ  2559"]
[{"$f":"A2+1","v":{"$error":"#VALUE!"}}," "," "," "," "," "," "," "," "," "," ",{"$f":"CONCATENATE(BS3,\".\",BT3,\".\",BU3)","v":" . . "},{"$f":"IF(BV3=\"จำหน่าย\",0,SUM(J3*K3))","v":{"$error":"#VALUE!"}},{"$f":"IF(K3<5000,0,M3)","v":{"$error":"#VALUE!"}}," ",{"$f":"DATE(YEAR(C3)+O3,MONTH(C3),DAY(C3))","v":{"$error":"#VALUE!"}},{"$f":"IF(NOT(OR(ISBLANK(P3),ISBLANK(C3))),P3-C3,\"\")","v":{"$error":"#VALUE!"}},{"$f":"SLN(N3,,O3)","v":{"$error":"#VALUE!"}},{"$f":"SLN(R3,,12)","v":{"$error":"#VALUE!"}},{"$f":"SLN(N3,,Q3)","v":{"$error":"#VALUE!"}},{"$f":"IF(N3=0,0,IF(AE3<=Q3,1,0))","v":{"$error":"#VALUE!"}},{"$f":"SUM(R3*U3/12)","v":{"$error":"#VALUE!"}},{"$f":"IF(N3=0,0,IF((R3*AB3)+(R3*AC3/12)>=N3,N3-J3,((R3*AB3)+(R3*AC3/12))))","v":{"$error":"#VALUE!"}},{"$f":"SUM(T3*U3)","v":{"$error":"#VALUE!"}},{"$f":"IF(N3=0,0,IF((DATEDIF(C3,TODAY(),\"d\")+1)*T3>=N3,N3-J3,(DATEDIF(C3,TODAY(),\"d\")+1)*T3))","v":{"$error":"#VALUE!"}},{"$f":"IF(U3=0,0,IF(OR(DAY(C3)=1,MONTH(C3)<>MONTH(TODAY()),YEAR(C3)<>YEAR(TODAY())),T3*((DAY(DATE(YEAR(TODAY()),MONTH(TODAY())+1,1)-1))),T3*((DAY(DATE(YEAR(TODAY()),MONTH(TODAY())+1,1)-1)-DAY(C3)+1))))","v":{"$error":"#VALUE!"}},{"$f":"IF(N3=0,0,IF(X3>=N3,(J3),(N3-Y3)))","v":{"$error":"#VALUE!"}},{"$f":"DATEDIF(C3,TODAY(),\"Y\")","v":{"$error":"#VALUE!"}},{"$f":"DATEDIF(C3,TODAY(),\"YM\")","v":{"$error":"#VALUE!"}},{"$f":"DATEDIF(C3,TODAY(),\"md\")+1","v":{"$error":"#VALUE!"}},{"$f":"DATEDIF(C3,TODAY(),\"d\")+1","v":{"$error":"#VALUE!"}},{"$f":"IF(N3=0,\"No\",IF(AE3>Q3,\"NO\",\"YES\"))","v":{"$error":"#VALUE!"}}," "," "," "," "," "," "," "," "," "," "," "," "," "," "," ",{"$f":"100/O3","v":{"$error":"#VALUE!"}}," "," "," "," "," "," "," "," "," "," "," "," "," "," ",null," "," "," "," "," "," "," "," "," "," "," ",null," ",{"$f":"CONCATENATE(AB3,\" ปี  \",AC3,\" เดือน  \",AD3,\" วัน  \")","v":{"$error":"#VALUE!"}},{"$f":"A3","v":{"$error":"#VALUE!"}}]
[]
["ลำดับที่","หมายเลขเอกสาร","วันที่ได้มา","ปีงบประมาณ","วิธีการที่ได้มา","ประเภทงบประมาณ","รหัสโครงการ","บริษัท/ร้านค้า","รายการ","จำนวน","ราคาต่อหน่วย","หมายเลขครุภัณฑ์","ราคาทุนรวม","ราคาทุนที่นำมาคิดค่าเสื่อม","อายุการใช้งาน (ปี)","วันหมดอายุการใช้งาน","อายุการใช้งาน (วัน)","ค่าเสื่อมราคาต่อปี","ค่าเสื่อมราคาต่อเดือน","ค่าเสื่อมราคาต่อวัน","ระยะเวลาคิดค่าเสื่อมปี 2559","ค่าเสื่อมราคา เดือนปัจจุบัน"," ค่าเสื่อมราคาสะสม (เดือน)","ค่าเสื่อมราคา วันปัจจุบัน","ค่าเสื่อมราคาสะสม(วัน)","ค่าเสื่อมราคาเดือนปัจจุบัน (เสื่อมรายวัน)","มูลค่าสุทธิ   ","ใช้ไป (ปี)","ใช้ไป (เดือน)","ใช้ไป (วัน)","จำนวนวันทั้งหมดที่ใช้ไป","สถานะ","สมุดทะเบียนคุมเล่มที่","สมุดทะเบียนคุมหน้าที่","หน่วยงาน","สาขา","ผู้เบิก","ประเภทครุภัณฑ์","หมายเลขเครื่อง","ลักษณะ/คุณสมบัติ","รุ่น/แบบ/ขนาด","ที่อยู่ผู้ขาย","เอกสารอ้างอิง","ใบเสร็จเล่มที่","ใบเสร็จเลขที่","สัญญาเลขที่","เลขที่ใบเบิกพัสดุ","อัตราค่าเสื่อมราคา %","หมายเหตุ","ซ่อมครั้งที่","วันที่ซ่อม","รายการซ่อม","จำนวนหน่วย","จำนวนเงิน","ร้านที่รับซ่อม","หมายเหตุเอกสารอ้างอิง","ซ่อมครั้งที่","วันที่ซ่อม","รายการซ่อม","จำนวนหน่วย","จำนวนเงิน","ร้านที่รับซ่อม","หมายเหตุเอกสารอ้างอิง","ซ่อมครั้งที่","วันที่ซ่อม","รายการซ่อม","จำนวนหน่วย","จำนวนเงิน","ร้านที่รับซ่อม","หมายเหตุเอกสารอ้างอิง","หมวดครุภัณฑ์","ประเภทครุภัณฑ์","เลขครุภัณฑ์","สถานะจำหน่าย","วันที่จำหน่าย","วันที่บันทึกข้อมุล","ใช้งานไปแล้ว","ลำดับ"]
[1,null,"1996-10-03",40,null,null,null,null,"เครื่องปรับแรงดันไฟฟ้า 1 ค.",1,64200,"05.46.36",{"$f":"IF(BV6=\"จำหน่าย\",0,SUM(J6*K6))","v":64200},{"$f":"IF(K6<5000,0,M6)","v":64200},3,{"$f":"DATE(YEAR(C6)+O6,MONTH(C6),DAY(C6))","v":"1999-10-03"},{"$f":"IF(NOT(OR(ISBLANK(P6),ISBLANK(C6))),P6-C6,\"\")","v":1095},{"$f":"SLN(N6,,O6)","v":21400},{"$f":"SLN(R6,,12)","v":1783.3333333333333},{"$f":"SLN(N6,,Q6)","v":58.630136986301373},{"$f":"IF(N6=0,0,IF(AE6<=Q6,1,0))","v":0},{"$f":"SUM(R6*U6/12)","v":0},{"$f":"IF(N6=0,0,IF((R6*AB6)+(R6*AC6/12)>=N6,N6-J6,((R6*AB6)+(R6*AC6/12))))","v":64199},{"$f":"SUM(T6*U6)","v":0},{"$f":"IF(N6=0,0,IF((DATEDIF(C6,TODAY(),\"d\")+1)*T6>=N6,N6-J6,(DATEDIF(C6,TODAY(),\"d\")+1)*T6))","v":64199},{"$f":"IF(U6=0,0,IF(OR(DAY(C6)=1,MONTH(C6)<>MONTH(TODAY()),YEAR(C6)<>YEAR(TODAY())),T6*((DAY(DATE(YEAR(TODAY()),MONTH(TODAY())+1,1)-1))),T6*((DAY(DATE(YEAR(TODAY()),MONTH(TODAY())+1,1)-1)-DAY(C6)+1))))","v":0},{"$f":"IF(N6=0,0,IF(X6>=N6,(J6),(N6-Y6)))","v":1},{"$f":"DATEDIF(C6,TODAY(),\"Y\")","v":22},{"$f":"DATEDIF(C6,TODAY(),\"YM\")","v":1},{"$f":"DATEDIF(C6,TODAY(),\"md\")+1","v":19},{"$f":"DATEDIF(C6,TODAY(),\"d\")+1","v":8085},{"$f":"IF(N6=0,\"No\",IF(AE6>Q6,\"NO\",\"YES\"))","v":"NO"},null,null,null,null,null,null,null,null,null,null,null,null,null,null,null,{"$f":"100/O6","v":33.333333333333336},null,null,null,null,null,null,null,null,null,null,null,null,null,null,null,null,null,null,null,null,null,null,"05","46","36",null,null,null,{"$f":"CONCATENATE(AB6,\" ปี  \",AC6,\" เดือน  \",AD6,\" วัน  \")","v":"22 ปี  1 เดือน  19 วัน  "},{"$f":"A6","v":1}]
[{"$f":"A6+1","v":2},null,"1996-10-04",40,null,null,null,null,"รถตู้ 12 ที่นั่ง  1 คัน",1,670000,"02.02.15",{"$f":"IF(BV7=\"จำหน่าย\",0,SUM(J7*K7))","v":670000},{"$f":"IF(K7<5000,0,M7)","v":670000},5,{"$f":"DATE(YEAR(C7)+O7,MONTH(C7),DAY(C7))","v":"2001-10-04"},{"$f":"IF(NOT(OR(ISBLANK(P7),ISBLANK(C7))),P7-C7,\"\")","v":1826},{"$f":"SLN(N7,,O7)","v":134000},{"$f":"SLN(R7,,12)","v":11166.666666666666},{"$f":"SLN(N7,,Q7)","v":366.92223439211392},{"$f":"IF(N7=0,0,IF(AE7<=Q7,1,0))","v":0},{"$f":"SUM(R7*U7/12)","v":0},{"$f":"IF(N7=0,0,IF((R7*AB7)+(R7*AC7/12)>=N7,N7-J7,((R7*AB7)+(R7*AC7/12))))","v":669999},{"$f":"SUM(T7*U7)","v":0},{"$f":"IF(N7=0,0,IF((DATEDIF(C7,TODAY(),\"d\")+1)*T7>=N7,N7-J7,(DATEDIF(C7,TODAY(),\"d\")+1)*T7))","v":669999},{"$f":"IF(U7=0,0,IF(OR(DAY(C7)=1,MONTH(C7)<>MONTH(TODAY()),YEAR(C7)<>YEAR(TODAY())),T7*((DAY(DATE(YEAR(TODAY()),MONTH(TODAY())+1,1)-1))),T7*((DAY(DATE(YEAR(TODAY()),MONTH(TODAY())+1,1)-1)-DAY(C7)+1))))","v":0},{"$f":"IF(N7=0,0,IF(X7>=N7,(J7),(N7-Y7)))","v":1},{"$f":"DATEDIF(C7,TODAY(),\"Y\")","v":22},{"$f":"DATEDIF(C7,TODAY(),\"YM\")","v":1},{"$f":"DATEDIF(C7,TODAY(),\"md\")+1","v":18},{"$f":"DATEDIF(C7,TODAY(),\"d\")+1","v":8084},{"$f":"IF(N7=0,\"No\",IF(AE7>Q7,\"NO\",\"YES\"))","v":"NO"},null,null,null,null,null,null,null,null,null,null,null,null,null,null,null,{"$f":"100/O7","v":20},null,null,null,null,null,null,null,null,null,null,null,null,null,null,null,null,null,null,null,null,null,null,"02","02","15",null,null,null,{"$f":"CONCATENATE(AB7,\" ปี  \",AC7,\" เดือน  \",AD7,\" วัน  \")","v":"22 ปี  1 เดือน  18 วัน  "},{"$f":"A7","v":2}]
[{"$f":"A7+1","v":3},null,"1996-10-04",40,null,null,null,null,"รถตู้ 12 ที่นั่ง  1 คัน",1,650000,"02.02.16",{"$f":"IF(BV8=\"จำหน่าย\",0,SUM(J8*K8))","v":650000},{"$f":"IF(K8<5000,0,M8)","v":650000},5,"2001-10-04",1826,130000,10833.333333333334,355.96933187294633,0,0,649999,0,649999,0,1,22,1,18,8084,"NO",null,null,null,null,null,null,null,null,null,null,null,null,null,null,null,20,null,null,null,null,null,null,null,null,null,null,null,null,null,null,null,null,null,null,null,null,null,null,"02","02","16",null,null,null,"22 ปี  1 เดือน  18 วัน  ",3]
[{"$f":"A8+1","v":4},null,"1996-10-05",40,null,null,null,null,"ชุดเฟอร์นิเจอร์หนัง 1 ชุด",1,38500,"01.01.18905",{"$f":"IF(BV9=\"จำหน่าย\",0,SUM(J9*K9))","v":38500},{"$f":"IF(K9<5000,0,M9)","v":38500},8,"2004-10-05",2922,4812.5,401.04166666666669,13.175906913073238,0,0,38499,0,38499,0,1,22,1,17,8083,"NO",null,null,null,null,null,null,null,null,null,null,null,null,null,null,null,12.5,null,null,null,null,null,null,null,null,null,null,null,null,null,null,null,null,null,null,null,null,null,null,"01","01","18905",null,null,null,"22 ปี  1 เดือน  17 วัน  ",4]
[{"$f":"A9+1","v":5},null,"1996-10-10",40,null,null,null,null,"เครื่องปรับอากาศ 21 ค.",21,24952.380952380954,"01.29.209-229",{"$f":"IF(BV10=\"จำหน่าย\",0,SUM(J10*K10))","v":524000.00000000006},{"$f":"IF(K10<5000,0,M10)","v":524000.00000000006},8,"2004-10-10",2922,65500.000000000007,5458.3333333333339,179.32922655715265,0,0,523979.00000000006,0,523979.00000000006,0,21,22,1,12,8078,"NO",null,null,null,null,null,null,null,null,null,null,null,null,null,null,null,12.5,null,null,null,null,null,null,null,null,null,null,null,null,null,null,null,null,null,null,null,null,null,null,"01","29","209-229",null,null,null,"22 ปี  1 เดือน  12 วัน  ",5]
[{"$f":"A10+1","v":6},null,"1996-10-10",40,null,null,null,null,"เครื่องพิมพ์สำเนาระบบดิจิตอล 1 ค.",1,156555,"01.46.12",{"$f":"IF(BV11=\"จำหน่าย\",0,SUM(J11*K11))","v":156555},{"$f":"IF(K11<5000,0,M11)","v":156555},8,"2004-10-10",2922,19569.375,1630.78125,53.578028747433265,0,0,156554,0,156554,0,1,22,1,12,8078,"NO",null,null,null,null,null,null,null,null,null,null,null,null,null,null,null,12.5,null,null,null,null,null,null,null,null,null,null,null,null,null,null,null,null,null,null,null,null,null,null,"01","46","12",null,null,null,"22 ปี  1 เดือน  12 วัน  ",6]
[{"$f":"A11+1","v":7},null,"1996-10-11",40,null,null,null,null,"เครื่องคอมพิวเตอร์ 1 ค.",1,50000,"01.53.364",{"$f":"IF(BV12=\"จำหน่าย\",0,SUM(J12*K12))","v":50000},{"$f":"IF(K12<5000,0,M12)","v":50000},3,"1999-10-11",1095,16666.666666666668,1388.8888888888889,45.662100456621005,0,0,49999,0,49999,0,1,22,1,11,8077,"NO",null,null,null,null,null,null,null,null,null,null,null,null,null,null,null,33.333333333333336,null,null,null,null,null,null,null,null,null,null,null,null,null,null,null,null,null,null,null,null,null,null,"01","53","364",null,null,null,"22 ปี  1 เดือน  11 วัน  ",7]
[{"$f":"A12+1","v":8},null,"1996-10-18",40,null,null,null,null,"รถยนต์เก๋ง 4 ประตู 1 คัน",1,1190000,"02.01.10",{"$f":"IF(BV13=\"จำหน่าย\",0,SUM(J13*K13))","v":1190000},{"$f":"IF(K13<5000,0,M13)","v":1190000},5,"2001-10-18",1826,238000,19833.333333333332,651.69769989047097,0,0,1189999,0,1189999,0,1,22,1,4,8070,"NO",null,null,null,null,null,null,null,null,null,null,null,null,null,null,null,20,null,null,null,null,null,null,null,null,null,null,null,null,null,null,null,null,null,null,null,null,null,null,"02","01","10",null,null,null,"22 ปี  1 เดือน  4 วัน  ",8]
[{"$f":"A13+1","v":9},null,"1996-11-04",40,null,null,null,null,"ครุภัณฑ์ประจำห้องพัก 20 ชุด",20,37950,"08.09.21-40",{"$f":"IF(BV14=\"จำหน่าย\",0,SUM(J14*K14))","v":759000},{"$f":"IF(K14<5000,0,M14)","v":759000},5,"2001-11-04",1826,151800,12650,415.66265060240966,0,0,758980,0,758980,0,20,22,0,18,8053,"NO",null,null,null,null,null,null,null,null,null,null,null,null,null,null,null,20,null,null,null,null,null,null,null,null,null,null,null,null,null,null,null,null,null,null,null,null,null,null,"08","09","21-40",null,null,null,"22 ปี  0 เดือน  18 วัน  ",9]
[{"$f":"A14+1","v":10},null,"1996-11-19",40,null,null,null,null,"เครื่องคอมพิวเตอร์ 1 ค.",1,39800,"01.53.366",{"$f":"IF(BV15=\"จำหน่าย\",0,SUM(J15*K15))","v":39800},{"$f":"IF(K15<5000,0,M15)","v":39800},3,"1999-11-19",1095,13266.666666666666,1105.5555555555554,36.347031963470322,0,0,39799,0,39799,0,1,22,0,3,8038,"NO",null,null,null,null,null,null,null,null,null,null,null,null,null,null,null,33.333333333333336,null,null,null,null,null,null,null,null,null,null,null,null,null,null,null,null,null,null,null,null,null,null,"01","53","366",null,null,null,"22 ปี  0 เดือน  3 วัน  ",10]
[{"$f":"A15+1","v":11},null,"1996-11-20",40,null,null,null,null,"เครื่องขัดโลหะชิ้นงานวิทยา 1 ค.",1,408000,"09.38.03",{"$f":"IF(BV16=\"จำหน่าย\",0,SUM(J16*K16))","v":408000},{"$f":"IF(K16<5000,0,M16)","v":408000},4,"2000-11-20",1461,102000,8500,279.26078028747435,0,0,407999,0,407999,0,1,22,0,2,8037,"NO",null,null,null,null,null,null,null,null,null,null,null,null,null,null,null,25,null,null,null,null,null,null,null,null,null,null,null,null,null,null,null,null,null,null,null,null,null,null,"09","38","03",null,null,null,"22 ปี  0 เดือน  2 วัน  ",11]
[{"$f":"A16+1","v":12},null,"1996-11-21",40,null,null,null,null,"เคาท์เตอร์บาร์ 1 ชุด",1,72000,"01.02.3298",{"$f":"IF(BV17=\"จำหน่าย\",0,SUM(J17*K17))","v":72000},{"$f":"IF(K17<5000,0,M17)","v":72000},8,"2004-11-21",2922,9000,750,24.640657084188913,0,0,71999,0,71999,0,1,22,0,1,8036,"NO",null,null,null,null,null,null,null,null,null,null,null,null,null,null,null,12.5,null,null,null,null,null,null,null,null,null,null,null,null,null,null,null,null,null,null,null,null,null,null,"01","02","3298",null,null,null,"22 ปี  0 เดือน  1 วัน  ",12]
[{"$f":"A17+1","v":13},null,"1996-11-21",40,null,null,null,null,"เครื่องพิมพ์สำเนาระบบดิจิตอล 1 ค.",1,160000,"01.46.13",{"$f":"IF(BV18=\"จำหน่าย\",0,SUM(J18*K18))","v":160000},{"$f":"IF(K18<5000,0,M18)","v":160000},8,"2004-11-21",2922,20000,1666.6666666666667,54.757015742642025,0,0,159999,0,159999,0,1,22,0,1,8036,"NO",null,null,null,null,null,null,null,null,null,null,null,null,null,null,null,12.5,null,null,null,null,null,null,null,null,null,null,null,null,null,null,null,null,null,null,null,null,null,null,"01","46","13",null,null,null,"22 ปี  0 เดือน  1 วัน  ",13]
[{"$f":"A18+1","v":14},null,"1996-11-26",40,null,null,null,null,"เครื่องคอมพิวเตอร์ 1 ค.",1,39800,"01.53.365",{"$f":"IF(BV19=\"จำหน่าย\",0,SUM(J19*K19))","v":39800},{"$f":"IF(K19<5000,0,M19)","v":39800},3,"1999-11-26",1095,13266.666666666666,1105.5555555555554,36.347031963470322,0,0,39799,0,39799,0,1,21,11,27,8031,"NO",null,null,null,null,null,null,null,null,null,null,null,null,null,null,null,33.333333333333336,null,null,null,null,null,null,null,null,null,null,null,null,null,null,null,null,null,null,null,null,null,null,"01","53","365",null,null,null,"21 ปี  11 เดือน  27 วัน  ",14]
[{"$f":"A19+1","v":15},null,"1996-12-25",40,null,null,null,null,"จอรับภาพสัญญาณดาวเทียม 1 ค.",1,97000,"05.50.02",{"$f":"IF(BV20=\"จำหน่าย\",0,SUM(J20*K20))","v":97000},{"$f":"IF(K20<5000,0,M20)","v":97000},5,"2001-12-25",1826,19400,1616.6666666666667,53.121577217962759,0,0,96999,0,96999,0,1,21,10,28,8002,"NO",null,null,null,null,null,null,null,null,null,null,null,null,null,null,null,20,null,null,null,null,null,null,null,null,null,null,null,null,null,null,null,null,null,null,null,null,null,null,"05","50","02",null,null,null,"21 ปี  10 เดือน  28 วัน  ",15]
[{"$f":"A20+1","v":16},null,"1997-01-13",40,null,null,null,null,"เครื่องปรับอากาศ 5 ค.",5,30800,"01.29.272-276",{"$f":"IF(BV21=\"จำหน่าย\",0,SUM(J21*K21))","v":154000},{"$f":"IF(K21<5000,0,M21)","v":154000},8,"2005-01-13",2922,19250,1604.1666666666667,52.703627652292951,0,0,153995,0,153995,0,5,21,10,9,7983,"NO",null,null,null,null,null,null,null,null,null,null,null,null,null,null,null,12.5,null,null,null,null,null,null,null,null,null,null,null,null,null,null,null,null,null,null,null,null,null,null,"01","29","272-276",null,null,null,"21 ปี  10 เดือน  9 วัน  ",16]
[{"$f":"A21+1","v":17},null,"1997-01-13",40,null,null,null,null,"เครื่องปรับอากาศ 10 ค.",10,36500,"01.29.277-286",{"$f":"IF(BV22=\"จำหน่าย\",0,SUM(J22*K22))","v":365000},{"$f":"IF(K22<5000,0,M22)","v":365000},8,"2005-01-13",2922,45625,3802.0833333333335,124.91444216290212,0,0,364990,0,364990,0,10,21,10,9,7983,"NO",null,null,null,null,null,null,null,null,null,null,null,null,null,null,null,12.5,null,null,null,null,null,null,null,null,null,null,null,null,null,null,null,null,null,null,null,null,null,null,"01","29","277-286",null,null,null,"21 ปี  10 เดือน  9 วัน  ",17]
[{"$f":"A22+1","v":18},null,"1997-01-13",40,null,null,null,null,"เคาท์เตอร์ห้องอาหาร 1 ชุด",1,59000,"01.36.25.01",{"$f":"IF(BV23=\"จำหน่าย\",0,SUM(J23*K23))","v":59000},{"$f":"IF(K23<5000,0,M23)","v":59000},8,"2005-01-13",2922,7375,614.58333333333337,20.191649555099247,0,0,58999,0,58999,0,1,21,10,9,7983,"NO",null,null,null,null,null,null,null,null,null,null,null,null,null,null,null,12.5,null,null,null,null,null,null,null,null,null,null,null,null,null,null,null,null,null,null,null,null,null,null,"01","36","01",null,null,null,"21 ปี  10 เดือน  9 วัน  ",18]
[{"$f":"A23+1","v":19},null,"1997-01-28",40,null,null,null,null,"เครื่องพิมพ์ดีดไฟฟ้า 1 ค.",1,34000,"01.50.18",{"$f":"IF(BV24=\"จำหน่าย\",0,SUM(J24*K24))","v":34000},{"$f":"IF(K24<5000,0,M24)","v":34000},8,"2005-01-28",2922,4250,354.16666666666669,11.635865845311431,0,0,33999,0,33999,0,1,21,9,25,7968,"NO",null,null,null,null,null,null,null,null,null,null,null,null,null,null,null,12.5,null,null,null,null,null,null,null,null,null,null,null,null,null,null,null,null,null,null,null,null,null,null,"01","50","18",null,null,null,"21 ปี  9 เดือน  25 วัน  ",19]
[{"$f":"A24+1","v":20},null,"1997-02-04",40,null,null,null,null,"เครื่องอัดสำเนาเทป 1 ค.",1,35952,"06.21.04",{"$f":"IF(BV25=\"จำหน่าย\",0,SUM(J25*K25))","v":35952},{"$f":"IF(K25<5000,0,M25)","v":35952},5,"2002-02-04",1826,7190.4,599.19999999999993,19.688937568455639,0,0,35951,0,35951,0,1,21,9,18,7961,"NO",null,null,null,null,null,null,null,null,null,null,null,null,null,null,null,20,null,null,null,null,null,null,null,null,null,null,null,null,null,null,null,null,null,null,null,null,null,null,"06","21","04",null,null,null,"21 ปี  9 เดือน  18 วัน  ",20]
[{"$f":"A25+1","v":21},null,"1997-02-05",40,null,null,null,null,"ครุภัณฑ์ประจำห้องพัก 10 ชุด",10,37950,"08.09.11-20",{"$f":"IF(BV26=\"จำหน่าย\",0,SUM(J26*K26))","v":379500},{"$f":"IF(K26<5000,0,M26)","v":379500},5,"2002-02-05",1826,75900,6325,207.83132530120483,0,0,379490,0,379490,0,10,21,9,17,7960,"NO",null,null,null,null,null,null,null,null,null,null,null,null,null,null,null,20,null,null,null,null,null,null,null,null,null,null,null,null,null,null,null,null,null,null,null,null,null,null,"08","09","11-20",null,null,null,"21 ปี  9 เดือน  17 วัน  ",21]
[{"$f":"A26+1","v":22},null,"1997-03-24",40,null,null,null,null,"เครื่องคอมพิวเตอร์ 2 ค.",2,42000,"01.53.372-373",{"$f":"IF(BV27=\"จำหน่าย\",0,SUM(J27*K27))","v":84000},{"$f":"IF(K27<5000,0,M27)","v":84000},3,"2000-03-24",1096,28000,2333.3333333333335,76.642335766423358,0,0,83998,0,83998,0,2,21,7,29,7913,"NO",null,null,null,null,null,null,null,null,null,null,null,null,null,null,null,33.333333333333336,null,null,null,null,null,null,null,null,null,null,null,null,null,null,null,null,null,null,null,null,null,null,"01","53","372-373",null,null,null,"21 ปี  7 เดือน  29 วัน  ",22]
[{"$f":"A27+1","v":23},null,"1997-04-18",40,null,null,null,null,"โต๊ะประชุม 1 ชุด",1,79000,"01.02.3596",{"$f":"IF(BV28=\"จำหน่าย\",0,SUM(J28*K28))","v":79000},{"$f":"IF(K28<5000,0,M28)","v":79000},8,"2005-04-18",2922,9875,822.91666666666663,27.036276522929501,0,0,78999,0,78999,0,1,21,7,4,7888,"NO",null,null,null,null,null,null,null,null,null,null,null,null,null,null,null,12.5,null,null,null,null,null,null,null,null,null,null,null,null,null,null,null,null,null,null,null,null,null,null,"01","02","3596",null,null,null,"21 ปี  7 เดือน  4 วัน  ",23]
[{"$f":"A28+1","v":24},null,"1997-04-18",40,null,null,null,null,"โต๊ะประชุม 1 ชุด",1,33000,"01.02.3599",{"$f":"IF(BV29=\"จำหน่าย\",0,SUM(J29*K29))","v":33000},{"$f":"IF(K29<5000,0,M29)","v":33000},8,"2005-04-18",2922,4125,343.75,11.293634496919918,0,0,32999,0,32999,0,1,21,7,4,7888,"NO",null,null,null,null,null,null,null,null,null,null,null,null,null,null,null,12.5,null,null,null,null,null,null,null,null,null,null,null,null,null,null,null,null,null,null,null,null,null,null,"01","02","3599",null,null,null,"21 ปี  7 เดือน  4 วัน  ",24]
[{"$f":"A29+1","v":25},null,"1997-04-20",40,null,null,null,null,"กล้องถ่ายวีดีโอ 1 ตัว",1,39900,"06.17.27",{"$f":"IF(BV30=\"จำหน่าย\",0,SUM(J30*K30))","v":39900},{"$f":"IF(K30<5000,0,M30)","v":39900},5,"2002-04-20",1826,7980,665,21.851040525739322,0,0,39899,0,39899,0,1,21,7,2,7886,"NO",null,null,null,null,null,null,null,null,null,null,null,null,null,null,null,20,null,null,null,null,null,null,null,null,null,null,null,null,null,null,null,null,null,null,null,null,null,null,"06","17","27",null,null,null,"21 ปี  7 เดือน  2 วัน  ",25]
[{"$f":"A30+1","v":26},null,"1997-04-28",40,null,null,null,null,"กล้องจุลทรรศน์ 20 ค.",20,44405,"07.04.89-108",{"$f":"IF(BV31=\"จำหน่าย\",0,SUM(J31*K31))","v":888100},{"$f":"IF(K31<5000,0,M31)","v":888100},5,"2002-04-28",1826,177620,14801.666666666666,486.36363636363637,0,0,888080,0,888080,0,20,21,6,25,7878,"NO",null,null,null,null,null,null,null,null,null,null,null,null,null,null,null,20,null,null,null,null,null,null,null,null,null,null,null,null,null,null,null,null,null,null,null,null,null,null,"07","04","89-108",null,null,null,"21 ปี  6 เดือน  25 วัน  ",26]
[{"$f":"A31+1","v":27},null,"1997-05-26",40,null,null,null,null,"จอรับภาพ 1 ชุด",1,42000,"06.02.15",{"$f":"IF(BV32=\"จำหน่าย\",0,SUM(J32*K32))","v":42000},{"$f":"IF(K32<5000,0,M32)","v":42000},5,"2002-05-26",1826,8400,700,23.001095290251918,0,0,41999,0,41999,0,1,21,5,27,7850,"NO",null,null,null,null,null,null,null,null,null,null,null,null,null,null,null,20,null,null,null,null,null,null,null,null,null,null,null,null,null,null,null,null,null,null,null,null,null,null,"06","02","15",null,null,null,"21 ปี  5 เดือน  27 วัน  ",27]
[{"$f":"A32+1","v":28},null,"1997-06-06",40,null,null,null,null,"ชุดสาธิตการแก้เพาเวอร์แฟคเตอร์ 1 ชุด",1,149000,"09.44.01",{"$f":"IF(BV33=\"จำหน่าย\",0,SUM(J33*K33))","v":149000},{"$f":"IF(K33<5000,0,M33)","v":149000},4,"2001-06-06",1461,37250,3104.1666666666665,101.98494182067077,0,0,148999,0,148999,0,1,21,5,16,7839,"NO",null,null,null,null,null,null,null,null,null,null,null,null,null,null,null,25,null,null,null,null,null,null,null,null,null,null,null,null,null,null,null,null,null,null,null,null,null,null,"09","44","01",null,null,null,"21 ปี  5 เดือน  16 วัน  ",28]
[{"$f":"A33+1","v":29},null,"1997-06-11",40,null,null,null,null,"เครื่องคอมพิวเตอร์ 1 ค.",1,33958.33,"01.53.376",{"$f":"IF(BV34=\"จำหน่าย\",0,SUM(J34*K34))","v":33958.33},{"$f":"IF(K34<5000,0,M34)","v":33958.33},3,"2000-06-11",1096,11319.443333333335,943.28694444444454,30.98387773722628,0,0,33957.33,0,33957.33,0,1,21,5,11,7834,"NO",null,null,null,null,null,null,null,null,null,null,null,null,null,null,null,33.333333333333336,null,null,null,null,null,null,null,null,null,null,null,null,null,null,null,null,null,null,null,null,null,null,"01","53","376",null,null,null,"21 ปี  5 เดือน  11 วัน  ",29]
[{"$f":"A34+1","v":30},null,"1997-06-11",40,null,null,null,null,"เครื่องคอมพิวเตอร์ 1 ค.",1,33958.33,"01.53.378",{"$f":"IF(BV35=\"จำหน่าย\",0,SUM(J35*K35))","v":33958.33},{"$f":"IF(K35<5000,0,M35)","v":33958.33},3,"2000-06-11",1096,11319.443333333335,943.28694444444454,30.98387773722628,0,0,33957.33,0,33957.33,0,1,21,5,11,7834,"NO",null,null,null,null,null,null,null,null,null,null,null,null,null,null,null,33.333333333333336,null,null,null,null,null,null,null,null,null,null,null,null,null,null,null,null,null,null,null,null,null,null,"01","53","378",null,null,null,"21 ปี  5 เดือน  11 วัน  ",30]
[{"$f":"A35+1","v":31},null,"1997-06-11",40,null,null,null,null,"เครื่องคอมพิวเตอร์ 1 ค.",1,33958.33,"01.53.380",{"$f":"IF(BV36=\"จำหน่าย\",0,SUM(J36*K36))","v":33958.33},{"$f":"IF(K36<5000,0,M36)","v":33958.33},3,"2000-06-11",1096,11319.443333333335,943.28694444444454,30.98387773722628,0,0,33957.33,0,33957.33,0,1,21,5,11,7834,"NO",null,null,null,null,null,null,null,null,null,null,null,null,null,null,null,33.333333333333336,null,null,null,null,null,null,null,null,null,null,null,null,null,null,null,null,null,null,null,null,null,null,"01","53","380",null,null,null,"21 ปี  5 เดือน  11 วัน  ",31]
[{"$f":"A36+1","v":32},null,"1997-06-11",40,null,null,null,null,"เครื่องคอมพิวเตอร์ 1 ค.",1,33958.33,"01.53.381",{"$f":"IF(BV37=\"จำหน่าย\",0,SUM(J37*K37))","v":33958.33},{"$f":"IF(K37<5000,0,M37)","v":33958.33},3,"2000-06-11",1096,11319.443333333335,943.28694444444454,30.98387773722628,0,0,33957.33,0,33957.33,0,1,21,5,11,7834,"NO",null,null,null,null,null,null,null,null,null,null,null,null,null,null,null,33.333333333333336,null,null,null,null,null,null,null,null,null,null,null,null,null,null,null,null,null,null,null,null,null,null,"01","53","381",null,null,null,"21 ปี  5 เดือน  11 วัน  ",32]
[{"$f":"A37+1","v":33},null,"1997-06-11",40,null,null,null,null,"เครื่องคอมพิวเตอร์ 1 ค.",1,33958.33,"01.53.382",{"$f":"IF(BV38=\"จำหน่าย\",0,SUM(J38*K38))","v":33958.33},{"$f":"IF(K38<5000,0,M38)","v":33958.33},3,"2000-06-11",1096,11319.443333333335,943.28694444444454,30.98387773722628,0,0,33957.33,0,33957.33,0,1,21,5,11,7834,"NO",null,null,null,null,null,null,null,null,null,null,null,null,null,null,null,33.333333333333336,null,null,null,null,null,null,null,null,null,null,null,null,null,null,null,null,null,null,null,null,null,null,"01","53","382",null,null,null,"21 ปี  5 เดือน  11 วัน  ",33]
[{"$f":"A38+1","v":34},null,"1997-06-11",40,null,null,null,null,"เครื่องคอมพิวเตอร์ 1 ค.",1,33958.33,"01.53.384",{"$f":"IF(BV39=\"จำหน่าย\",0,SUM(J39*K39))","v":33958.33},{"$f":"IF(K39<5000,0,M39)","v":33958.33},3,"2000-06-11",1096,11319.443333333335,943.28694444444454,30.98387773722628,0,0,33957.33,0,33957.33,0,1,21,5,11,7834,"NO",null,null,null,null,null,null,null,null,null,null,null,null,null,null,null,33.333333333333336,null,null,null,null,null,null,null,null,null,null,null,null,null,null,null,null,null,null,null,null,null,null,"01","53","384",null,null,null,"21 ปี  5 เดือน  11 วัน  ",34]
[{"$f":"A39+1","v":35},null,"1997-06-11",40,null,null,null,null,"เครื่องคอมพิวเตอร์ 1 ค.",1,33958.33,"01.53.385",{"$f":"IF(BV40=\"จำหน่าย\",0,SUM(J40*K40))","v":33958.33},{"$f":"IF(K40<5000,0,M40)","v":33958.33},3,"2000-06-11",1096,11319.443333333335,943.28694444444454,30.98387773722628,0,0,33957.33,0,33957.33,0,1,21,5,11,7834,"NO",null,null,null,null,null,null,null,null,null,null,null,null,null,null,null,33.333333333333336,null,null,null,null,null,null,null,null,null,null,null,null,null,null,null,null,null,null,null,null,null,null,"01","53","385",null,null,null,"21 ปี  5 เดือน  11 วัน  ",35]
[{"$f":"A40+1","v":36},null,"1997-06-11",40,null,null,null,null,"เครื่องคอมพิวเตอร์ 1 ค.",1,33958.33,"01.53.387",{"$f":"IF(BV41=\"จำหน่าย\",0,SUM(J41*K41))","v":33958.33},{"$f":"IF(K41<5000,0,M41)","v":33958.33},3,"2000-06-11",1096,11319.443333333335,943.28694444444454,30.98387773722628,0,0,33957.33,0,33957.33,0,1,21,5,11,7834,"NO",null,null,null,null,null,null,null,null,null,null,null,null,null,null,null,33.333333333333336,null,null,null,null,null,null,null,null,null,null,null,null,null,null,null,null,null,null,null,null,null,null,"01","53","387",null,null,null,"21 ปี  5 เดือน  11 วัน  ",36]
[{"$f":"A41+1","v":37},null,"1997-06-11",40,null,null,null,null,"เครื่องคอมพิวเตอร์ 1 ค.",1,33958.33,"01.53.391",{"$f":"IF(BV42=\"จำหน่าย\",0,SUM(J42*K42))","v":33958.33},{"$f":"IF(K42<5000,0,M42)","v":33958.33},3,"2000-06-11",1096,11319.443333333335,943.28694444444454,30.98387773722628,0,0,33957.33,0,33957.33,0,1,21,5,11,7834,"NO",null,null,null,null,null,null,null,null,null,null,null,null,null,null,null,33.333333333333336,null,null,null,null,null,null,null,null,null,null,null,null,null,null,null,null,null,null,null,null,null,null,"01","53","391",null,null,null,"21 ปี  5 เดือน  11 วัน  ",37]
[{"$f":"A42+1","v":38},null,"1997-06-11",40,null,null,null,null,"เครื่องคอมพิวเตอร์ 1 ค.",1,33958.33,"01.53.393",{"$f":"IF(BV43=\"จำหน่าย\",0,SUM(J43*K43))","v":33958.33},{"$f":"IF(K43<5000,0,M43)","v":33958.33},3,"2000-06-11",1096,11319.443333333335,943.28694444444454,30.98387773722628,0,0,33957.33,0,33957.33,0,1,21,5,11,7834,"NO",null,null,null,null,null,null,null,null,null,null,null,null,null,null,null,33.333333333333336,null,null,null,null,null,null,null,null,null,null,null,null,null,null,null,null,null,null,null,null,null,null,"01","53","393",null,null,null,"21 ปี  5 เดือน  11 วัน  ",38]
[{"$f":"A43+1","v":39},null,"1997-06-11",40,null,null,null,null,"เครื่องคอมพิวเตอร์ 1 ค.",1,33958.33,"01.53.396",{"$f":"IF(BV44=\"จำหน่าย\",0,SUM(J44*K44))","v":33958.33},{"$f":"IF(K44<5000,0,M44)","v":33958.33},3,"2000-06-11",1096,11319.443333333335,943.28694444444454,30.98387773722628,0,0,33957.33,0,33957.33,0,1,21,5,11,7834,"NO",null,null,null,null,null,null,null,null,null,null,null,null,null,null,null,33.333333333333336,null,null,null,null,null,null,null,null,null,null,null,null,null,null,null,null,null,null,null,null,null,null,"01","53","396",null,null,null,"21 ปี  5 เดือน  11 วัน  ",39]
[{"$f":"A44+1","v":40},null,"1997-06-11",40,null,null,null,null,"เครื่องคอมพิวเตอร์ 1 ค.",1,33958.33,"01.53.397",{"$f":"IF(BV45=\"จำหน่าย\",0,SUM(J45*K45))","v":33958.33},{"$f":"IF(K45<5000,0,M45)","v":33958.33},3,"2000-06-11",1096,11319.443333333335,943.28694444444454,30.98387773722628,0,0,33957.33,0,33957.33,0,1,21,5,11,7834,"NO",null,null,null,null,null,null,null,null,null,null,null,null,null,null,null,33.333333333333336,null,null,null,null,null,null,null,null,null,null,null,null,null,null,null,null,null,null,null,null,null,null,"01","53","397",null,null,null,"21 ปี  5 เดือน  11 วัน  ",40]
[{"$f":"A45+1","v":41},null,"1997-06-14",40,null,null,null,null,"หม้อบดเคลือบ 1 ค.",1,60000,"09.49.10",{"$f":"IF(BV46=\"จำหน่าย\",0,SUM(J46*K46))","v":60000},{"$f":"IF(K46<5000,0,M46)","v":60000},4,"2001-06-14",1461,15000,1250,41.067761806981522,0,0,59999,0,59999,0,1,21,5,8,7831,"NO",null,null,null,null,null,null,null,null,null,null,null,null,null,null,null,25,null,null,null,null,null,null,null,null,null,null,null,null,null,null,null,null,null,null,null,null,null,null,"09","49","10",null,null,null,"21 ปี  5 เดือน  8 วัน  ",41]
[{"$f":"A46+1","v":42},null,"1997-06-25",40,null,null,null,null,"เครื่องคอมพิวเตอร์ 1 ค.",1,34600,"01.53.408",{"$f":"IF(BV47=\"จำหน่าย\",0,SUM(J47*K47))","v":34600},{"$f":"IF(K47<5000,0,M47)","v":34600},3,"2000-06-25",1096,11533.333333333334,961.1111111111112,31.569343065693431,0,0,34599,0,34599,0,1,21,4,28,7820,"NO",null,null,null,null,null,null,null,null,null,null,null,null,null,null,null,33.333333333333336,null,null,null,null,null,null,null,null,null,null,null,null,null,null,null,null,null,null,null,null,null,null,"01","53","408",null,null,null,"21 ปี  4 เดือน  28 วัน  ",42]
[{"$f":"A47+1","v":43},null,"1997-06-25",40,null,null,null,null,"เครื่องคอมพิวเตอร์ 1 ค.",1,34600,"01.53.410",{"$f":"IF(BV48=\"จำหน่าย\",0,SUM(J48*K48))","v":34600},{"$f":"IF(K48<5000,0,M48)","v":34600},3,"2000-06-25",1096,11533.333333333334,961.1111111111112,31.569343065693431,0,0,34599,0,34599,0,1,21,4,28,7820,"NO",null,null,null,null,null,null,null,null,null,null,null,null,null,null,null,33.333333333333336,null,null,null,null,null,null,null,null,null,null,null,null,null,null,null,null,null,null,null,null,null,null,"01","53","410",null,null,null,"21 ปี  4 เดือน  28 วัน  ",43]
[{"$f":"A48+1","v":44},null,"1997-06-25",40,null,null,null,null,"เครื่องคอมพิวเตอร์ 1 ค.",1,34600,"01.53.411",{"$f":"IF(BV49=\"จำหน่าย\",0,SUM(J49*K49))","v":34600},{"$f":"IF(K49<5000,0,M49)","v":34600},3,"2000-06-25",1096,11533.333333333334,961.1111111111112,31.569343065693431,0,0,34599,0,34599,0,1,21,4,28,7820,"NO",null,null,null,null,null,null,null,null,null,null,null,null,null,null,null,33.333333333333336,null,null,null,null,null,null,null,null,null,null,null,null,null,null,null,null,null,null,null,null,null,null,"01","53","411",null,null,null,"21 ปี  4 เดือน  28 วัน  ",44]
[{"$f":"A49+1","v":45},null,"1997-06-26",40,null,null,null,null,"ล้อเลื่อนบรรทุก 1 คัน",1,45000,"01.52.95",{"$f":"IF(BV50=\"จำหน่าย\",0,SUM(J50*K50))","v":45000},{"$f":"IF(K50<5000,0,M50)","v":45000},8,"2005-06-26",2922,5625,468.75,15.400410677618069,0,0,44999,0,44999,0,1,21,4,27,7819,"NO",null,null,null,null,null,null,null,null,null,null,null,null,null,null,null,12.5,null,null,null,null,null,null,null,null,null,null,null,null,null,null,null,null,null,null,null,null,null,null,"01","52","95",null,null,null,"21 ปี  4 เดือน  27 วัน  ",45]
[{"$f":"A50+1","v":46},null,"1997-06-27",40,null,null,null,null,"เตาเผาเครื่องปั้น 1 เตา",1,130000,"09.47.01",{"$f":"IF(BV51=\"จำหน่าย\",0,SUM(J51*K51))","v":130000},{"$f":"IF(K51<5000,0,M51)","v":130000},5,"2002-06-27",1826,26000,2166.6666666666665,71.193866374589263,0,0,129999,0,129999,0,1,21,4,26,7818,"NO",null,null,null,null,null,null,null,null,null,null,null,null,null,null,null,20,null,null,null,null,null,null,null,null,null,null,null,null,null,null,null,null,null,null,null,null,null,null,"09","47","01",null,null,null,"21 ปี  4 เดือน  26 วัน  ",46]
[{"$f":"A51+1","v":47},null,"1997-07-01",40,null,null,null,null,"เครื่องอัดสำเนาเทป 1 ค.",1,104004,"05.27.78",{"$f":"IF(BV52=\"จำหน่าย\",0,SUM(J52*K52))","v":104004},{"$f":"IF(K52<5000,0,M52)","v":104004},5,"2002-07-01",1826,20800.8,1733.3999999999999,56.957283680175244,0,0,104003,0,104003,0,1,21,4,21,7814,"NO",null,null,null,null,null,null,null,null,null,null,null,null,null,null,null,20,null,null,null,null,null,null,null,null,null,null,null,null,null,null,null,null,null,null,null,null,null,null,"05","27","78",null,null,null,"21 ปี  4 เดือน  21 วัน  ",47]
[{"$f":"A52+1","v":48},null,"1997-07-03",40,null,null,null,null,"เครื่องล้างปิเปต 1 ค.",1,30000,"07.100.02",{"$f":"IF(BV53=\"จำหน่าย\",0,SUM(J53*K53))","v":30000},{"$f":"IF(K53<5000,0,M53)","v":30000},5,"2002-07-03",1826,6000,500,16.42935377875137,0,0,29999,0,29999,0,1,21,4,19,7812,"NO",null,null,null,null,null,null,null,null,null,null,null,null,null,null,null,20,null,null,null,null,null,null,null,null,null,null,null,null,null,null,null,null,null,null,null,null,null,null,"07","100","02",null,null,null,"21 ปี  4 เดือน  19 วัน  ",48]
[{"$f":"A53+1","v":49},null,"1997-07-04",40,null,null,null,null,"เครื่องสแกนเนอร์ 1 ค.",1,40000,"01.53.412",{"$f":"IF(BV54=\"จำหน่าย\",0,SUM(J54*K54))","v":40000},{"$f":"IF(K54<5000,0,M54)","v":40000},3,"2000-07-04",1096,13333.333333333334,1111.1111111111111,36.496350364963504,0,0,39999,0,39999,0,1,21,4,18,7811,"NO",null,null,null,null,null,null,null,null,null,null,null,null,null,null,null,33.333333333333336,null,null,null,null,null,null,null,null,null,null,null,null,null,null,null,null,null,null,null,null,null,null,"01","53","412",null,null,null,"21 ปี  4 เดือน  18 วัน  ",49]
[{"$f":"A54+1","v":50},null,"1997-07-10",40,null,null,null,null,"เครื่องวิเคราะห์จุดหลอดเหลว 1 ค.",1,115000,"07.58.02",{"$f":"IF(BV55=\"จำหน่าย\",0,SUM(J55*K55))","v":115000},{"$f":"IF(K55<5000,0,M55)","v":115000},5,"2002-07-10",1826,23000,1916.6666666666667,62.979189485213581,0,0,114999,0,114999,0,1,21,4,12,7805,"NO",null,null,null,null,null,null,null,null,null,null,null,null,null,null,null,20,null,null,null,null,null,null,null,null,null,null,null,null,null,null,null,null,null,null,null,null,null,null,"07","58","02",null,null,null,"21 ปี  4 เดือน  12 วัน  ",50]
[{"$f":"A55+1","v":51},null,"1997-07-15",40,null,null,null,null,"เครื่องวัดค่า POD. 1 ค.",1,30000,"07.95.02",{"$f":"IF(BV56=\"จำหน่าย\",0,SUM(J56*K56))","v":30000},{"$f":"IF(K56<5000,0,M56)","v":30000},5,"2002-07-15",1826,6000,500,16.42935377875137,0,0,29999,0,29999,0,1,21,4,7,7800,"NO",null,null,null,null,null,null,null,null,null,null,null,null,null,null,null,20,null,null,null,null,null,null,null,null,null,null,null,null,null,null,null,null,null,null,null,null,null,null,"07","95","02",null,null,null,"21 ปี  4 เดือน  7 วัน  ",51]
[{"$f":"A56+1","v":52},null,"1997-07-16",40,null,null,null,null,"เครื่องเขย่า 1 ค.",1,50000,"03.26.02",{"$f":"IF(BV57=\"จำหน่าย\",0,SUM(J57*K57))","v":50000},{"$f":"IF(K57<5000,0,M57)","v":50000},5,"2002-07-16",1826,10000,833.33333333333337,27.38225629791895,0,0,49999,0,49999,0,1,21,4,6,7799,"NO",null,null,null,null,null,null,null,null,null,null,null,null,null,null,null,20,null,null,null,null,null,null,null,null,null,null,null,null,null,null,null,null,null,null,null,null,null,null,"03","26","02",null,null,null,"21 ปี  4 เดือน  6 วัน  ",52]
[{"$f":"A57+1","v":53},null,"1997-07-18",40,null,null,null,null,"เครื่องคอมพิวเตอร์ 1 ค.",1,47900,"01.53.423",{"$f":"IF(BV58=\"จำหน่าย\",0,SUM(J58*K58))","v":47900},{"$f":"IF(K58<5000,0,M58)","v":47900},3,"2000-07-18",1096,15966.666666666666,1330.5555555555554,43.704379562043798,0,0,47899,0,47899,0,1,21,4,4,7797,"NO",null,null,null,null,null,null,null,null,null,null,null,null,null,null,null,33.333333333333336,null,null,null,null,null,null,null,null,null,null,null,null,null,null,null,null,null,null,null,null,null,null,"01","53","423",null,null,null,"21 ปี  4 เดือน  4 วัน  ",53]
[{"$f":"A58+1","v":54},null,"1997-07-23",40,null,null,null,null,"กล้องถ่ายภาพดิจิตอล 1 ตัว",1,30816,"06.01.53",{"$f":"IF(BV59=\"จำหน่าย\",0,SUM(J59*K59))","v":30816},{"$f":"IF(K59<5000,0,M59)","v":30816},5,"2002-07-23",1826,6163.2,513.6,16.876232201533405,0,0,30815,0,30815,0,1,21,3,30,7792,"NO",null,null,null,null,null,null,null,null,null,null,null,null,null,null,null,20,null,null,null,null,null,null,null,null,null,null,null,null,null,null,null,null,null,null,null,null,null,null,"06","01","53",null,null,null,"21 ปี  3 เดือน  30 วัน  ",54]
[{"$f":"A59+1","v":55},null,"1997-07-25",40,null,null,null,null,"เครื่องสแกนเนอร์ 1 ค.",1,33705,"01.65.41",{"$f":"IF(BV60=\"จำหน่าย\",0,SUM(J60*K60))","v":33705},{"$f":"IF(K60<5000,0,M60)","v":33705},3,"2000-07-25",1096,11235,936.25,30.752737226277372,0,0,33704,0,33704,0,1,21,3,28,7790,"NO",null,null,null,null,null,null,null,null,null,null,null,null,null,null,null,33.333333333333336,null,null,null,null,null,null,null,null,null,null,null,null,null,null,null,null,null,null,null,null,null,null,"01","65","41",null,null,null,"21 ปี  3 เดือน  28 วัน  ",55]
[{"$f":"A60+1","v":56},null,"1997-07-29",40,null,null,null,null,"เครื่องถ่ายเอกสาร 1 ค.",1,89000,"01.22.17",{"$f":"IF(BV61=\"จำหน่าย\",0,SUM(J61*K61))","v":89000},{"$f":"IF(K61<5000,0,M61)","v":89000},8,"2005-07-29",2922,11125,927.08333333333337,30.458590006844627,0,0,88999,0,88999,0,1,21,3,24,7786,"NO",null,null,null,null,null,null,null,null,null,null,null,null,null,null,null,12.5,null,null,null,null,null,null,null,null,null,null,null,null,null,null,null,null,null,null,null,null,null,null,"01","22","17",null,null,null,"21 ปี  3 เดือน  24 วัน  ",56]
[{"$f":"A61+1","v":57},null,"1997-07-31",40,null,null,null,null,"ชุดเครื่องขยายเสียง 1 ชุด",1,46331.5,"05.06.242",{"$f":"IF(BV62=\"จำหน่าย\",0,SUM(J62*K62))","v":46331.5},{"$f":"IF(K62<5000,0,M62)","v":46331.5},5,"2002-07-31",1826,9266.2999999999993,772.19166666666661,25.373220153340636,0,0,46330.5,0,46330.5,0,1,21,3,22,7784,"NO",null,null,null,null,null,null,null,null,null,null,null,null,null,null,null,20,null,null,null,null,null,null,null,null,null,null,null,null,null,null,null,null,null,null,null,null,null,null,"05","06","242",null,null,null,"21 ปี  3 เดือน  22 วัน  ",57]
[{"$f":"A62+1","v":58},null,"1997-07-31",40,null,null,null,null,"ชุดเครื่องขยายเสียง 1 ชุด",1,46331.5,"05.06.243",{"$f":"IF(BV63=\"จำหน่าย\",0,SUM(J63*K63))","v":46331.5},{"$f":"IF(K63<5000,0,M63)","v":46331.5},5,"2002-07-31",1826,9266.2999999999993,772.19166666666661,25.373220153340636,0,0,46330.5,0,46330.5,0,1,21,3,22,7784,"NO",null,null,null,null,null,null,null,null,null,null,null,null,null,null,null,20,null,null,null,null,null,null,null,null,null,null,null,null,null,null,null,null,null,null,null,null,null,null,"05","06","243",null,null,null,"21 ปี  3 เดือน  22 วัน  ",58]
[{"$f":"A63+1","v":59},null,"1997-07-31",40,null,null,null,null,"เครื่องวัดค่าบีโอดี 1 ชุด",1,99500,"07.95.01",{"$f":"IF(BV64=\"จำหน่าย\",0,SUM(J64*K64))","v":99500},{"$f":"IF(K64<5000,0,M64)","v":99500},5,"2002-07-31",1826,19900,1658.3333333333333,54.490690032858708,0,0,99499,0,99499,0,1,21,3,22,7784,"NO",null,null,null,null,null,null,null,null,null,null,null,null,null,null,null,20,null,null,null,null,null,null,null,null,null,null,null,null,null,null,null,null,null,null,null,null,null,null,"07","95","01",null,null,null,"21 ปี  3 เดือน  22 วัน  ",59]
[{"$f":"A64+1","v":60},null,"1997-08-04",40,null,null,null,null,"เครื่องสแกนเนอร์ 1 ค.",1,32500,"01.53.435",{"$f":"IF(BV65=\"จำหน่าย\",0,SUM(J65*K65))","v":32500},{"$f":"IF(K65<5000,0,M65)","v":32500},3,"2000-08-04",1096,10833.333333333334,902.77777777777783,29.653284671532848,0,0,32499,0,32499,0,1,21,3,18,7780,"NO",null,null,null,null,null,null,null,null,null,null,null,null,null,null,null,33.333333333333336,null,null,null,null,null,null,null,null,null,null,null,null,null,null,null,null,null,null,null,null,null,null,"01","53","435",null,null,null,"21 ปี  3 เดือน  18 วัน  ",60]
[{"$f":"A65+1","v":61},null,"1997-08-04",40,null,null,null,null,"เครื่องคอมพิวเตอร์ 2 ค.",2,36500,"01.53.532-533",{"$f":"IF(BV66=\"จำหน่าย\",0,SUM(J66*K66))","v":73000},{"$f":"IF(K66<5000,0,M66)","v":73000},3,"2000-08-04",1096,24333.333333333332,2027.7777777777776,66.605839416058387,0,0,72998,0,72998,0,2,21,3,18,7780,"NO",null,null,null,null,null,null,null,null,null,null,null,null,null,null,null,33.333333333333336,null,null,null,null,null,null,null,null,null,null,null,null,null,null,null,null,null,null,null,null,null,null,"01","53","532-533",null,null,null,"21 ปี  3 เดือน  18 วัน  ",61]
[{"$f":"A66+1","v":62},null,"1997-08-05",40,null,null,null,null,"เครื่องฉายภาพข้ามศรีษะ 5 ค.",5,8667,"06.08.298-302",{"$f":"IF(BV67=\"จำหน่าย\",0,SUM(J67*K67))","v":43335},{"$f":"IF(K67<5000,0,M67)","v":43335},5,"2002-08-05",1826,8667,722.25,23.732201533406354,0,0,43330,0,43330,0,5,21,3,17,7779,"NO",null,null,null,null,null,null,null,null,null,null,null,null,null,null,null,20,null,null,null,null,null,null,null,null,null,null,null,null,null,null,null,null,null,null,null,null,null,null,"06","08","298-302",null,null,null,"21 ปี  3 เดือน  17 วัน  ",62]
[{"$f":"A67+1","v":63},null,"1997-08-07",40,null,null,null,null,"โต๊ะประชุม 1 ชุด",1,129700,"01.02.7078",{"$f":"IF(BV68=\"จำหน่าย\",0,SUM(J68*K68))","v":129700},{"$f":"IF(K68<5000,0,M68)","v":129700},8,"2005-08-07",2922,16212.5,1351.0416666666667,44.387405886379192,0,0,129699,0,129699,0,1,21,3,15,7777,"NO",null,null,null,null,null,null,null,null,null,null,null,null,null,null,null,12.5,null,null,null,null,null,null,null,null,null,null,null,null,null,null,null,null,null,null,null,null,null,null,"01","02","7078",null,null,null,"21 ปี  3 เดือน  15 วัน  ",63]
[{"$f":"A68+1","v":64},null,"1997-08-15",40,null,null,null,null,"จักรยานทดสอบสมรรถภาพ 1 คัน",1,58500,"10.02.04",{"$f":"IF(BV69=\"จำหน่าย\",0,SUM(J69*K69))","v":58500},{"$f":"IF(K69<5000,0,M69)","v":58500},5,"2002-08-15",1826,11700,975,32.037239868565173,0,0,58499,0,58499,0,1,21,3,7,7769,"NO",null,null,null,null,null,null,null,null,null,null,null,null,null,null,null,20,null,null,null,null,null,null,null,null,null,null,null,null,null,null,null,null,null,null,null,null,null,null,"10","02","04",null,null,null,"21 ปี  3 เดือน  7 วัน  ",64]
[{"$f":"A69+1","v":65},null,"1997-08-18",40,null,null,null,null,"ตู้ปลอดเชื้อ 1 ตู้",1,100000,"03.15.03",{"$f":"IF(BV70=\"จำหน่าย\",0,SUM(J70*K70))","v":100000},{"$f":"IF(K70<5000,0,M70)","v":100000},3,{"$f":"DATE(YEAR(C70)+O70,MONTH(C70),DAY(C70))","v":"2000-08-18"},{"$f":"IF(NOT(OR(ISBLANK(P70),ISBLANK(C70))),P70-C70,\"\")","v":1096},{"$f":"SLN(N70,,O70)","v":33333.333333333336},{"$f":"SLN(R70,,12)","v":2777.7777777777778},{"$f":"SLN(N70,,Q70)","v":91.240875912408754},{"$f":"IF(N70=0,0,IF(AE70<=Q70,1,0))","v":0},0,99999,0,99999,0,1,{"$f":"DATEDIF(C70,TODAY(),\"Y\")","v":21},{"$f":"DATEDIF(C70,TODAY(),\"YM\")","v":3},{"$f":"DATEDIF(C70,TODAY(),\"md\")+1","v":4},{"$f":"DATEDIF(C70,TODAY(),\"d\")+1","v":7766},{"$f":"IF(N70=0,\"No\",IF(AE70>Q70,\"NO\",\"YES\"))","v":"NO"},null,null,null,null,null,null,null,null,null,null,null,null,null,null,null,{"$f":"100/O70","v":33.333333333333336},null,null,null,null,null,null,null,null,null,null,null,null,null,null,null,null,null,null,null,null,null,null,"03","15","03",null,null,null,{"$f":"CONCATENATE(AB70,\" ปี  \",AC70,\" เดือน  \",AD70,\" วัน  \")","v":"21 ปี  3 เดือน  4 วัน  "},{"$f":"A70","v":65}]
[{"$f":"A70+1","v":66},null,"1997-08-20",40,null,null,null,null,"เครื่องถ่ายเอกสาร 1 ค.",1,65000,"01.22.18",{"$f":"IF(BV71=\"จำหน่าย\",0,SUM(J71*K71))","v":65000},{"$f":"IF(K71<5000,0,M71)","v":65000},8,"2005-08-20",2922,8125,677.08333333333337,22.245037645448324,0,{"$f":"SUM(R71*U71/12)","v":0},{"$f":"IF(N71=0,0,IF((R71*AB71)+(R71*AC71/12)>=N71,N71-J71,((R71*AB71)+(R71*AC71/12))))","v":64999},{"$f":"SUM(T71*U71)","v":0},{"$f":"IF(N71=0,0,IF((DATEDIF(C71,TODAY(),\"d\")+1)*T71>=N71,N71-J71,(DATEDIF(C71,TODAY(),\"d\")+1)*T71))","v":64999},{"$f":"IF(U71=0,0,IF(OR(DAY(C71)=1,MONTH(C71)<>MONTH(TODAY()),YEAR(C71)<>YEAR(TODAY())),T71*((DAY(DATE(YEAR(TODAY()),MONTH(TODAY())+1,1)-1))),T71*((DAY(DATE(YEAR(TODAY()),MONTH(TODAY())+1,1)-1)-DAY(C71)+1))))","v":0},{"$f":"IF(N71=0,0,IF(X71>=N71,(J71),(N71-Y71)))","v":1},21,3,2,7764,"NO",null,null,null,null,null,null,null,null,null,null,null,null,null,null,null,12.5,null,null,null,null,null,null,null,null,null,null,null,null,null,null,null,null,null,null,null,null,null,null,"01","22","18",null,null,null,"21 ปี  3 เดือน  2 วัน  ",66]
[{"$f":"A71+1","v":67},null,"1997-08-26",40,null,null,null,null,"เครื่องคอมพิวเตอร์ 2 ค.",2,30000,"01.53.450-451",{"$f":"IF(BV72=\"จำหน่าย\",0,SUM(J72*K72))","v":60000},{"$f":"IF(K72<5000,0,M72)","v":60000},3,"2000-08-26",1096,20000,1666.6666666666667,54.744525547445257,0,0,59998,0,59998,0,2,21,2,27,7758,"NO",null,null,null,null,null,null,null,null,null,null,null,null,null,null,null,33.333333333333336,null,null,null,null,null,null,null,null,null,null,null,null,null,null,null,null,null,null,null,null,null,null,"01","53","450-451",null,null,null,"21 ปี  2 เดือน  27 วัน  ",67]
[{"$f":"A72+1","v":68},null,"1997-08-28",40,null,null,null,null,"เครื่องคอมพิวเตอร์ 1 ค.",1,35000,"01.53.457",{"$f":"IF(BV73=\"จำหน่าย\",0,SUM(J73*K73))","v":35000},{"$f":"IF(K73<5000,0,M73)","v":35000},3,"2000-08-28",1096,11666.666666666666,972.22222222222217,31.934306569343065,0,0,34999,0,34999,0,1,21,2,25,7756,"NO",null,null,null,null,null,null,null,null,null,null,null,null,null,null,null,33.333333333333336,null,null,null,null,null,null,null,null,null,null,null,null,null,null,null,null,null,null,null,null,null,null,"01","53","457",null,null,null,"21 ปี  2 เดือน  25 วัน  ",68]
[{"$f":"A73+1","v":69},null,"1997-08-28",40,null,null,null,null,"เครื่องคอมพิวเตอร์ 1 ค.",1,35000,"01.53.458",{"$f":"IF(BV74=\"จำหน่าย\",0,SUM(J74*K74))","v":35000},{"$f":"IF(K74<5000,0,M74)","v":35000},3,"2000-08-28",1096,11666.666666666666,972.22222222222217,31.934306569343065,0,0,34999,0,34999,0,1,21,2,25,7756,"NO",null,null,null,null,null,null,null,null,null,null,null,null,null,null,null,33.333333333333336,null,null,null,null,null,null,null,null,null,null,null,null,null,null,null,null,null,null,null,null,null,null,"01","53","458",null,null,null,"21 ปี  2 เดือน  25 วัน  ",69]
[{"$f":"A74+1","v":70},null,"1997-08-28",40,null,null,null,null,"เครื่องคอมพิวเตอร์ 1 ค.",1,35000,"01.53.460",{"$f":"IF(BV75=\"จำหน่าย\",0,SUM(J75*K75))","v":35000},{"$f":"IF(K75<5000,0,M75)","v":35000},3,"2000-08-28",1096,11666.666666666666,972.22222222222217,31.934306569343065,0,0,34999,0,34999,0,1,21,2,25,7756,"NO",null,null,null,null,null,null,null,null,null,null,null,null,null,null,null,33.333333333333336,null,null,null,null,null,null,null,null,null,null,null,null,null,null,null,null,null,null,null,null,null,null,"01","53","460",null,null,null,"21 ปี  2 เดือน  25 วัน  ",70]
[{"$f":"A75+1","v":71},null,"1997-08-28",40,null,null,null,null,"เครื่องวัดความเป็นกรด-ด่าง 1 ค.",1,49091,"03.06.04",{"$f":"IF(BV76=\"จำหน่าย\",0,SUM(J76*K76))","v":49091},{"$f":"IF(K76<5000,0,M76)","v":49091},3,"2000-08-28",1096,16363.666666666666,1363.6388888888889,44.791058394160586,0,0,49090,0,49090,0,1,21,2,25,7756,"NO",null,null,null,null,null,null,null,null,null,null,null,null,null,null,null,33.333333333333336,null,null,null,null,null,null,null,null,null,null,null,null,null,null,null,null,null,null,null,null,null,null,"03","06","04",null,null,null,"21 ปี  2 เดือน  25 วัน  ",71]
[{"$f":"A76+1","v":72},null,"1997-08-28",40,null,null,null,null,"เครื่องวัดความเป็นกรด-ด่าง 9 ค.",9,49091,"03.06.06-14",{"$f":"IF(BV77=\"จำหน่าย\",0,SUM(J77*K77))","v":441819},{"$f":"IF(K77<5000,0,M77)","v":441819},3,"2000-08-28",1096,147273,12272.75,403.11952554744528,0,0,441810,0,441810,0,9,21,2,25,7756,"NO",null,null,null,null,null,null,null,null,null,null,null,null,null,null,null,33.333333333333336,null,null,null,null,null,null,null,null,null,null,null,null,null,null,null,null,null,null,null,null,null,null,"03","06","06-14",null,null,null,"21 ปี  2 เดือน  25 วัน  ",72]
[{"$f":"A77+1","v":73},null,"1997-08-28",40,null,null,null,null,"เครื่องวัดความเป็นกรด-ด่าง 1 ค.",1,49091,"03.06.06",{"$f":"IF(BV78=\"จำหน่าย\",0,SUM(J78*K78))","v":49091},{"$f":"IF(K78<5000,0,M78)","v":49091},3,"2000-08-28",1096,16363.666666666666,1363.6388888888889,44.791058394160586,0,0,49090,0,49090,0,1,21,2,25,7756,"NO",null,null,null,null,null,null,null,null,null,null,null,null,null,null,null,33.333333333333336,null,null,null,null,null,null,null,null,null,null,null,null,null,null,null,null,null,null,null,null,null,null,"03","06","06",null,null,null,"21 ปี  2 เดือน  25 วัน  ",73]
[{"$f":"A78+1","v":74},null,"1997-08-28",40,null,null,null,null,"เครื่องวัดความเป็นกรด-ด่าง 7 ค.",7,49091,"03.06.08-14",{"$f":"IF(BV79=\"จำหน่าย\",0,SUM(J79*K79))","v":343637},{"$f":"IF(K79<5000,0,M79)","v":343637},3,"2000-08-28",1096,114545.66666666667,9545.4722222222226,313.53740875912411,0,0,343630,0,343630,0,7,21,2,25,7756,"NO",null,null,null,null,null,null,null,null,null,null,null,null,null,null,null,33.333333333333336,null,null,null,null,null,null,null,null,null,null,null,null,null,null,null,null,null,null,null,null,null,null,"03","06","08-14",null,null,null,"21 ปี  2 เดือน  25 วัน  ",74]
[{"$f":"A79+1","v":75},null,"1997-08-28",40,null,null,null,null,"เครื่องวัดความเป็นกรด-ด่าง 3 ค.",3,49091,"03.06.08-10",{"$f":"IF(BV80=\"จำหน่าย\",0,SUM(J80*K80))","v":147273},{"$f":"IF(K80<5000,0,M80)","v":147273},3,"2000-08-28",1096,49091,4090.9166666666665,134.37317518248176,0,0,147270,0,147270,0,3,21,2,25,7756,"NO",null,null,null,null,null,null,null,null,null,null,null,null,null,null,null,33.333333333333336,null,null,null,null,null,null,null,null,null,null,null,null,null,null,null,null,null,null,null,null,null,null,"03","06","08-10",null,null,null,"21 ปี  2 เดือน  25 วัน  ",75]
[{"$f":"A80+1","v":76},null,"1997-08-28",40,null,null,null,null,"เครื่องวัดความเป็นกรด-ด่าง 3 ค.",3,49091,"03.06.12-14",{"$f":"IF(BV81=\"จำหน่าย\",0,SUM(J81*K81))","v":147273},{"$f":"IF(K81<5000,0,M81)","v":147273},3,"2000-08-28",1096,49091,4090.9166666666665,134.37317518248176,0,0,147270,0,147270,0,3,21,2,25,7756,"NO",null,null,null,null,null,null,null,null,null,null,null,null,null,null,null,33.333333333333336,null,null,null,null,null,null,null,null,null,null,null,null,null,null,null,null,null,null,null,null,null,null,"03","06","12-14",null,null,null,"21 ปี  2 เดือน  25 วัน  ",76]
[{"$f":"A81+1","v":77},null,"1997-08-28",40,null,null,null,null,"เตาเผาเครื่องปั้น 1 เตา",1,375000,"09.47.02",{"$f":"IF(BV82=\"จำหน่าย\",0,SUM(J82*K82))","v":375000},{"$f":"IF(K82<5000,0,M82)","v":375000},5,"2002-08-28",1826,75000,6250,205.36692223439212,0,0,374999,0,374999,0,1,21,2,25,7756,"NO",null,null,null,null,null,null,null,null,null,null,null,null,null,null,null,20,null,null,null,null,null,null,null,null,null,null,null,null,null,null,null,null,null,null,null,null,null,null,"09","47","02",null,null,null,"21 ปี  2 เดือน  25 วัน  ",77]
[{"$f":"A82+1","v":78},null,"1997-09-02",40,null,null,null,null,"เครื่องปรับอากาศ  1 ค.",1,35000,"01.29.292",{"$f":"IF(BV83=\"จำหน่าย\",0,SUM(J83*K83))","v":35000},{"$f":"IF(K83<5000,0,M83)","v":35000},8,"2005-09-02",2922,4375,364.58333333333331,11.978097193702943,0,0,34999,0,34999,0,1,21,2,20,7751,"NO",null,null,null,null,null,null,null,null,null,null,null,null,null,null,null,12.5,null,null,null,null,null,null,null,null,null,null,null,null,null,null,null,null,null,null,null,null,null,null,"01","29","292",null,null,null,"21 ปี  2 เดือน  20 วัน  ",78]
[{"$f":"A83+1","v":79},null,"1997-09-02",40,null,null,null,null,"เครื่องขยายเสียง 1 ชุด",1,45000,"05.06.248",{"$f":"IF(BV84=\"จำหน่าย\",0,SUM(J84*K84))","v":45000},{"$f":"IF(K84<5000,0,M84)","v":45000},5,"2002-09-02",1826,9000,750,24.644030668127055,0,0,44999,0,44999,0,1,21,2,20,7751,"NO",null,null,null,null,null,null,null,null,null,null,null,null,null,null,null,20,null,null,null,null,null,null,null,null,null,null,null,null,null,null,null,null,null,null,null,null,null,null,"05","06","248",null,null,null,"21 ปี  2 เดือน  20 วัน  ",79]
[{"$f":"A84+1","v":80},null,"1997-09-08",40,null,null,null,null,"เครื่องผสมสัญญาณเสียง 1 ค.",1,31000,"05.06.323",{"$f":"IF(BV85=\"จำหน่าย\",0,SUM(J85*K85))","v":31000},{"$f":"IF(K85<5000,0,M85)","v":31000},5,"2002-09-08",1826,6200,516.66666666666663,16.976998904709749,0,0,30999,0,30999,0,1,21,2,14,7745,"NO",null,null,null,null,null,null,null,null,null,null,null,null,null,null,null,20,null,null,null,null,null,null,null,null,null,null,null,null,null,null,null,null,null,null,null,null,null,null,"05","06","323",null,null,null,"21 ปี  2 เดือน  14 วัน  ",80]
[{"$f":"A85+1","v":81},null,"1997-09-09",40,null,null,null,null,"เครื่องคอมพิวเตอร์ 3 ค.",3,38456,"01.53.546-548",{"$f":"IF(BV86=\"จำหน่าย\",0,SUM(J86*K86))","v":115368},{"$f":"IF(K86<5000,0,M86)","v":115368},3,"2000-09-09",1096,38456,3204.6666666666665,105.26277372262774,0,0,115365,0,115365,0,3,21,2,13,7744,"NO",null,null,null,null,null,null,null,null,null,null,null,null,null,null,null,33.333333333333336,null,null,null,null,null,null,null,null,null,null,null,null,null,null,null,null,null,null,null,null,null,null,"01","53","546-548",null,null,null,"21 ปี  2 เดือน  13 วัน  ",81]
[{"$f":"A86+1","v":82},null,"1997-09-09",40,null,null,null,null,"เครื่องคอมพิวเตอร์ 1 ค.",1,38456,"01.53.551",{"$f":"IF(BV87=\"จำหน่าย\",0,SUM(J87*K87))","v":38456},{"$f":"IF(K87<5000,0,M87)","v":38456},3,"2000-09-09",1096,12818.666666666666,1068.2222222222222,35.087591240875909,0,0,38455,0,38455,0,1,21,2,13,7744,"NO",null,null,null,null,null,null,null,null,null,null,null,null,null,null,null,33.333333333333336,null,null,null,null,null,null,null,null,null,null,null,null,null,null,null,null,null,null,null,null,null,null,"01","53","551",null,null,null,"21 ปี  2 เดือน  13 วัน  ",82]
[{"$f":"A87+1","v":83},null,"1997-09-09",40,null,null,null,null,"เครื่องคอมพิวเตอร์ 1 ค.",1,38456,"01.53.557",{"$f":"IF(BV88=\"จำหน่าย\",0,SUM(J88*K88))","v":38456},{"$f":"IF(K88<5000,0,M88)","v":38456},3,"2000-09-09",1096,12818.666666666666,1068.2222222222222,35.087591240875909,0,0,38455,0,38455,0,1,21,2,13,7744,"NO",null,null,null,null,null,null,null,null,null,null,null,null,null,null,null,33.333333333333336,null,null,null,null,null,null,null,null,null,null,null,null,null,null,null,null,null,null,null,null,null,null,"01","53","557",null,null,null,"21 ปี  2 เดือน  13 วัน  ",83]
[{"$f":"A88+1","v":84},null,"1997-09-17",40,null,null,null,null,"เครื่องขยายเสียง 1 ชุด",1,52206,"05.06.264",{"$f":"IF(BV89=\"จำหน่าย\",0,SUM(J89*K89))","v":52206},{"$f":"IF(K89<5000,0,M89)","v":52206},5,"2002-09-17",1826,10441.200000000001,870.1,28.590361445783131,0,0,52205,0,52205,0,1,21,2,5,7736,"NO",null,null,null,null,null,null,null,null,null,null,null,null,null,null,null,20,null,null,null,null,null,null,null,null,null,null,null,null,null,null,null,null,null,null,null,null,null,null,"05","06","264",null,null,null,"21 ปี  2 เดือน  5 วัน  ",84]
[{"$f":"A89+1","v":85},null,"1997-09-23",40,null,null,null,null,"ชุดทดลองการเคลื่อนที่เชิงหมุน 3 ชุด",3,59920,"07.57.02-04",{"$f":"IF(BV90=\"จำหน่าย\",0,SUM(J90*K90))","v":179760},{"$f":"IF(K90<5000,0,M90)","v":179760},5,"2002-09-23",1826,35952,2996,98.444687842278199,0,0,179757,0,179757,0,3,21,1,30,7730,"NO",null,null,null,null,null,null,null,null,null,null,null,null,null,null,null,20,null,null,null,null,null,null,null,null,null,null,null,null,null,null,null,null,null,null,null,null,null,null,"07","57","02-04",null,null,null,"21 ปี  1 เดือน  30 วัน  ",85]
[{"$f":"A90+1","v":86},null,"1997-09-23",40,null,null,null,null,"ชุดทดลองเกี่ยวกับแรงและแวกเตอร์ 6 ชุด ",6,53333.333333333336,"07.99.01-06",{"$f":"IF(BV91=\"จำหน่าย\",0,SUM(J91*K91))","v":320000},{"$f":"IF(K91<5000,0,M91)","v":320000},5,"2002-09-23",1826,64000,5333.333333333333,175.24644030668128,0,0,319994,0,319994,0,6,21,1,30,7730,"NO",null,null,null,null,null,null,null,null,null,null,null,null,null,null,null,20,null,null,null,null,null,null,null,null,null,null,null,null,null,null,null,null,null,null,null,null,null,null,"07","99","01-06",null,null,null,"21 ปี  1 เดือน  30 วัน  ",86]
[{"$f":"A91+1","v":87},null,"1997-09-24",40,null,null,null,null,"ชุดประมวลภาพ 1 ชุด",1,99000,"07.04.109",{"$f":"IF(BV92=\"จำหน่าย\",0,SUM(J92*K92))","v":99000},{"$f":"IF(K92<5000,0,M92)","v":99000},5,"2002-09-24",1826,19800,1650,54.216867469879517,0,0,98999,0,98999,0,1,21,1,29,7729,"NO",null,null,null,null,null,null,null,null,null,null,null,null,null,null,null,20,null,null,null,null,null,null,null,null,null,null,null,null,null,null,null,null,null,null,null,null,null,null,"07","04","109",null,null,null,"21 ปี  1 เดือน  29 วัน  ",87]
[{"$f":"A92+1","v":88},null,"1997-09-26",40,null,null,null,null,"เครื่องถ่ายเอกสาร 1 ค.",1,72000,"01.22.19",{"$f":"IF(BV93=\"จำหน่าย\",0,SUM(J93*K93))","v":72000},{"$f":"IF(K93<5000,0,M93)","v":72000},8,"2005-09-26",2922,9000,750,24.640657084188913,0,0,71999,0,71999,0,1,21,1,27,7727,"NO",null,null,null,null,null,null,null,null,null,null,null,null,null,null,null,12.5,null,null,null,null,null,null,null,null,null,null,null,null,null,null,null,null,null,null,null,null,null,null,"01","22","19",null,null,null,"21 ปี  1 เดือน  27 วัน  ",88]
[{"$f":"A93+1","v":89},null,"1997-09-30",40,null,null,null,null,"เครื่องคอมพิวเตอร์แม่ข่าย 1 ค.",1,99800,"01.53.480",{"$f":"IF(BV94=\"จำหน่าย\",0,SUM(J94*K94))","v":99800},{"$f":"IF(K94<5000,0,M94)","v":99800},3,"2000-09-30",1096,33266.666666666664,2772.2222222222222,91.058394160583944,0,0,99799,0,99799,0,1,21,1,23,7723,"NO",null,null,null,null,null,null,null,null,null,null,null,null,null,null,null,33.333333333333336,null,null,null,null,null,null,null,null,null,null,null,null,null,null,null,null,null,null,null,null,null,null,"01","53","480",null,null,null,"21 ปี  1 เดือน  23 วัน  ",89]
[{"$f":"A94+1","v":90},null,"1997-09-30",40,null,null,null,null,"เครื่องสแกนเนอร์ 1 ค.",1,31350,"01.53.481",{"$f":"IF(BV95=\"จำหน่าย\",0,SUM(J95*K95))","v":31350},{"$f":"IF(K95<5000,0,M95)","v":31350},3,"2000-09-30",1096,10450,870.83333333333337,28.604014598540147,0,0,31349,0,31349,0,1,21,1,23,7723,"NO",null,null,null,null,null,null,null,null,null,null,null,null,null,null,null,33.333333333333336,null,null,null,null,null,null,null,null,null,null,null,null,null,null,null,null,null,null,null,null,null,null,"01","53","481",null,null,null,"21 ปี  1 เดือน  23 วัน  ",90]
[{"$f":"A95+1","v":91},null,"1997-09-30",40,null,null,null,null,"เครื่องคอมพิวเตอร์ 1 ค.",1,75790,"01.53.484",{"$f":"IF(BV96=\"จำหน่าย\",0,SUM(J96*K96))","v":75790},{"$f":"IF(K96<5000,0,M96)","v":75790},3,"2000-09-30",1096,25263.333333333332,2105.2777777777778,69.151459854014604,0,0,75789,0,75789,0,1,21,1,23,7723,"NO",null,null,null,null,null,null,null,null,null,null,null,null,null,null,null,33.333333333333336,null,null,null,null,null,null,null,null,null,null,null,null,null,null,null,null,null,null,null,null,null,null,"01","53","484",null,null,null,"21 ปี  1 เดือน  23 วัน  ",91]
[{"$f":"A96+1","v":92},null,"1997-09-30",40,null,null,null,null,"เครื่องสแกนเนอร์ 1 ค.",1,34100,"01.53.486",{"$f":"IF(BV97=\"จำหน่าย\",0,SUM(J97*K97))","v":34100},{"$f":"IF(K97<5000,0,M97)","v":34100},3,"2000-09-30",1096,11366.666666666666,947.22222222222217,31.113138686131386,0,0,34099,0,34099,0,1,21,1,23,7723,"NO",null,null,null,null,null,null,null,null,null,null,null,null,null,null,null,33.333333333333336,null,null,null,null,null,null,null,null,null,null,null,null,null,null,null,null,null,null,null,null,null,null,"01","53","486",null,null,null,"21 ปี  1 เดือน  23 วัน  ",92]
[{"$f":"A97+1","v":93},null,"1997-09-30",40,null,null,null,null,"Harddisk 4.3 GB 1 ตัว",1,45000,"01.65.04",{"$f":"IF(BV98=\"จำหน่าย\",0,SUM(J98*K98))","v":45000},{"$f":"IF(K98<5000,0,M98)","v":45000},3,"2000-09-30",1096,15000,1250,41.058394160583944,0,0,44999,0,44999,0,1,21,1,23,7723,"NO",null,null,null,null,null,null,null,null,null,null,null,null,null,null,null,33.333333333333336,null,null,null,null,null,null,null,null,null,null,null,null,null,null,null,null,null,null,null,null,null,null,"01","65","04",null,null,null,"21 ปี  1 เดือน  23 วัน  ",93]
[{"$f":"A98+1","v":94},null,"1997-09-30",40,null,null,null,null,"เครื่องพิมพ์เลเซอร์ 1 ค.",1,34100,"01.72.135",{"$f":"IF(BV99=\"จำหน่าย\",0,SUM(J99*K99))","v":34100},{"$f":"IF(K99<5000,0,M99)","v":34100},3,"2000-09-30",1096,11366.666666666666,947.22222222222217,31.113138686131386,0,0,34099,0,34099,0,1,21,1,23,7723,"NO",null,null,null,null,null,null,null,null,null,null,null,null,null,null,null,33.333333333333336,null,null,null,null,null,null,null,null,null,null,null,null,null,null,null,null,null,null,null,null,null,null,"01","72","135",null,null,null,"21 ปี  1 เดือน  23 วัน  ",94]
[{"$f":"A99+1","v":95},null,"1997-09-30",40,null,null,null,null,"เครื่องผสมสัญญาณเสียง 1 ค.",1,74000,"05.06.265",{"$f":"IF(BV100=\"จำหน่าย\",0,SUM(J100*K100))","v":74000},{"$f":"IF(K100<5000,0,M100)","v":74000},5,"2002-09-30",1826,14800,1233.3333333333333,40.525739320920046,0,0,73999,0,73999,0,1,21,1,23,7723,"NO",null,null,null,null,null,null,null,null,null,null,null,null,null,null,null,20,null,null,null,null,null,null,null,null,null,null,null,null,null,null,null,null,null,null,null,null,null,null,"05","06","265",null,null,null,"21 ปี  1 เดือน  23 วัน  ",95]
[{"$f":"A100+1","v":96},null,"1997-09-30",40,null,null,null,null,"เครื่องกระจายสัญญาณ 1 ค.",1,37000,"05.31.08",{"$f":"IF(BV101=\"จำหน่าย\",0,SUM(J101*K101))","v":37000},{"$f":"IF(K101<5000,0,M101)","v":37000},5,"2002-09-30",1826,7400,616.66666666666663,20.262869660460023,0,0,36999,0,36999,0,1,21,1,23,7723,"NO",null,null,null,null,null,null,null,null,null,null,null,null,null,null,null,20,null,null,null,null,null,null,null,null,null,null,null,null,null,null,null,null,null,null,null,null,null,null,"05","31","08",null,null,null,"21 ปี  1 เดือน  23 วัน  ",96]
[{"$f":"A101+1","v":97},null,"1997-09-30",40,null,null,null,null,"เครื่องปรับกระแสไฟฟ้า 1 ค.",1,51500,"05.46.50",{"$f":"IF(BV102=\"จำหน่าย\",0,SUM(J102*K102))","v":51500},{"$f":"IF(K102<5000,0,M102)","v":51500},3,"2000-09-30",1096,17166.666666666668,1430.5555555555557,46.989051094890513,0,0,51499,0,51499,0,1,21,1,23,7723,"NO",null,null,null,null,null,null,null,null,null,null,null,null,null,null,null,33.333333333333336,null,null,null,null,null,null,null,null,null,null,null,null,null,null,null,null,null,null,null,null,null,null,"05","46","50",null,null,null,"21 ปี  1 เดือน  23 วัน  ",97]
[{"$f":"A102+1","v":98},null,"1997-09-30",40,null,null,null,null,"แท่นรางหมุนหม้อบด 1 แท่น",1,38500,"09.05.39",{"$f":"IF(BV103=\"จำหน่าย\",0,SUM(J103*K103))","v":38500},{"$f":"IF(K103<5000,0,M103)","v":38500},4,"2001-09-30",1461,9625,802.08333333333337,26.351813826146476,0,0,38499,0,38499,0,1,21,1,23,7723,"NO",null,null,null,null,null,null,null,null,null,null,null,null,null,null,null,25,null,null,null,null,null,null,null,null,null,null,null,null,null,null,null,null,null,null,null,null,null,null,"09","05","39",null,null,null,"21 ปี  1 เดือน  23 วัน  ",98]
[{"$f":"A103+1","v":99},null,"1997-09-30",40,null,null,null,null,"เตาไฟฟ้า 1 เตา",1,85000,"09.17.02",{"$f":"IF(BV104=\"จำหน่าย\",0,SUM(J104*K104))","v":85000},{"$f":"IF(K104<5000,0,M104)","v":85000},4,"2001-09-30",1461,21250,1770.8333333333333,58.179329226557151,0,0,84999,0,84999,0,1,21,1,23,7723,"NO",null,null,null,null,null,null,null,null,null,null,null,null,null,null,null,25,null,null,null,null,null,null,null,null,null,null,null,null,null,null,null,null,null,null,null,null,null,null,"09","17","02",null,null,null,"21 ปี  1 เดือน  23 วัน  ",99]
[{"$f":"A104+1","v":100},null,"1997-09-30",40,null,null,null,null,"เตาเซรามิกส์ 1 เตา",1,96000,"09.17.03",{"$f":"IF(BV105=\"จำหน่าย\",0,SUM(J105*K105))","v":96000},{"$f":"IF(K105<5000,0,M105)","v":96000},4,"2001-09-30",1461,24000,2000,65.708418891170425,0,0,95999,0,95999,0,1,21,1,23,7723,"NO",null,null,null,null,null,null,null,null,null,null,null,null,null,null,null,25,null,null,null,null,null,null,null,null,null,null,null,null,null,null,null,null,null,null,null,null,null,null,"09","17","03",null,null,null,"21 ปี  1 เดือน  23 วัน  ",100]
[{"$f":"A105+1","v":101},null,"1997-10-01",41,null,null,null,null,"โต๊ะติดผนังเก็บอุปกรณ์เคมี",1,98300,"01.06.690",{"$f":"IF(BV106=\"จำหน่าย\",0,SUM(J106*K106))","v":98300},{"$f":"IF(K106<5000,0,M106)","v":98300},8,"2005-10-01",2922,12287.5,1023.9583333333334,33.641341546885698,0,0,98299,0,98299,0,1,21,1,21,7722,"NO",null,null,null,null,null,null,null,null,null,null,null,null,null,null,null,12.5,null,null,null,null,null,null,null,null,null,null,null,null,null,null,null,null,null,null,null,null,null,null,"01","06","690",null,null,null,"21 ปี  1 เดือน  21 วัน  ",101]
[{"$f":"A106+1","v":102},null,"1997-10-01",41,null,null,null,null,"ล้อเลื่อนบรรทุก  3 คัน",3,40000,"01.52.125-127",{"$f":"IF(BV107=\"จำหน่าย\",0,SUM(J107*K107))","v":120000},{"$f":"IF(K107<5000,0,M107)","v":120000},8,"2005-10-01",2922,15000,1250,41.067761806981522,0,0,119997,0,119997,0,3,21,1,21,7722,"NO",null,null,null,null,null,null,null,null,null,null,null,null,null,null,null,12.5,null,null,null,null,null,null,null,null,null,null,null,null,null,null,null,null,null,null,null,null,null,null,"01","52","125-127",null,null,null,"21 ปี  1 เดือน  21 วัน  ",102]
[{"$f":"A107+1","v":103},null,"1997-10-06",41,null,null,null,null,"เครื่องบันทึก CD ROM 1 ค.",1,81100,"01.67.04",{"$f":"IF(BV108=\"จำหน่าย\",0,SUM(J108*K108))","v":81100},{"$f":"IF(K108<5000,0,M108)","v":81100},3,"2000-10-06",1096,27033.333333333332,2252.7777777777778,73.996350364963504,0,0,81099,0,81099,0,1,21,1,16,7717,"NO",null,null,null,null,null,null,null,null,null,null,null,null,null,null,null,33.333333333333336,null,null,null,null,null,null,null,null,null,null,null,null,null,null,null,null,null,null,null,null,null,null,"01","67","04",null,null,null,"21 ปี  1 เดือน  16 วัน  ",103]
[{"$f":"A108+1","v":104},null,"1997-10-06",41,null,null,null,null,"จานรับสัญญาณดาวเทียม 1 ค.",1,65758,"05.50.03",{"$f":"IF(BV109=\"จำหน่าย\",0,SUM(J109*K109))","v":65758},{"$f":"IF(K109<5000,0,M109)","v":65758},5,"2002-10-06",1826,13151.6,1095.9666666666667,36.012048192771083,0,0,65757,0,65757,0,1,21,1,16,7717,"NO",null,null,null,null,null,null,null,null,null,null,null,null,null,null,null,20,null,null,null,null,null,null,null,null,null,null,null,null,null,null,null,null,null,null,null,null,null,null,"05","50","03",null,null,null,"21 ปี  1 เดือน  16 วัน  ",104]
[{"$f":"A109+1","v":105},null,"1997-10-24",41,null,null,null,null,"เครื่องปรับอากาศ 35,000 BTU 3 ค.",3,41000,"01.29.295-297",{"$f":"IF(BV110=\"จำหน่าย\",0,SUM(J110*K110))","v":123000},{"$f":"IF(K110<5000,0,M110)","v":123000},8,"2005-10-24",2922,15375,1281.25,42.094455852156059,0,0,122997,0,122997,0,3,21,0,29,7699,"NO",null,null,null,null,null,null,null,null,null,null,null,null,null,null,null,12.5,null,null,null,null,null,null,null,null,null,null,null,null,null,null,null,null,null,null,null,null,null,null,"01","29","295-297",null,null,null,"21 ปี  0 เดือน  29 วัน  ",105]
[{"$f":"A110+1","v":106},null,"1997-10-27",41,null,null,null,null,"เครื่องคอมพิวเตอร์ 2 ค.",2,132500,"01.53.492-496",{"$f":"IF(BV111=\"จำหน่าย\",0,SUM(J111*K111))","v":265000},{"$f":"IF(K111<5000,0,M111)","v":265000},3,"2000-10-27",1096,88333.333333333328,7361.1111111111104,241.78832116788323,0,0,264998,0,264998,0,2,21,0,26,7696,"NO",null,null,null,null,null,null,null,null,null,null,null,null,null,null,null,33.333333333333336,null,null,null,null,null,null,null,null,null,null,null,null,null,null,null,null,null,null,null,null,null,null,"01","53","492-496",null,null,null,"21 ปี  0 เดือน  26 วัน  ",106]
[{"$f":"A111+1","v":107},null,"1997-11-06",41,null,null,null,null,"เครื่องคอมพิวเตอร์ 1 ค.",1,34500,"01.53.501",{"$f":"IF(BV112=\"จำหน่าย\",0,SUM(J112*K112))","v":34500},{"$f":"IF(K112<5000,0,M112)","v":34500},3,"2000-11-06",1096,11500,958.33333333333337,31.478102189781023,0,0,34499,0,34499,0,1,21,0,16,7686,"NO",null,null,null,null,null,null,null,null,null,null,null,null,null,null,null,33.333333333333336,null,null,null,null,null,null,null,null,null,null,null,null,null,null,null,null,null,null,null,null,null,null,"01","53","501",null,null,null,"21 ปี  0 เดือน  16 วัน  ",107]
[{"$f":"A112+1","v":108},null,"1997-11-06",41,null,null,null,null,"เครื่องคอมพิวเตอร์ 1 ค.",1,34500,"01.53.503",{"$f":"IF(BV113=\"จำหน่าย\",0,SUM(J113*K113))","v":34500},{"$f":"IF(K113<5000,0,M113)","v":34500},3,"2000-11-06",1096,11500,958.33333333333337,31.478102189781023,0,0,34499,0,34499,0,1,21,0,16,7686,"NO",null,null,null,null,null,null,null,null,null,null,null,null,null,null,null,33.333333333333336,null,null,null,null,null,null,null,null,null,null,null,null,null,null,null,null,null,null,null,null,null,null,"01","53","503",null,null,null,"21 ปี  0 เดือน  16 วัน  ",108]
[{"$f":"A113+1","v":109},null,"1997-11-06",41,null,null,null,null,"เครื่องคอมพิวเตอร์ 2 ค.",2,34500,"01.53.505-506",{"$f":"IF(BV114=\"จำหน่าย\",0,SUM(J114*K114))","v":69000},{"$f":"IF(K114<5000,0,M114)","v":69000},3,"2000-11-06",1096,23000,1916.6666666666667,62.956204379562045,0,0,68998,0,68998,0,2,21,0,16,7686,"NO",null,null,null,null,null,null,null,null,null,null,null,null,null,null,null,33.333333333333336,null,null,null,null,null,null,null,null,null,null,null,null,null,null,null,null,null,null,null,null,null,null,"01","53","505-506",null,null,null,"21 ปี  0 เดือน  16 วัน  ",109]
[{"$f":"A114+1","v":110},null,"1997-11-06",41,null,null,null,null,"เครื่องคอมพิวเตอร์ 1 ค.",1,34500,"01.53.508",{"$f":"IF(BV115=\"จำหน่าย\",0,SUM(J115*K115))","v":34500},{"$f":"IF(K115<5000,0,M115)","v":34500},3,"2000-11-06",1096,11500,958.33333333333337,31.478102189781023,0,0,34499,0,34499,0,1,21,0,16,7686,"NO",null,null,null,null,null,null,null,null,null,null,null,null,null,null,null,33.333333333333336,null,null,null,null,null,null,null,null,null,null,null,null,null,null,null,null,null,null,null,null,null,null,"01","53","508",null,null,null,"21 ปี  0 เดือน  16 วัน  ",110]
[{"$f":"A115+1","v":111},null,"1997-11-06",41,null,null,null,null,"เครื่องคอมพิวเตอร์ 4 ค.",4,34500,"01.53.511-514",{"$f":"IF(BV116=\"จำหน่าย\",0,SUM(J116*K116))","v":138000},{"$f":"IF(K116<5000,0,M116)","v":138000},3,"2000-11-06",1096,46000,3833.3333333333335,125.91240875912409,0,0,137996,0,137996,0,4,21,0,16,7686,"NO",null,null,null,null,null,null,null,null,null,null,null,null,null,null,null,33.333333333333336,null,null,null,null,null,null,null,null,null,null,null,null,null,null,null,null,null,null,null,null,null,null,"01","53","511-514",null,null,null,"21 ปี  0 เดือน  16 วัน  ",111]
[{"$f":"A116+1","v":112},null,"1997-11-06",41,null,null,null,null,"เครื่องคอมพิวเตอร์ 4 ค.",4,34500,"01.53.516-519",{"$f":"IF(BV117=\"จำหน่าย\",0,SUM(J117*K117))","v":138000},{"$f":"IF(K117<5000,0,M117)","v":138000},3,"2000-11-06",1096,46000,3833.3333333333335,125.91240875912409,0,0,137996,0,137996,0,4,21,0,16,7686,"NO",null,null,null,null,null,null,null,null,null,null,null,null,null,null,null,33.333333333333336,null,null,null,null,null,null,null,null,null,null,null,null,null,null,null,null,null,null,null,null,null,null,"01","53","516-519",null,null,null,"21 ปี  0 เดือน  16 วัน  ",112]
[{"$f":"A117+1","v":113},null,"1997-11-18",41,null,null,null,null,"เครื่องปรับอากาศ 35,000 BTU 1 ค.",1,34000,"01.29.298",{"$f":"IF(BV118=\"จำหน่าย\",0,SUM(J118*K118))","v":34000},{"$f":"IF(K118<5000,0,M118)","v":34000},8,"2005-11-18",2922,4250,354.16666666666669,11.635865845311431,0,0,33999,0,33999,0,1,21,0,4,7674,"NO",null,null,null,null,null,null,null,null,null,null,null,null,null,null,null,12.5,null,null,null,null,null,null,null,null,null,null,null,null,null,null,null,null,null,null,null,null,null,null,"01","29","298",null,null,null,"21 ปี  0 เดือน  4 วัน  ",113]
[{"$f":"A118+1","v":114},null,"1997-11-19",41,null,null,null,null,"เครื่องพิมพ์สำเนาระบบดิจิตอล 1 ค.",1,125000,"01.46.15",{"$f":"IF(BV119=\"จำหน่าย\",0,SUM(J119*K119))","v":125000},{"$f":"IF(K119<5000,0,M119)","v":125000},8,"2005-11-19",2922,15625,1302.0833333333333,42.778918548939082,0,0,124999,0,124999,0,1,21,0,3,7673,"NO",null,null,null,null,null,null,null,null,null,null,null,null,null,null,null,12.5,null,null,null,null,null,null,null,null,null,null,null,null,null,null,null,null,null,null,null,null,null,null,"01","46","15",null,null,null,"21 ปี  0 เดือน  3 วัน  ",114]
[{"$f":"A119+1","v":115},null,"1997-11-24",41,null,null,null,null,"เครื่องคอมพิวเตอร์ระบบ UNIX 1 ค.",1,607000,"01.53.520",{"$f":"IF(BV120=\"จำหน่าย\",0,SUM(J120*K120))","v":607000},{"$f":"IF(K120<5000,0,M120)","v":607000},3,"2000-11-24",1096,202333.33333333334,16861.111111111113,553.83211678832117,0,0,606999,0,606999,0,1,20,11,29,7668,"NO",null,null,null,null,null,null,null,null,null,null,null,null,null,null,null,33.333333333333336,null,null,null,null,null,null,null,null,null,null,null,null,null,null,null,null,null,null,null,null,null,null,"01","53","520",null,null,null,"20 ปี  11 เดือน  29 วัน  ",115]
[{"$f":"A120+1","v":116},null,"1997-11-24",41,null,null,null,null,"เครื่องกำจัดอากาศเสีย 1 ค.",1,399110,"07.80.04",{"$f":"IF(BV121=\"จำหน่าย\",0,SUM(J121*K121))","v":399110},{"$f":"IF(K121<5000,0,M121)","v":399110},5,"2002-11-24",1826,79822,6651.833333333333,218.57064622124864,0,0,399109,0,399109,0,1,20,11,29,7668,"NO",null,null,null,null,null,null,null,null,null,null,null,null,null,null,null,20,null,null,null,null,null,null,null,null,null,null,null,null,null,null,null,null,null,null,null,null,null,null,"07","80","04",null,null,null,"20 ปี  11 เดือน  29 วัน  ",116]
[{"$f":"A121+1","v":117},null,"1997-11-28",41,null,null,null,null,"เครื่องสำรองไฟฟ้า 1 ค.",1,39600,"05.46.53",{"$f":"IF(BV122=\"จำหน่าย\",0,SUM(J122*K122))","v":39600},{"$f":"IF(K122<5000,0,M122)","v":39600},3,"2000-11-28",1096,13200,1100,36.131386861313871,0,0,39599,0,39599,0,1,20,11,25,7664,"NO",null,null,null,null,null,null,null,null,null,null,null,null,null,null,null,33.333333333333336,null,null,null,null,null,null,null,null,null,null,null,null,null,null,null,null,null,null,null,null,null,null,"05","46","53",null,null,null,"20 ปี  11 เดือน  25 วัน  ",117]
[{"$f":"A122+1","v":118},null,"1997-12-12",41,null,null,null,null,"เครื่องคอมพิวเตอร์ 1 ชุด",1,50000,"01.53.529",{"$f":"IF(BV123=\"จำหน่าย\",0,SUM(J123*K123))","v":50000},{"$f":"IF(K123<5000,0,M123)","v":50000},3,"2000-12-12",1096,16666.666666666668,1388.8888888888889,45.620437956204377,0,0,49999,0,49999,0,1,20,11,10,7650,"NO",null,null,null,null,null,null,null,null,null,null,null,null,null,null,null,33.333333333333336,null,null,null,null,null,null,null,null,null,null,null,null,null,null,null,null,null,null,null,null,null,null,"01","53","529",null,null,null,"20 ปี  11 เดือน  10 วัน  ",118]
[{"$f":"A123+1","v":119},null,"1997-12-15",41,null,null,null,null,"แป้นบาสเก็ตบอล 1 ชุด",1,39300,"10.07.07",{"$f":"IF(BV124=\"จำหน่าย\",0,SUM(J124*K124))","v":39300},{"$f":"IF(K124<5000,0,M124)","v":39300},5,"2002-12-15",1826,7860,655,21.522453450164292,0,0,39299,0,39299,0,1,20,11,7,7647,"NO",null,null,null,null,null,null,null,null,null,null,null,null,null,null,null,20,null,null,null,null,null,null,null,null,null,null,null,null,null,null,null,null,null,null,null,null,null,null,"10","07","07",null,null,null,"20 ปี  11 เดือน  7 วัน  ",119]
[{"$f":"A124+1","v":120},null,"1997-12-22",41,null,null,null,null,"เครื่องผสมและรีดดิน 1 ค.",1,145000,"09.42.01",{"$f":"IF(BV125=\"จำหน่าย\",0,SUM(J125*K125))","v":145000},{"$f":"IF(K125<5000,0,M125)","v":145000},5,"2002-12-22",1826,29000,2416.6666666666665,79.408543263964944,0,0,144999,0,144999,0,1,20,10,31,7640,"NO",null,null,null,null,null,null,null,null,null,null,null,null,null,null,null,20,null,null,null,null,null,null,null,null,null,null,null,null,null,null,null,null,null,null,null,null,null,null,"09","42","01",null,null,null,"20 ปี  10 เดือน  31 วัน  ",120]
[{"$f":"A125+1","v":121},null,"1997-12-29",41,null,null,null,null,"เครื่องปรับอากาศ 35,300 BTU 2 ค.",2,38000,"01.29.300-301",{"$f":"IF(BV126=\"จำหน่าย\",0,SUM(J126*K126))","v":76000},{"$f":"IF(K126<5000,0,M126)","v":76000},8,"2005-12-29",2922,9500,791.66666666666663,26.009582477754961,0,0,75998,0,75998,0,2,20,10,24,7633,"NO",null,null,null,null,null,null,null,null,null,null,null,null,null,null,null,12.5,null,null,null,null,null,null,null,null,null,null,null,null,null,null,null,null,null,null,null,null,null,null,"01","29","300-301",null,null,null,"20 ปี  10 เดือน  24 วัน  ",121]
[{"$f":"A126+1","v":122},null,"1997-12-30",41,null,null,null,null,"เครื่องคอมพิวเตอร์ 1 ชุด",1,50000,"01.53.536",{"$f":"IF(BV127=\"จำหน่าย\",0,SUM(J127*K127))","v":50000},{"$f":"IF(K127<5000,0,M127)","v":50000},3,"2000-12-30",1096,16666.666666666668,1388.8888888888889,45.620437956204377,0,0,49999,0,49999,0,1,20,10,23,7632,"NO",null,null,null,null,null,null,null,null,null,null,null,null,null,null,null,33.333333333333336,null,null,null,null,null,null,null,null,null,null,null,null,null,null,null,null,null,null,null,null,null,null,"01","53","536",null,null,null,"20 ปี  10 เดือน  23 วัน  ",122]
[{"$f":"A127+1","v":123},null,"1998-02-17",41,null,null,null,null,"ปั๊มสูบน้ำบาดาล 1 ชุด",1,37180,"08.06.54",{"$f":"IF(BV128=\"จำหน่าย\",0,SUM(J128*K128))","v":37180},{"$f":"IF(K128<5000,0,M128)","v":37180},5,"2003-02-17",1826,7436,619.66666666666663,20.361445783132531,0,0,37179,0,37179,0,1,20,9,5,7583,"NO",null,null,null,null,null,null,null,null,null,null,null,null,null,null,null,20,null,null,null,null,null,null,null,null,null,null,null,null,null,null,null,null,null,null,null,null,null,null,"08","06","54",null,null,null,"20 ปี  9 เดือน  5 วัน  ",123]
[{"$f":"A128+1","v":124},null,"1998-02-22",41,null,null,null,null,"เครื่องชั่งไฟฟ้า 1 ค.",1,72600,"07.79.13",{"$f":"IF(BV129=\"จำหน่าย\",0,SUM(J129*K129))","v":72600},{"$f":"IF(K129<5000,0,M129)","v":72600},5,"2003-02-22",1826,14520,1210,39.75903614457831,0,0,72599,0,72599,0,1,20,8,31,7578,"NO",null,null,null,null,null,null,null,null,null,null,null,null,null,null,null,20,null,null,null,null,null,null,null,null,null,null,null,null,null,null,null,null,null,null,null,null,null,null,"07","79","13",null,null,null,"20 ปี  8 เดือน  31 วัน  ",124]
[{"$f":"A129+1","v":125},null,"1998-03-30",41,null,null,null,null,"เครื่องคอมพิวเตอร์ 1 ค.",1,30000,"01.53.559",{"$f":"IF(BV130=\"จำหน่าย\",0,SUM(J130*K130))","v":30000},{"$f":"IF(K130<5000,0,M130)","v":30000},3,"2001-03-30",1096,10000,833.33333333333337,27.372262773722628,0,0,29999,0,29999,0,1,20,7,23,7542,"NO",null,null,null,null,null,null,null,null,null,null,null,null,null,null,null,33.333333333333336,null,null,null,null,null,null,null,null,null,null,null,null,null,null,null,null,null,null,null,null,null,null,"01","53","559",null,null,null,"20 ปี  7 เดือน  23 วัน  ",125]
[{"$f":"A130+1","v":126},null,"1998-03-30",41,null,null,null,null,"เครื่องคอมพิวเตอร์ 1 ค.",1,30000,"01.53.560",{"$f":"IF(BV131=\"จำหน่าย\",0,SUM(J131*K131))","v":30000},{"$f":"IF(K131<5000,0,M131)","v":30000},3,"2001-03-30",1096,10000,833.33333333333337,27.372262773722628,0,0,29999,0,29999,0,1,20,7,23,7542,"NO",null,null,null,null,null,null,null,null,null,null,null,null,null,null,null,33.333333333333336,null,null,null,null,null,null,null,null,null,null,null,null,null,null,null,null,null,null,null,null,null,null,"01","53","560",null,null,null,"20 ปี  7 เดือน  23 วัน  ",126]
[{"$f":"A131+1","v":127},null,"1998-03-30",41,null,null,null,null,"เครื่องคอมพิวเตอร์ 1 ค.",1,30000,"01.53.561",{"$f":"IF(BV132=\"จำหน่าย\",0,SUM(J132*K132))","v":30000},{"$f":"IF(K132<5000,0,M132)","v":30000},3,"2001-03-30",1096,10000,833.33333333333337,27.372262773722628,0,0,29999,0,29999,0,1,20,7,23,7542,"NO",null,null,null,null,null,null,null,null,null,null,null,null,null,null,null,33.333333333333336,null,null,null,null,null,null,null,null,null,null,null,null,null,null,null,null,null,null,null,null,null,null,"01","53","561",null,null,null,"20 ปี  7 เดือน  23 วัน  ",127]
[{"$f":"A132+1","v":128},null,"1998-03-30",41,null,null,null,null,"เครื่องคอมพิวเตอร์ 1 ค.",1,30000,"01.53.562",{"$f":"IF(BV133=\"จำหน่าย\",0,SUM(J133*K133))","v":30000},{"$f":"IF(K133<5000,0,M133)","v":30000},3,{"$f":"DATE(YEAR(C133)+O133,MONTH(C133),DAY(C133))","v":"2001-03-30"},{"$f":"IF(NOT(OR(ISBLANK(P133),ISBLANK(C133))),P133-C133,\"\")","v":1096},{"$f":"SLN(N133,,O133)","v":10000},{"$f":"SLN(R133,,12)","v":833.33333333333337},{"$f":"SLN(N133,,Q133)","v":27.372262773722628},{"$f":"IF(N133=0,0,IF(AE133<=Q133,1,0))","v":0},0,29999,0,29999,0,1,{"$f":"DATEDIF(C133,TODAY(),\"Y\")","v":20},{"$f":"DATEDIF(C133,TODAY(),\"YM\")","v":7},{"$f":"DATEDIF(C133,TODAY(),\"md\")+1","v":23},{"$f":"DATEDIF(C133,TODAY(),\"d\")+1","v":7542},{"$f":"IF(N133=0,\"No\",IF(AE133>Q133,\"NO\",\"YES\"))","v":"NO"},null,null,null,null,null,null,null,null,null,null,null,null,null,null,null,{"$f":"100/O133","v":33.333333333333336},null,null,null,null,null,null,null,null,null,null,null,null,null,null,null,null,null,null,null,null,null,null,"01","53","562",null,null,null,{"$f":"CONCATENATE(AB133,\" ปี  \",AC133,\" เดือน  \",AD133,\" วัน  \")","v":"20 ปี  7 เดือน  23 วัน  "},{"$f":"A133","v":128}]
[{"$f":"A133+1","v":129},null,"1998-03-30",41,null,null,null,null,"เครื่องคอมพิวเตอร์ 1 ค.",1,30000,"01.53.563",{"$f":"IF(BV134=\"จำหน่าย\",0,SUM(J134*K134))","v":30000},{"$f":"IF(K134<5000,0,M134)","v":30000},3,"2001-03-30",1096,10000,833.33333333333337,27.372262773722628,0,0,29999,0,29999,0,1,20,7,23,7542,"NO",null,null,null,null,null,null,null,null,null,null,null,null,null,null,null,33.333333333333336,null,null,null,null,null,null,null,null,null,null,null,null,null,null,null,null,null,null,null,null,null,null,"01","53","563",null,null,null,"20 ปี  7 เดือน  23 วัน  ",129]
[{"$f":"A134+1","v":130},null,"1998-03-30",41,null,null,null,null,"เครื่องคอมพิวเตอร์ 1 ค.",1,30000,"01.53.564",{"$f":"IF(BV135=\"จำหน่าย\",0,SUM(J135*K135))","v":30000},{"$f":"IF(K135<5000,0,M135)","v":30000},3,"2001-03-30",1096,10000,833.33333333333337,27.372262773722628,0,{"$f":"SUM(R135*U135/12)","v":0},{"$f":"IF(N135=0,0,IF((R135*AB135)+(R135*AC135/12)>=N135,N135-J135,((R135*AB135)+(R135*AC135/12))))","v":29999},{"$f":"SUM(T135*U135)","v":0},{"$f":"IF(N135=0,0,IF((DATEDIF(C135,TODAY(),\"d\")+1)*T135>=N135,N135-J135,(DATEDIF(C135,TODAY(),\"d\")+1)*T135))","v":29999},{"$f":"IF(U135=0,0,IF(OR(DAY(C135)=1,MONTH(C135)<>MONTH(TODAY()),YEAR(C135)<>YEAR(TODAY())),T135*((DAY(DATE(YEAR(TODAY()),MONTH(TODAY())+1,1)-1))),T135*((DAY(DATE(YEAR(TODAY()),MONTH(TODAY())+1,1)-1)-DAY(C135)+1))))","v":0},{"$f":"IF(N135=0,0,IF(X135>=N135,(J135),(N135-Y135)))","v":1},20,7,23,7542,"NO",null,null,null,null,null,null,null,null,null,null,null,null,null,null,null,33.333333333333336,null,null,null,null,null,null,null,null,null,null,null,null,null,null,null,null,null,null,null,null,null,null,"01","53","564",null,null,null,"20 ปี  7 เดือน  23 วัน  ",130]
[{"$f":"A135+1","v":131},null,"1998-03-30",41,null,null,null,null,"เครื่องคอมพิวเตอร์ 1 ค.",1,30000,"01.53.565",{"$f":"IF(BV136=\"จำหน่าย\",0,SUM(J136*K136))","v":30000},{"$f":"IF(K136<5000,0,M136)","v":30000},3,"2001-03-30",1096,10000,833.33333333333337,27.372262773722628,0,0,29999,0,29999,0,1,20,7,23,7542,"NO",null,null,null,null,null,null,null,null,null,null,null,null,null,null,null,33.333333333333336,null,null,null,null,null,null,null,null,null,null,null,null,null,null,null,null,null,null,null,null,null,null,"01","53","565",null,null,null,"20 ปี  7 เดือน  23 วัน  ",131]
[{"$f":"A136+1","v":132},null,"1998-03-30",41,null,null,null,null,"เครื่องคอมพิวเตอร์ 1 ค.",1,30000,"01.53.566",{"$f":"IF(BV137=\"จำหน่าย\",0,SUM(J137*K137))","v":30000},{"$f":"IF(K137<5000,0,M137)","v":30000},3,"2001-03-30",1096,10000,833.33333333333337,27.372262773722628,0,0,29999,0,29999,0,1,20,7,23,7542,"NO",null,null,null,null,null,null,null,null,null,null,null,null,null,null,null,33.333333333333336,null,null,null,null,null,null,null,null,null,null,null,null,null,null,null,null,null,null,null,null,null,null,"01","53","566",null,null,null,"20 ปี  7 เดือน  23 วัน  ",132]
[{"$f":"A137+1","v":133},null,"1998-03-30",41,null,null,null,null,"เครื่องคอมพิวเตอร์ 1 ค.",1,30000,"01.53.567",{"$f":"IF(BV138=\"จำหน่าย\",0,SUM(J138*K138))","v":30000},{"$f":"IF(K138<5000,0,M138)","v":30000},3,"2001-03-30",1096,10000,833.33333333333337,27.372262773722628,0,0,29999,0,29999,0,1,20,7,23,7542,"NO",null,null,null,null,null,null,null,null,null,null,null,null,null,null,null,33.333333333333336,null,null,null,null,null,null,null,null,null,null,null,null,null,null,null,null,null,null,null,null,null,null,"01","53","567",null,null,null,"20 ปี  7 เดือน  23 วัน  ",133]
[{"$f":"A138+1","v":134},null,"1998-03-30",41,null,null,null,null,"เครื่องคอมพิวเตอร์ 1 ค.",1,30000,"01.53.568",{"$f":"IF(BV139=\"จำหน่าย\",0,SUM(J139*K139))","v":30000},{"$f":"IF(K139<5000,0,M139)","v":30000},3,"2001-03-30",1096,10000,833.33333333333337,27.372262773722628,0,0,29999,0,29999,0,1,20,7,23,7542,"NO",null,null,null,null,null,null,null,null,null,null,null,null,null,null,null,33.333333333333336,null,null,null,null,null,null,null,null,null,null,null,null,null,null,null,null,null,null,null,null,null,null,"01","53","568",null,null,null,"20 ปี  7 เดือน  23 วัน  ",134]
[{"$f":"A139+1","v":135},null,"1998-03-30",41,null,null,null,null,"เครื่องคอมพิวเตอร์ 1 ค.",1,30000,"01.53.569",{"$f":"IF(BV140=\"จำหน่าย\",0,SUM(J140*K140))","v":30000},{"$f":"IF(K140<5000,0,M140)","v":30000},3,"2001-03-30",1096,10000,833.33333333333337,27.372262773722628,0,0,29999,0,29999,0,1,20,7,23,7542,"NO",null,null,null,null,null,null,null,null,null,null,null,null,null,null,null,33.333333333333336,null,null,null,null,null,null,null,null,null,null,null,null,null,null,null,null,null,null,null,null,null,null,"01","53","569",null,null,null,"20 ปี  7 เดือน  23 วัน  ",135]
[{"$f":"A140+1","v":136},null,"1998-03-30",41,null,null,null,null,"เครื่องคอมพิวเตอร์ 1 ค.",1,30000,"01.53.570",{"$f":"IF(BV141=\"จำหน่าย\",0,SUM(J141*K141))","v":30000},{"$f":"IF(K141<5000,0,M141)","v":30000},3,"2001-03-30",1096,10000,833.33333333333337,27.372262773722628,0,0,29999,0,29999,0,1,20,7,23,7542,"NO",null,null,null,null,null,null,null,null,null,null,null,null,null,null,null,33.333333333333336,null,null,null,null,null,null,null,null,null,null,null,null,null,null,null,null,null,null,null,null,null,null,"01","53","570",null,null,null,"20 ปี  7 เดือน  23 วัน  ",136]
[{"$f":"A141+1","v":137},null,"1998-03-30",41,null,null,null,null,"เครื่องคอมพิวเตอร์ 1 ค.",1,30000,"01.53.571",{"$f":"IF(BV142=\"จำหน่าย\",0,SUM(J142*K142))","v":30000},{"$f":"IF(K142<5000,0,M142)","v":30000},3,"2001-03-30",1096,10000,833.33333333333337,27.372262773722628,0,0,29999,0,29999,0,1,20,7,23,7542,"NO",null,null,null,null,null,null,null,null,null,null,null,null,null,null,null,33.333333333333336,null,null,null,null,null,null,null,null,null,null,null,null,null,null,null,null,null,null,null,null,null,null,"01","53","571",null,null,null,"20 ปี  7 เดือน  23 วัน  ",137]
[{"$f":"A142+1","v":138},null,"1998-04-02",41,null,null,null,null,"เครื่องพิมพ์สำเนาระบบดิจิตอล 1 ค.",1,140000,"01.46.17",{"$f":"IF(BV143=\"จำหน่าย\",0,SUM(J143*K143))","v":140000},{"$f":"IF(K143<5000,0,M143)","v":140000},8,"2006-04-02",2922,17500,1458.3333333333333,47.912388774811774,0,0,139999,0,139999,0,1,20,7,20,7539,"NO",null,null,null,null,null,null,null,null,null,null,null,null,null,null,null,12.5,null,null,null,null,null,null,null,null,null,null,null,null,null,null,null,null,null,null,null,null,null,null,"01","46","17",null,null,null,"20 ปี  7 เดือน  20 วัน  ",138]
[{"$f":"A143+1","v":139},null,"1998-04-02",41,null,null,null,null,"เครื่องพิมพ์เลเซอร์ 1 ค.",1,48499,"01.72.146",{"$f":"IF(BV144=\"จำหน่าย\",0,SUM(J144*K144))","v":48499},{"$f":"IF(K144<5000,0,M144)","v":48499},3,"2001-04-02",1096,16166.333333333334,1347.1944444444446,44.250912408759127,0,0,48498,0,48498,0,1,20,7,20,7539,"NO",null,null,null,null,null,null,null,null,null,null,null,null,null,null,null,33.333333333333336,null,null,null,null,null,null,null,null,null,null,null,null,null,null,null,null,null,null,null,null,null,null,"01","72","146",null,null,null,"20 ปี  7 เดือน  20 วัน  ",139]
[{"$f":"A144+1","v":140},null,"1998-04-16",41,null,null,null,null,"เครื่องคอมพิวเตอร์ 1 ชุด",1,30000,"01.53.577",{"$f":"IF(BV145=\"จำหน่าย\",0,SUM(J145*K145))","v":30000},{"$f":"IF(K145<5000,0,M145)","v":30000},3,"2001-04-16",1096,10000,833.33333333333337,27.372262773722628,0,0,29999,0,29999,0,1,20,7,6,7525,"NO",null,null,null,null,null,null,null,null,null,null,null,null,null,null,null,33.333333333333336,null,null,null,null,null,null,null,null,null,null,null,null,null,null,null,null,null,null,null,null,null,null,"01","53","577",null,null,null,"20 ปี  7 เดือน  6 วัน  ",140]
[{"$f":"A145+1","v":141},null,"1998-04-20",41,null,null,null,null,"ตู้แช่ 1 ค.",1,75000,"01.09.100",{"$f":"IF(BV146=\"จำหน่าย\",0,SUM(J146*K146))","v":75000},{"$f":"IF(K146<5000,0,M146)","v":75000},8,"2006-04-20",2922,9375,781.25,25.66735112936345,0,0,74999,0,74999,0,1,20,7,2,7521,"NO",null,null,null,null,null,null,null,null,null,null,null,null,null,null,null,12.5,null,null,null,null,null,null,null,null,null,null,null,null,null,null,null,null,null,null,null,null,null,null,"01","09","100",null,null,null,"20 ปี  7 เดือน  2 วัน  ",141]
[{"$f":"A146+1","v":142},null,"1998-05-18",41,null,null,null,null,"เครื่องคอมพิวเตอร์ 2 ค.",2,30000,"01.53.584-585",{"$f":"IF(BV147=\"จำหน่าย\",0,SUM(J147*K147))","v":60000},{"$f":"IF(K147<5000,0,M147)","v":60000},3,"2001-05-18",1096,20000,1666.6666666666667,54.744525547445257,0,0,59998,0,59998,0,2,20,6,4,7493,"NO",null,null,null,null,null,null,null,null,null,null,null,null,null,null,null,33.333333333333336,null,null,null,null,null,null,null,null,null,null,null,null,null,null,null,null,null,null,null,null,null,null,"01","53","584-585",null,null,null,"20 ปี  6 เดือน  4 วัน  ",142]
[{"$f":"A147+1","v":143},null,"1998-05-18",41,null,null,null,null,"เครื่องคอมพิวเตอร์แบบพกพา 1 ค.",1,86790,"01.53.588",{"$f":"IF(BV148=\"จำหน่าย\",0,SUM(J148*K148))","v":86790},{"$f":"IF(K148<5000,0,M148)","v":86790},3,"2001-05-18",1096,28930,2410.8333333333335,79.18795620437956,0,0,86789,0,86789,0,1,20,6,4,7493,"NO",null,null,null,null,null,null,null,null,null,null,null,null,null,null,null,33.333333333333336,null,null,null,null,null,null,null,null,null,null,null,null,null,null,null,null,null,null,null,null,null,null,"01","53","588",null,null,null,"20 ปี  6 เดือน  4 วัน  ",143]
[{"$f":"A148+1","v":144},null,"1998-05-18",41,null,null,null,null,"เครื่องพิมพ์เลเซอร์ 1 ค.",1,45000,"01.72.148",{"$f":"IF(BV149=\"จำหน่าย\",0,SUM(J149*K149))","v":45000},{"$f":"IF(K149<5000,0,M149)","v":45000},3,"2001-05-18",1096,15000,1250,41.058394160583944,0,0,44999,0,44999,0,1,20,6,4,7493,"NO",null,null,null,null,null,null,null,null,null,null,null,null,null,null,null,33.333333333333336,null,null,null,null,null,null,null,null,null,null,null,null,null,null,null,null,null,null,null,null,null,null,"01","72","148",null,null,null,"20 ปี  6 เดือน  4 วัน  ",144]
[{"$f":"A149+1","v":145},null,"1998-05-18",41,null,null,null,null,"เครื่องพิมพ์เลเซอร์ 1 ค.",1,35000,"01.72.150",{"$f":"IF(BV150=\"จำหน่าย\",0,SUM(J150*K150))","v":35000},{"$f":"IF(K150<5000,0,M150)","v":35000},3,"2001-05-18",1096,11666.666666666666,972.22222222222217,31.934306569343065,0,0,34999,0,34999,0,1,20,6,4,7493,"NO",null,null,null,null,null,null,null,null,null,null,null,null,null,null,null,33.333333333333336,null,null,null,null,null,null,null,null,null,null,null,null,null,null,null,null,null,null,null,null,null,null,"01","72","150",null,null,null,"20 ปี  6 เดือน  4 วัน  ",145]
[{"$f":"A150+1","v":146},null,"1998-05-18",41,null,null,null,null,"เครื่องเล่นวีดีทัศน์ 2 ค.",2,41500,"05.09.214-215",{"$f":"IF(BV151=\"จำหน่าย\",0,SUM(J151*K151))","v":83000},{"$f":"IF(K151<5000,0,M151)","v":83000},5,"2003-05-18",1826,16600,1383.3333333333333,45.454545454545453,0,0,82998,0,82998,0,2,20,6,4,7493,"NO",null,null,null,null,null,null,null,null,null,null,null,null,null,null,null,20,null,null,null,null,null,null,null,null,null,null,null,null,null,null,null,null,null,null,null,null,null,null,"05","09","214-215",null,null,null,"20 ปี  6 เดือน  4 วัน  ",146]
[{"$f":"A151+1","v":147},null,"1998-05-18",41,null,null,null,null,"โทรทัศน์สี 34\" 1 ค.",1,49900,"05.10.270",{"$f":"IF(BV152=\"จำหน่าย\",0,SUM(J152*K152))","v":49900},{"$f":"IF(K152<5000,0,M152)","v":49900},5,"2003-05-18",1826,9980,831.66666666666663,27.327491785323112,0,0,49899,0,49899,0,1,20,6,4,7493,"NO",null,null,null,null,null,null,null,null,null,null,null,null,null,null,null,20,null,null,null,null,null,null,null,null,null,null,null,null,null,null,null,null,null,null,null,null,null,null,"05","10","270",null,null,null,"20 ปี  6 เดือน  4 วัน  ",147]
[{"$f":"A152+1","v":148},null,"1998-05-18",41,null,null,null,null,"โทรทัศนสี 29\" 2 ค.",2,31150,"05.10.275-276",{"$f":"IF(BV153=\"จำหน่าย\",0,SUM(J153*K153))","v":62300},{"$f":"IF(K153<5000,0,M153)","v":62300},5,"2003-05-18",1826,12460,1038.3333333333333,34.118291347207013,0,0,62298,0,62298,0,2,20,6,4,7493,"NO",null,null,null,null,null,null,null,null,null,null,null,null,null,null,null,20,null,null,null,null,null,null,null,null,null,null,null,null,null,null,null,null,null,null,null,null,null,null,"05","10","275-276",null,null,null,"20 ปี  6 เดือน  4 วัน  ",148]
[{"$f":"A153+1","v":149},null,"1998-05-18",41,null,null,null,null,"เครื่องตัดต่อภาพ 1 ค.",1,56000,"06.06.01",{"$f":"IF(BV154=\"จำหน่าย\",0,SUM(J154*K154))","v":56000},{"$f":"IF(K154<5000,0,M154)","v":56000},5,"2003-05-18",1826,11200,933.33333333333337,30.668127053669224,0,0,55999,0,55999,0,1,20,6,4,7493,"NO",null,null,null,null,null,null,null,null,null,null,null,null,null,null,null,20,null,null,null,null,null,null,null,null,null,null,null,null,null,null,null,null,null,null,null,null,null,null,"06","06","01",null,null,null,"20 ปี  6 เดือน  4 วัน  ",149]
[{"$f":"A154+1","v":150},null,"1998-05-18",41,null,null,null,null,"กล้องถ่ายวีดีทัศน์ 1 ตัว",1,39900,"06.17.28",{"$f":"IF(BV155=\"จำหน่าย\",0,SUM(J155*K155))","v":39900},{"$f":"IF(K155<5000,0,M155)","v":39900},5,"2003-05-18",1826,7980,665,21.851040525739322,0,0,39899,0,39899,0,1,20,6,4,7493,"NO",null,null,null,null,null,null,null,null,null,null,null,null,null,null,null,20,null,null,null,null,null,null,null,null,null,null,null,null,null,null,null,null,null,null,null,null,null,null,"06","17","28",null,null,null,"20 ปี  6 เดือน  4 วัน  ",150]
[{"$f":"A155+1","v":151},null,"1998-06-11",41,null,null,null,null,"เครื่องคอมพิวเตอร์แบบพกพา 1 ค.",1,90090,"01.53.601",{"$f":"IF(BV156=\"จำหน่าย\",0,SUM(J156*K156))","v":90090},{"$f":"IF(K156<5000,0,M156)","v":90090},3,"2001-06-11",1096,30030,2502.5,82.198905109489047,0,0,90089,0,90089,0,1,20,5,11,7469,"NO",null,null,null,null,null,null,null,null,null,null,null,null,null,null,null,33.333333333333336,null,null,null,null,null,null,null,null,null,null,null,null,null,null,null,null,null,null,null,null,null,null,"01","53","601",null,null,null,"20 ปี  5 เดือน  11 วัน  ",151]
[{"$f":"A156+1","v":152},null,"1998-06-29",41,null,null,null,null,"รถบัส 1 คัน",1,88000,"02.02.18",{"$f":"IF(BV157=\"จำหน่าย\",0,SUM(J157*K157))","v":88000},{"$f":"IF(K157<5000,0,M157)","v":88000},5,"2003-06-29",1826,17600,1466.6666666666667,48.192771084337352,0,0,87999,0,87999,0,1,20,4,24,7451,"NO",null,null,null,null,null,null,null,null,null,null,null,null,null,null,null,20,null,null,null,null,null,null,null,null,null,null,null,null,null,null,null,null,null,null,null,null,null,null,"02","02","18",null,null,null,"20 ปี  4 เดือน  24 วัน  ",152]
[{"$f":"A157+1","v":153},null,"1998-07-07",41,null,null,null,null,"เครื่องคอมพิวเตอร์แม่ข่าย 1 ชุด",1,99550,"01.53.603",{"$f":"IF(BV158=\"จำหน่าย\",0,SUM(J158*K158))","v":99550},{"$f":"IF(K158<5000,0,M158)","v":99550},3,"2001-07-07",1096,33183.333333333336,2765.2777777777778,90.830291970802918,0,0,99549,0,99549,0,1,20,4,15,7443,"NO",null,null,null,null,null,null,null,null,null,null,null,null,null,null,null,33.333333333333336,null,null,null,null,null,null,null,null,null,null,null,null,null,null,null,null,null,null,null,null,null,null,"01","53","603",null,null,null,"20 ปี  4 เดือน  15 วัน  ",153]
[{"$f":"A158+1","v":154},null,"1998-07-07",41,null,null,null,null,"เครื่องพิมพ์เลเซอร์ 1 ค.",1,54780,"01.72.153",{"$f":"IF(BV159=\"จำหน่าย\",0,SUM(J159*K159))","v":54780},{"$f":"IF(K159<5000,0,M159)","v":54780},3,"2001-07-07",1096,18260,1521.6666666666667,49.981751824817515,0,0,54779,0,54779,0,1,20,4,15,7443,"NO",null,null,null,null,null,null,null,null,null,null,null,null,null,null,null,33.333333333333336,null,null,null,null,null,null,null,null,null,null,null,null,null,null,null,null,null,null,null,null,null,null,"01","72","153",null,null,null,"20 ปี  4 เดือน  15 วัน  ",154]
[{"$f":"A159+1","v":155},null,"1998-07-13",41,null,null,null,null,"เคาท์เตอร์สำนักงาน 1 ชุด",1,75000,"01.36.26",{"$f":"IF(BV160=\"จำหน่าย\",0,SUM(J160*K160))","v":75000},{"$f":"IF(K160<5000,0,M160)","v":75000},8,"2006-07-13",2922,9375,781.25,25.66735112936345,0,0,74999,0,74999,0,1,20,4,9,7437,"NO",null,null,null,null,null,null,null,null,null,null,null,null,null,null,null,12.5,null,null,null,null,null,null,null,null,null,null,null,null,null,null,null,null,null,null,null,null,null,null,"01","36","26",null,null,null,"20 ปี  4 เดือน  9 วัน  ",155]
[{"$f":"A160+1","v":156},null,"1998-07-13",41,null,null,null,null,"รถบัส 1 คัน",1,88000,"02.02.19",{"$f":"IF(BV161=\"จำหน่าย\",0,SUM(J161*K161))","v":88000},{"$f":"IF(K161<5000,0,M161)","v":88000},5,"2003-07-13",1826,17600,1466.6666666666667,48.192771084337352,0,0,87999,0,87999,0,1,20,4,9,7437,"NO",null,null,null,null,null,null,null,null,null,null,null,null,null,null,null,20,null,null,null,null,null,null,null,null,null,null,null,null,null,null,null,null,null,null,null,null,null,null,"02","02","19",null,null,null,"20 ปี  4 เดือน  9 วัน  ",156]
[{"$f":"A161+1","v":157},null,"1998-07-14",41,null,null,null,null,"เครื่องปรับอากาศ 1 ค.",1,33000,"01.29.306",{"$f":"IF(BV162=\"จำหน่าย\",0,SUM(J162*K162))","v":33000},{"$f":"IF(K162<5000,0,M162)","v":33000},8,"2006-07-14",2922,4125,343.75,11.293634496919918,0,0,32999,0,32999,0,1,20,4,8,7436,"NO",null,null,null,null,null,null,null,null,null,null,null,null,null,null,null,12.5,null,null,null,null,null,null,null,null,null,null,null,null,null,null,null,null,null,null,null,null,null,null,"01","29","306",null,null,null,"20 ปี  4 เดือน  8 วัน  ",157]
[{"$f":"A162+1","v":158},null,"1998-07-14",41,null,null,null,null,"เครื่องคอมพิวเตอร์ 2 ค.",2,38000,"01.53.605-606",{"$f":"IF(BV163=\"จำหน่าย\",0,SUM(J163*K163))","v":76000},{"$f":"IF(K163<5000,0,M163)","v":76000},3,"2001-07-14",1096,25333.333333333332,2111.1111111111109,69.34306569343066,0,0,75998,0,75998,0,2,20,4,8,7436,"NO",null,null,null,null,null,null,null,null,null,null,null,null,null,null,null,33.333333333333336,null,null,null,null,null,null,null,null,null,null,null,null,null,null,null,null,null,null,null,null,null,null,"01","53","605-606",null,null,null,"20 ปี  4 เดือน  8 วัน  ",158]
[{"$f":"A163+1","v":159},null,"1998-07-14",41,null,null,null,null,"เครื่องคอมพิวเตอร์ 1 ค.",1,38000,"01.53.608",{"$f":"IF(BV164=\"จำหน่าย\",0,SUM(J164*K164))","v":38000},{"$f":"IF(K164<5000,0,M164)","v":38000},3,"2001-07-14",1096,12666.666666666666,1055.5555555555554,34.67153284671533,0,0,37999,0,37999,0,1,20,4,8,7436,"NO",null,null,null,null,null,null,null,null,null,null,null,null,null,null,null,33.333333333333336,null,null,null,null,null,null,null,null,null,null,null,null,null,null,null,null,null,null,null,null,null,null,"01","53","608",null,null,null,"20 ปี  4 เดือน  8 วัน  ",159]
[{"$f":"A164+1","v":160},null,"1998-07-14",41,null,null,null,null,"ชุดไมโครโฟนห้องประชุม 1 ชุด",1,194996.8,"05.12.255",{"$f":"IF(BV165=\"จำหน่าย\",0,SUM(J165*K165))","v":194996.8},{"$f":"IF(K165<5000,0,M165)","v":194996.8},5,"2003-07-14",1826,38999.360000000001,3249.9466666666667,106.78904709748083,0,0,194995.8,0,194995.8,0,1,20,4,8,7436,"NO",null,null,null,null,null,null,null,null,null,null,null,null,null,null,null,20,null,null,null,null,null,null,null,null,null,null,null,null,null,null,null,null,null,null,null,null,null,null,"05","12","255",null,null,null,"20 ปี  4 เดือน  8 วัน  ",160]
[{"$f":"A165+1","v":161},null,"1998-07-28",41,null,null,null,null,"เครื่องปรับอากาศ 3 ค.",3,40700,"01.29.328-330",{"$f":"IF(BV166=\"จำหน่าย\",0,SUM(J166*K166))","v":122100},{"$f":"IF(K166<5000,0,M166)","v":122100},8,"2006-07-28",2922,15262.5,1271.875,41.786447638603697,0,0,122097,0,122097,0,3,20,3,25,7422,"NO",null,null,null,null,null,null,null,null,null,null,null,null,null,null,null,12.5,null,null,null,null,null,null,null,null,null,null,null,null,null,null,null,null,null,null,null,null,null,null,"01","29","328-330",null,null,null,"20 ปี  3 เดือน  25 วัน  ",161]
[{"$f":"A166+1","v":162},null,"1998-08-03",41,null,null,null,null,"เครื่องปรับอากาศ 38,600 BTU 2 ค.",2,43450,"01.29.331-332",{"$f":"IF(BV167=\"จำหน่าย\",0,SUM(J167*K167))","v":86900},{"$f":"IF(K167<5000,0,M167)","v":86900},8,"2006-08-03",2922,10862.5,905.20833333333337,29.739904175222449,0,0,86898,0,86898,0,2,20,3,19,7416,"NO",null,null,null,null,null,null,null,null,null,null,null,null,null,null,null,12.5,null,null,null,null,null,null,null,null,null,null,null,null,null,null,null,null,null,null,null,null,null,null,"01","29","331-332",null,null,null,"20 ปี  3 เดือน  19 วัน  ",162]
[{"$f":"A167+1","v":163},null,"1998-08-19",41,null,null,null,null,"เครื่องพิมพ์สำเนาระบบดิจิตอล 1 ค.",1,140000,"01.46.18",{"$f":"IF(BV168=\"จำหน่าย\",0,SUM(J168*K168))","v":140000},{"$f":"IF(K168<5000,0,M168)","v":140000},8,"2006-08-19",2922,17500,1458.3333333333333,47.912388774811774,0,0,139999,0,139999,0,1,20,3,3,7400,"NO",null,null,null,null,null,null,null,null,null,null,null,null,null,null,null,12.5,null,null,null,null,null,null,null,null,null,null,null,null,null,null,null,null,null,null,null,null,null,null,"01","46","18",null,null,null,"20 ปี  3 เดือน  3 วัน  ",163]
[{"$f":"A168+1","v":164},null,"1998-08-19",41,null,null,null,null,"เครื่องอบผ้าแห้ง 1 ค.",1,78000,"08.36.01",{"$f":"IF(BV169=\"จำหน่าย\",0,SUM(J169*K169))","v":78000},{"$f":"IF(K169<5000,0,M169)","v":78000},5,"2003-08-19",1826,15600,1300,42.716319824753562,0,0,77999,0,77999,0,1,20,3,3,7400,"NO",null,null,null,null,null,null,null,null,null,null,null,null,null,null,null,20,null,null,null,null,null,null,null,null,null,null,null,null,null,null,null,null,null,null,null,null,null,null,"08","36","01",null,null,null,"20 ปี  3 เดือน  3 วัน  ",164]
[{"$f":"A169+1","v":165},null,"1998-08-20",41,null,null,null,null,"เครื่องคอมพิวเตอร์ 1 ค.",1,55000,"01.53.612",{"$f":"IF(BV170=\"จำหน่าย\",0,SUM(J170*K170))","v":55000},{"$f":"IF(K170<5000,0,M170)","v":55000},3,"2001-08-20",1096,18333.333333333332,1527.7777777777776,50.182481751824817,0,0,54999,0,54999,0,1,20,3,2,7399,"NO",null,null,null,null,null,null,null,null,null,null,null,null,null,null,null,33.333333333333336,null,null,null,null,null,null,null,null,null,null,null,null,null,null,null,null,null,null,null,null,null,null,"01","53","612",null,null,null,"20 ปี  3 เดือน  2 วัน  ",165]
[{"$f":"A170+1","v":166},null,"1998-08-21",41,null,null,null,null,"เบสไฟฟ้า 1 ตัว",1,44350.9,"05.40.06",{"$f":"IF(BV171=\"จำหน่าย\",0,SUM(J171*K171))","v":44350.9},{"$f":"IF(K171<5000,0,M171)","v":44350.9},5,"2003-08-21",1826,8870.18,739.18166666666673,24.288554216867471,0,0,44349.9,0,44349.9,0,1,20,3,1,7398,"NO",null,null,null,null,null,null,null,null,null,null,null,null,null,null,null,20,null,null,null,null,null,null,null,null,null,null,null,null,null,null,null,null,null,null,null,null,null,null,"05","40","06",null,null,null,"20 ปี  3 เดือน  1 วัน  ",166]
[{"$f":"A171+1","v":167},null,"1998-08-23",41,null,null,null,null,"จอรับภาพ 1 จอ",1,59950,"06.07.66",{"$f":"IF(BV172=\"จำหน่าย\",0,SUM(J172*K172))","v":59950},{"$f":"IF(K172<5000,0,M172)","v":59950},5,"2003-08-23",1826,11990,999.16666666666663,32.831325301204821,0,0,59949,0,59949,0,1,20,2,30,7396,"NO",null,null,null,null,null,null,null,null,null,null,null,null,null,null,null,20,null,null,null,null,null,null,null,null,null,null,null,null,null,null,null,null,null,null,null,null,null,null,"06","07","66",null,null,null,"20 ปี  2 เดือน  30 วัน  ",167]
[{"$f":"A172+1","v":168},null,"1998-08-24",41,null,null,null,null,"เครื่องบันทึกแผ่น 1 ค.",1,38000,"01.67.24",{"$f":"IF(BV173=\"จำหน่าย\",0,SUM(J173*K173))","v":38000},{"$f":"IF(K173<5000,0,M173)","v":38000},3,"2001-08-24",1096,12666.666666666666,1055.5555555555554,34.67153284671533,0,0,37999,0,37999,0,1,20,2,29,7395,"NO",null,null,null,null,null,null,null,null,null,null,null,null,null,null,null,33.333333333333336,null,null,null,null,null,null,null,null,null,null,null,null,null,null,null,null,null,null,null,null,null,null,"01","67","24",null,null,null,"20 ปี  2 เดือน  29 วัน  ",168]
[{"$f":"A173+1","v":169},null,"1998-08-25",41,null,null,null,null,"ฉากกั้นห้อง 1 ชุด",1,52300,"01.19.122",{"$f":"IF(BV174=\"จำหน่าย\",0,SUM(J174*K174))","v":52300},{"$f":"IF(K174<5000,0,M174)","v":52300},8,"2006-08-25",2922,6537.5,544.79166666666663,17.898699520876111,0,0,52299,0,52299,0,1,20,2,28,7394,"NO",null,null,null,null,null,null,null,null,null,null,null,null,null,null,null,12.5,null,null,null,null,null,null,null,null,null,null,null,null,null,null,null,null,null,null,null,null,null,null,"01","19","122",null,null,null,"20 ปี  2 เดือน  28 วัน  ",169]
[{"$f":"A174+1","v":170},null,"1998-08-25",41,null,null,null,null,"ชุดทำงาน 2.5x3.6 ม. 1 ชุด",1,54600,"01.58.209",{"$f":"IF(BV175=\"จำหน่าย\",0,SUM(J175*K175))","v":54600},{"$f":"IF(K175<5000,0,M175)","v":54600},8,"2006-08-25",2922,6825,568.75,18.68583162217659,0,0,54599,0,54599,0,1,20,2,28,7394,"NO",null,null,null,null,null,null,null,null,null,null,null,null,null,null,null,12.5,null,null,null,null,null,null,null,null,null,null,null,null,null,null,null,null,null,null,null,null,null,null,"01","58","209",null,null,null,"20 ปี  2 เดือน  28 วัน  ",170]
[{"$f":"A175+1","v":171},null,"1998-08-27",41,null,null,null,null,"ชุดทำงาน 2.5x3.6 ม. 2 ชุด",2,47421,"01.58.210-211",{"$f":"IF(BV176=\"จำหน่าย\",0,SUM(J176*K176))","v":94842},{"$f":"IF(K176<5000,0,M176)","v":94842},8,"2006-08-27",2922,11855.25,987.9375,32.457905544147842,0,0,94840,0,94840,0,2,20,2,26,7392,"NO",null,null,null,null,null,null,null,null,null,null,null,null,null,null,null,12.5,null,null,null,null,null,null,null,null,null,null,null,null,null,null,null,null,null,null,null,null,null,null,"01","58","210-211",null,null,null,"20 ปี  2 เดือน  26 วัน  ",171]
[{"$f":"A176+1","v":172},null,"1998-08-28",41,null,null,null,null,"เครื่องปรับอากาศ 35,300 BTU 2 ค.",2,40700,"01.29.333-334",{"$f":"IF(BV177=\"จำหน่าย\",0,SUM(J177*K177))","v":81400},{"$f":"IF(K177<5000,0,M177)","v":81400},8,"2006-08-28",2922,10175,847.91666666666663,27.857631759069132,0,0,81398,0,81398,0,2,20,2,25,7391,"NO",null,null,null,null,null,null,null,null,null,null,null,null,null,null,null,12.5,null,null,null,null,null,null,null,null,null,null,null,null,null,null,null,null,null,null,null,null,null,null,"01","29","333-334",null,null,null,"20 ปี  2 เดือน  25 วัน  ",172]
[{"$f":"A177+1","v":173},null,"1998-09-01",41,null,null,null,null,"เครื่องพิมพ์รหัสแท่ง 1 ค.",1,88000,"05.54.01",{"$f":"IF(BV178=\"จำหน่าย\",0,SUM(J178*K178))","v":88000},{"$f":"IF(K178<5000,0,M178)","v":88000},5,"2003-09-01",1826,17600,1466.6666666666667,48.192771084337352,0,0,87999,0,87999,0,1,20,2,21,7387,"NO",null,null,null,null,null,null,null,null,null,null,null,null,null,null,null,20,null,null,null,null,null,null,null,null,null,null,null,null,null,null,null,null,null,null,null,null,null,null,"05","54","01",null,null,null,"20 ปี  2 เดือน  21 วัน  ",173]
[{"$f":"A178+1","v":174},null,"1998-09-01",41,null,null,null,null,"เครื่องซักผ้า 1 ค.",1,137000,"08.02.04",{"$f":"IF(BV179=\"จำหน่าย\",0,SUM(J179*K179))","v":137000},{"$f":"IF(K179<5000,0,M179)","v":137000},5,"2003-09-01",1826,27400,2283.3333333333335,75.027382256297912,0,0,136999,0,136999,0,1,20,2,21,7387,"NO",null,null,null,null,null,null,null,null,null,null,null,null,null,null,null,20,null,null,null,null,null,null,null,null,null,null,null,null,null,null,null,null,null,null,null,null,null,null,"08","02","04",null,null,null,"20 ปี  2 เดือน  21 วัน  ",174]
[{"$f":"A179+1","v":175},null,"1998-09-03",41,null,null,null,null,"ชุดสาธิตเครื่องกลไฟฟ้า 1 ชุด",1,378000,"05.41.02",{"$f":"IF(BV180=\"จำหน่าย\",0,SUM(J180*K180))","v":378000},{"$f":"IF(K180<5000,0,M180)","v":378000},5,"2003-09-03",1826,75600,6300,207.00985761226724,0,0,377999,0,377999,0,1,20,2,19,7385,"NO",null,null,null,null,null,null,null,null,null,null,null,null,null,null,null,20,null,null,null,null,null,null,null,null,null,null,null,null,null,null,null,null,null,null,null,null,null,null,"05","41","02",null,null,null,"20 ปี  2 เดือน  19 วัน  ",175]
[{"$f":"A180+1","v":176},null,"1998-09-06",41,null,null,null,null,"ลู่วิ่งไฟฟ้า 1 คัน",1,53000,"10.15.05",{"$f":"IF(BV181=\"จำหน่าย\",0,SUM(J181*K181))","v":53000},{"$f":"IF(K181<5000,0,M181)","v":53000},5,"2003-09-06",1826,10600,883.33333333333337,29.025191675794087,0,0,52999,0,52999,0,1,20,2,16,7382,"NO",null,null,null,null,null,null,null,null,null,null,null,null,null,null,null,20,null,null,null,null,null,null,null,null,null,null,null,null,null,null,null,null,null,null,null,null,null,null,"10","15","05",null,null,null,"20 ปี  2 เดือน  16 วัน  ",176]
[{"$f":"A181+1","v":177},null,"1998-09-09",41,null,null,null,null,"เครื่องปรับอากาศ 33,000 BTU 3 ค. ",3,33000,"01.29.337-339",{"$f":"IF(BV182=\"จำหน่าย\",0,SUM(J182*K182))","v":99000},{"$f":"IF(K182<5000,0,M182)","v":99000},8,"2006-09-09",2922,12375,1031.25,33.880903490759756,0,0,98997,0,98997,0,3,20,2,13,7379,"NO",null,null,null,null,null,null,null,null,null,null,null,null,null,null,null,12.5,null,null,null,null,null,null,null,null,null,null,null,null,null,null,null,null,null,null,null,null,null,null,"01","29","337-339",null,null,null,"20 ปี  2 เดือน  13 วัน  ",177]
[{"$f":"A182+1","v":178},null,"1998-09-12",41,null,null,null,null,"เครื่องคอมพิวเตอร์ 1 ค.",1,54890,"01.53.616",{"$f":"IF(BV183=\"จำหน่าย\",0,SUM(J183*K183))","v":54890},{"$f":"IF(K183<5000,0,M183)","v":54890},3,"2001-09-12",1096,18296.666666666668,1524.7222222222224,50.082116788321166,0,0,54889,0,54889,0,1,20,2,10,7376,"NO",null,null,null,null,null,null,null,null,null,null,null,null,null,null,null,33.333333333333336,null,null,null,null,null,null,null,null,null,null,null,null,null,null,null,null,null,null,null,null,null,null,"01","53","616",null,null,null,"20 ปี  2 เดือน  10 วัน  ",178]
[{"$f":"A183+1","v":179},null,"1998-09-13",41,null,null,null,null,"ชุดทำงาน 2.5x3.6 ม. 1 ชุด",1,39494.400000000001,"01.58.212",{"$f":"IF(BV184=\"จำหน่าย\",0,SUM(J184*K184))","v":39494.400000000001},{"$f":"IF(K184<5000,0,M184)","v":39494.400000000001},8,"2006-09-13",2922,4936.8,411.40000000000003,13.516221765913759,0,0,39493.4,0,39493.4,0,1,20,2,9,7375,"NO",null,null,null,null,null,null,null,null,null,null,null,null,null,null,null,12.5,null,null,null,null,null,null,null,null,null,null,null,null,null,null,null,null,null,null,null,null,null,null,"01","58","212",null,null,null,"20 ปี  2 เดือน  9 วัน  ",179]
[{"$f":"A184+1","v":180},null,"1998-09-15",41,null,null,null,null,"เครื่องปรับอากาศ 25,500 BTU 1 ค.",1,42276,"01.29.340",{"$f":"IF(BV185=\"จำหน่าย\",0,SUM(J185*K185))","v":42276},{"$f":"IF(K185<5000,0,M185)","v":42276},8,"2006-09-15",2922,5284.5,440.375,14.46817248459959,0,0,42275,0,42275,0,1,20,2,7,7373,"NO",null,null,null,null,null,null,null,null,null,null,null,null,null,null,null,12.5,null,null,null,null,null,null,null,null,null,null,null,null,null,null,null,null,null,null,null,null,null,null,"01","29","340",null,null,null,"20 ปี  2 เดือน  7 วัน  ",180]
[{"$f":"A185+1","v":181},null,"1998-09-16",41,null,null,null,null,"เครื่องผสมปูนพลาสเตอร์ 1 ค.",1,180000,"09.42.02",{"$f":"IF(BV186=\"จำหน่าย\",0,SUM(J186*K186))","v":180000},{"$f":"IF(K186<5000,0,M186)","v":180000},5,"2003-09-16",1826,36000,3000,98.57612267250822,0,0,179999,0,179999,0,1,20,2,6,7372,"NO",null,null,null,null,null,null,null,null,null,null,null,null,null,null,null,20,null,null,null,null,null,null,null,null,null,null,null,null,null,null,null,null,null,null,null,null,null,null,"09","42","02",null,null,null,"20 ปี  2 เดือน  6 วัน  ",181]
[{"$f":"A186+1","v":182},null,"1998-09-17",41,null,null,null,null,"เครื่องปรับอากาศ 30,000 BTU 1 ค. ",1,38500,"01.29.341",{"$f":"IF(BV187=\"จำหน่าย\",0,SUM(J187*K187))","v":38500},{"$f":"IF(K187<5000,0,M187)","v":38500},8,"2006-09-17",2922,4812.5,401.04166666666669,13.175906913073238,0,0,38499,0,38499,0,1,20,2,5,7371,"NO",null,null,null,null,null,null,null,null,null,null,null,null,null,null,null,12.5,null,null,null,null,null,null,null,null,null,null,null,null,null,null,null,null,null,null,null,null,null,null,"01","29","341",null,null,null,"20 ปี  2 เดือน  5 วัน  ",182]
[{"$f":"A187+1","v":183},null,"1998-09-29",41,null,null,null,null,"เครื่องปรับอากาศ 35,300 BTU 2 ค.",2,40700,"01.29.342-343",{"$f":"IF(BV188=\"จำหน่าย\",0,SUM(J188*K188))","v":81400},{"$f":"IF(K188<5000,0,M188)","v":81400},8,"2006-09-29",2922,10175,847.91666666666663,27.857631759069132,0,0,81398,0,81398,0,2,20,1,24,7359,"NO",null,null,null,null,null,null,null,null,null,null,null,null,null,null,null,12.5,null,null,null,null,null,null,null,null,null,null,null,null,null,null,null,null,null,null,null,null,null,null,"01","29","342-343",null,null,null,"20 ปี  1 เดือน  24 วัน  ",183]
[{"$f":"A188+1","v":184},null,"1998-09-29",41,null,null,null,null,"เครื่องกวนดิน 1 ค.",1,68200,"09.33.03",{"$f":"IF(BV189=\"จำหน่าย\",0,SUM(J189*K189))","v":68200},{"$f":"IF(K189<5000,0,M189)","v":68200},4,"2002-09-29",1461,17050,1420.8333333333333,46.680355920602324,0,0,68199,0,68199,0,1,20,1,24,7359,"NO",null,null,null,null,null,null,null,null,null,null,null,null,null,null,null,25,null,null,null,null,null,null,null,null,null,null,null,null,null,null,null,null,null,null,null,null,null,null,"09","33","03",null,null,null,"20 ปี  1 เดือน  24 วัน  ",184]
[{"$f":"A189+1","v":185},null,"1998-09-30",41,null,null,null,null,"เครื่องคอมพิวเตอร์ 1 ค.",1,32560,"01.53.623",{"$f":"IF(BV190=\"จำหน่าย\",0,SUM(J190*K190))","v":32560},{"$f":"IF(K190<5000,0,M190)","v":32560},3,"2001-09-30",1096,10853.333333333334,904.44444444444446,29.708029197080293,0,0,32559,0,32559,0,1,20,1,23,7358,"NO",null,null,null,null,null,null,null,null,null,null,null,null,null,null,null,33.333333333333336,null,null,null,null,null,null,null,null,null,null,null,null,null,null,null,null,null,null,null,null,null,null,"01","53","623",null,null,null,"20 ปี  1 เดือน  23 วัน  ",185]
[{"$f":"A190+1","v":186},null,"1998-09-30",41,null,null,null,null,"เครื่องคอมพิวเตอร์ 1 ค.",1,32560,"01.53.624",{"$f":"IF(BV191=\"จำหน่าย\",0,SUM(J191*K191))","v":32560},{"$f":"IF(K191<5000,0,M191)","v":32560},3,"2001-09-30",1096,10853.333333333334,904.44444444444446,29.708029197080293,0,0,32559,0,32559,0,1,20,1,23,7358,"NO",null,null,null,null,null,null,null,null,null,null,null,null,null,null,null,33.333333333333336,null,null,null,null,null,null,null,null,null,null,null,null,null,null,null,null,null,null,null,null,null,null,"01","53","624",null,null,null,"20 ปี  1 เดือน  23 วัน  ",186]
[{"$f":"A191+1","v":187},null,"1998-09-30",41,null,null,null,null,"เครื่องคอมพิวเตอร์ 1 ค.",1,31900,"01.53.626",{"$f":"IF(BV192=\"จำหน่าย\",0,SUM(J192*K192))","v":31900},{"$f":"IF(K192<5000,0,M192)","v":31900},3,"2001-09-30",1096,10633.333333333334,886.1111111111112,29.105839416058394,0,0,31899,0,31899,0,1,20,1,23,7358,"NO",null,null,null,null,null,null,null,null,null,null,null,null,null,null,null,33.333333333333336,null,null,null,null,null,null,null,null,null,null,null,null,null,null,null,null,null,null,null,null,null,null,"01","53","626",null,null,null,"20 ปี  1 เดือน  23 วัน  ",187]
[{"$f":"A192+1","v":188},null,"1998-09-30",41,null,null,null,null,"เครื่องคอมพิวเตอร์ 1 ค.",1,31900,"01.53.627",{"$f":"IF(BV193=\"จำหน่าย\",0,SUM(J193*K193))","v":31900},{"$f":"IF(K193<5000,0,M193)","v":31900},3,"2001-09-30",1096,10633.333333333334,886.1111111111112,29.105839416058394,0,0,31899,0,31899,0,1,20,1,23,7358,"NO",null,null,null,null,null,null,null,null,null,null,null,null,null,null,null,33.333333333333336,null,null,null,null,null,null,null,null,null,null,null,null,null,null,null,null,null,null,null,null,null,null,"01","53","627",null,null,null,"20 ปี  1 เดือน  23 วัน  ",188]
[{"$f":"A193+1","v":189},null,"1998-09-30",41,null,null,null,null,"เครื่องคอมพิวเตอร์ 1 ค.",1,31900,"01.53.630",{"$f":"IF(BV194=\"จำหน่าย\",0,SUM(J194*K194))","v":31900},{"$f":"IF(K194<5000,0,M194)","v":31900},3,"2001-09-30",1096,10633.333333333334,886.1111111111112,29.105839416058394,0,0,31899,0,31899,0,1,20,1,23,7358,"NO",null,null,null,null,null,null,null,null,null,null,null,null,null,null,null,33.333333333333336,null,null,null,null,null,null,null,null,null,null,null,null,null,null,null,null,null,null,null,null,null,null,"01","53","630",null,null,null,"20 ปี  1 เดือน  23 วัน  ",189]
[{"$f":"A194+1","v":190},null,"1998-09-30",41,null,null,null,null,"เครื่องทดสอบสัญญาณ 1 ค.",1,50000,"05.35.01",{"$f":"IF(BV195=\"จำหน่าย\",0,SUM(J195*K195))","v":50000},{"$f":"IF(K195<5000,0,M195)","v":50000},5,{"$f":"DATE(YEAR(C195)+O195,MONTH(C195),DAY(C195))","v":"2003-09-30"},{"$f":"IF(NOT(OR(ISBLANK(P195),ISBLANK(C195))),P195-C195,\"\")","v":1826},{"$f":"SLN(N195,,O195)","v":10000},{"$f":"SLN(R195,,12)","v":833.33333333333337},{"$f":"SLN(N195,,Q195)","v":27.38225629791895},{"$f":"IF(N195=0,0,IF(AE195<=Q195,1,0))","v":0},0,49999,0,49999,0,1,{"$f":"DATEDIF(C195,TODAY(),\"Y\")","v":20},{"$f":"DATEDIF(C195,TODAY(),\"YM\")","v":1},{"$f":"DATEDIF(C195,TODAY(),\"md\")+1","v":23},{"$f":"DATEDIF(C195,TODAY(),\"d\")+1","v":7358},{"$f":"IF(N195=0,\"No\",IF(AE195>Q195,\"NO\",\"YES\"))","v":"NO"},null,null,null,null,null,null,null,null,null,null,null,null,null,null,null,{"$f":"100/O195","v":20},null,null,null,null,null,null,null,null,null,null,null,null,null,null,null,null,null,null,null,null,null,null,"05","35","01",null,null,null,{"$f":"CONCATENATE(AB195,\" ปี  \",AC195,\" เดือน  \",AD195,\" วัน  \")","v":"20 ปี  1 เดือน  23 วัน  "},{"$f":"A195","v":190}]
[{"$f":"A195+1","v":191},null,"1998-09-30",41,null,null,null,null,"เครื่องชุบเคลือบ 1 ค.",1,58850,"09.32.02",{"$f":"IF(BV196=\"จำหน่าย\",0,SUM(J196*K196))","v":58850},{"$f":"IF(K196<5000,0,M196)","v":58850},5,"2003-09-30",1826,11770,980.83333333333337,32.2289156626506,0,0,58849,0,58849,0,1,20,1,23,7358,"NO",null,null,null,null,null,null,null,null,null,null,null,null,null,null,null,20,null,null,null,null,null,null,null,null,null,null,null,null,null,null,null,null,null,null,null,null,null,null,"09","32","02",null,null,null,"20 ปี  1 เดือน  23 วัน  ",191]
[{"$f":"A196+1","v":192},null,"1998-10-17",42,null,null,null,null,"เครื่องปรับอากาศ 35,300 BTU 2 ค.",2,40700,"01.29.344-345",{"$f":"IF(BV197=\"จำหน่าย\",0,SUM(J197*K197))","v":81400},{"$f":"IF(K197<5000,0,M197)","v":81400},8,"2006-10-17",2922,10175,847.91666666666663,27.857631759069132,0,0,81398,0,81398,0,2,20,1,5,7341,"NO",null,null,null,null,null,null,null,null,null,null,null,null,null,null,null,12.5,null,null,null,null,null,null,null,null,null,null,null,null,null,null,null,null,null,null,null,null,null,null,"01","29","344-345",null,null,null,"20 ปี  1 เดือน  5 วัน  ",192]
[{"$f":"A197+1","v":193},null,"1998-10-27",42,null,null,null,null,"เครื่องคอมพิวเตอร์พร้อมเครื่องพิมพ์ 1 ชุด",1,42790,"01.53.632",{"$f":"IF(BV198=\"จำหน่าย\",0,SUM(J198*K198))","v":42790},{"$f":"IF(K198<5000,0,M198)","v":42790},3,"2001-10-27",1096,14263.333333333334,1188.6111111111111,39.041970802919707,0,0,42789,0,42789,0,1,20,0,26,7331,"NO",null,null,null,null,null,null,null,null,null,null,null,null,null,null,null,33.333333333333336,null,null,null,null,null,null,null,null,null,null,null,null,null,null,null,null,null,null,null,null,null,null,"01","53","632",null,null,null,"20 ปี  0 เดือน  26 วัน  ",193]
[{"$f":"A198+1","v":194},null,"1998-10-27",42,null,null,null,null,"เครื่องพิมพ์เลเซอร์ 1 ค.",1,39900,"01.72.161",{"$f":"IF(BV199=\"จำหน่าย\",0,SUM(J199*K199))","v":39900},{"$f":"IF(K199<5000,0,M199)","v":39900},3,"2001-10-27",1096,13300,1108.3333333333333,36.405109489051092,0,{"$f":"SUM(R199*U199/12)","v":0},{"$f":"IF(N199=0,0,IF((R199*AB199)+(R199*AC199/12)>=N199,N199-J199,((R199*AB199)+(R199*AC199/12))))","v":39899},{"$f":"SUM(T199*U199)","v":0},{"$f":"IF(N199=0,0,IF((DATEDIF(C199,TODAY(),\"d\")+1)*T199>=N199,N199-J199,(DATEDIF(C199,TODAY(),\"d\")+1)*T199))","v":39899},{"$f":"IF(U199=0,0,IF(OR(DAY(C199)=1,MONTH(C199)<>MONTH(TODAY()),YEAR(C199)<>YEAR(TODAY())),T199*((DAY(DATE(YEAR(TODAY()),MONTH(TODAY())+1,1)-1))),T199*((DAY(DATE(YEAR(TODAY()),MONTH(TODAY())+1,1)-1)-DAY(C199)+1))))","v":0},{"$f":"IF(N199=0,0,IF(X199>=N199,(J199),(N199-Y199)))","v":1},20,0,26,7331,"NO",null,null,null,null,null,null,null,null,null,null,null,null,null,null,null,33.333333333333336,null,null,null,null,null,null,null,null,null,null,null,null,null,null,null,null,null,null,null,null,null,null,"01","72","161",null,null,null,"20 ปี  0 เดือน  26 วัน  ",194]
[{"$f":"A199+1","v":195},null,"1998-10-28",42,null,null,null,null,"เครื่องพิมพ์เลเซอร์ 1 ค.",1,45000,"01.72.162",{"$f":"IF(BV200=\"จำหน่าย\",0,SUM(J200*K200))","v":45000},{"$f":"IF(K200<5000,0,M200)","v":45000},3,"2001-10-28",1096,15000,1250,41.058394160583944,0,0,44999,0,44999,0,1,20,0,25,7330,"NO",null,null,null,null,null,null,null,null,null,null,null,null,null,null,null,33.333333333333336,null,null,null,null,null,null,null,null,null,null,null,null,null,null,null,null,null,null,null,null,null,null,"01","72","162",null,null,null,"20 ปี  0 เดือน  25 วัน  ",195]
[{"$f":"A200+1","v":196},null,"1998-10-30",42,null,null,null,null,"เครื่องเจียรดิน 1 ค.",1,52800,"04.25.18",{"$f":"IF(BV201=\"จำหน่าย\",0,SUM(J201*K201))","v":52800},{"$f":"IF(K201<5000,0,M201)","v":52800},2,"2000-10-30",731,26400,2200,72.229822161422703,0,0,52799,0,52799,0,1,20,0,23,7328,"NO",null,null,null,null,null,null,null,null,null,null,null,null,null,null,null,50,null,null,null,null,null,null,null,null,null,null,null,null,null,null,null,null,null,null,null,null,null,null,"04","25","18",null,null,null,"20 ปี  0 เดือน  23 วัน  ",196]
[{"$f":"A201+1","v":197},null,"1998-11-04",42,null,null,null,null,"กระดาษอิเลคทรอนิคส์ 1 ชุด",1,47300,"01.21.15",{"$f":"IF(BV202=\"จำหน่าย\",0,SUM(J202*K202))","v":47300},{"$f":"IF(K202<5000,0,M202)","v":47300},8,"2006-11-04",2922,5912.5,492.70833333333331,16.187542778918548,0,0,47299,0,47299,0,1,20,0,18,7323,"NO",null,null,null,null,null,null,null,null,null,null,null,null,null,null,null,12.5,null,null,null,null,null,null,null,null,null,null,null,null,null,null,null,null,null,null,null,null,null,null,"01","21","15",null,null,null,"20 ปี  0 เดือน  18 วัน  ",197]
[{"$f":"A202+1","v":198},null,"1998-11-04",42,null,null,null,null,"จอไฟฟ้า 1 จอ",1,70400,"06.07.67",{"$f":"IF(BV203=\"จำหน่าย\",0,SUM(J203*K203))","v":70400},{"$f":"IF(K203<5000,0,M203)","v":70400},5,"2003-11-04",1826,14080,1173.3333333333333,38.554216867469883,0,0,70399,0,70399,0,1,20,0,18,7323,"NO",null,null,null,null,null,null,null,null,null,null,null,null,null,null,null,20,null,null,null,null,null,null,null,null,null,null,null,null,null,null,null,null,null,null,null,null,null,null,"06","07","67",null,null,null,"20 ปี  0 เดือน  18 วัน  ",198]
[{"$f":"A203+1","v":199},null,"1998-11-04",42,null,null,null,null,"ระบบเสียงห้องประชุม 1 ชุด",1,725938,null,{"$f":"IF(BV204=\"จำหน่าย\",0,SUM(J204*K204))","v":725938},{"$f":"IF(K204<5000,0,M204)","v":725938},5,"2003-11-04",1826,145187.6,12098.966666666667,397.5564074479737,0,0,725937,0,725937,0,1,20,0,18,7323,"NO",null,null,null,null,null,null,null,null,null,null,null,null,null,null,null,20,null,null,null,null,null,null,null,null,null,null,null,null,null,null,null,null,null,null,null,null,null,null,"","","",null,null,null,"20 ปี  0 เดือน  18 วัน  ",199]
[{"$f":"A204+1","v":200},null,"1998-11-04",42,null,null,null,null,"เครื่องควบคุมระบบการประชุม 1 ชุด",1,796160,null,{"$f":"IF(BV205=\"จำหน่าย\",0,SUM(J205*K205))","v":796160},{"$f":"IF(K205<5000,0,M205)","v":796160},5,"2003-11-04",1826,159232,13269.333333333334,436.01314348302299,0,0,796159,0,796159,0,1,20,0,18,7323,"NO",null,null,null,null,null,null,null,null,null,null,null,null,null,null,null,20,null,null,null,null,null,null,null,null,null,null,null,null,null,null,null,null,null,null,null,null,null,null,"","","",null,null,null,"20 ปี  0 เดือน  18 วัน  ",200]
[{"$f":"A205+1","v":201},null,"1998-11-25",42,null,null,null,null,"เครื่องคอมพิวเตอร์ 1 ค.",1,51780,"01.53.635",{"$f":"IF(BV206=\"จำหน่าย\",0,SUM(J206*K206))","v":51780},{"$f":"IF(K206<5000,0,M206)","v":51780},3,"2001-11-25",1096,17260,1438.3333333333333,47.244525547445257,0,0,51779,0,51779,0,1,19,11,28,7302,"NO",null,null,null,null,null,null,null,null,null,null,null,null,null,null,null,33.333333333333336,null,null,null,null,null,null,null,null,null,null,null,null,null,null,null,null,null,null,null,null,null,null,"01","53","635",null,null,null,"19 ปี  11 เดือน  28 วัน  ",201]
[{"$f":"A206+1","v":202},null,"1998-11-26",42,null,null,null,null,"เครื่องคอมพิวเตอร์ 1 ค.",1,49500,"01.53.637",{"$f":"IF(BV207=\"จำหน่าย\",0,SUM(J207*K207))","v":49500},{"$f":"IF(K207<5000,0,M207)","v":49500},3,"2001-11-26",1096,16500,1375,45.164233576642339,0,0,49499,0,49499,0,1,19,11,27,7301,"NO",null,null,null,null,null,null,null,null,null,null,null,null,null,null,null,33.333333333333336,null,null,null,null,null,null,null,null,null,null,null,null,null,null,null,null,null,null,null,null,null,null,"01","53","637",null,null,null,"19 ปี  11 เดือน  27 วัน  ",202]
[{"$f":"A207+1","v":203},null,"1998-12-03",42,null,null,null,null,"เครื่องคอมพิวเตอร์ 1 ค.",1,48700,"01.53.639",{"$f":"IF(BV208=\"จำหน่าย\",0,SUM(J208*K208))","v":48700},{"$f":"IF(K208<5000,0,M208)","v":48700},3,"2001-12-03",1096,16233.333333333334,1352.7777777777778,44.434306569343065,0,0,48699,0,48699,0,1,19,11,19,7294,"NO",null,null,null,null,null,null,null,null,null,null,null,null,null,null,null,33.333333333333336,null,null,null,null,null,null,null,null,null,null,null,null,null,null,null,null,null,null,null,null,null,null,"01","53","639",null,null,null,"19 ปี  11 เดือน  19 วัน  ",203]
[{"$f":"A208+1","v":204},null,"1998-12-04",42,null,null,null,null,"เครื่องปรับอากาศ 4 ค.",4,36850,"01.29.346-349",{"$f":"IF(BV209=\"จำหน่าย\",0,SUM(J209*K209))","v":147400},{"$f":"IF(K209<5000,0,M209)","v":147400},8,"2006-12-04",2922,18425,1535.4166666666667,50.444900752908964,0,0,147396,0,147396,0,4,19,11,18,7293,"NO",null,null,null,null,null,null,null,null,null,null,null,null,null,null,null,12.5,null,null,null,null,null,null,null,null,null,null,null,null,null,null,null,null,null,null,null,null,null,null,"01","29","346-349",null,null,null,"19 ปี  11 เดือน  18 วัน  ",204]
[{"$f":"A209+1","v":205},null,"1998-12-22",42,null,null,null,null,"เครื่องปรับอากาศ 1 ค.",1,34000,"01.29.350",{"$f":"IF(BV210=\"จำหน่าย\",0,SUM(J210*K210))","v":34000},{"$f":"IF(K210<5000,0,M210)","v":34000},8,"2006-12-22",2922,4250,354.16666666666669,11.635865845311431,0,0,33999,0,33999,0,1,19,10,31,7275,"NO",null,null,null,null,null,null,null,null,null,null,null,null,null,null,null,12.5,null,null,null,null,null,null,null,null,null,null,null,null,null,null,null,null,null,null,null,null,null,null,"01","29","350",null,null,null,"19 ปี  10 เดือน  31 วัน  ",205]
[{"$f":"A210+1","v":206},null,"1998-12-23",42,null,null,null,null,"รถบรรทุก 1 คัน",1,95000,"02.01.11",{"$f":"IF(BV211=\"จำหน่าย\",0,SUM(J211*K211))","v":95000},{"$f":"IF(K211<5000,0,M211)","v":95000},5,"2003-12-23",1826,19000,1583.3333333333333,52.026286966046001,0,0,94999,0,94999,0,1,19,10,30,7274,"NO",null,null,null,null,null,null,null,null,null,null,null,null,null,null,null,20,null,null,null,null,null,null,null,null,null,null,null,null,null,null,null,null,null,null,null,null,null,null,"02","01","11",null,null,null,"19 ปี  10 เดือน  30 วัน  ",206]
[{"$f":"A211+1","v":207},null,"1999-01-13",42,null,null,null,null,"เครื่องคอมพิวเตอร์ 2 ค.",2,41800,"01.53.641-642",{"$f":"IF(BV212=\"จำหน่าย\",0,SUM(J212*K212))","v":83600},{"$f":"IF(K212<5000,0,M212)","v":83600},3,"2002-01-13",1096,27866.666666666668,2322.2222222222222,76.277372262773724,0,0,83598,0,83598,0,2,19,10,9,7253,"NO",null,null,null,null,null,null,null,null,null,null,null,null,null,null,null,33.333333333333336,null,null,null,null,null,null,null,null,null,null,null,null,null,null,null,null,null,null,null,null,null,null,"01","53","641-642",null,null,null,"19 ปี  10 เดือน  9 วัน  ",207]
[{"$f":"A212+1","v":208},null,"1999-01-15",42,null,null,null,null,"ถังน้ำ 1 ถัง",1,94500,"08.32.02",{"$f":"IF(BV213=\"จำหน่าย\",0,SUM(J213*K213))","v":94500},{"$f":"IF(K213<5000,0,M213)","v":94500},5,"2004-01-15",1826,18900,1575,51.75246440306681,0,0,94499,0,94499,0,1,19,10,7,7251,"NO",null,null,null,null,null,null,null,null,null,null,null,null,null,null,null,20,null,null,null,null,null,null,null,null,null,null,null,null,null,null,null,null,null,null,null,null,null,null,"08","32","02",null,null,null,"19 ปี  10 เดือน  7 วัน  ",208]
[{"$f":"A213+1","v":209},null,"1999-01-19",42,null,null,null,null,"เครื่องคอมพิวเตอร์ 1 ชุด",1,51700,"01.53.644",{"$f":"IF(BV214=\"จำหน่าย\",0,SUM(J214*K214))","v":51700},{"$f":"IF(K214<5000,0,M214)","v":51700},3,"2002-01-19",1096,17233.333333333332,1436.1111111111111,47.17153284671533,0,0,51699,0,51699,0,1,19,10,3,7247,"NO",null,null,null,null,null,null,null,null,null,null,null,null,null,null,null,33.333333333333336,null,null,null,null,null,null,null,null,null,null,null,null,null,null,null,null,null,null,null,null,null,null,"01","53","644",null,null,null,"19 ปี  10 เดือน  3 วัน  ",209]
[{"$f":"A214+1","v":210},null,"1999-01-19",42,null,null,null,null,"เครื่องคอมพิวเตอร์ 2 ค.",2,41800,"01.53.645-646",{"$f":"IF(BV215=\"จำหน่าย\",0,SUM(J215*K215))","v":83600},{"$f":"IF(K215<5000,0,M215)","v":83600},3,"2002-01-19",1096,27866.666666666668,2322.2222222222222,76.277372262773724,0,0,83598,0,83598,0,2,19,10,3,7247,"NO",null,null,null,null,null,null,null,null,null,null,null,null,null,null,null,33.333333333333336,null,null,null,null,null,null,null,null,null,null,null,null,null,null,null,null,null,null,null,null,null,null,"01","53","645-646",null,null,null,"19 ปี  10 เดือน  3 วัน  ",210]
[{"$f":"A215+1","v":211},null,"1999-01-21",42,null,null,null,null,"เครื่องคอมพิวเตอร์ 1 ชุด",1,76500,"01.53.647",{"$f":"IF(BV216=\"จำหน่าย\",0,SUM(J216*K216))","v":76500},{"$f":"IF(K216<5000,0,M216)","v":76500},3,"2002-01-21",1096,25500,2125,69.799270072992698,0,0,76499,0,76499,0,1,19,10,1,7245,"NO",null,null,null,null,null,null,null,null,null,null,null,null,null,null,null,33.333333333333336,null,null,null,null,null,null,null,null,null,null,null,null,null,null,null,null,null,null,null,null,null,null,"01","53","647",null,null,null,"19 ปี  10 เดือน  1 วัน  ",211]
[{"$f":"A216+1","v":212},null,"1999-01-29",42,null,null,null,null,"ปั้มน้ำ 1 ค.",1,79849,"08.06.58",{"$f":"IF(BV217=\"จำหน่าย\",0,SUM(J217*K217))","v":79849},{"$f":"IF(K217<5000,0,M217)","v":79849},5,"2004-01-29",1826,15969.8,1330.8166666666666,43.7289156626506,0,0,79848,0,79848,0,1,19,9,24,7237,"NO",null,null,null,null,null,null,null,null,null,null,null,null,null,null,null,20,null,null,null,null,null,null,null,null,null,null,null,null,null,null,null,null,null,null,null,null,null,null,"08","06","58",null,null,null,"19 ปี  9 เดือน  24 วัน  ",212]
[{"$f":"A217+1","v":213},null,"1999-02-01",42,null,null,null,null,"เครื่องปรับอากาศ 38,600 BTU 2 ค.",2,39500,"01.29.351-352",{"$f":"IF(BV218=\"จำหน่าย\",0,SUM(J218*K218))","v":79000},{"$f":"IF(K218<5000,0,M218)","v":79000},8,"2007-02-01",2922,9875,822.91666666666663,27.036276522929501,0,0,78998,0,78998,0,2,19,9,21,7234,"NO",null,null,null,null,null,null,null,null,null,null,null,null,null,null,null,12.5,null,null,null,null,null,null,null,null,null,null,null,null,null,null,null,null,null,null,null,null,null,null,"01","29","351-352",null,null,null,"19 ปี  9 เดือน  21 วัน  ",213]
[{"$f":"A218+1","v":214},null,"1999-02-10",42,null,null,null,null,"เครื่องพิมพ์สำเนาระบบดิจิตอล 1 ค.",1,137500,"01.46.21",{"$f":"IF(BV219=\"จำหน่าย\",0,SUM(J219*K219))","v":137500},{"$f":"IF(K219<5000,0,M219)","v":137500},8,"2007-02-10",2922,17187.5,1432.2916666666667,47.056810403832991,0,0,137499,0,137499,0,1,19,9,12,7225,"NO",null,null,null,null,null,null,null,null,null,null,null,null,null,null,null,12.5,null,null,null,null,null,null,null,null,null,null,null,null,null,null,null,null,null,null,null,null,null,null,"01","46","21",null,null,null,"19 ปี  9 เดือน  12 วัน  ",214]
[{"$f":"A219+1","v":215},null,"1999-03-02",42,null,null,null,null,"เครื่องปรับอากาศ 34,000 BTU 4 ค.",4,36850,"01.29.354-357",{"$f":"IF(BV220=\"จำหน่าย\",0,SUM(J220*K220))","v":147400},{"$f":"IF(K220<5000,0,M220)","v":147400},8,"2007-03-02",2922,18425,1535.4166666666667,50.444900752908964,0,0,147396,0,147396,0,4,19,8,20,7205,"NO",null,null,null,null,null,null,null,null,null,null,null,null,null,null,null,12.5,null,null,null,null,null,null,null,null,null,null,null,null,null,null,null,null,null,null,null,null,null,null,"01","29","354-357",null,null,null,"19 ปี  8 เดือน  20 วัน  ",215]
[{"$f":"A220+1","v":216},null,"1999-03-04",42,null,null,null,null,"ระบบเครือข่ายใยแก้วนำแสง 1 รายการ",1,3630000,"01.58.226",{"$f":"IF(BV221=\"จำหน่าย\",0,SUM(J221*K221))","v":3630000},{"$f":"IF(K221<5000,0,M221)","v":3630000},8,"2007-03-04",2922,453750,37812.5,1242.2997946611911,0,0,3629999,0,3629999,0,1,19,8,18,7203,"NO",null,null,null,null,null,null,null,null,null,null,null,null,null,null,null,12.5,null,null,null,null,null,null,null,null,null,null,null,null,null,null,null,null,null,null,null,null,null,null,"01","58","226",null,null,null,"19 ปี  8 เดือน  18 วัน  ",216]
[{"$f":"A221+1","v":217},null,"1999-03-08",42,null,null,null,null,"เครื่องพิมพ์สำเนาระบบดิจิตอล 1 ค.",1,139000,"01.46.22",{"$f":"IF(BV222=\"จำหน่าย\",0,SUM(J222*K222))","v":139000},{"$f":"IF(K222<5000,0,M222)","v":139000},8,"2007-03-08",2922,17375,1447.9166666666667,47.570157426420259,0,0,138999,0,138999,0,1,19,8,14,7199,"NO",null,null,null,null,null,null,null,null,null,null,null,null,null,null,null,12.5,null,null,null,null,null,null,null,null,null,null,null,null,null,null,null,null,null,null,null,null,null,null,"01","46","22",null,null,null,"19 ปี  8 เดือน  14 วัน  ",217]
[{"$f":"A222+1","v":218},null,"1999-03-12",42,null,null,null,null,"ชุดอุปกรณ์ขยายเสียง 1 ชุด",1,88176,"05.06.504",{"$f":"IF(BV223=\"จำหน่าย\",0,SUM(J223*K223))","v":88176},{"$f":"IF(K223<5000,0,M223)","v":88176},5,"2004-03-12",1827,17635.2,1469.6000000000001,48.262725779967163,0,0,88175,0,88175,0,1,19,8,10,7195,"NO",null,null,null,null,null,null,null,null,null,null,null,null,null,null,null,20,null,null,null,null,null,null,null,null,null,null,null,null,null,null,null,null,null,null,null,null,null,null,"05","06","504",null,null,null,"19 ปี  8 เดือน  10 วัน  ",218]
[{"$f":"A223+1","v":219},null,"1999-03-12",42,null,null,null,null,"ชุดระบบกล้องโทรทัศน์วงจรปิด 1 ชุด",1,88583,"06.17.29-32",{"$f":"IF(BV224=\"จำหน่าย\",0,SUM(J224*K224))","v":88583},{"$f":"IF(K224<5000,0,M224)","v":88583},5,"2004-03-12",1827,17716.599999999999,1476.3833333333332,48.48549534756431,0,0,88582,0,88582,0,1,19,8,10,7195,"NO",null,null,null,null,null,null,null,null,null,null,null,null,null,null,null,20,null,null,null,null,null,null,null,null,null,null,null,null,null,null,null,null,null,null,null,null,null,null,"06","17","29-32",null,null,null,"19 ปี  8 เดือน  10 วัน  ",219]
[{"$f":"A224+1","v":220},null,"1999-03-15",42,null,null,null,null,"เครื่องปรับอากาศ 38,600 BTU 2 ค.",2,39500,"01.29.358-359",{"$f":"IF(BV225=\"จำหน่าย\",0,SUM(J225*K225))","v":79000},{"$f":"IF(K225<5000,0,M225)","v":79000},8,"2007-03-15",2922,9875,822.91666666666663,27.036276522929501,0,0,78998,0,78998,0,2,19,8,7,7192,"NO",null,null,null,null,null,null,null,null,null,null,null,null,null,null,null,12.5,null,null,null,null,null,null,null,null,null,null,null,null,null,null,null,null,null,null,null,null,null,null,"01","29","358-359",null,null,null,"19 ปี  8 เดือน  7 วัน  ",220]
[{"$f":"A225+1","v":221},null,"1999-03-17",42,null,null,null,null,"เครื่องอัดจารบี 1 ชุด",1,35000,"01.58.274",{"$f":"IF(BV226=\"จำหน่าย\",0,SUM(J226*K226))","v":35000},{"$f":"IF(K226<5000,0,M226)","v":35000},8,"2007-03-17",2922,4375,364.58333333333331,11.978097193702943,0,0,34999,0,34999,0,1,19,8,5,7190,"NO",null,null,null,null,null,null,null,null,null,null,null,null,null,null,null,12.5,null,null,null,null,null,null,null,null,null,null,null,null,null,null,null,null,null,null,null,null,null,null,"01","58","274",null,null,null,"19 ปี  8 เดือน  5 วัน  ",221]
[{"$f":"A226+1","v":222},null,"1999-03-31",42,null,null,null,null,"เครื่องคอมพิวเตอร์ 1 ชุด",1,168300,"01.53.730",{"$f":"IF(BV227=\"จำหน่าย\",0,SUM(J227*K227))","v":168300},{"$f":"IF(K227<5000,0,M227)","v":168300},3,"2002-03-31",1096,56100,4675,153.55839416058393,0,0,168299,0,168299,0,1,19,7,22,7176,"NO",null,null,null,null,null,null,null,null,null,null,null,null,null,null,null,33.333333333333336,null,null,null,null,null,null,null,null,null,null,null,null,null,null,null,null,null,null,null,null,null,null,"01","53","730",null,null,null,"19 ปี  7 เดือน  22 วัน  ",222]
[{"$f":"A227+1","v":223},null,"1999-03-31",42,null,null,null,null,"เครื่องพร็อตเตอร์ 1 ค.",1,150700,"01.72.171",{"$f":"IF(BV228=\"จำหน่าย\",0,SUM(J228*K228))","v":150700},{"$f":"IF(K228<5000,0,M228)","v":150700},3,"2002-03-31",1096,50233.333333333336,4186.1111111111113,137.5,0,0,150699,0,150699,0,1,19,7,22,7176,"NO",null,null,null,null,null,null,null,null,null,null,null,null,null,null,null,33.333333333333336,null,null,null,null,null,null,null,null,null,null,null,null,null,null,null,null,null,null,null,null,null,null,"01","72","171",null,null,null,"19 ปี  7 เดือน  22 วัน  ",223]
[{"$f":"A228+1","v":224},null,"1999-04-01",42,null,null,null,null,"เครื่องคอมพิวเตอร์ 2 ค.",2,41140,"01.53.1229-1230",{"$f":"IF(BV229=\"จำหน่าย\",0,SUM(J229*K229))","v":82280},{"$f":"IF(K229<5000,0,M229)","v":82280},3,"2002-04-01",1096,27426.666666666668,2285.5555555555557,75.072992700729927,0,0,82278,0,82278,0,2,19,7,21,7175,"NO",null,null,null,null,null,null,null,null,null,null,null,null,null,null,null,33.333333333333336,null,null,null,null,null,null,null,null,null,null,null,null,null,null,null,null,null,null,null,null,null,null,"01","53","1229-1230",null,null,null,"19 ปี  7 เดือน  21 วัน  ",224]
[{"$f":"A229+1","v":225},null,"1999-04-02",42,null,null,null,null,"เครื่องพิมพ์สำเนาระบบดิจิตอล 1 ค.",1,95000,"01.46.23",{"$f":"IF(BV230=\"จำหน่าย\",0,SUM(J230*K230))","v":95000},{"$f":"IF(K230<5000,0,M230)","v":95000},8,"2007-04-02",2922,11875,989.58333333333337,32.511978097193705,0,0,94999,0,94999,0,1,19,7,20,7174,"NO",null,null,null,null,null,null,null,null,null,null,null,null,null,null,null,12.5,null,null,null,null,null,null,null,null,null,null,null,null,null,null,null,null,null,null,null,null,null,null,"01","46","23",null,null,null,"19 ปี  7 เดือน  20 วัน  ",225]
[{"$f":"A230+1","v":226},null,"1999-04-21",42,null,null,null,null,"เครื่องฉายสัญญาณภาพ 1 ค.",1,217000,"06.44.03",{"$f":"IF(BV231=\"จำหน่าย\",0,SUM(J231*K231))","v":217000},{"$f":"IF(K231<5000,0,M231)","v":217000},5,"2004-04-21",1827,43400,3616.6666666666665,118.77394636015326,0,0,216999,0,216999,0,1,19,7,1,7155,"NO",null,null,null,null,null,null,null,null,null,null,null,null,null,null,null,20,null,null,null,null,null,null,null,null,null,null,null,null,null,null,null,null,null,null,null,null,null,null,"06","44","03",null,null,null,"19 ปี  7 เดือน  1 วัน  ",226]
[{"$f":"A231+1","v":227},null,"1999-04-24",42,null,null,null,null,"เครื่องปรับอากาศ 11 ค.",11,39500,"01.29.362-372",{"$f":"IF(BV232=\"จำหน่าย\",0,SUM(J232*K232))","v":434500},{"$f":"IF(K232<5000,0,M232)","v":434500},8,"2007-04-24",2922,54312.5,4526.041666666667,148.69952087611225,0,0,434489,0,434489,0,11,19,6,29,7152,"NO",null,null,null,null,null,null,null,null,null,null,null,null,null,null,null,12.5,null,null,null,null,null,null,null,null,null,null,null,null,null,null,null,null,null,null,null,null,null,null,"01","29","362-372",null,null,null,"19 ปี  6 เดือน  29 วัน  ",227]
[{"$f":"A232+1","v":228},null,"1999-04-24",42,null,null,null,null,"เครื่องปรับอากาศ 14 ค.",4,39500,"01.29.374-377",{"$f":"IF(BV233=\"จำหน่าย\",0,SUM(J233*K233))","v":158000},{"$f":"IF(K233<5000,0,M233)","v":158000},8,"2007-04-24",2922,19750,1645.8333333333333,54.072553045859003,0,0,157996,0,157996,0,4,19,6,29,7152,"NO",null,null,null,null,null,null,null,null,null,null,null,null,null,null,null,12.5,null,null,null,null,null,null,null,null,null,null,null,null,null,null,null,null,null,null,null,null,null,null,"01","29","374-377",null,null,null,"19 ปี  6 เดือน  29 วัน  ",228]
[{"$f":"A233+1","v":229},null,"1999-05-03",42,null,null,null,null,"มิเตอร์ (cable meter) 1 ค.",1,99792,"05.04.08",{"$f":"IF(BV234=\"จำหน่าย\",0,SUM(J234*K234))","v":99792},{"$f":"IF(K234<5000,0,M234)","v":99792},5,"2004-05-03",1827,19958.400000000001,1663.2,54.620689655172413,0,0,99791,0,99791,0,1,19,6,19,7143,"NO",null,null,null,null,null,null,null,null,null,null,null,null,null,null,null,20,null,null,null,null,null,null,null,null,null,null,null,null,null,null,null,null,null,null,null,null,null,null,"05","04","08",null,null,null,"19 ปี  6 เดือน  19 วัน  ",229]
[{"$f":"A234+1","v":230},null,"1999-05-04",42,null,null,null,null,"เครื่องคอมพิวเตอร์ 1 ค.",1,39900,"01.53.733",{"$f":"IF(BV235=\"จำหน่าย\",0,SUM(J235*K235))","v":39900},{"$f":"IF(K235<5000,0,M235)","v":39900},3,"2002-05-04",1096,13300,1108.3333333333333,36.405109489051092,0,0,39899,0,39899,0,1,19,6,18,7142,"NO",null,null,null,null,null,null,null,null,null,null,null,null,null,null,null,33.333333333333336,null,null,null,null,null,null,null,null,null,null,null,null,null,null,null,null,null,null,null,null,null,null,"01","53","733",null,null,null,"19 ปี  6 เดือน  18 วัน  ",230]
[{"$f":"A235+1","v":231},null,"1999-05-04",42,null,null,null,null,"เครื่องคอมพิวเตอร์ 1 ค.",1,40535,"01.53.734",{"$f":"IF(BV236=\"จำหน่าย\",0,SUM(J236*K236))","v":40535},{"$f":"IF(K236<5000,0,M236)","v":40535},3,"2002-05-04",1096,13511.666666666666,1125.9722222222222,36.98448905109489,0,0,40534,0,40534,0,1,19,6,18,7142,"NO",null,null,null,null,null,null,null,null,null,null,null,null,null,null,null,33.333333333333336,null,null,null,null,null,null,null,null,null,null,null,null,null,null,null,null,null,null,null,null,null,null,"01","53","734",null,null,null,"19 ปี  6 เดือน  18 วัน  ",231]
[{"$f":"A236+1","v":232},null,"1999-05-07",42,null,null,null,null,"จักรเย็บผ้า 2 คัน",2,34045,"01.37.62-63",{"$f":"IF(BV237=\"จำหน่าย\",0,SUM(J237*K237))","v":68090},{"$f":"IF(K237<5000,0,M237)","v":68090},8,"2007-05-07",2922,8511.25,709.27083333333337,23.302532511978097,0,0,68088,0,68088,0,2,19,6,15,7139,"NO",null,null,null,null,null,null,null,null,null,null,null,null,null,null,null,12.5,null,null,null,null,null,null,null,null,null,null,null,null,null,null,null,null,null,null,null,null,null,null,"01","37","62-63",null,null,null,"19 ปี  6 เดือน  15 วัน  ",232]
[{"$f":"A237+1","v":233},null,"1999-05-21",42,null,null,null,null,"อุปกรณ์เลือกเส้นทางเชื่อมต่อ 1 ชุด",1,95700,"01.58.237",{"$f":"IF(BV238=\"จำหน่าย\",0,SUM(J238*K238))","v":95700},{"$f":"IF(K238<5000,0,M238)","v":95700},8,"2007-05-21",2922,11962.5,996.875,32.751540041067763,0,0,95699,0,95699,0,1,19,6,1,7125,"NO",null,null,null,null,null,null,null,null,null,null,null,null,null,null,null,12.5,null,null,null,null,null,null,null,null,null,null,null,null,null,null,null,null,null,null,null,null,null,null,"01","58","237",null,null,null,"19 ปี  6 เดือน  1 วัน  ",233]
[{"$f":"A238+1","v":234},null,"1999-05-24",42,null,null,null,null,"เครื่องคอมพิวเตอร์ 1 ค.",1,47880,"01.53.738",{"$f":"IF(BV239=\"จำหน่าย\",0,SUM(J239*K239))","v":47880},{"$f":"IF(K239<5000,0,M239)","v":47880},3,"2002-05-24",1096,15960,1330,43.686131386861312,0,0,47879,0,47879,0,1,19,5,29,7122,"NO",null,null,null,null,null,null,null,null,null,null,null,null,null,null,null,33.333333333333336,null,null,null,null,null,null,null,null,null,null,null,null,null,null,null,null,null,null,null,null,null,null,"01","53","738",null,null,null,"19 ปี  5 เดือน  29 วัน  ",234]
[{"$f":"A239+1","v":235},null,"1999-05-24",42,null,null,null,null,"เครื่องคอมพิวเตอร์ 1 ค.",1,80196.5,"01.53.739",{"$f":"IF(BV240=\"จำหน่าย\",0,SUM(J240*K240))","v":80196.5},{"$f":"IF(K240<5000,0,M240)","v":80196.5},3,"2002-05-24",1096,26732.166666666668,2227.6805555555557,73.171989051094897,0,0,80195.5,0,80195.5,0,1,19,5,29,7122,"NO",null,null,null,null,null,null,null,null,null,null,null,null,null,null,null,33.333333333333336,null,null,null,null,null,null,null,null,null,null,null,null,null,null,null,null,null,null,null,null,null,null,"01","53","739",null,null,null,"19 ปี  5 เดือน  29 วัน  ",235]
[{"$f":"A240+1","v":236},null,"1999-05-24",42,null,null,null,null,"เครื่องคอมพิวเตอร์ 1 ชุด",1,92400,"01.53.740",{"$f":"IF(BV241=\"จำหน่าย\",0,SUM(J241*K241))","v":92400},{"$f":"IF(K241<5000,0,M241)","v":92400},3,"2002-05-24",1096,30800,2566.6666666666665,84.306569343065689,0,0,92399,0,92399,0,1,19,5,29,7122,"NO",null,null,null,null,null,null,null,null,null,null,null,null,null,null,null,33.333333333333336,null,null,null,null,null,null,null,null,null,null,null,null,null,null,null,null,null,null,null,null,null,null,"01","53","740",null,null,null,"19 ปี  5 เดือน  29 วัน  ",236]
[{"$f":"A241+1","v":237},null,"1999-05-27",42,null,null,null,null,"เครื่องผสมสัญญาณภาพ 1 ค.",1,77040,"06.06.04",{"$f":"IF(BV242=\"จำหน่าย\",0,SUM(J242*K242))","v":77040},{"$f":"IF(K242<5000,0,M242)","v":77040},5,"2004-05-27",1827,15408,1284,42.167487684729061,0,0,77039,0,77039,0,1,19,5,26,7119,"NO",null,null,null,null,null,null,null,null,null,null,null,null,null,null,null,20,null,null,null,null,null,null,null,null,null,null,null,null,null,null,null,null,null,null,null,null,null,null,"06","06","04",null,null,null,"19 ปี  5 เดือน  26 วัน  ",237]
[{"$f":"A242+1","v":238},null,"1999-05-27",42,null,null,null,null,"เครื่องฉายภาพทึบแสง 1 ค.",1,44900,"06.38.15",{"$f":"IF(BV243=\"จำหน่าย\",0,SUM(J243*K243))","v":44900},{"$f":"IF(K243<5000,0,M243)","v":44900},5,"2004-05-27",1827,8980,748.33333333333337,24.575807334428024,0,0,44899,0,44899,0,1,19,5,26,7119,"NO",null,null,null,null,null,null,null,null,null,null,null,null,null,null,null,20,null,null,null,null,null,null,null,null,null,null,null,null,null,null,null,null,null,null,null,null,null,null,"06","38","15",null,null,null,"19 ปี  5 เดือน  26 วัน  ",238]
[{"$f":"A243+1","v":239},null,"1999-05-28",42,null,null,null,null,"เครื่องเขียนซีดี 1 ค.",1,32000,"01.67.16",{"$f":"IF(BV244=\"จำหน่าย\",0,SUM(J244*K244))","v":32000},{"$f":"IF(K244<5000,0,M244)","v":32000},3,"2002-05-28",1096,10666.666666666666,888.8888888888888,29.197080291970803,0,0,31999,0,31999,0,1,19,5,25,7118,"NO",null,null,null,null,null,null,null,null,null,null,null,null,null,null,null,33.333333333333336,null,null,null,null,null,null,null,null,null,null,null,null,null,null,null,null,null,null,null,null,null,null,"01","67","16",null,null,null,"19 ปี  5 เดือน  25 วัน  ",239]
[{"$f":"A244+1","v":240},null,"1999-05-29",42,null,null,null,null,"ชุดเจาะเก็บตัวอย่างดิน 2 ค.",2,45500,"01.58.242-243",{"$f":"IF(BV245=\"จำหน่าย\",0,SUM(J245*K245))","v":91000},{"$f":"IF(K245<5000,0,M245)","v":91000},8,"2007-05-29",2922,11375,947.91666666666663,31.143052703627653,0,0,90998,0,90998,0,2,19,5,24,7117,"NO",null,null,null,null,null,null,null,null,null,null,null,null,null,null,null,12.5,null,null,null,null,null,null,null,null,null,null,null,null,null,null,null,null,null,null,null,null,null,null,"01","58","242-243",null,null,null,"19 ปี  5 เดือน  24 วัน  ",240]
[{"$f":"A245+1","v":241},null,"1999-06-02",42,null,null,null,null,"เครื่องคอมพิวเตอร์ 1 ค.",1,44940,"01.53.741",{"$f":"IF(BV246=\"จำหน่าย\",0,SUM(J246*K246))","v":44940},{"$f":"IF(K246<5000,0,M246)","v":44940},3,"2002-06-02",1096,14980,1248.3333333333333,41.003649635036496,0,0,44939,0,44939,0,1,19,5,20,7113,"NO",null,null,null,null,null,null,null,null,null,null,null,null,null,null,null,33.333333333333336,null,null,null,null,null,null,null,null,null,null,null,null,null,null,null,null,null,null,null,null,null,null,"01","53","741",null,null,null,"19 ปี  5 เดือน  20 วัน  ",241]
[{"$f":"A246+1","v":242},null,"1999-06-12",42,null,null,null,null,"เครื่องปรับอากาศ 35,300 BTU 1 ค.",1,35300,"01.29.383",{"$f":"IF(BV247=\"จำหน่าย\",0,SUM(J247*K247))","v":35300},{"$f":"IF(K247<5000,0,M247)","v":35300},8,"2007-06-12",2922,4412.5,367.70833333333331,12.080766598220396,0,0,35299,0,35299,0,1,19,5,10,7103,"NO",null,null,null,null,null,null,null,null,null,null,null,null,null,null,null,12.5,null,null,null,null,null,null,null,null,null,null,null,null,null,null,null,null,null,null,null,null,null,null,"01","29","383",null,null,null,"19 ปี  5 เดือน  10 วัน  ",242]
[{"$f":"A247+1","v":243},null,"1999-06-12",42,null,null,null,null,"เครื่องปรับอากาศ 46,000 BTU 1 ค.",1,47000,"01.29.384",{"$f":"IF(BV248=\"จำหน่าย\",0,SUM(J248*K248))","v":47000},{"$f":"IF(K248<5000,0,M248)","v":47000},8,"2007-06-12",2922,5875,489.58333333333331,16.084873374401095,0,0,46999,0,46999,0,1,19,5,10,7103,"NO",null,null,null,null,null,null,null,null,null,null,null,null,null,null,null,12.5,null,null,null,null,null,null,null,null,null,null,null,null,null,null,null,null,null,null,null,null,null,null,"01","29","384",null,null,null,"19 ปี  5 เดือน  10 วัน  ",243]
[{"$f":"A248+1","v":244},null,"1999-06-23",42,null,null,null,null,"เครื่องเรียงกระดาษ 1 ค.",1,200000,"01.63.03",{"$f":"IF(BV249=\"จำหน่าย\",0,SUM(J249*K249))","v":200000},{"$f":"IF(K249<5000,0,M249)","v":200000},8,"2007-06-23",2922,25000,2083.3333333333335,68.446269678302528,0,0,199999,0,199999,0,1,19,4,30,7092,"NO",null,null,null,null,null,null,null,null,null,null,null,null,null,null,null,12.5,null,null,null,null,null,null,null,null,null,null,null,null,null,null,null,null,null,null,null,null,null,null,"01","63","03",null,null,null,"19 ปี  4 เดือน  30 วัน  ",244]
[{"$f":"A249+1","v":245},null,"1999-06-25",42,null,null,null,null,"เครื่องปรับอากาศ 24,000 BTU 3 ค.",3,31000,"01.29.388-390",{"$f":"IF(BV250=\"จำหน่าย\",0,SUM(J250*K250))","v":93000},{"$f":"IF(K250<5000,0,M250)","v":93000},8,"2007-06-25",2922,11625,968.75,31.827515400410679,0,0,92997,0,92997,0,3,19,4,28,7090,"NO",null,null,null,null,null,null,null,null,null,null,null,null,null,null,null,12.5,null,null,null,null,null,null,null,null,null,null,null,null,null,null,null,null,null,null,null,null,null,null,"01","29","388-390",null,null,null,"19 ปี  4 เดือน  28 วัน  ",245]
[{"$f":"A250+1","v":246},null,"1999-06-25",42,null,null,null,null,"เครื่องปรับอากาศ 46,000 BTU 1 ค.",1,55000,"01.29.391",{"$f":"IF(BV251=\"จำหน่าย\",0,SUM(J251*K251))","v":55000},{"$f":"IF(K251<5000,0,M251)","v":55000},8,"2007-06-25",2922,6875,572.91666666666663,18.822724161533195,0,0,54999,0,54999,0,1,19,4,28,7090,"NO",null,null,null,null,null,null,null,null,null,null,null,null,null,null,null,12.5,null,null,null,null,null,null,null,null,null,null,null,null,null,null,null,null,null,null,null,null,null,null,"01","29","391",null,null,null,"19 ปี  4 เดือน  28 วัน  ",246]
[{"$f":"A251+1","v":247},null,"1999-06-25",42,null,null,null,null,"เครื่องปรับอากาศ 44,000 BTU 1 ค.",1,47080,"01.29.393",{"$f":"IF(BV252=\"จำหน่าย\",0,SUM(J252*K252))","v":47080},{"$f":"IF(K252<5000,0,M252)","v":47080},8,"2007-06-25",2922,5885,490.41666666666669,16.112251882272417,0,0,47079,0,47079,0,1,19,4,28,7090,"NO",null,null,null,null,null,null,null,null,null,null,null,null,null,null,null,12.5,null,null,null,null,null,null,null,null,null,null,null,null,null,null,null,null,null,null,null,null,null,null,"01","29","393",null,null,null,"19 ปี  4 เดือน  28 วัน  ",247]
[{"$f":"A252+1","v":248},null,"1999-06-28",42,null,null,null,null,"เครื่องคอมพิวเตอร์ 1 ค.",1,52413.95,"01.53.792",{"$f":"IF(BV253=\"จำหน่าย\",0,SUM(J253*K253))","v":52413.95},{"$f":"IF(K253<5000,0,M253)","v":52413.95},3,"2002-06-28",1096,17471.316666666666,1455.9430555555555,47.822947080291968,0,0,52412.95,0,52412.95,0,1,19,4,25,7087,"NO",null,null,null,null,null,null,null,null,null,null,null,null,null,null,null,33.333333333333336,null,null,null,null,null,null,null,null,null,null,null,null,null,null,null,null,null,null,null,null,null,null,"01","53","792",null,null,null,"19 ปี  4 เดือน  25 วัน  ",248]
[{"$f":"A253+1","v":249},null,"1999-07-01",42,null,null,null,null,"เครื่องปรับอากาศ 32,000 BTU 2 ค.",2,34240,"01.29.394-395",{"$f":"IF(BV254=\"จำหน่าย\",0,SUM(J254*K254))","v":68480},{"$f":"IF(K254<5000,0,M254)","v":68480},8,"2007-07-01",2922,8560,713.33333333333337,23.436002737850789,0,0,68478,0,68478,0,2,19,4,21,7084,"NO",null,null,null,null,null,null,null,null,null,null,null,null,null,null,null,12.5,null,null,null,null,null,null,null,null,null,null,null,null,null,null,null,null,null,null,null,null,null,null,"01","29","394-395",null,null,null,"19 ปี  4 เดือน  21 วัน  ",249]
[{"$f":"A254+1","v":250},null,"1999-07-01",42,null,null,null,null,"กล้องถ่ายภาพดิจิตอล 1 ตัว",1,38400,"06.01.88",{"$f":"IF(BV255=\"จำหน่าย\",0,SUM(J255*K255))","v":38400},{"$f":"IF(K255<5000,0,M255)","v":38400},5,"2004-07-01",1827,7680,640,21.018062397372741,0,0,38399,0,38399,0,1,19,4,21,7084,"NO",null,null,null,null,null,null,null,null,null,null,null,null,null,null,null,20,null,null,null,null,null,null,null,null,null,null,null,null,null,null,null,null,null,null,null,null,null,null,"06","01","88",null,null,null,"19 ปี  4 เดือน  21 วัน  ",250]
[{"$f":"A255+1","v":251},null,"1999-07-29",42,null,null,null,null,"เครื่องคอมพิวเตอร์ 20 ค.",20,39400,"01.53.833-852",{"$f":"IF(BV256=\"จำหน่าย\",0,SUM(J256*K256))","v":788000},{"$f":"IF(K256<5000,0,M256)","v":788000},3,"2002-07-29",1096,262666.66666666669,21888.888888888891,718.978102189781,0,0,787980,0,787980,0,20,19,3,24,7056,"NO",null,null,null,null,null,null,null,null,null,null,null,null,null,null,null,33.333333333333336,null,null,null,null,null,null,null,null,null,null,null,null,null,null,null,null,null,null,null,null,null,null,"01","53","833-852",null,null,null,"19 ปี  3 เดือน  24 วัน  ",251]
[{"$f":"A256+1","v":252},null,"1999-07-29",42,null,null,null,null,"เครื่องเลื่อยตัด 1 ค.",1,117700,"04.28.08",{"$f":"IF(BV257=\"จำหน่าย\",0,SUM(J257*K257))","v":117700},{"$f":"IF(K257<5000,0,M257)","v":117700},5,{"$f":"DATE(YEAR(C257)+O257,MONTH(C257),DAY(C257))","v":"2004-07-29"},{"$f":"IF(NOT(OR(ISBLANK(P257),ISBLANK(C257))),P257-C257,\"\")","v":1827},{"$f":"SLN(N257,,O257)","v":23540},{"$f":"SLN(R257,,12)","v":1961.6666666666667},{"$f":"SLN(N257,,Q257)","v":64.422550629447187},{"$f":"IF(N257=0,0,IF(AE257<=Q257,1,0))","v":0},0,117699,0,117699,0,1,{"$f":"DATEDIF(C257,TODAY(),\"Y\")","v":19},{"$f":"DATEDIF(C257,TODAY(),\"YM\")","v":3},{"$f":"DATEDIF(C257,TODAY(),\"md\")+1","v":24},{"$f":"DATEDIF(C257,TODAY(),\"d\")+1","v":7056},{"$f":"IF(N257=0,\"No\",IF(AE257>Q257,\"NO\",\"YES\"))","v":"NO"},null,null,null,null,null,null,null,null,null,null,null,null,null,null,null,{"$f":"100/O257","v":20},null,null,null,null,null,null,null,null,null,null,null,null,null,null,null,null,null,null,null,null,null,null,"04","28","08",null,null,null,{"$f":"CONCATENATE(AB257,\" ปี  \",AC257,\" เดือน  \",AD257,\" วัน  \")","v":"19 ปี  3 เดือน  24 วัน  "},{"$f":"A257","v":252}]
[{"$f":"A257+1","v":253},null,"1999-07-29",42,null,null,null,null,"เครื่องทำเดือย 1 ค.",1,82390,"04.30.01",{"$f":"IF(BV258=\"จำหน่าย\",0,SUM(J258*K258))","v":82390},{"$f":"IF(K258<5000,0,M258)","v":82390},5,"2004-07-29",1827,16478,1373.1666666666667,45.095785440613028,0,0,82389,0,82389,0,1,19,3,24,7056,"NO",null,null,null,null,null,null,null,null,null,null,null,null,null,null,null,20,null,null,null,null,null,null,null,null,null,null,null,null,null,null,null,null,null,null,null,null,null,null,"04","30","01",null,null,null,"19 ปี  3 เดือน  24 วัน  ",253]
[{"$f":"A258+1","v":254},null,"1999-07-29",42,null,null,null,null,"เครื่องไสชิด 1 ค.",1,90950,"04.36.09",{"$f":"IF(BV259=\"จำหน่าย\",0,SUM(J259*K259))","v":90950},{"$f":"IF(K259<5000,0,M259)","v":90950},5,"2004-07-29",1827,18190,1515.8333333333333,49.78106185002737,0,0,90949,0,90949,0,1,19,3,24,7056,"NO",null,null,null,null,null,null,null,null,null,null,null,null,null,null,null,20,null,null,null,null,null,null,null,null,null,null,null,null,null,null,null,null,null,null,null,null,null,null,"04","36","09",null,null,null,"19 ปี  3 เดือน  24 วัน  ",254]
[{"$f":"A259+1","v":255},null,"1999-07-29",42,null,null,null,null,"เครื่องไสหน้าเดียว 1 ค.",1,176550,"04.36.10",{"$f":"IF(BV260=\"จำหน่าย\",0,SUM(J260*K260))","v":176550},{"$f":"IF(K260<5000,0,M260)","v":176550},5,"2004-07-29",1827,35310,2942.5,96.633825944170766,0,0,176549,0,176549,0,1,19,3,24,7056,"NO",null,null,null,null,null,null,null,null,null,null,null,null,null,null,null,20,null,null,null,null,null,null,null,null,null,null,null,null,null,null,null,null,null,null,null,null,null,null,"04","36","10",null,null,null,"19 ปี  3 เดือน  24 วัน  ",255]
[{"$f":"A260+1","v":256},null,"1999-07-29",42,null,null,null,null,"เครื่องลอกบัว 1 ค.",1,74900,"04.39.04",{"$f":"IF(BV261=\"จำหน่าย\",0,SUM(J261*K261))","v":74900},{"$f":"IF(K261<5000,0,M261)","v":74900},5,"2004-07-29",1827,14980,1248.3333333333333,40.996168582375482,0,0,74899,0,74899,0,1,19,3,24,7056,"NO",null,null,null,null,null,null,null,null,null,null,null,null,null,null,null,20,null,null,null,null,null,null,null,null,null,null,null,null,null,null,null,null,null,null,null,null,null,null,"04","39","04",null,null,null,"19 ปี  3 เดือน  24 วัน  ",256]
[{"$f":"A261+1","v":257},null,"1999-07-29",42,null,null,null,null,"เครื่องฉายสัญญาณภาพ 1 ค.",1,267500,"06.44.05",{"$f":"IF(BV262=\"จำหน่าย\",0,SUM(J262*K262))","v":267500},{"$f":"IF(K262<5000,0,M262)","v":267500},5,"2004-07-29",1827,53500,4458.333333333333,146.41488779419814,0,0,267499,0,267499,0,1,19,3,24,7056,"NO",null,null,null,null,null,null,null,null,null,null,null,null,null,null,null,20,null,null,null,null,null,null,null,null,null,null,null,null,null,null,null,null,null,null,null,null,null,null,"06","44","05",null,null,null,"19 ปี  3 เดือน  24 วัน  ",257]
[{"$f":"A262+1","v":258},null,"1999-07-29",42,null,null,null,null,"เครื่องกลึงไม้ 1 ค.",1,165060,"09.10.06",{"$f":"IF(BV263=\"จำหน่าย\",0,SUM(J263*K263))","v":165060},{"$f":"IF(K263<5000,0,M263)","v":165060},5,"2004-07-29",1827,33012,2751,90.34482758620689,0,{"$f":"SUM(R263*U263/12)","v":0},{"$f":"IF(N263=0,0,IF((R263*AB263)+(R263*AC263/12)>=N263,N263-J263,((R263*AB263)+(R263*AC263/12))))","v":165059},{"$f":"SUM(T263*U263)","v":0},{"$f":"IF(N263=0,0,IF((DATEDIF(C263,TODAY(),\"d\")+1)*T263>=N263,N263-J263,(DATEDIF(C263,TODAY(),\"d\")+1)*T263))","v":165059},{"$f":"IF(U263=0,0,IF(OR(DAY(C263)=1,MONTH(C263)<>MONTH(TODAY()),YEAR(C263)<>YEAR(TODAY())),T263*((DAY(DATE(YEAR(TODAY()),MONTH(TODAY())+1,1)-1))),T263*((DAY(DATE(YEAR(TODAY()),MONTH(TODAY())+1,1)-1)-DAY(C263)+1))))","v":0},{"$f":"IF(N263=0,0,IF(X263>=N263,(J263),(N263-Y263)))","v":1},19,3,24,7056,"NO",null,null,null,null,null,null,null,null,null,null,null,null,null,null,null,20,null,null,null,null,null,null,null,null,null,null,null,null,null,null,null,null,null,null,null,null,null,null,"09","10","06",null,null,null,"19 ปี  3 เดือน  24 วัน  ",258]
[{"$f":"A263+1","v":259},null,"1999-07-29",42,null,null,null,null,"เครื่องแท่นเจาะ 1 ค.",1,37450,"09.18.03",{"$f":"IF(BV264=\"จำหน่าย\",0,SUM(J264*K264))","v":37450},{"$f":"IF(K264<5000,0,M264)","v":37450},5,"2004-07-29",1827,7490,624.16666666666663,20.498084291187741,0,0,37449,0,37449,0,1,19,3,24,7056,"NO",null,null,null,null,null,null,null,null,null,null,null,null,null,null,null,20,null,null,null,null,null,null,null,null,null,null,null,null,null,null,null,null,null,null,null,null,null,null,"09","18","03",null,null,null,"19 ปี  3 เดือน  24 วัน  ",259]
[{"$f":"A264+1","v":260},null,"1999-08-02",42,null,null,null,null,"HUB 1 ค.",1,41730,"01.58.244",{"$f":"IF(BV265=\"จำหน่าย\",0,SUM(J265*K265))","v":41730},{"$f":"IF(K265<5000,0,M265)","v":41730},8,"2007-08-02",2922,5216.25,434.6875,14.281314168377824,0,0,41729,0,41729,0,1,19,3,20,7052,"NO",null,null,null,null,null,null,null,null,null,null,null,null,null,null,null,12.5,null,null,null,null,null,null,null,null,null,null,null,null,null,null,null,null,null,null,null,null,null,null,"01","58","244",null,null,null,"19 ปี  3 เดือน  20 วัน  ",260]
[{"$f":"A265+1","v":261},null,"1999-08-03",42,null,null,null,null,"เครื่องปรับอากาศ 60,000 BTU 6 ค.",6,62500,"01.29.397-402",{"$f":"IF(BV266=\"จำหน่าย\",0,SUM(J266*K266))","v":375000},{"$f":"IF(K266<5000,0,M266)","v":375000},8,"2007-08-03",2922,46875,3906.25,128.33675564681724,0,0,374994,0,374994,0,6,19,3,19,7051,"NO",null,null,null,null,null,null,null,null,null,null,null,null,null,null,null,12.5,null,null,null,null,null,null,null,null,null,null,null,null,null,null,null,null,null,null,null,null,null,null,"01","29","397-402",null,null,null,"19 ปี  3 เดือน  19 วัน  ",261]
[{"$f":"A266+1","v":262},null,"1999-08-03",42,null,null,null,null,"เครื่องปรับอากาศ 32,000 BTU 1 ค.",1,34240,"01.29.403",{"$f":"IF(BV267=\"จำหน่าย\",0,SUM(J267*K267))","v":34240},{"$f":"IF(K267<5000,0,M267)","v":34240},8,"2007-08-03",2922,4280,356.66666666666669,11.718001368925394,0,0,34239,0,34239,0,1,19,3,19,7051,"NO",null,null,null,null,null,null,null,null,null,null,null,null,null,null,null,12.5,null,null,null,null,null,null,null,null,null,null,null,null,null,null,null,null,null,null,null,null,null,null,"01","29","403",null,null,null,"19 ปี  3 เดือน  19 วัน  ",262]
[{"$f":"A267+1","v":263},null,"1999-08-04",42,null,null,null,null,"เครื่องปรับอากาศ 24,000 BTU 2 ค.",2,42000,"01.29.404-405",{"$f":"IF(BV268=\"จำหน่าย\",0,SUM(J268*K268))","v":84000},{"$f":"IF(K268<5000,0,M268)","v":84000},8,"2007-08-04",2922,10500,875,28.747433264887064,0,0,83998,0,83998,0,2,19,3,18,7050,"NO",null,null,null,null,null,null,null,null,null,null,null,null,null,null,null,12.5,null,null,null,null,null,null,null,null,null,null,null,null,null,null,null,null,null,null,null,null,null,null,"01","29","404-405",null,null,null,"19 ปี  3 เดือน  18 วัน  ",263]
[{"$f":"A268+1","v":264},null,"1999-08-06",42,null,null,null,null,"เครื่องคอมพิวเตอร์ 1 ค.",1,45000,"01.53.853",{"$f":"IF(BV269=\"จำหน่าย\",0,SUM(J269*K269))","v":45000},{"$f":"IF(K269<5000,0,M269)","v":45000},3,"2002-08-06",1096,15000,1250,41.058394160583944,0,0,44999,0,44999,0,1,19,3,16,7048,"NO",null,null,null,null,null,null,null,null,null,null,null,null,null,null,null,33.333333333333336,null,null,null,null,null,null,null,null,null,null,null,null,null,null,null,null,null,null,null,null,null,null,"01","53","853",null,null,null,"19 ปี  3 เดือน  16 วัน  ",264]
[{"$f":"A269+1","v":265},null,"1999-08-10",42,null,null,null,null,"เครื่องคอมพิวเตอร์ 1 ค.",1,42000,"01.53.1209",{"$f":"IF(BV270=\"จำหน่าย\",0,SUM(J270*K270))","v":42000},{"$f":"IF(K270<5000,0,M270)","v":42000},3,"2002-08-10",1096,14000,1166.6666666666667,38.321167883211679,0,0,41999,0,41999,0,1,19,3,12,7044,"NO",null,null,null,null,null,null,null,null,null,null,null,null,null,null,null,33.333333333333336,null,null,null,null,null,null,null,null,null,null,null,null,null,null,null,null,null,null,null,null,null,null,"01","53","1209",null,null,null,"19 ปี  3 เดือน  12 วัน  ",265]
[{"$f":"A270+1","v":266},null,"1999-08-10",42,null,null,null,null,"เครื่องเล่นวีดีโอเทป 1 ค.",1,215000,"05.09.254",{"$f":"IF(BV271=\"จำหน่าย\",0,SUM(J271*K271))","v":215000},{"$f":"IF(K271<5000,0,M271)","v":215000},5,"2004-08-10",1827,43000,3583.3333333333335,117.6792556102901,0,0,214999,0,214999,0,1,19,3,12,7044,"NO",null,null,null,null,null,null,null,null,null,null,null,null,null,null,null,20,null,null,null,null,null,null,null,null,null,null,null,null,null,null,null,null,null,null,null,null,null,null,"05","09","254",null,null,null,"19 ปี  3 เดือน  12 วัน  ",266]
[{"$f":"A271+1","v":267},null,"1999-08-10",42,null,null,null,null,"เครื่องบันทึกวีดีโอ 1 ค.",1,215000,"06.06.03",{"$f":"IF(BV272=\"จำหน่าย\",0,SUM(J272*K272))","v":215000},{"$f":"IF(K272<5000,0,M272)","v":215000},5,"2004-08-10",1827,43000,3583.3333333333335,117.6792556102901,0,0,214999,0,214999,0,1,19,3,12,7044,"NO",null,null,null,null,null,null,null,null,null,null,null,null,null,null,null,20,null,null,null,null,null,null,null,null,null,null,null,null,null,null,null,null,null,null,null,null,null,null,"06","06","03",null,null,null,"19 ปี  3 เดือน  12 วัน  ",267]
[{"$f":"A272+1","v":268},null,"1999-08-18",42,null,null,null,null,"เครื่องคั้น 1 ค.",1,49220,"09.52.01",{"$f":"IF(BV273=\"จำหน่าย\",0,SUM(J273*K273))","v":49220},{"$f":"IF(K273<5000,0,M273)","v":49220},5,"2004-08-18",1827,9844,820.33333333333337,26.940339354132458,0,0,49219,0,49219,0,1,19,3,4,7036,"NO",null,null,null,null,null,null,null,null,null,null,null,null,null,null,null,20,null,null,null,null,null,null,null,null,null,null,null,null,null,null,null,null,null,null,null,null,null,null,"09","52","01",null,null,null,"19 ปี  3 เดือน  4 วัน  ",268]
[{"$f":"A273+1","v":269},null,"1999-08-31",42,null,null,null,null,"เครื่องคอมพิวเตอร์ 1 ค.",1,39000,"01.53.860",{"$f":"IF(BV274=\"จำหน่าย\",0,SUM(J274*K274))","v":39000},{"$f":"IF(K274<5000,0,M274)","v":39000},3,"2002-08-31",1096,13000,1083.3333333333333,35.583941605839414,0,0,38999,0,38999,0,1,19,2,22,7023,"NO",null,null,null,null,null,null,null,null,null,null,null,null,null,null,null,33.333333333333336,null,null,null,null,null,null,null,null,null,null,null,null,null,null,null,null,null,null,null,null,null,null,"01","53","860",null,null,null,"19 ปี  2 เดือน  22 วัน  ",269]
[{"$f":"A274+1","v":270},null,"1999-09-06",42,null,null,null,null,"เครื่องปรับอากาศ 32,000 BTU 2 ค.",2,34240,"01.29.407-408",{"$f":"IF(BV275=\"จำหน่าย\",0,SUM(J275*K275))","v":68480},{"$f":"IF(K275<5000,0,M275)","v":68480},8,"2007-09-06",2922,8560,713.33333333333337,23.436002737850789,0,0,68478,0,68478,0,2,19,2,16,7017,"NO",null,null,null,null,null,null,null,null,null,null,null,null,null,null,null,12.5,null,null,null,null,null,null,null,null,null,null,null,null,null,null,null,null,null,null,null,null,null,null,"01","29","407-408",null,null,null,"19 ปี  2 เดือน  16 วัน  ",270]
[{"$f":"A275+1","v":271},null,"1999-09-06",42,null,null,null,null,"เครื่องคอมพิวเตอร์ 1 ชุด",1,36700,"01.53.861",{"$f":"IF(BV276=\"จำหน่าย\",0,SUM(J276*K276))","v":36700},{"$f":"IF(K276<5000,0,M276)","v":36700},3,"2002-09-06",1096,12233.333333333334,1019.4444444444445,33.485401459854018,0,0,36699,0,36699,0,1,19,2,16,7017,"NO",null,null,null,null,null,null,null,null,null,null,null,null,null,null,null,33.333333333333336,null,null,null,null,null,null,null,null,null,null,null,null,null,null,null,null,null,null,null,null,null,null,"01","53","861",null,null,null,"19 ปี  2 เดือน  16 วัน  ",271]
[{"$f":"A276+1","v":272},null,"1999-09-06",42,null,null,null,null,"เครื่องพิมพ์เลเซอร์ 1 ค.",1,37000,"01.72.202",{"$f":"IF(BV277=\"จำหน่าย\",0,SUM(J277*K277))","v":37000},{"$f":"IF(K277<5000,0,M277)","v":37000},3,"2002-09-06",1096,12333.333333333334,1027.7777777777778,33.759124087591239,0,0,36999,0,36999,0,1,19,2,16,7017,"NO",null,null,null,null,null,null,null,null,null,null,null,null,null,null,null,33.333333333333336,null,null,null,null,null,null,null,null,null,null,null,null,null,null,null,null,null,null,null,null,null,null,"01","72","202",null,null,null,"19 ปี  2 เดือน  16 วัน  ",272]
[{"$f":"A277+1","v":273},null,"1999-09-13",42,null,null,null,null,"ออสซิลโลสโคป 1 ค.",1,235400,"07.60.06-09",{"$f":"IF(BV278=\"จำหน่าย\",0,SUM(J278*K278))","v":235400},{"$f":"IF(K278<5000,0,M278)","v":235400},5,"2004-09-13",1827,47080,3923.3333333333335,128.84510125889437,0,0,235399,0,235399,0,1,19,2,9,7010,"NO",null,null,null,null,null,null,null,null,null,null,null,null,null,null,null,20,null,null,null,null,null,null,null,null,null,null,null,null,null,null,null,null,null,null,null,null,null,null,"07","60","06-09",null,null,null,"19 ปี  2 เดือน  9 วัน  ",273]
[{"$f":"A278+1","v":274},null,"1999-09-16",42,null,null,null,null,"โต๊ะหมู่บูชา 1 ชุด",1,30000,"01.02.5150",{"$f":"IF(BV279=\"จำหน่าย\",0,SUM(J279*K279))","v":30000},{"$f":"IF(K279<5000,0,M279)","v":30000},8,"2007-09-16",2922,3750,312.5,10.266940451745381,0,0,29999,0,29999,0,1,19,2,6,7007,"NO",null,null,null,null,null,null,null,null,null,null,null,null,null,null,null,12.5,null,null,null,null,null,null,null,null,null,null,null,null,null,null,null,null,null,null,null,null,null,null,"01","02","5150",null,null,null,"19 ปี  2 เดือน  6 วัน  ",274]
[{"$f":"A279+1","v":275},null,"1999-09-17",42,null,null,null,null,"ปั้มน้ำ 1 ค.",1,35000,"08.06.60",{"$f":"IF(BV280=\"จำหน่าย\",0,SUM(J280*K280))","v":35000},{"$f":"IF(K280<5000,0,M280)","v":35000},5,"2004-09-17",1827,7000,583.33333333333337,19.157088122605366,0,0,34999,0,34999,0,1,19,2,5,7006,"NO",null,null,null,null,null,null,null,null,null,null,null,null,null,null,null,20,null,null,null,null,null,null,null,null,null,null,null,null,null,null,null,null,null,null,null,null,null,null,"08","06","60",null,null,null,"19 ปี  2 เดือน  5 วัน  ",275]
[{"$f":"A280+1","v":276},null,"1999-09-23",42,null,null,null,null,"ชุดโต๊ะประชุม 1 ชุด",1,37600,"01.02.5178",{"$f":"IF(BV281=\"จำหน่าย\",0,SUM(J281*K281))","v":37600},{"$f":"IF(K281<5000,0,M281)","v":37600},8,"2007-09-23",2922,4700,391.66666666666669,12.867898699520875,0,0,37599,0,37599,0,1,19,1,30,7000,"NO",null,null,null,null,null,null,null,null,null,null,null,null,null,null,null,12.5,null,null,null,null,null,null,null,null,null,null,null,null,null,null,null,null,null,null,null,null,null,null,"01","02","5178",null,null,null,"19 ปี  1 เดือน  30 วัน  ",276]
[{"$f":"A281+1","v":277},null,"1999-09-23",42,null,null,null,null,"เครื่องถ่ายเอกสาร 1 ค.",1,97000,"01.22.35",{"$f":"IF(BV282=\"จำหน่าย\",0,SUM(J282*K282))","v":97000},{"$f":"IF(K282<5000,0,M282)","v":97000},8,"2007-09-23",2922,12125,1010.4166666666666,33.196440793976727,0,0,96999,0,96999,0,1,19,1,30,7000,"NO",null,null,null,null,null,null,null,null,null,null,null,null,null,null,null,12.5,null,null,null,null,null,null,null,null,null,null,null,null,null,null,null,null,null,null,null,null,null,null,"01","22","35",null,null,null,"19 ปี  1 เดือน  30 วัน  ",277]
[{"$f":"A282+1","v":278},null,"1999-09-28",42,null,null,null,null,"ชุดอุปกรณ์ขยายเสียง 1 ชุด",1,615000,null,{"$f":"IF(BV283=\"จำหน่าย\",0,SUM(J283*K283))","v":615000},{"$f":"IF(K283<5000,0,M283)","v":615000},5,"2004-09-28",1827,123000,10250,336.6174055829228,0,0,614999,0,614999,0,1,19,1,25,6995,"NO",null,null,null,null,null,null,null,null,null,null,null,null,null,null,null,20,null,null,null,null,null,null,null,null,null,null,null,null,null,null,null,null,null,null,null,null,null,null,"","","",null,null,null,"19 ปี  1 เดือน  25 วัน  ",278]
[{"$f":"A283+1","v":279},null,"1999-09-30",42,null,null,null,null,"เครื่องปรับอากาศ 24,000 BTU 1 ค.",1,30600,"01.29.410",{"$f":"IF(BV284=\"จำหน่าย\",0,SUM(J284*K284))","v":30600},{"$f":"IF(K284<5000,0,M284)","v":30600},8,"2007-09-30",2922,3825,318.75,10.472279260780287,0,0,30599,0,30599,0,1,19,1,23,6993,"NO",null,null,null,null,null,null,null,null,null,null,null,null,null,null,null,12.5,null,null,null,null,null,null,null,null,null,null,null,null,null,null,null,null,null,null,null,null,null,null,"01","29","410",null,null,null,"19 ปี  1 เดือน  23 วัน  ",279]
[{"$f":"A284+1","v":280},null,"1999-09-30",42,null,null,null,null,"ชุดสำนักงาน 2 ชุด",2,45000,"01.58.248-249",{"$f":"IF(BV285=\"จำหน่าย\",0,SUM(J285*K285))","v":90000},{"$f":"IF(K285<5000,0,M285)","v":90000},8,"2007-09-30",2922,11250,937.5,30.800821355236138,0,0,89998,0,89998,0,2,19,1,23,6993,"NO",null,null,null,null,null,null,null,null,null,null,null,null,null,null,null,12.5,null,null,null,null,null,null,null,null,null,null,null,null,null,null,null,null,null,null,null,null,null,null,"01","58","248-249",null,null,null,"19 ปี  1 เดือน  23 วัน  ",280]
[{"$f":"A285+1","v":281},null,"1999-09-30",42,null,null,null,null,"โคมไฟ 3 ชุด",3,25000,"05.11.68-70",{"$f":"IF(BV286=\"จำหน่าย\",0,SUM(J286*K286))","v":75000},{"$f":"IF(K286<5000,0,M286)","v":75000},5,"2004-09-30",1827,15000,1250,41.050903119868636,0,0,74997,0,74997,0,3,19,1,23,6993,"NO",null,null,null,null,null,null,null,null,null,null,null,null,null,null,null,20,null,null,null,null,null,null,null,null,null,null,null,null,null,null,null,null,null,null,null,null,null,null,"05","11","68-70",null,null,null,"19 ปี  1 เดือน  23 วัน  ",281]
[{"$f":"A286+1","v":282},null,"1999-10-12",43,null,null,null,null,"ตู้เคาท์เตอร์ห้องสมุด 1 ชุด",1,47080,"01.06.964",{"$f":"IF(BV287=\"จำหน่าย\",0,SUM(J287*K287))","v":47080},{"$f":"IF(K287<5000,0,M287)","v":47080},8,"2007-10-12",2922,5885,490.41666666666669,16.112251882272417,0,0,47079,0,47079,0,1,19,1,10,6981,"NO",null,null,null,null,null,null,null,null,null,null,null,null,null,null,null,12.5,null,null,null,null,null,null,null,null,null,null,null,null,null,null,null,null,null,null,null,null,null,null,"01","06","964",null,null,null,"19 ปี  1 เดือน  10 วัน  ",282]
[{"$f":"A287+1","v":283},null,"1999-10-14",43,null,null,null,null,"ระบบรักษาความปลอดภัย 1 ชุด",1,44940,"01.58.250",{"$f":"IF(BV288=\"จำหน่าย\",0,SUM(J288*K288))","v":44940},{"$f":"IF(K288<5000,0,M288)","v":44940},8,"2007-10-14",2922,5617.5,468.125,15.379876796714578,0,0,44939,0,44939,0,1,19,1,8,6979,"NO",null,null,null,null,null,null,null,null,null,null,null,null,null,null,null,12.5,null,null,null,null,null,null,null,null,null,null,null,null,null,null,null,null,null,null,null,null,null,null,"01","58","250",null,null,null,"19 ปี  1 เดือน  8 วัน  ",283]
[{"$f":"A288+1","v":284},null,"1999-10-20",43,null,null,null,null,"เครื่องคอมพิวเตอร์ 1 ค.",1,49500,"01.53.867",{"$f":"IF(BV289=\"จำหน่าย\",0,SUM(J289*K289))","v":49500},{"$f":"IF(K289<5000,0,M289)","v":49500},3,"2002-10-20",1096,16500,1375,45.164233576642339,0,0,49499,0,49499,0,1,19,1,2,6973,"NO",null,null,null,null,null,null,null,null,null,null,null,null,null,null,null,33.333333333333336,null,null,null,null,null,null,null,null,null,null,null,null,null,null,null,null,null,null,null,null,null,null,"01","53","867",null,null,null,"19 ปี  1 เดือน  2 วัน  ",284]
[{"$f":"A289+1","v":285},null,"1999-10-26",43,null,null,null,null,"กล้องถ่ายภาพดิจิตอล 1 ตัว",1,38510,"06.01.69",{"$f":"IF(BV290=\"จำหน่าย\",0,SUM(J290*K290))","v":38510},{"$f":"IF(K290<5000,0,M290)","v":38510},5,"2004-10-26",1827,7702,641.83333333333337,21.078270388615216,0,0,38509,0,38509,0,1,19,0,27,6967,"NO",null,null,null,null,null,null,null,null,null,null,null,null,null,null,null,20,null,null,null,null,null,null,null,null,null,null,null,null,null,null,null,null,null,null,null,null,null,null,"06","01","69",null,null,null,"19 ปี  0 เดือน  27 วัน  ",285]
[{"$f":"A290+1","v":286},null,"1999-11-01",43,null,null,null,null,"นาฬิกาลงเวลา 1 ชุด",1,39000,"01.43.74",{"$f":"IF(BV291=\"จำหน่าย\",0,SUM(J291*K291))","v":39000},{"$f":"IF(K291<5000,0,M291)","v":39000},8,"2007-11-01",2922,4875,406.25,13.347022587268993,0,0,38999,0,38999,0,1,19,0,21,6961,"NO",null,null,null,null,null,null,null,null,null,null,null,null,null,null,null,12.5,null,null,null,null,null,null,null,null,null,null,null,null,null,null,null,null,null,null,null,null,null,null,"01","43","74",null,null,null,"19 ปี  0 เดือน  21 วัน  ",286]
[{"$f":"A291+1","v":287},null,"1999-11-16",43,null,null,null,null,"ตู้เก็บเครื่องถ้วยชาม 7 ชุด",7,14142.857142857143,"01.06.966-972",{"$f":"IF(BV292=\"จำหน่าย\",0,SUM(J292*K292))","v":99000},{"$f":"IF(K292<5000,0,M292)","v":99000},8,"2007-11-16",2922,12375,1031.25,33.880903490759756,0,0,98993,0,98993,0,7,19,0,6,6946,"NO",null,null,null,null,null,null,null,null,null,null,null,null,null,null,null,12.5,null,null,null,null,null,null,null,null,null,null,null,null,null,null,null,null,null,null,null,null,null,null,"01","06","966-972",null,null,null,"19 ปี  0 เดือน  6 วัน  ",287]
[{"$f":"A292+1","v":288},null,"1999-12-16",43,null,null,null,null,"เครื่องขัดสายพาน 4 ค.",4,16050,"04.37.11-12",{"$f":"IF(BV293=\"จำหน่าย\",0,SUM(J293*K293))","v":64200},{"$f":"IF(K293<5000,0,M293)","v":64200},5,"2004-12-16",1827,12840,1070,35.139573070607554,0,0,64196,0,64196,0,4,18,11,6,6916,"NO",null,null,null,null,null,null,null,null,null,null,null,null,null,null,null,20,null,null,null,null,null,null,null,null,null,null,null,null,null,null,null,null,null,null,null,null,null,null,"04","37","11-12",null,null,null,"18 ปี  11 เดือน  6 วัน  ",288]
[{"$f":"A293+1","v":289},null,"1999-12-27",43,null,null,null,null,"รถกะบะ 2 ตอน 1 คัน",1,606500,"02.01.12",{"$f":"IF(BV294=\"จำหน่าย\",0,SUM(J294*K294))","v":606500},{"$f":"IF(K294<5000,0,M294)","v":606500},5,"2004-12-27",1827,121300,10108.333333333334,331.96496989600439,0,0,606499,0,606499,0,1,18,10,26,6905,"NO",null,null,null,null,null,null,null,null,null,null,null,null,null,null,null,20,null,null,null,null,null,null,null,null,null,null,null,null,null,null,null,null,null,null,null,null,null,null,"02","01","12",null,null,null,"18 ปี  10 เดือน  26 วัน  ",289]
[{"$f":"A294+1","v":290},null,"2000-01-04",43,null,null,null,null,"เครื่องคอมพิวเตอร์ 2 ค.",2,44500,"01.53.870-871",{"$f":"IF(BV295=\"จำหน่าย\",0,SUM(J295*K295))","v":89000},{"$f":"IF(K295<5000,0,M295)","v":89000},3,"2003-01-04",1096,29666.666666666668,2472.2222222222222,81.204379562043798,0,0,88998,0,88998,0,2,18,10,18,6897,"NO",null,null,null,null,null,null,null,null,null,null,null,null,null,null,null,33.333333333333336,null,null,null,null,null,null,null,null,null,null,null,null,null,null,null,null,null,null,null,null,null,null,"01","53","870-871",null,null,null,"18 ปี  10 เดือน  18 วัน  ",290]
[{"$f":"A295+1","v":291},null,"2000-01-12",43,null,null,null,null,"เครื่องถ่ายเอกสาร 1 ค.",1,70000,"01.22.36",{"$f":"IF(BV296=\"จำหน่าย\",0,SUM(J296*K296))","v":70000},{"$f":"IF(K296<5000,0,M296)","v":70000},8,"2008-01-12",2922,8750,729.16666666666663,23.956194387405887,0,0,69999,0,69999,0,1,18,10,10,6889,"NO",null,null,null,null,null,null,null,null,null,null,null,null,null,null,null,12.5,null,null,null,null,null,null,null,null,null,null,null,null,null,null,null,null,null,null,null,null,null,null,"01","22","36",null,null,null,"18 ปี  10 เดือน  10 วัน  ",291]
[{"$f":"A296+1","v":292},null,"2000-01-21",43,null,null,null,null,"จักรคอมพิวเตอร์ 1 หลัง",1,87500,"01.37.64",{"$f":"IF(BV297=\"จำหน่าย\",0,SUM(J297*K297))","v":87500},{"$f":"IF(K297<5000,0,M297)","v":87500},8,"2008-01-21",2922,10937.5,911.45833333333337,29.945242984257359,0,0,87499,0,87499,0,1,18,10,1,6880,"NO",null,null,null,null,null,null,null,null,null,null,null,null,null,null,null,12.5,null,null,null,null,null,null,null,null,null,null,null,null,null,null,null,null,null,null,null,null,null,null,"01","37","64",null,null,null,"18 ปี  10 เดือน  1 วัน  ",292]
[{"$f":"A297+1","v":293},null,"2000-01-21",43,null,null,null,null,"จักรเย็บผ้า 2 หลัง",2,33700,"01.37.65-66",{"$f":"IF(BV298=\"จำหน่าย\",0,SUM(J298*K298))","v":67400},{"$f":"IF(K298<5000,0,M298)","v":67400},8,"2008-01-21",2922,8425,702.08333333333337,23.066392881587955,0,0,67398,0,67398,0,2,18,10,1,6880,"NO",null,null,null,null,null,null,null,null,null,null,null,null,null,null,null,12.5,null,null,null,null,null,null,null,null,null,null,null,null,null,null,null,null,null,null,null,null,null,null,"01","37","65-66",null,null,null,"18 ปี  10 เดือน  1 วัน  ",293]
[{"$f":"A298+1","v":294},null,"2000-01-22",43,null,null,null,null,"เครื่องไสไม้หน้าเดียว 1 ค.",1,813200,"04.36.11",{"$f":"IF(BV299=\"จำหน่าย\",0,SUM(J299*K299))","v":813200},{"$f":"IF(K299<5000,0,M299)","v":813200},5,"2005-01-22",1827,162640,13553.333333333334,445.10125889436233,0,0,813199,0,813199,0,1,18,9,31,6879,"NO",null,null,null,null,null,null,null,null,null,null,null,null,null,null,null,20,null,null,null,null,null,null,null,null,null,null,null,null,null,null,null,null,null,null,null,null,null,null,"04","36","11",null,null,null,"18 ปี  9 เดือน  31 วัน  ",294]
[{"$f":"A299+1","v":295},null,"2000-01-23",43,null,null,null,null,"เครื่องสูบน้ำบาดาล 1 ค.",1,82925,"03.09.19",{"$f":"IF(BV300=\"จำหน่าย\",0,SUM(J300*K300))","v":82925},{"$f":"IF(K300<5000,0,M300)","v":82925},5,"2005-01-23",1827,16585,1382.0833333333333,45.388615216201423,0,0,82924,0,82924,0,1,18,9,30,6878,"NO",null,null,null,null,null,null,null,null,null,null,null,null,null,null,null,20,null,null,null,null,null,null,null,null,null,null,null,null,null,null,null,null,null,null,null,null,null,null,"03","09","19",null,null,null,"18 ปี  9 เดือน  30 วัน  ",295]
[{"$f":"A300+1","v":296},null,"2000-02-02",43,null,null,null,null,"รถยนต์เก๋ง 1 คัน",1,1260568,"02.01.13",{"$f":"IF(BV301=\"จำหน่าย\",0,SUM(J301*K301))","v":1260568},{"$f":"IF(K301<5000,0,M301)","v":1260568},5,"2005-02-02",1827,252113.6,21009.466666666667,689.96606458675421,0,0,1260567,0,1260567,0,1,18,9,20,6868,"NO",null,null,null,null,null,null,null,null,null,null,null,null,null,null,null,20,null,null,null,null,null,null,null,null,null,null,null,null,null,null,null,null,null,null,null,null,null,null,"02","01","13",null,null,null,"18 ปี  9 เดือน  20 วัน  ",296]
[{"$f":"A301+1","v":297},null,"2000-02-04",43,null,null,null,null,"เครื่องพิมพ์สำเนาระบบดิจิตอล 1 ค.",1,117000,"01.46.26",{"$f":"IF(BV302=\"จำหน่าย\",0,SUM(J302*K302))","v":117000},{"$f":"IF(K302<5000,0,M302)","v":117000},8,"2008-02-04",2922,14625,1218.75,40.041067761806978,0,0,116999,0,116999,0,1,18,9,18,6866,"NO",null,null,null,null,null,null,null,null,null,null,null,null,null,null,null,12.5,null,null,null,null,null,null,null,null,null,null,null,null,null,null,null,null,null,null,null,null,null,null,"01","46","26",null,null,null,"18 ปี  9 เดือน  18 วัน  ",297]
[{"$f":"A302+1","v":298},null,"2000-02-07",43,null,null,null,null,"เครื่องคอมพิวเตอร์ 2 ค.",2,45900,"01.53.878-879",{"$f":"IF(BV303=\"จำหน่าย\",0,SUM(J303*K303))","v":91800},{"$f":"IF(K303<5000,0,M303)","v":91800},3,"2003-02-07",1096,30600,2550,83.759124087591246,0,0,91798,0,91798,0,2,18,9,15,6863,"NO",null,null,null,null,null,null,null,null,null,null,null,null,null,null,null,33.333333333333336,null,null,null,null,null,null,null,null,null,null,null,null,null,null,null,null,null,null,null,null,null,null,"01","53","878-879",null,null,null,"18 ปี  9 เดือน  15 วัน  ",298]
[{"$f":"A303+1","v":299},null,"2000-02-07",43,null,null,null,null,"เครื่องสูบน้ำ 1 ค.",1,67196,"03.09.20",{"$f":"IF(BV304=\"จำหน่าย\",0,SUM(J304*K304))","v":67196},{"$f":"IF(K304<5000,0,M304)","v":67196},5,"2005-02-07",1827,13439.2,1119.9333333333334,36.779419813902571,0,0,67195,0,67195,0,1,18,9,15,6863,"NO",null,null,null,null,null,null,null,null,null,null,null,null,null,null,null,20,null,null,null,null,null,null,null,null,null,null,null,null,null,null,null,null,null,null,null,null,null,null,"03","09","20",null,null,null,"18 ปี  9 เดือน  15 วัน  ",299]
[{"$f":"A304+1","v":300},null,"2000-02-08",43,null,null,null,null,"เครื่องขึ้นรูปผลิตภัณฑ์ 1 ค.",1,270068,"09.13.02",{"$f":"IF(BV305=\"จำหน่าย\",0,SUM(J305*K305))","v":270068},{"$f":"IF(K305<5000,0,M305)","v":270068},5,"2005-02-08",1827,54013.599999999999,4501.1333333333332,147.82047071702243,0,0,270067,0,270067,0,1,18,9,14,6862,"NO",null,null,null,null,null,null,null,null,null,null,null,null,null,null,null,20,null,null,null,null,null,null,null,null,null,null,null,null,null,null,null,null,null,null,null,null,null,null,"09","13","02",null,null,null,"18 ปี  9 เดือน  14 วัน  ",300]
[{"$f":"A305+1","v":301},null,"2000-02-14",43,null,null,null,null,"ปั๊มน้ำ 1 ค.",1,55000,"08.06.66",{"$f":"IF(BV306=\"จำหน่าย\",0,SUM(J306*K306))","v":55000},{"$f":"IF(K306<5000,0,M306)","v":55000},5,"2005-02-14",1827,11000,916.66666666666663,30.103995621237001,0,0,54999,0,54999,0,1,18,9,8,6856,"NO",null,null,null,null,null,null,null,null,null,null,null,null,null,null,null,20,null,null,null,null,null,null,null,null,null,null,null,null,null,null,null,null,null,null,null,null,null,null,"08","06","66",null,null,null,"18 ปี  9 เดือน  8 วัน  ",301]
[{"$f":"A306+1","v":302},null,"2000-02-26",43,null,null,null,null,"เครื่องคอมพิวเตอร์ 2 ชุด",2,47000,"01.53.880-881",{"$f":"IF(BV307=\"จำหน่าย\",0,SUM(J307*K307))","v":94000},{"$f":"IF(K307<5000,0,M307)","v":94000},3,"2003-02-26",1096,31333.333333333332,2611.1111111111109,85.766423357664237,0,0,93998,0,93998,0,2,18,8,27,6844,"NO",null,null,null,null,null,null,null,null,null,null,null,null,null,null,null,33.333333333333336,null,null,null,null,null,null,null,null,null,null,null,null,null,null,null,null,null,null,null,null,null,null,"01","53","880-881",null,null,null,"18 ปี  8 เดือน  27 วัน  ",302]
[{"$f":"A307+1","v":303},null,"2000-02-27",43,null,null,null,null,"เครื่องคอมพิวเตอร์ 2 ค.",2,32500,"01.53.1214-1215",{"$f":"IF(BV308=\"จำหน่าย\",0,SUM(J308*K308))","v":65000},{"$f":"IF(K308<5000,0,M308)","v":65000},3,"2003-02-27",1096,21666.666666666668,1805.5555555555557,59.306569343065696,0,0,64998,0,64998,0,2,18,8,26,6843,"NO",null,null,null,null,null,null,null,null,null,null,null,null,null,null,null,33.333333333333336,null,null,null,null,null,null,null,null,null,null,null,null,null,null,null,null,null,null,null,null,null,null,"01","53","1214-1215",null,null,null,"18 ปี  8 เดือน  26 วัน  ",303]
[{"$f":"A308+1","v":304},null,"2000-03-11",43,null,null,null,null,"แซกโซโฟน 2 คัน",2,48000,"12.34.05-06",{"$f":"IF(BV309=\"จำหน่าย\",0,SUM(J309*K309))","v":96000},{"$f":"IF(K309<5000,0,M309)","v":96000},5,"2005-03-11",1826,19200,1600,52.573932092004384,0,0,95998,0,95998,0,2,18,8,11,6830,"NO",null,null,null,null,null,null,null,null,null,null,null,null,null,null,null,20,null,null,null,null,null,null,null,null,null,null,null,null,null,null,null,null,null,null,null,null,null,null,"12","34","05-06",null,null,null,"18 ปี  8 เดือน  11 วัน  ",304]
[{"$f":"A309+1","v":305},null,"2000-03-13",43,null,null,null,null,"เก้าอี้หลุยซ์พร้อมโต๊ะข้าง 1 ชุด",1,41500,"01.01.33501",{"$f":"IF(BV310=\"จำหน่าย\",0,SUM(J310*K310))","v":41500},{"$f":"IF(K310<5000,0,M310)","v":41500},8,"2008-03-13",2922,5187.5,432.29166666666669,14.202600958247775,0,0,41499,0,41499,0,1,18,8,9,6828,"NO",null,null,null,null,null,null,null,null,null,null,null,null,null,null,null,12.5,null,null,null,null,null,null,null,null,null,null,null,null,null,null,null,null,null,null,null,null,null,null,"01","01","33501",null,null,null,"18 ปี  8 เดือน  9 วัน  ",305]
[{"$f":"A310+1","v":306},null,"2000-03-13",43,null,null,null,null,"ป้ายไฟวิ่ง 1 ชุด",1,37460.699999999997,"01.14.197",{"$f":"IF(BV311=\"จำหน่าย\",0,SUM(J311*K311))","v":37460.699999999997},{"$f":"IF(K311<5000,0,M311)","v":37460.699999999997},8,"2008-03-13",2922,4682.5874999999996,390.21562499999999,12.820225872689937,0,0,37459.699999999997,0,37459.699999999997,0,1,18,8,9,6828,"NO",null,null,null,null,null,null,null,null,null,null,null,null,null,null,null,12.5,null,null,null,null,null,null,null,null,null,null,null,null,null,null,null,null,null,null,null,null,null,null,"01","14","197",null,null,null,"18 ปี  8 เดือน  9 วัน  ",306]
[{"$f":"A311+1","v":307},null,"2000-03-13",43,null,null,null,null,"รถมินิบัส 1 คัน",1,984400,"02.02.29",{"$f":"IF(BV312=\"จำหน่าย\",0,SUM(J312*K312))","v":984400},{"$f":"IF(K312<5000,0,M312)","v":984400},5,"2005-03-13",1826,196880,16406.666666666668,539.10186199342832,0,0,984399,0,984399,0,1,18,8,9,6828,"NO",null,null,null,null,null,null,null,null,null,null,null,null,null,null,null,20,null,null,null,null,null,null,null,null,null,null,null,null,null,null,null,null,null,null,null,null,null,null,"02","02","29",null,null,null,"18 ปี  8 เดือน  9 วัน  ",307]
[{"$f":"A312+1","v":308},null,"2000-03-15",43,null,null,null,null,"แซกโซโฟน 2 คัน",2,58000,"12.34.07-08",{"$f":"IF(BV313=\"จำหน่าย\",0,SUM(J313*K313))","v":116000},{"$f":"IF(K313<5000,0,M313)","v":116000},5,"2005-03-15",1826,23200,1933.3333333333333,63.526834611171964,0,0,115998,0,115998,0,2,18,8,7,6826,"NO",null,null,null,null,null,null,null,null,null,null,null,null,null,null,null,20,null,null,null,null,null,null,null,null,null,null,null,null,null,null,null,null,null,null,null,null,null,null,"12","34","07-08",null,null,null,"18 ปี  8 เดือน  7 วัน  ",308]
[{"$f":"A313+1","v":309},null,"2000-03-20",43,null,null,null,null,"เครื่องปรับอากาศ 25,600 BTU 3 ค.",3,30000,"01.29.417-419",{"$f":"IF(BV314=\"จำหน่าย\",0,SUM(J314*K314))","v":90000},{"$f":"IF(K314<5000,0,M314)","v":90000},8,"2008-03-20",2922,11250,937.5,30.800821355236138,0,0,89997,0,89997,0,3,18,8,2,6821,"NO",null,null,null,null,null,null,null,null,null,null,null,null,null,null,null,12.5,null,null,null,null,null,null,null,null,null,null,null,null,null,null,null,null,null,null,null,null,null,null,"01","29","417-419",null,null,null,"18 ปี  8 เดือน  2 วัน  ",309]
[{"$f":"A314+1","v":310},null,"2000-03-20",43,null,null,null,null,"เครื่องปรับอากาศ 38,600 BTU 4 ค.",4,39500,"01.29.420-423",{"$f":"IF(BV315=\"จำหน่าย\",0,SUM(J315*K315))","v":158000},{"$f":"IF(K315<5000,0,M315)","v":158000},8,"2008-03-20",2922,19750,1645.8333333333333,54.072553045859003,0,0,157996,0,157996,0,4,18,8,2,6821,"NO",null,null,null,null,null,null,null,null,null,null,null,null,null,null,null,12.5,null,null,null,null,null,null,null,null,null,null,null,null,null,null,null,null,null,null,null,null,null,null,"01","29","420-423",null,null,null,"18 ปี  8 เดือน  2 วัน  ",310]
[{"$f":"A315+1","v":311},null,"2000-03-20",43,null,null,null,null,"เครื่องปรับอากาศ 56,700 BTU 2 ค.",2,62000,"01.29.424-425",{"$f":"IF(BV316=\"จำหน่าย\",0,SUM(J316*K316))","v":124000},{"$f":"IF(K316<5000,0,M316)","v":124000},8,"2008-03-20",2922,15500,1291.6666666666667,42.436687200547567,0,0,123998,0,123998,0,2,18,8,2,6821,"NO",null,null,null,null,null,null,null,null,null,null,null,null,null,null,null,12.5,null,null,null,null,null,null,null,null,null,null,null,null,null,null,null,null,null,null,null,null,null,null,"01","29","424-425",null,null,null,"18 ปี  8 เดือน  2 วัน  ",311]
[{"$f":"A316+1","v":312},null,"2000-03-21",43,null,null,null,null,"เครื่องปรับอากาศ 60,800 BTU 1 ค.",1,62500,"01.29.426",{"$f":"IF(BV317=\"จำหน่าย\",0,SUM(J317*K317))","v":62500},{"$f":"IF(K317<5000,0,M317)","v":62500},8,"2008-03-21",2922,7812.5,651.04166666666663,21.389459274469541,0,0,62499,0,62499,0,1,18,8,1,6820,"NO",null,null,null,null,null,null,null,null,null,null,null,null,null,null,null,12.5,null,null,null,null,null,null,null,null,null,null,null,null,null,null,null,null,null,null,null,null,null,null,"01","29","426",null,null,null,"18 ปี  8 เดือน  1 วัน  ",312]
[{"$f":"A317+1","v":313},null,"2000-03-21",43,null,null,null,null,"เครื่องฉายภาพจากคอมพิวเตอร์ 1 ค.",1,269640,"06.44.07",{"$f":"IF(BV318=\"จำหน่าย\",0,SUM(J318*K318))","v":269640},{"$f":"IF(K318<5000,0,M318)","v":269640},5,"2005-03-21",1826,53928,4494,147.6670317634173,0,0,269639,0,269639,0,1,18,8,1,6820,"NO",null,null,null,null,null,null,null,null,null,null,null,null,null,null,null,20,null,null,null,null,null,null,null,null,null,null,null,null,null,null,null,null,null,null,null,null,null,null,"06","44","07",null,null,null,"18 ปี  8 เดือน  1 วัน  ",313]
[{"$f":"A318+1","v":314},null,"2000-03-30",43,null,null,null,null,"ตู้เก็บของ 1 ชุด",1,70000,"01.06.1447",{"$f":"IF(BV319=\"จำหน่าย\",0,SUM(J319*K319))","v":70000},{"$f":"IF(K319<5000,0,M319)","v":70000},8,{"$f":"DATE(YEAR(C319)+O319,MONTH(C319),DAY(C319))","v":"2008-03-30"},{"$f":"IF(NOT(OR(ISBLANK(P319),ISBLANK(C319))),P319-C319,\"\")","v":2922},{"$f":"SLN(N319,,O319)","v":8750},{"$f":"SLN(R319,,12)","v":729.16666666666663},{"$f":"SLN(N319,,Q319)","v":23.956194387405887},{"$f":"IF(N319=0,0,IF(AE319<=Q319,1,0))","v":0},0,69999,0,69999,0,1,{"$f":"DATEDIF(C319,TODAY(),\"Y\")","v":18},{"$f":"DATEDIF(C319,TODAY(),\"YM\")","v":7},{"$f":"DATEDIF(C319,TODAY(),\"md\")+1","v":23},{"$f":"DATEDIF(C319,TODAY(),\"d\")+1","v":6811},{"$f":"IF(N319=0,\"No\",IF(AE319>Q319,\"NO\",\"YES\"))","v":"NO"},null,null,null,null,null,null,null,null,null,null,null,null,null,null,null,{"$f":"100/O319","v":12.5},null,null,null,null,null,null,null,null,null,null,null,null,null,null,null,null,null,null,null,null,null,null,"01","06","1447",null,null,null,{"$f":"CONCATENATE(AB319,\" ปี  \",AC319,\" เดือน  \",AD319,\" วัน  \")","v":"18 ปี  7 เดือน  23 วัน  "},{"$f":"A319","v":314}]
[{"$f":"A319+1","v":315},null,"2000-03-30",43,null,null,null,null,"เครื่องฉายภาพทึบแสง 2 ค.",2,43870,"06.38.10-11",{"$f":"IF(BV320=\"จำหน่าย\",0,SUM(J320*K320))","v":87740},{"$f":"IF(K320<5000,0,M320)","v":87740},5,"2005-03-30",1826,17548,1462.3333333333333,48.050383351588174,0,0,87738,0,87738,0,2,18,7,23,6811,"NO",null,null,null,null,null,null,null,null,null,null,null,null,null,null,null,20,null,null,null,null,null,null,null,null,null,null,null,null,null,null,null,null,null,null,null,null,null,null,"06","38","10-11",null,null,null,"18 ปี  7 เดือน  23 วัน  ",315]
[{"$f":"A320+1","v":316},null,"2000-03-31",43,null,null,null,null,"ชุดตู้ครัว 1 ชุด",1,53500,"01.58.251",{"$f":"IF(BV321=\"จำหน่าย\",0,SUM(J321*K321))","v":53500},{"$f":"IF(K321<5000,0,M321)","v":53500},8,"2008-03-31",2922,6687.5,557.29166666666663,18.309377138945926,0,0,53499,0,53499,0,1,18,7,22,6810,"NO",null,null,null,null,null,null,null,null,null,null,null,null,null,null,null,12.5,null,null,null,null,null,null,null,null,null,null,null,null,null,null,null,null,null,null,null,null,null,null,"01","58","251",null,null,null,"18 ปี  7 เดือน  22 วัน  ",316]
[{"$f":"A321+1","v":317},null,"2000-03-31",43,null,null,null,null,"เครื่องพิมพ์เลเซอร์ 1 ค.",1,53000,"01.72.215",{"$f":"IF(BV322=\"จำหน่าย\",0,SUM(J322*K322))","v":53000},{"$f":"IF(K322<5000,0,M322)","v":53000},3,"2003-03-31",1095,17666.666666666668,1472.2222222222224,48.401826484018265,0,0,52999,0,52999,0,1,18,7,22,6810,"NO",null,null,null,null,null,null,null,null,null,null,null,null,null,null,null,33.333333333333336,null,null,null,null,null,null,null,null,null,null,null,null,null,null,null,null,null,null,null,null,null,null,"01","72","215",null,null,null,"18 ปี  7 เดือน  22 วัน  ",317]
[{"$f":"A322+1","v":318},null,"2000-04-03",43,null,null,null,null,"โต๊ะปฏิบัติการเคมี 3 ชุด",3,213317,"01.02.5473-5475",{"$f":"IF(BV323=\"จำหน่าย\",0,SUM(J323*K323))","v":639951},{"$f":"IF(K323<5000,0,M323)","v":639951},8,"2008-04-03",2922,79993.875,6666.15625,219.01129363449692,0,0,639948,0,639948,0,3,18,7,19,6807,"NO",null,null,null,null,null,null,null,null,null,null,null,null,null,null,null,12.5,null,null,null,null,null,null,null,null,null,null,null,null,null,null,null,null,null,null,null,null,null,null,"01","02","5473-5475",null,null,null,"18 ปี  7 เดือน  19 วัน  ",318]
[{"$f":"A323+1","v":319},null,"2000-04-03",43,null,null,null,null,"โต๊ะปฏิบัติการเคมี 3 ชุด",3,213317,"01.02.5477-5479",{"$f":"IF(BV324=\"จำหน่าย\",0,SUM(J324*K324))","v":639951},{"$f":"IF(K324<5000,0,M324)","v":639951},8,"2008-04-03",2922,79993.875,6666.15625,219.01129363449692,0,0,639948,0,639948,0,3,18,7,19,6807,"NO",null,null,null,null,null,null,null,null,null,null,null,null,null,null,null,12.5,null,null,null,null,null,null,null,null,null,null,null,null,null,null,null,null,null,null,null,null,null,null,"01","02","5477-5479",null,null,null,"18 ปี  7 เดือน  19 วัน  ",319]
[{"$f":"A324+1","v":320},null,"2000-04-03",43,null,null,null,null,"โต๊ะปฏิบัติการเคมี 3 ชุด",3,81862,"01.02.5481-5483",{"$f":"IF(BV325=\"จำหน่าย\",0,SUM(J325*K325))","v":245586},{"$f":"IF(K325<5000,0,M325)","v":245586},8,"2008-04-03",2922,30698.25,2558.1875,84.047227926078023,0,0,245583,0,245583,0,3,18,7,19,6807,"NO",null,null,null,null,null,null,null,null,null,null,null,null,null,null,null,12.5,null,null,null,null,null,null,null,null,null,null,null,null,null,null,null,null,null,null,null,null,null,null,"01","02","5481-5483",null,null,null,"18 ปี  7 เดือน  19 วัน  ",320]
[{"$f":"A325+1","v":321},null,"2000-04-03",43,null,null,null,null,"โต๊ะปฏิบัติการเคมี 3 ชุด",3,81862,"01.02.5485-5487",{"$f":"IF(BV326=\"จำหน่าย\",0,SUM(J326*K326))","v":245586},{"$f":"IF(K326<5000,0,M326)","v":245586},8,"2008-04-03",2922,30698.25,2558.1875,84.047227926078023,0,0,245583,0,245583,0,3,18,7,19,6807,"NO",null,null,null,null,null,null,null,null,null,null,null,null,null,null,null,12.5,null,null,null,null,null,null,null,null,null,null,null,null,null,null,null,null,null,null,null,null,null,null,"01","02","5485-5487",null,null,null,"18 ปี  7 เดือน  19 วัน  ",321]
[{"$f":"A326+1","v":322},null,"2000-04-03",43,null,null,null,null,"โต๊ะปฏิบัติการเคมี 3 ชุด",3,81862,"01.02.5489-5491",{"$f":"IF(BV327=\"จำหน่าย\",0,SUM(J327*K327))","v":245586},{"$f":"IF(K327<5000,0,M327)","v":245586},8,"2008-04-03",2922,30698.25,2558.1875,84.047227926078023,0,{"$f":"SUM(R327*U327/12)","v":0},{"$f":"IF(N327=0,0,IF((R327*AB327)+(R327*AC327/12)>=N327,N327-J327,((R327*AB327)+(R327*AC327/12))))","v":245583},{"$f":"SUM(T327*U327)","v":0},{"$f":"IF(N327=0,0,IF((DATEDIF(C327,TODAY(),\"d\")+1)*T327>=N327,N327-J327,(DATEDIF(C327,TODAY(),\"d\")+1)*T327))","v":245583},{"$f":"IF(U327=0,0,IF(OR(DAY(C327)=1,MONTH(C327)<>MONTH(TODAY()),YEAR(C327)<>YEAR(TODAY())),T327*((DAY(DATE(YEAR(TODAY()),MONTH(TODAY())+1,1)-1))),T327*((DAY(DATE(YEAR(TODAY()),MONTH(TODAY())+1,1)-1)-DAY(C327)+1))))","v":0},{"$f":"IF(N327=0,0,IF(X327>=N327,(J327),(N327-Y327)))","v":3},18,7,19,6807,"NO",null,null,null,null,null,null,null,null,null,null,null,null,null,null,null,12.5,null,null,null,null,null,null,null,null,null,null,null,null,null,null,null,null,null,null,null,null,null,null,"01","02","5489-5491",null,null,null,"18 ปี  7 เดือน  19 วัน  ",322]
[{"$f":"A327+1","v":323},null,"2000-04-03",43,null,null,null,null,"โต๊ะปฏิบัติการเคมี 3 ชุด",3,81862,"01.02.5495-5497",{"$f":"IF(BV328=\"จำหน่าย\",0,SUM(J328*K328))","v":245586},{"$f":"IF(K328<5000,0,M328)","v":245586},8,"2008-04-03",2922,30698.25,2558.1875,84.047227926078023,0,0,245583,0,245583,0,3,18,7,19,6807,"NO",null,null,null,null,null,null,null,null,null,null,null,null,null,null,null,12.5,null,null,null,null,null,null,null,null,null,null,null,null,null,null,null,null,null,null,null,null,null,null,"01","02","5495-5497",null,null,null,"18 ปี  7 เดือน  19 วัน  ",323]
[{"$f":"A328+1","v":324},null,"2000-04-03",43,null,null,null,null,"โต๊ะปฏิบัติการเคมี 3 ชุด",3,81862,"01.02.5502-5504",{"$f":"IF(BV329=\"จำหน่าย\",0,SUM(J329*K329))","v":245586},{"$f":"IF(K329<5000,0,M329)","v":245586},8,"2008-04-03",2922,30698.25,2558.1875,84.047227926078023,0,0,245583,0,245583,0,3,18,7,19,6807,"NO",null,null,null,null,null,null,null,null,null,null,null,null,null,null,null,12.5,null,null,null,null,null,null,null,null,null,null,null,null,null,null,null,null,null,null,null,null,null,null,"01","02","5502-5504",null,null,null,"18 ปี  7 เดือน  19 วัน  ",324]
[{"$f":"A329+1","v":325},null,"2000-04-03",43,null,null,null,null,"โต๊ะปฏิบัติการชีวะวิทยา 3 ชุด",3,204594,"01.02.5506-5508",{"$f":"IF(BV330=\"จำหน่าย\",0,SUM(J330*K330))","v":613782},{"$f":"IF(K330<5000,0,M330)","v":613782},8,"2008-04-03",2922,76722.75,6393.5625,210.05544147843943,0,0,613779,0,613779,0,3,18,7,19,6807,"NO",null,null,null,null,null,null,null,null,null,null,null,null,null,null,null,12.5,null,null,null,null,null,null,null,null,null,null,null,null,null,null,null,null,null,null,null,null,null,null,"01","02","5506-5508",null,null,null,"18 ปี  7 เดือน  19 วัน  ",325]
[{"$f":"A330+1","v":326},null,"2000-04-03",43,null,null,null,null,"โต๊ะปฏิบัติการอาจารย์ 1 ชุด",1,30103.5,"01.02.5509",{"$f":"IF(BV331=\"จำหน่าย\",0,SUM(J331*K331))","v":30103.5},{"$f":"IF(K331<5000,0,M331)","v":30103.5},8,"2008-04-03",2922,3762.9375,313.578125,10.302361396303901,0,0,30102.5,0,30102.5,0,1,18,7,19,6807,"NO",null,null,null,null,null,null,null,null,null,null,null,null,null,null,null,12.5,null,null,null,null,null,null,null,null,null,null,null,null,null,null,null,null,null,null,null,null,null,null,"01","02","5509",null,null,null,"18 ปี  7 เดือน  19 วัน  ",326]
[{"$f":"A331+1","v":327},null,"2000-04-03",43,null,null,null,null,"โต๊ะปฏิบัติการชีวะวิทยา 3 ชุด",3,204594,"01.02.5511-5513",{"$f":"IF(BV332=\"จำหน่าย\",0,SUM(J332*K332))","v":613782},{"$f":"IF(K332<5000,0,M332)","v":613782},8,"2008-04-03",2922,76722.75,6393.5625,210.05544147843943,0,0,613779,0,613779,0,3,18,7,19,6807,"NO",null,null,null,null,null,null,null,null,null,null,null,null,null,null,null,12.5,null,null,null,null,null,null,null,null,null,null,null,null,null,null,null,null,null,null,null,null,null,null,"01","02","5511-5513",null,null,null,"18 ปี  7 เดือน  19 วัน  ",327]
[{"$f":"A332+1","v":328},null,"2000-04-03",43,null,null,null,null,"โต๊ะปฏิบัติการอาจารย์ 1 ชุด",1,30103.5,"01.02.5514",{"$f":"IF(BV333=\"จำหน่าย\",0,SUM(J333*K333))","v":30103.5},{"$f":"IF(K333<5000,0,M333)","v":30103.5},8,"2008-04-03",2922,3762.9375,313.578125,10.302361396303901,0,0,30102.5,0,30102.5,0,1,18,7,19,6807,"NO",null,null,null,null,null,null,null,null,null,null,null,null,null,null,null,12.5,null,null,null,null,null,null,null,null,null,null,null,null,null,null,null,null,null,null,null,null,null,null,"01","02","5514",null,null,null,"18 ปี  7 เดือน  19 วัน  ",328]
[{"$f":"A333+1","v":329},null,"2000-04-03",43,null,null,null,null,"โต๊ะปฏิบัติการชีวะวิทยา 3 ชุด",3,75701,"01.02.5515-5517",{"$f":"IF(BV334=\"จำหน่าย\",0,SUM(J334*K334))","v":227103},{"$f":"IF(K334<5000,0,M334)","v":227103},8,"2008-04-03",2922,28387.875,2365.65625,77.721765913757707,0,0,227100,0,227100,0,3,18,7,19,6807,"NO",null,null,null,null,null,null,null,null,null,null,null,null,null,null,null,12.5,null,null,null,null,null,null,null,null,null,null,null,null,null,null,null,null,null,null,null,null,null,null,"01","02","5515-5517",null,null,null,"18 ปี  7 เดือน  19 วัน  ",329]
[{"$f":"A334+1","v":330},null,"2000-04-03",43,null,null,null,null,"โต๊ะปฏิบัติการชีวะวิทยา 3 ชุด",3,75701,"01.02.5520-5522",{"$f":"IF(BV335=\"จำหน่าย\",0,SUM(J335*K335))","v":227103},{"$f":"IF(K335<5000,0,M335)","v":227103},8,"2008-04-03",2922,28387.875,2365.65625,77.721765913757707,0,0,227100,0,227100,0,3,18,7,19,6807,"NO",null,null,null,null,null,null,null,null,null,null,null,null,null,null,null,12.5,null,null,null,null,null,null,null,null,null,null,null,null,null,null,null,null,null,null,null,null,null,null,"01","02","5520-5522",null,null,null,"18 ปี  7 เดือน  19 วัน  ",330]
[{"$f":"A335+1","v":331},null,"2000-04-03",43,null,null,null,null,"โต๊ะปฏิบัติการชีวะวิทยา 3 ชุด",3,75701,"01.02.5526-5528",{"$f":"IF(BV336=\"จำหน่าย\",0,SUM(J336*K336))","v":227103},{"$f":"IF(K336<5000,0,M336)","v":227103},8,"2008-04-03",2922,28387.875,2365.65625,77.721765913757707,0,0,227100,0,227100,0,3,18,7,19,6807,"NO",null,null,null,null,null,null,null,null,null,null,null,null,null,null,null,12.5,null,null,null,null,null,null,null,null,null,null,null,null,null,null,null,null,null,null,null,null,null,null,"01","02","5526-5528",null,null,null,"18 ปี  7 เดือน  19 วัน  ",331]
[{"$f":"A336+1","v":332},null,"2000-04-03",43,null,null,null,null,"โต๊ะปฏิบัติการชีวะวิทยา 3 ชุด",3,75701,"01.02.5530-5532",{"$f":"IF(BV337=\"จำหน่าย\",0,SUM(J337*K337))","v":227103},{"$f":"IF(K337<5000,0,M337)","v":227103},8,"2008-04-03",2922,28387.875,2365.65625,77.721765913757707,0,0,227100,0,227100,0,3,18,7,19,6807,"NO",null,null,null,null,null,null,null,null,null,null,null,null,null,null,null,12.5,null,null,null,null,null,null,null,null,null,null,null,null,null,null,null,null,null,null,null,null,null,null,"01","02","5530-5532",null,null,null,"18 ปี  7 เดือน  19 วัน  ",332]
[{"$f":"A337+1","v":333},null,"2000-04-03",43,null,null,null,null,"โต๊ะปฏิบัติการอาจารย์ 1 ชุด",1,30103.5,"01.02.5533",{"$f":"IF(BV338=\"จำหน่าย\",0,SUM(J338*K338))","v":30103.5},{"$f":"IF(K338<5000,0,M338)","v":30103.5},8,"2008-04-03",2922,3762.9375,313.578125,10.302361396303901,0,0,30102.5,0,30102.5,0,1,18,7,19,6807,"NO",null,null,null,null,null,null,null,null,null,null,null,null,null,null,null,12.5,null,null,null,null,null,null,null,null,null,null,null,null,null,null,null,null,null,null,null,null,null,null,"01","02","5533",null,null,null,"18 ปี  7 เดือน  19 วัน  ",333]
[{"$f":"A338+1","v":334},null,"2000-04-03",43,null,null,null,null,"ตู้บัตรรายการ 2 หลัง",2,41195,"01.05.640-641",{"$f":"IF(BV339=\"จำหน่าย\",0,SUM(J339*K339))","v":82390},{"$f":"IF(K339<5000,0,M339)","v":82390},8,"2008-04-03",2922,10298.75,858.22916666666663,28.196440793976727,0,0,82388,0,82388,0,2,18,7,19,6807,"NO",null,null,null,null,null,null,null,null,null,null,null,null,null,null,null,12.5,null,null,null,null,null,null,null,null,null,null,null,null,null,null,null,null,null,null,null,null,null,null,"01","05","640-641",null,null,null,"18 ปี  7 เดือน  19 วัน  ",334]
[{"$f":"A339+1","v":335},null,"2000-04-03",43,null,null,null,null,"ตู้เก็บอุปกรณ์ 1 ชุด",1,63379,"01.06.1030",{"$f":"IF(BV340=\"จำหน่าย\",0,SUM(J340*K340))","v":63379},{"$f":"IF(K340<5000,0,M340)","v":63379},8,"2008-04-03",2922,7922.375,660.19791666666663,21.690280629705683,0,0,63378,0,63378,0,1,18,7,19,6807,"NO",null,null,null,null,null,null,null,null,null,null,null,null,null,null,null,12.5,null,null,null,null,null,null,null,null,null,null,null,null,null,null,null,null,null,null,null,null,null,null,"01","06","1030",null,null,null,"18 ปี  7 เดือน  19 วัน  ",335]
[{"$f":"A340+1","v":336},null,"2000-04-03",43,null,null,null,null,"ตู้เก็บอุปกรณ์ 1 ชุด",1,32131.75,"01.06.1043",{"$f":"IF(BV341=\"จำหน่าย\",0,SUM(J341*K341))","v":32131.75},{"$f":"IF(K341<5000,0,M341)","v":32131.75},8,"2008-04-03",2922,4016.46875,334.70572916666669,10.996492128678987,0,0,32130.75,0,32130.75,0,1,18,7,19,6807,"NO",null,null,null,null,null,null,null,null,null,null,null,null,null,null,null,12.5,null,null,null,null,null,null,null,null,null,null,null,null,null,null,null,null,null,null,null,null,null,null,"01","06","1043",null,null,null,"18 ปี  7 เดือน  19 วัน  ",336]
[{"$f":"A341+1","v":337},null,"2000-04-03",43,null,null,null,null,"ตู้เก็บอุปกรณ์ 1 ชุด",1,32330,"01.06.1047",{"$f":"IF(BV342=\"จำหน่าย\",0,SUM(J342*K342))","v":32330},{"$f":"IF(K342<5000,0,M342)","v":32330},8,"2008-04-03",2922,4041.25,336.77083333333331,11.064339493497604,0,0,32329,0,32329,0,1,18,7,19,6807,"NO",null,null,null,null,null,null,null,null,null,null,null,null,null,null,null,12.5,null,null,null,null,null,null,null,null,null,null,null,null,null,null,null,null,null,null,null,null,null,null,"01","06","1047",null,null,null,"18 ปี  7 เดือน  19 วัน  ",337]
[{"$f":"A342+1","v":338},null,"2000-04-03",43,null,null,null,null,"ตู้เก็บอุปกรณ์ 1 ชุด",1,30500,"01.06.1059",{"$f":"IF(BV343=\"จำหน่าย\",0,SUM(J343*K343))","v":30500},{"$f":"IF(K343<5000,0,M343)","v":30500},8,"2008-04-03",2922,3812.5,317.70833333333331,10.438056125941136,0,0,30499,0,30499,0,1,18,7,19,6807,"NO",null,null,null,null,null,null,null,null,null,null,null,null,null,null,null,12.5,null,null,null,null,null,null,null,null,null,null,null,null,null,null,null,null,null,null,null,null,null,null,"01","06","1059",null,null,null,"18 ปี  7 เดือน  19 วัน  ",338]
[{"$f":"A343+1","v":339},null,"2000-04-03",43,null,null,null,null,"ตู้เก็บอุปกรณ์ 1 ชุด",1,31720,"01.06.1060",{"$f":"IF(BV344=\"จำหน่าย\",0,SUM(J344*K344))","v":31720},{"$f":"IF(K344<5000,0,M344)","v":31720},8,"2008-04-03",2922,3965,330.41666666666669,10.855578370978781,0,0,31719,0,31719,0,1,18,7,19,6807,"NO",null,null,null,null,null,null,null,null,null,null,null,null,null,null,null,12.5,null,null,null,null,null,null,null,null,null,null,null,null,null,null,null,null,null,null,null,null,null,null,"01","06","1060",null,null,null,"18 ปี  7 เดือน  19 วัน  ",339]
[{"$f":"A344+1","v":340},null,"2000-04-03",43,null,null,null,null,"ตู้เก็บอุปกรณ์ 1 ชุด",1,62037,"01.06.1066",{"$f":"IF(BV345=\"จำหน่าย\",0,SUM(J345*K345))","v":62037},{"$f":"IF(K345<5000,0,M345)","v":62037},8,"2008-04-03",2922,7754.625,646.21875,21.23100616016427,0,0,62036,0,62036,0,1,18,7,19,6807,"NO",null,null,null,null,null,null,null,null,null,null,null,null,null,null,null,12.5,null,null,null,null,null,null,null,null,null,null,null,null,null,null,null,null,null,null,null,null,null,null,"01","06","1066",null,null,null,"18 ปี  7 เดือน  19 วัน  ",340]
[{"$f":"A345+1","v":341},null,"2000-04-03",43,null,null,null,null,"ตู้เก็บอุปกรณ์ 1 ชุด",1,73810,"01.06.1067",{"$f":"IF(BV346=\"จำหน่าย\",0,SUM(J346*K346))","v":73810},{"$f":"IF(K346<5000,0,M346)","v":73810},8,"2008-04-03",2922,9226.25,768.85416666666663,25.260095824777551,0,0,73809,0,73809,0,1,18,7,19,6807,"NO",null,null,null,null,null,null,null,null,null,null,null,null,null,null,null,12.5,null,null,null,null,null,null,null,null,null,null,null,null,null,null,null,null,null,null,null,null,null,null,"01","06","1067",null,null,null,"18 ปี  7 เดือน  19 วัน  ",341]
[{"$f":"A346+1","v":342},null,"2000-04-03",43,null,null,null,null,"ตู้เก็บอุปกรณ์ 1 ชุด",1,55510,"01.06.1068",{"$f":"IF(BV347=\"จำหน่าย\",0,SUM(J347*K347))","v":55510},{"$f":"IF(K347<5000,0,M347)","v":55510},8,"2008-04-03",2922,6938.75,578.22916666666663,18.997262149212869,0,0,55509,0,55509,0,1,18,7,19,6807,"NO",null,null,null,null,null,null,null,null,null,null,null,null,null,null,null,12.5,null,null,null,null,null,null,null,null,null,null,null,null,null,null,null,null,null,null,null,null,null,null,"01","06","1068",null,null,null,"18 ปี  7 เดือน  19 วัน  ",342]
[{"$f":"A347+1","v":343},null,"2000-04-03",43,null,null,null,null,"ตู้เก็บอุปกรณ์ 1 ชุด",1,66429,"01.06.1071",{"$f":"IF(BV348=\"จำหน่าย\",0,SUM(J348*K348))","v":66429},{"$f":"IF(K348<5000,0,M348)","v":66429},8,"2008-04-03",2922,8303.625,691.96875,22.734086242299796,0,0,66428,0,66428,0,1,18,7,19,6807,"NO",null,null,null,null,null,null,null,null,null,null,null,null,null,null,null,12.5,null,null,null,null,null,null,null,null,null,null,null,null,null,null,null,null,null,null,null,null,null,null,"01","06","1071",null,null,null,"18 ปี  7 เดือน  19 วัน  ",343]
[{"$f":"A348+1","v":344},null,"2000-04-03",43,null,null,null,null,"ตู้เก็บอุปกรณ์ 1 ชุด",1,66429,"01.06.1074",{"$f":"IF(BV349=\"จำหน่าย\",0,SUM(J349*K349))","v":66429},{"$f":"IF(K349<5000,0,M349)","v":66429},8,"2008-04-03",2922,8303.625,691.96875,22.734086242299796,0,0,66428,0,66428,0,1,18,7,19,6807,"NO",null,null,null,null,null,null,null,null,null,null,null,null,null,null,null,12.5,null,null,null,null,null,null,null,null,null,null,null,null,null,null,null,null,null,null,null,null,null,null,"01","06","1074",null,null,null,"18 ปี  7 เดือน  19 วัน  ",344]
[{"$f":"A349+1","v":345},null,"2000-04-03",43,null,null,null,null,"ตู้เก็บอุปกรณ์ 1 ชุด",1,47885,"01.06.1076",{"$f":"IF(BV350=\"จำหน่าย\",0,SUM(J350*K350))","v":47885},{"$f":"IF(K350<5000,0,M350)","v":47885},8,"2008-04-03",2922,5985.625,498.80208333333331,16.387748117727583,0,0,47884,0,47884,0,1,18,7,19,6807,"NO",null,null,null,null,null,null,null,null,null,null,null,null,null,null,null,12.5,null,null,null,null,null,null,null,null,null,null,null,null,null,null,null,null,null,null,null,null,null,null,"01","06","1076",null,null,null,"18 ปี  7 เดือน  19 วัน  ",345]
[{"$f":"A350+1","v":346},null,"2000-04-03",43,null,null,null,null,"ตู้เก็บอุปกรณ์ 1 ชุด",1,40016,"01.06.1077",{"$f":"IF(BV351=\"จำหน่าย\",0,SUM(J351*K351))","v":40016},{"$f":"IF(K351<5000,0,M351)","v":40016},8,"2008-04-03",2922,5002,416.83333333333331,13.69472963723477,0,0,40015,0,40015,0,1,18,7,19,6807,"NO",null,null,null,null,null,null,null,null,null,null,null,null,null,null,null,12.5,null,null,null,null,null,null,null,null,null,null,null,null,null,null,null,null,null,null,null,null,null,null,"01","06","1077",null,null,null,"18 ปี  7 เดือน  19 วัน  ",346]
[{"$f":"A351+1","v":347},null,"2000-04-03",43,null,null,null,null,"ตู้เก็บอุปกรณ์ 1 ชุด",1,38430,"01.06.1078",{"$f":"IF(BV352=\"จำหน่าย\",0,SUM(J352*K352))","v":38430},{"$f":"IF(K352<5000,0,M352)","v":38430},8,"2008-04-03",2922,4803.75,400.3125,13.151950718685832,0,0,38429,0,38429,0,1,18,7,19,6807,"NO",null,null,null,null,null,null,null,null,null,null,null,null,null,null,null,12.5,null,null,null,null,null,null,null,null,null,null,null,null,null,null,null,null,null,null,null,null,null,null,"01","06","1078",null,null,null,"18 ปี  7 เดือน  19 วัน  ",347]
[{"$f":"A352+1","v":348},null,"2000-04-03",43,null,null,null,null,"ตู้เก็บอุปกรณ์ 1 ชุด",1,32086,"01.06.1079",{"$f":"IF(BV353=\"จำหน่าย\",0,SUM(J353*K353))","v":32086},{"$f":"IF(K353<5000,0,M353)","v":32086},8,"2008-04-03",2922,4010.75,334.22916666666669,10.980835044490075,0,0,32085,0,32085,0,1,18,7,19,6807,"NO",null,null,null,null,null,null,null,null,null,null,null,null,null,null,null,12.5,null,null,null,null,null,null,null,null,null,null,null,null,null,null,null,null,null,null,null,null,null,null,"01","06","1079",null,null,null,"18 ปี  7 เดือน  19 วัน  ",348]
[{"$f":"A353+1","v":349},null,"2000-04-03",43,null,null,null,null,"ตู้เก็บอุปกรณ์ 1 ชุด",1,32330,"01.06.1080",{"$f":"IF(BV354=\"จำหน่าย\",0,SUM(J354*K354))","v":32330},{"$f":"IF(K354<5000,0,M354)","v":32330},8,"2008-04-03",2922,4041.25,336.77083333333331,11.064339493497604,0,0,32329,0,32329,0,1,18,7,19,6807,"NO",null,null,null,null,null,null,null,null,null,null,null,null,null,null,null,12.5,null,null,null,null,null,null,null,null,null,null,null,null,null,null,null,null,null,null,null,null,null,null,"01","06","1080",null,null,null,"18 ปี  7 เดือน  19 วัน  ",349]
[{"$f":"A354+1","v":350},null,"2000-04-03",43,null,null,null,null,"ตู้เก็บอุปกรณ์ 1 ชุด",1,38186,"01.06.1081",{"$f":"IF(BV355=\"จำหน่าย\",0,SUM(J355*K355))","v":38186},{"$f":"IF(K355<5000,0,M355)","v":38186},8,"2008-04-03",2922,4773.25,397.77083333333331,13.068446269678303,0,0,38185,0,38185,0,1,18,7,19,6807,"NO",null,null,null,null,null,null,null,null,null,null,null,null,null,null,null,12.5,null,null,null,null,null,null,null,null,null,null,null,null,null,null,null,null,null,null,null,null,null,null,"01","06","1081",null,null,null,"18 ปี  7 เดือน  19 วัน  ",350]
[{"$f":"A355+1","v":351},null,"2000-04-03",43,null,null,null,null,"ตู้เก็บอุปกรณ์ 1 ชุด",1,38430,"01.06.1082",{"$f":"IF(BV356=\"จำหน่าย\",0,SUM(J356*K356))","v":38430},{"$f":"IF(K356<5000,0,M356)","v":38430},8,"2008-04-03",2922,4803.75,400.3125,13.151950718685832,0,0,38429,0,38429,0,1,18,7,19,6807,"NO",null,null,null,null,null,null,null,null,null,null,null,null,null,null,null,12.5,null,null,null,null,null,null,null,null,null,null,null,null,null,null,null,null,null,null,null,null,null,null,"01","06","1082",null,null,null,"18 ปี  7 เดือน  19 วัน  ",351]
[{"$f":"A356+1","v":352},null,"2000-04-03",43,null,null,null,null,"ตู้เก็บอุปกรณ์ 1 ชุด",1,66429,"01.06.1085",{"$f":"IF(BV357=\"จำหน่าย\",0,SUM(J357*K357))","v":66429},{"$f":"IF(K357<5000,0,M357)","v":66429},8,"2008-04-03",2922,8303.625,691.96875,22.734086242299796,0,0,66428,0,66428,0,1,18,7,19,6807,"NO",null,null,null,null,null,null,null,null,null,null,null,null,null,null,null,12.5,null,null,null,null,null,null,null,null,null,null,null,null,null,null,null,null,null,null,null,null,null,null,"01","06","1085",null,null,null,"18 ปี  7 เดือน  19 วัน  ",352]
[{"$f":"A357+1","v":353},null,"2000-04-03",43,null,null,null,null,"ตู้เก็บอุปกรณ์ 1 ชุด",1,38430,"01.06.1088",{"$f":"IF(BV358=\"จำหน่าย\",0,SUM(J358*K358))","v":38430},{"$f":"IF(K358<5000,0,M358)","v":38430},8,"2008-04-03",2922,4803.75,400.3125,13.151950718685832,0,0,38429,0,38429,0,1,18,7,19,6807,"NO",null,null,null,null,null,null,null,null,null,null,null,null,null,null,null,12.5,null,null,null,null,null,null,null,null,null,null,null,null,null,null,null,null,null,null,null,null,null,null,"01","06","1088",null,null,null,"18 ปี  7 เดือน  19 วัน  ",353]
[{"$f":"A358+1","v":354},null,"2000-04-03",43,null,null,null,null,"ตู้เก็บอุปกรณ์ 1 ชุด",1,38430,"01.06.1089",{"$f":"IF(BV359=\"จำหน่าย\",0,SUM(J359*K359))","v":38430},{"$f":"IF(K359<5000,0,M359)","v":38430},8,"2008-04-03",2922,4803.75,400.3125,13.151950718685832,0,0,38429,0,38429,0,1,18,7,19,6807,"NO",null,null,null,null,null,null,null,null,null,null,null,null,null,null,null,12.5,null,null,null,null,null,null,null,null,null,null,null,null,null,null,null,null,null,null,null,null,null,null,"01","06","1089",null,null,null,"18 ปี  7 เดือน  19 วัน  ",354]
[{"$f":"A359+1","v":355},null,"2000-04-03",43,null,null,null,null,"ตู้เก็บอุปกรณ์ 1 ชุด",1,47092,"01.06.1092",{"$f":"IF(BV360=\"จำหน่าย\",0,SUM(J360*K360))","v":47092},{"$f":"IF(K360<5000,0,M360)","v":47092},8,"2008-04-03",2922,5886.5,490.54166666666669,16.116358658453116,0,0,47091,0,47091,0,1,18,7,19,6807,"NO",null,null,null,null,null,null,null,null,null,null,null,null,null,null,null,12.5,null,null,null,null,null,null,null,null,null,null,null,null,null,null,null,null,null,null,null,null,null,null,"01","06","1092",null,null,null,"18 ปี  7 เดือน  19 วัน  ",355]
[{"$f":"A360+1","v":356},null,"2000-04-03",43,null,null,null,null,"ตู้เก็บอุปกรณ์ 1 ชุด",1,47092,"01.06.1093",{"$f":"IF(BV361=\"จำหน่าย\",0,SUM(J361*K361))","v":47092},{"$f":"IF(K361<5000,0,M361)","v":47092},8,"2008-04-03",2922,5886.5,490.54166666666669,16.116358658453116,0,0,47091,0,47091,0,1,18,7,19,6807,"NO",null,null,null,null,null,null,null,null,null,null,null,null,null,null,null,12.5,null,null,null,null,null,null,null,null,null,null,null,null,null,null,null,null,null,null,null,null,null,null,"01","06","1093",null,null,null,"18 ปี  7 เดือน  19 วัน  ",356]
[{"$f":"A361+1","v":357},null,"2000-04-03",43,null,null,null,null,"ตู้เก็บอุปกรณ์ 1 ชุด",1,67710,"01.06.1101",{"$f":"IF(BV362=\"จำหน่าย\",0,SUM(J362*K362))","v":67710},{"$f":"IF(K362<5000,0,M362)","v":67710},8,"2008-04-03",2922,8463.75,705.3125,23.172484599589321,0,0,67709,0,67709,0,1,18,7,19,6807,"NO",null,null,null,null,null,null,null,null,null,null,null,null,null,null,null,12.5,null,null,null,null,null,null,null,null,null,null,null,null,null,null,null,null,null,null,null,null,null,null,"01","06","1101",null,null,null,"18 ปี  7 เดือน  19 วัน  ",357]
[{"$f":"A362+1","v":358},null,"2000-04-03",43,null,null,null,null,"ตู้เก็บอุปกรณ์ 1 ชุด",1,56181,"01.06.1102",{"$f":"IF(BV363=\"จำหน่าย\",0,SUM(J363*K363))","v":56181},{"$f":"IF(K363<5000,0,M363)","v":56181},8,"2008-04-03",2922,7022.625,585.21875,19.226899383983572,0,0,56180,0,56180,0,1,18,7,19,6807,"NO",null,null,null,null,null,null,null,null,null,null,null,null,null,null,null,12.5,null,null,null,null,null,null,null,null,null,null,null,null,null,null,null,null,null,null,null,null,null,null,"01","06","1102",null,null,null,"18 ปี  7 เดือน  19 วัน  ",358]
[{"$f":"A363+1","v":359},null,"2000-04-03",43,null,null,null,null,"ตู้เก็บอุปกรณ์ 1 ชุด",1,67710,"01.06.1104",{"$f":"IF(BV364=\"จำหน่าย\",0,SUM(J364*K364))","v":67710},{"$f":"IF(K364<5000,0,M364)","v":67710},8,"2008-04-03",2922,8463.75,705.3125,23.172484599589321,0,0,67709,0,67709,0,1,18,7,19,6807,"NO",null,null,null,null,null,null,null,null,null,null,null,null,null,null,null,12.5,null,null,null,null,null,null,null,null,null,null,null,null,null,null,null,null,null,null,null,null,null,null,"01","06","1104",null,null,null,"18 ปี  7 เดือน  19 วัน  ",359]
[{"$f":"A364+1","v":360},null,"2000-04-03",43,null,null,null,null,"ตู้เก็บอุปกรณ์ 1 ชุด",1,67710,"01.06.1106",{"$f":"IF(BV365=\"จำหน่าย\",0,SUM(J365*K365))","v":67710},{"$f":"IF(K365<5000,0,M365)","v":67710},8,"2008-04-03",2922,8463.75,705.3125,23.172484599589321,0,0,67709,0,67709,0,1,18,7,19,6807,"NO",null,null,null,null,null,null,null,null,null,null,null,null,null,null,null,12.5,null,null,null,null,null,null,null,null,null,null,null,null,null,null,null,null,null,null,null,null,null,null,"01","06","1106",null,null,null,"18 ปี  7 เดือน  19 วัน  ",360]
[{"$f":"A365+1","v":361},null,"2000-04-03",43,null,null,null,null,"ตู้เก็บอุปกรณ์ 1 ชุด",1,61122,"01.06.1108",{"$f":"IF(BV366=\"จำหน่าย\",0,SUM(J366*K366))","v":61122},{"$f":"IF(K366<5000,0,M366)","v":61122},8,"2008-04-03",2922,7640.25,636.6875,20.917864476386036,0,0,61121,0,61121,0,1,18,7,19,6807,"NO",null,null,null,null,null,null,null,null,null,null,null,null,null,null,null,12.5,null,null,null,null,null,null,null,null,null,null,null,null,null,null,null,null,null,null,null,null,null,null,"01","06","1108",null,null,null,"18 ปี  7 เดือน  19 วัน  ",361]
[{"$f":"A366+1","v":362},null,"2000-04-03",43,null,null,null,null,"ตู้เก็บอุปกรณ์ 1 ชุด",1,91500,"01.06.1109",{"$f":"IF(BV367=\"จำหน่าย\",0,SUM(J367*K367))","v":91500},{"$f":"IF(K367<5000,0,M367)","v":91500},8,"2008-04-03",2922,11437.5,953.125,31.31416837782341,0,0,91499,0,91499,0,1,18,7,19,6807,"NO",null,null,null,null,null,null,null,null,null,null,null,null,null,null,null,12.5,null,null,null,null,null,null,null,null,null,null,null,null,null,null,null,null,null,null,null,null,null,null,"01","06","1109",null,null,null,"18 ปี  7 เดือน  19 วัน  ",362]
[{"$f":"A367+1","v":363},null,"2000-04-03",43,null,null,null,null,"ตู้เก็บอุปกรณ์ 1 ชุด",1,67710,"01.06.1111",{"$f":"IF(BV368=\"จำหน่าย\",0,SUM(J368*K368))","v":67710},{"$f":"IF(K368<5000,0,M368)","v":67710},8,"2008-04-03",2922,8463.75,705.3125,23.172484599589321,0,0,67709,0,67709,0,1,18,7,19,6807,"NO",null,null,null,null,null,null,null,null,null,null,null,null,null,null,null,12.5,null,null,null,null,null,null,null,null,null,null,null,null,null,null,null,null,null,null,null,null,null,null,"01","06","1111",null,null,null,"18 ปี  7 เดือน  19 วัน  ",363]
[{"$f":"A368+1","v":364},null,"2000-04-03",43,null,null,null,null,"ตู้เก็บอุปกรณ์ 1 ชุด",1,31720,"01.06.1113",{"$f":"IF(BV369=\"จำหน่าย\",0,SUM(J369*K369))","v":31720},{"$f":"IF(K369<5000,0,M369)","v":31720},8,"2008-04-03",2922,3965,330.41666666666669,10.855578370978781,0,0,31719,0,31719,0,1,18,7,19,6807,"NO",null,null,null,null,null,null,null,null,null,null,null,null,null,null,null,12.5,null,null,null,null,null,null,null,null,null,null,null,null,null,null,null,null,null,null,null,null,null,null,"01","06","1113",null,null,null,"18 ปี  7 เดือน  19 วัน  ",364]
[{"$f":"A369+1","v":365},null,"2000-04-03",43,null,null,null,null,"ตู้เก็บอุปกรณ์ 1 ชุด",1,35990,"01.06.1114",{"$f":"IF(BV370=\"จำหน่าย\",0,SUM(J370*K370))","v":35990},{"$f":"IF(K370<5000,0,M370)","v":35990},8,"2008-04-03",2922,4498.75,374.89583333333331,12.316906228610542,0,0,35989,0,35989,0,1,18,7,19,6807,"NO",null,null,null,null,null,null,null,null,null,null,null,null,null,null,null,12.5,null,null,null,null,null,null,null,null,null,null,null,null,null,null,null,null,null,null,null,null,null,null,"01","06","1114",null,null,null,"18 ปี  7 เดือน  19 วัน  ",365]
[{"$f":"A370+1","v":366},null,"2000-04-03",43,null,null,null,null,"ตู้เก็บอุปกรณ์ 1 ชุด",1,44225,"01.06.1116",{"$f":"IF(BV371=\"จำหน่าย\",0,SUM(J371*K371))","v":44225},{"$f":"IF(K371<5000,0,M371)","v":44225},8,"2008-04-03",2922,5528.125,460.67708333333331,15.135181382614647,0,0,44224,0,44224,0,1,18,7,19,6807,"NO",null,null,null,null,null,null,null,null,null,null,null,null,null,null,null,12.5,null,null,null,null,null,null,null,null,null,null,null,null,null,null,null,null,null,null,null,null,null,null,"01","06","1116",null,null,null,"18 ปี  7 เดือน  19 วัน  ",366]
[{"$f":"A371+1","v":367},null,"2000-04-03",43,null,null,null,null,"ตู้เก็บอุปกรณ์ 1 ชุด",1,39772,"01.06.1117",{"$f":"IF(BV372=\"จำหน่าย\",0,SUM(J372*K372))","v":39772},{"$f":"IF(K372<5000,0,M372)","v":39772},8,"2008-04-03",2922,4971.5,414.29166666666669,13.611225188227241,0,0,39771,0,39771,0,1,18,7,19,6807,"NO",null,null,null,null,null,null,null,null,null,null,null,null,null,null,null,12.5,null,null,null,null,null,null,null,null,null,null,null,null,null,null,null,null,null,null,null,null,null,null,"01","06","1117",null,null,null,"18 ปี  7 เดือน  19 วัน  ",367]
[{"$f":"A372+1","v":368},null,"2000-04-03",43,null,null,null,null,"ตู้เก็บอุปกรณ์ 1 ชุด",1,56486,"01.06.1119",{"$f":"IF(BV373=\"จำหน่าย\",0,SUM(J373*K373))","v":56486},{"$f":"IF(K373<5000,0,M373)","v":56486},8,"2008-04-03",2922,7060.75,588.39583333333337,19.331279945242983,0,0,56485,0,56485,0,1,18,7,19,6807,"NO",null,null,null,null,null,null,null,null,null,null,null,null,null,null,null,12.5,null,null,null,null,null,null,null,null,null,null,null,null,null,null,null,null,null,null,null,null,null,null,"01","06","1119",null,null,null,"18 ปี  7 เดือน  19 วัน  ",368]
[{"$f":"A373+1","v":369},null,"2000-04-03",43,null,null,null,null,"ตู้เก็บอุปกรณ์ 1 ชุด",1,44103,"01.06.1122",{"$f":"IF(BV374=\"จำหน่าย\",0,SUM(J374*K374))","v":44103},{"$f":"IF(K374<5000,0,M374)","v":44103},8,"2008-04-03",2922,5512.875,459.40625,15.093429158110883,0,0,44102,0,44102,0,1,18,7,19,6807,"NO",null,null,null,null,null,null,null,null,null,null,null,null,null,null,null,12.5,null,null,null,null,null,null,null,null,null,null,null,null,null,null,null,null,null,null,null,null,null,null,"01","06","1122",null,null,null,"18 ปี  7 เดือน  19 วัน  ",369]
[{"$f":"A374+1","v":370},null,"2000-04-03",43,null,null,null,null,"ตู้เก็บอุปกรณ์ 1 ชุด",1,67710,"01.06.1123",{"$f":"IF(BV375=\"จำหน่าย\",0,SUM(J375*K375))","v":67710},{"$f":"IF(K375<5000,0,M375)","v":67710},8,"2008-04-03",2922,8463.75,705.3125,23.172484599589321,0,0,67709,0,67709,0,1,18,7,19,6807,"NO",null,null,null,null,null,null,null,null,null,null,null,null,null,null,null,12.5,null,null,null,null,null,null,null,null,null,null,null,null,null,null,null,null,null,null,null,null,null,null,"01","06","1123",null,null,null,"18 ปี  7 เดือน  19 วัน  ",370]
[{"$f":"A375+1","v":371},null,"2000-04-03",43,null,null,null,null,"ตู้เก็บอุปกรณ์ 1 ชุด",1,55754,"01.06.1125",{"$f":"IF(BV376=\"จำหน่าย\",0,SUM(J376*K376))","v":55754},{"$f":"IF(K376<5000,0,M376)","v":55754},8,"2008-04-03",2922,6969.25,580.77083333333337,19.080766598220396,0,0,55753,0,55753,0,1,18,7,19,6807,"NO",null,null,null,null,null,null,null,null,null,null,null,null,null,null,null,12.5,null,null,null,null,null,null,null,null,null,null,null,null,null,null,null,null,null,null,null,null,null,null,"01","06","1125",null,null,null,"18 ปี  7 เดือน  19 วัน  ",371]
[{"$f":"A376+1","v":372},null,"2000-04-03",43,null,null,null,null,"ตู้เก็บอุปกรณ์ 1 ชุด",1,56608,"01.06.1126",{"$f":"IF(BV377=\"จำหน่าย\",0,SUM(J377*K377))","v":56608},{"$f":"IF(K377<5000,0,M377)","v":56608},8,"2008-04-03",2922,7076,589.66666666666663,19.37303216974675,0,0,56607,0,56607,0,1,18,7,19,6807,"NO",null,null,null,null,null,null,null,null,null,null,null,null,null,null,null,12.5,null,null,null,null,null,null,null,null,null,null,null,null,null,null,null,null,null,null,null,null,null,null,"01","06","1126",null,null,null,"18 ปี  7 เดือน  19 วัน  ",372]
[{"$f":"A377+1","v":373},null,"2000-04-03",43,null,null,null,null,"ตู้เก็บอุปกรณ์ 1 ชุด",1,54534,"01.06.1128",{"$f":"IF(BV378=\"จำหน่าย\",0,SUM(J378*K378))","v":54534},{"$f":"IF(K378<5000,0,M378)","v":54534},8,"2008-04-03",2922,6816.75,568.0625,18.663244353182751,0,0,54533,0,54533,0,1,18,7,19,6807,"NO",null,null,null,null,null,null,null,null,null,null,null,null,null,null,null,12.5,null,null,null,null,null,null,null,null,null,null,null,null,null,null,null,null,null,null,null,null,null,null,"01","06","1128",null,null,null,"18 ปี  7 เดือน  19 วัน  ",373]
[{"$f":"A378+1","v":374},null,"2000-04-03",43,null,null,null,null,"ตู้เก็บอุปกรณ์ 1 ชุด",1,54534,"01.06.1129",{"$f":"IF(BV379=\"จำหน่าย\",0,SUM(J379*K379))","v":54534},{"$f":"IF(K379<5000,0,M379)","v":54534},8,"2008-04-03",2922,6816.75,568.0625,18.663244353182751,0,0,54533,0,54533,0,1,18,7,19,6807,"NO",null,null,null,null,null,null,null,null,null,null,null,null,null,null,null,12.5,null,null,null,null,null,null,null,null,null,null,null,null,null,null,null,null,null,null,null,null,null,null,"01","06","1129",null,null,null,"18 ปี  7 เดือน  19 วัน  ",374]
[{"$f":"A379+1","v":375},null,"2000-04-03",43,null,null,null,null,"ตู้เก็บอุปกรณ์ 1 ชุด",1,56852,"01.06.1130",{"$f":"IF(BV380=\"จำหน่าย\",0,SUM(J380*K380))","v":56852},{"$f":"IF(K380<5000,0,M380)","v":56852},8,"2008-04-03",2922,7106.5,592.20833333333337,19.456536618754278,0,0,56851,0,56851,0,1,18,7,19,6807,"NO",null,null,null,null,null,null,null,null,null,null,null,null,null,null,null,12.5,null,null,null,null,null,null,null,null,null,null,null,null,null,null,null,null,null,null,null,null,null,null,"01","06","1130",null,null,null,"18 ปี  7 เดือน  19 วัน  ",375]
[{"$f":"A380+1","v":376},null,"2000-04-03",43,null,null,null,null,"ตู้เก็บอุปกรณ์ 1 ชุด",1,54534,"01.06.1131",{"$f":"IF(BV381=\"จำหน่าย\",0,SUM(J381*K381))","v":54534},{"$f":"IF(K381<5000,0,M381)","v":54534},8,"2008-04-03",2922,6816.75,568.0625,18.663244353182751,0,0,54533,0,54533,0,1,18,7,19,6807,"NO",null,null,null,null,null,null,null,null,null,null,null,null,null,null,null,12.5,null,null,null,null,null,null,null,null,null,null,null,null,null,null,null,null,null,null,null,null,null,null,"01","06","1131",null,null,null,"18 ปี  7 เดือน  19 วัน  ",376]
[{"$f":"A381+1","v":377},null,"2000-04-03",43,null,null,null,null,"ตู้เก็บอุปกรณ์ 1 ชุด",1,39528,"01.06.1135",{"$f":"IF(BV382=\"จำหน่าย\",0,SUM(J382*K382))","v":39528},{"$f":"IF(K382<5000,0,M382)","v":39528},8,"2008-04-03",2922,4941,411.75,13.527720739219713,0,0,39527,0,39527,0,1,18,7,19,6807,"NO",null,null,null,null,null,null,null,null,null,null,null,null,null,null,null,12.5,null,null,null,null,null,null,null,null,null,null,null,null,null,null,null,null,null,null,null,null,null,null,"01","06","1135",null,null,null,"18 ปี  7 เดือน  19 วัน  ",377]
[{"$f":"A382+1","v":378},null,"2000-04-03",43,null,null,null,null,"ตู้เก็บอุปกรณ์ 1 ชุด",1,41297,"01.06.1136",{"$f":"IF(BV383=\"จำหน่าย\",0,SUM(J383*K383))","v":41297},{"$f":"IF(K383<5000,0,M383)","v":41297},8,{"$f":"DATE(YEAR(C383)+O383,MONTH(C383),DAY(C383))","v":"2008-04-03"},{"$f":"IF(NOT(OR(ISBLANK(P383),ISBLANK(C383))),P383-C383,\"\")","v":2922},{"$f":"SLN(N383,,O383)","v":5162.125},{"$f":"SLN(R383,,12)","v":430.17708333333331},{"$f":"SLN(N383,,Q383)","v":14.133127994524298},{"$f":"IF(N383=0,0,IF(AE383<=Q383,1,0))","v":0},0,41296,0,41296,0,1,{"$f":"DATEDIF(C383,TODAY(),\"Y\")","v":18},{"$f":"DATEDIF(C383,TODAY(),\"YM\")","v":7},{"$f":"DATEDIF(C383,TODAY(),\"md\")+1","v":19},{"$f":"DATEDIF(C383,TODAY(),\"d\")+1","v":6807},{"$f":"IF(N383=0,\"No\",IF(AE383>Q383,\"NO\",\"YES\"))","v":"NO"},null,null,null,null,null,null,null,null,null,null,null,null,null,null,null,{"$f":"100/O383","v":12.5},null,null,null,null,null,null,null,null,null,null,null,null,null,null,null,null,null,null,null,null,null,null,"01","06","1136",null,null,null,{"$f":"CONCATENATE(AB383,\" ปี  \",AC383,\" เดือน  \",AD383,\" วัน  \")","v":"18 ปี  7 เดือน  19 วัน  "},{"$f":"A383","v":378}]
[{"$f":"A383+1","v":379},null,"2000-04-03",43,null,null,null,null,"ตู้เก็บอุปกรณ์ 1 ชุด",1,54534,"01.06.1138",{"$f":"IF(BV384=\"จำหน่าย\",0,SUM(J384*K384))","v":54534},{"$f":"IF(K384<5000,0,M384)","v":54534},8,"2008-04-03",2922,6816.75,568.0625,18.663244353182751,0,0,54533,0,54533,0,1,18,7,19,6807,"NO",null,null,null,null,null,null,null,null,null,null,null,null,null,null,null,12.5,null,null,null,null,null,null,null,null,null,null,null,null,null,null,null,null,null,null,null,null,null,null,"01","06","1138",null,null,null,"18 ปี  7 เดือน  19 วัน  ",379]
[{"$f":"A384+1","v":380},null,"2000-04-03",43,null,null,null,null,"ตู้เก็บอุปกรณ์ 1 ชุด",1,51057,"01.06.1139",{"$f":"IF(BV385=\"จำหน่าย\",0,SUM(J385*K385))","v":51057},{"$f":"IF(K385<5000,0,M385)","v":51057},8,"2008-04-03",2922,6382.125,531.84375,17.473305954825463,0,0,51056,0,51056,0,1,18,7,19,6807,"NO",null,null,null,null,null,null,null,null,null,null,null,null,null,null,null,12.5,null,null,null,null,null,null,null,null,null,null,null,null,null,null,null,null,null,null,null,null,null,null,"01","06","1139",null,null,null,"18 ปี  7 เดือน  19 วัน  ",380]
[{"$f":"A385+1","v":381},null,"2000-04-03",43,null,null,null,null,"ตู้เก็บอุปกรณ์ 1 ชุด",1,39406,"01.06.1140",{"$f":"IF(BV386=\"จำหน่าย\",0,SUM(J386*K386))","v":39406},{"$f":"IF(K386<5000,0,M386)","v":39406},8,"2008-04-03",2922,4925.75,410.47916666666669,13.485968514715948,0,0,39405,0,39405,0,1,18,7,19,6807,"NO",null,null,null,null,null,null,null,null,null,null,null,null,null,null,null,12.5,null,null,null,null,null,null,null,null,null,null,null,null,null,null,null,null,null,null,null,null,null,null,"01","06","1140",null,null,null,"18 ปี  7 เดือน  19 วัน  ",381]
[{"$f":"A386+1","v":382},null,"2000-04-03",43,null,null,null,null,"ตู้เก็บอุปกรณ์ 1 ชุด",1,58377,"01.06.1141",{"$f":"IF(BV387=\"จำหน่าย\",0,SUM(J387*K387))","v":58377},{"$f":"IF(K387<5000,0,M387)","v":58377},8,"2008-04-03",2922,7297.125,608.09375,19.978439425051334,0,0,58376,0,58376,0,1,18,7,19,6807,"NO",null,null,null,null,null,null,null,null,null,null,null,null,null,null,null,12.5,null,null,null,null,null,null,null,null,null,null,null,null,null,null,null,null,null,null,null,null,null,null,"01","06","1141",null,null,null,"18 ปี  7 เดือน  19 วัน  ",382]
[{"$f":"A387+1","v":383},null,"2000-04-03",43,null,null,null,null,"ตู้เก็บอุปกรณ์ 1 ชุด",1,57767,"01.06.1143",{"$f":"IF(BV388=\"จำหน่าย\",0,SUM(J388*K388))","v":57767},{"$f":"IF(K388<5000,0,M388)","v":57767},8,"2008-04-03",2922,7220.875,601.73958333333337,19.769678302532512,0,0,57766,0,57766,0,1,18,7,19,6807,"NO",null,null,null,null,null,null,null,null,null,null,null,null,null,null,null,12.5,null,null,null,null,null,null,null,null,null,null,null,null,null,null,null,null,null,null,null,null,null,null,"01","06","1143",null,null,null,"18 ปี  7 เดือน  19 วัน  ",383]
[{"$f":"A388+1","v":384},null,"2000-04-03",43,null,null,null,null,"ตู้เก็บอุปกรณ์ 1 ชุด",1,44103,"01.06.1144",{"$f":"IF(BV389=\"จำหน่าย\",0,SUM(J389*K389))","v":44103},{"$f":"IF(K389<5000,0,M389)","v":44103},8,"2008-04-03",2922,5512.875,459.40625,15.093429158110883,0,0,44102,0,44102,0,1,18,7,19,6807,"NO",null,null,null,null,null,null,null,null,null,null,null,null,null,null,null,12.5,null,null,null,null,null,null,null,null,null,null,null,null,null,null,null,null,null,null,null,null,null,null,"01","06","1144",null,null,null,"18 ปี  7 เดือน  19 วัน  ",384]
[{"$f":"A389+1","v":385},null,"2000-04-03",43,null,null,null,null,"เครื่องปรับอากาศ 32,000 BTU 15 ค.",15,40260,"01.29.427-441",{"$f":"IF(BV390=\"จำหน่าย\",0,SUM(J390*K390))","v":603900},{"$f":"IF(K390<5000,0,M390)","v":603900},8,"2008-04-03",2922,75487.5,6290.625,206.6735112936345,0,0,603885,0,603885,0,15,18,7,19,6807,"NO",null,null,null,null,null,null,null,null,null,null,null,null,null,null,null,12.5,null,null,null,null,null,null,null,null,null,null,null,null,null,null,null,null,null,null,null,null,null,null,"01","29","427-441",null,null,null,"18 ปี  7 เดือน  19 วัน  ",385]
[{"$f":"A390+1","v":386},null,"2000-04-03",43,null,null,null,null,"ที่ล้างตา 10 ชุด",10,66490,"01.58.252-261",{"$f":"IF(BV391=\"จำหน่าย\",0,SUM(J391*K391))","v":664900},{"$f":"IF(K391<5000,0,M391)","v":664900},8,"2008-04-03",2922,83112.5,6926.041666666667,227.54962354551677,0,{"$f":"SUM(R391*U391/12)","v":0},{"$f":"IF(N391=0,0,IF((R391*AB391)+(R391*AC391/12)>=N391,N391-J391,((R391*AB391)+(R391*AC391/12))))","v":664890},{"$f":"SUM(T391*U391)","v":0},{"$f":"IF(N391=0,0,IF((DATEDIF(C391,TODAY(),\"d\")+1)*T391>=N391,N391-J391,(DATEDIF(C391,TODAY(),\"d\")+1)*T391))","v":664890},{"$f":"IF(U391=0,0,IF(OR(DAY(C391)=1,MONTH(C391)<>MONTH(TODAY()),YEAR(C391)<>YEAR(TODAY())),T391*((DAY(DATE(YEAR(TODAY()),MONTH(TODAY())+1,1)-1))),T391*((DAY(DATE(YEAR(TODAY()),MONTH(TODAY())+1,1)-1)-DAY(C391)+1))))","v":0},{"$f":"IF(N391=0,0,IF(X391>=N391,(J391),(N391-Y391)))","v":10},18,7,19,6807,"NO",null,null,null,null,null,null,null,null,null,null,null,null,null,null,null,12.5,null,null,null,null,null,null,null,null,null,null,null,null,null,null,null,null,null,null,null,null,null,null,"01","58","252-261",null,null,null,"18 ปี  7 เดือน  19 วัน  ",386]
[{"$f":"A391+1","v":387},null,"2000-04-03",43,null,null,null,null,"ตู้ดูดควัน 2 ชุด",2,91500,"08.34.01-02",{"$f":"IF(BV392=\"จำหน่าย\",0,SUM(J392*K392))","v":183000},{"$f":"IF(K392<5000,0,M392)","v":183000},5,"2005-04-03",1826,36600,3050,100.21905805038335,0,0,182998,0,182998,0,2,18,7,19,6807,"NO",null,null,null,null,null,null,null,null,null,null,null,null,null,null,null,20,null,null,null,null,null,null,null,null,null,null,null,null,null,null,null,null,null,null,null,null,null,null,"08","34","01-02",null,null,null,"18 ปี  7 เดือน  19 วัน  ",387]
[{"$f":"A392+1","v":388},null,"2000-04-03",43,null,null,null,null,"ตู้ดูดควัน 2 ชุด",2,91500,"08.34.03-04",{"$f":"IF(BV393=\"จำหน่าย\",0,SUM(J393*K393))","v":183000},{"$f":"IF(K393<5000,0,M393)","v":183000},5,"2005-04-03",1826,36600,3050,100.21905805038335,0,0,182998,0,182998,0,2,18,7,19,6807,"NO",null,null,null,null,null,null,null,null,null,null,null,null,null,null,null,20,null,null,null,null,null,null,null,null,null,null,null,null,null,null,null,null,null,null,null,null,null,null,"08","34","03-04",null,null,null,"18 ปี  7 เดือน  19 วัน  ",388]
[{"$f":"A393+1","v":389},null,"2000-04-03",43,null,null,null,null,"ตู้ดูดควัน 1 ชุด",1,91500,"08.34.05",{"$f":"IF(BV394=\"จำหน่าย\",0,SUM(J394*K394))","v":91500},{"$f":"IF(K394<5000,0,M394)","v":91500},5,"2005-04-03",1826,18300,1525,50.109529025191677,0,0,91499,0,91499,0,1,18,7,19,6807,"NO",null,null,null,null,null,null,null,null,null,null,null,null,null,null,null,20,null,null,null,null,null,null,null,null,null,null,null,null,null,null,null,null,null,null,null,null,null,null,"08","34","05",null,null,null,"18 ปี  7 เดือน  19 วัน  ",389]
[{"$f":"A394+1","v":390},null,"2000-04-03",43,null,null,null,null,"ตู้ดูดควัน 1 ชุด",1,91500,"08.34.06",{"$f":"IF(BV395=\"จำหน่าย\",0,SUM(J395*K395))","v":91500},{"$f":"IF(K395<5000,0,M395)","v":91500},5,"2005-04-03",1826,18300,1525,50.109529025191677,0,0,91499,0,91499,0,1,18,7,19,6807,"NO",null,null,null,null,null,null,null,null,null,null,null,null,null,null,null,20,null,null,null,null,null,null,null,null,null,null,null,null,null,null,null,null,null,null,null,null,null,null,"08","34","06",null,null,null,"18 ปี  7 เดือน  19 วัน  ",390]
[{"$f":"A395+1","v":391},null,"2000-04-03",43,null,null,null,null,"ตู้ดูดควัน 1 ชุด",1,91500,"08.34.07",{"$f":"IF(BV396=\"จำหน่าย\",0,SUM(J396*K396))","v":91500},{"$f":"IF(K396<5000,0,M396)","v":91500},5,"2005-04-03",1826,18300,1525,50.109529025191677,0,0,91499,0,91499,0,1,18,7,19,6807,"NO",null,null,null,null,null,null,null,null,null,null,null,null,null,null,null,20,null,null,null,null,null,null,null,null,null,null,null,null,null,null,null,null,null,null,null,null,null,null,"08","34","07",null,null,null,"18 ปี  7 เดือน  19 วัน  ",391]
[{"$f":"A396+1","v":392},null,"2000-04-03",43,null,null,null,null,"ตู้ดูดควัน 1 ชุด",1,91500,"08.34.08",{"$f":"IF(BV397=\"จำหน่าย\",0,SUM(J397*K397))","v":91500},{"$f":"IF(K397<5000,0,M397)","v":91500},5,"2005-04-03",1826,18300,1525,50.109529025191677,0,0,91499,0,91499,0,1,18,7,19,6807,"NO",null,null,null,null,null,null,null,null,null,null,null,null,null,null,null,20,null,null,null,null,null,null,null,null,null,null,null,null,null,null,null,null,null,null,null,null,null,null,"08","34","08",null,null,null,"18 ปี  7 เดือน  19 วัน  ",392]
[{"$f":"A397+1","v":393},null,"2000-04-03",43,null,null,null,null,"ตู้ดูดควัน 1 ชุด",1,91500,"08.34.09",{"$f":"IF(BV398=\"จำหน่าย\",0,SUM(J398*K398))","v":91500},{"$f":"IF(K398<5000,0,M398)","v":91500},5,"2005-04-03",1826,18300,1525,50.109529025191677,0,0,91499,0,91499,0,1,18,7,19,6807,"NO",null,null,null,null,null,null,null,null,null,null,null,null,null,null,null,20,null,null,null,null,null,null,null,null,null,null,null,null,null,null,null,null,null,null,null,null,null,null,"08","34","09",null,null,null,"18 ปี  7 เดือน  19 วัน  ",393]
[{"$f":"A398+1","v":394},null,"2000-04-03",43,null,null,null,null,"ตู้ดูดควัน 2 ชุด",2,91500,"08.34.10-11",{"$f":"IF(BV399=\"จำหน่าย\",0,SUM(J399*K399))","v":183000},{"$f":"IF(K399<5000,0,M399)","v":183000},5,"2005-04-03",1826,36600,3050,100.21905805038335,0,0,182998,0,182998,0,2,18,7,19,6807,"NO",null,null,null,null,null,null,null,null,null,null,null,null,null,null,null,20,null,null,null,null,null,null,null,null,null,null,null,null,null,null,null,null,null,null,null,null,null,null,"08","34","10-11",null,null,null,"18 ปี  7 เดือน  19 วัน  ",394]
[{"$f":"A399+1","v":395},null,"2000-04-03",43,null,null,null,null,"ตู้ดูดควัน 2 ชุด",2,91500,"08.34.12-13",{"$f":"IF(BV400=\"จำหน่าย\",0,SUM(J400*K400))","v":183000},{"$f":"IF(K400<5000,0,M400)","v":183000},5,"2005-04-03",1826,36600,3050,100.21905805038335,0,0,182998,0,182998,0,2,18,7,19,6807,"NO",null,null,null,null,null,null,null,null,null,null,null,null,null,null,null,20,null,null,null,null,null,null,null,null,null,null,null,null,null,null,null,null,null,null,null,null,null,null,"08","34","12-13",null,null,null,"18 ปี  7 เดือน  19 วัน  ",395]
[{"$f":"A400+1","v":396},null,"2000-04-03",43,null,null,null,null,"ตู้ดูดควัน 1 ชุด",1,91500,"08.34.14",{"$f":"IF(BV401=\"จำหน่าย\",0,SUM(J401*K401))","v":91500},{"$f":"IF(K401<5000,0,M401)","v":91500},5,"2005-04-03",1826,18300,1525,50.109529025191677,0,0,91499,0,91499,0,1,18,7,19,6807,"NO",null,null,null,null,null,null,null,null,null,null,null,null,null,null,null,20,null,null,null,null,null,null,null,null,null,null,null,null,null,null,null,null,null,null,null,null,null,null,"08","34","14",null,null,null,"18 ปี  7 เดือน  19 วัน  ",396]
[{"$f":"A401+1","v":397},null,"2000-04-11",43,null,null,null,null,"เครื่องพิมพ์บัตรพลาสติก 1 ค.",1,99510,"01.58.262",{"$f":"IF(BV402=\"จำหน่าย\",0,SUM(J402*K402))","v":99510},{"$f":"IF(K402<5000,0,M402)","v":99510},8,"2008-04-11",2922,12438.75,1036.5625,34.055441478439427,0,0,99509,0,99509,0,1,18,7,11,6799,"NO",null,null,null,null,null,null,null,null,null,null,null,null,null,null,null,12.5,null,null,null,null,null,null,null,null,null,null,null,null,null,null,null,null,null,null,null,null,null,null,"01","58","262",null,null,null,"18 ปี  7 เดือน  11 วัน  ",397]
[{"$f":"A402+1","v":398},null,"2000-04-11",43,null,null,null,null,"เครื่องยนต์ 1 ชุด",1,53000,"02.04.09",{"$f":"IF(BV403=\"จำหน่าย\",0,SUM(J403*K403))","v":53000},{"$f":"IF(K403<5000,0,M403)","v":53000},5,"2005-04-11",1826,10600,883.33333333333337,29.025191675794087,0,0,52999,0,52999,0,1,18,7,11,6799,"NO",null,null,null,null,null,null,null,null,null,null,null,null,null,null,null,20,null,null,null,null,null,null,null,null,null,null,null,null,null,null,null,null,null,null,null,null,null,null,"02","04","09",null,null,null,"18 ปี  7 เดือน  11 วัน  ",398]
[{"$f":"A403+1","v":399},null,"2000-04-20",43,null,null,null,null,"ชุดตู้ครัว 1 ชุด",1,53500,"01.58.263",{"$f":"IF(BV404=\"จำหน่าย\",0,SUM(J404*K404))","v":53500},{"$f":"IF(K404<5000,0,M404)","v":53500},8,"2008-04-20",2922,6687.5,557.29166666666663,18.309377138945926,0,0,53499,0,53499,0,1,18,7,2,6790,"NO",null,null,null,null,null,null,null,null,null,null,null,null,null,null,null,12.5,null,null,null,null,null,null,null,null,null,null,null,null,null,null,null,null,null,null,null,null,null,null,"01","58","263",null,null,null,"18 ปี  7 เดือน  2 วัน  ",399]
[{"$f":"A404+1","v":400},null,"2000-04-25",43,null,null,null,null,"เต้นท์ประรำพิธี 1 หลัง",1,53500,"01.58.264",{"$f":"IF(BV405=\"จำหน่าย\",0,SUM(J405*K405))","v":53500},{"$f":"IF(K405<5000,0,M405)","v":53500},8,"2008-04-25",2922,6687.5,557.29166666666663,18.309377138945926,0,0,53499,0,53499,0,1,18,6,28,6785,"NO",null,null,null,null,null,null,null,null,null,null,null,null,null,null,null,12.5,null,null,null,null,null,null,null,null,null,null,null,null,null,null,null,null,null,null,null,null,null,null,"01","58","264",null,null,null,"18 ปี  6 เดือน  28 วัน  ",400]
[{"$f":"A405+1","v":401},null,"2000-04-29",43,null,null,null,null,"แหล่งจ่ายโวลท์แอมป์ 1 ชุด",1,417300,"07.37.39",{"$f":"IF(BV406=\"จำหน่าย\",0,SUM(J406*K406))","v":417300},{"$f":"IF(K406<5000,0,M406)","v":417300},5,"2005-04-29",1826,83460,6955,228.53231106243155,0,0,417299,0,417299,0,1,18,6,24,6781,"NO",null,null,null,null,null,null,null,null,null,null,null,null,null,null,null,20,null,null,null,null,null,null,null,null,null,null,null,null,null,null,null,null,null,null,null,null,null,null,"07","37","39",null,null,null,"18 ปี  6 เดือน  24 วัน  ",401]
[{"$f":"A406+1","v":402},null,"2000-04-29",43,null,null,null,null,"ไมโครโอมห์มิเตอร์ 1 ชุด",1,286760,"07.37.40",{"$f":"IF(BV407=\"จำหน่าย\",0,SUM(J407*K407))","v":286760},{"$f":"IF(K407<5000,0,M407)","v":286760},5,"2005-04-29",1826,57352,4779.333333333333,157.04271631982476,0,0,286759,0,286759,0,1,18,6,24,6781,"NO",null,null,null,null,null,null,null,null,null,null,null,null,null,null,null,20,null,null,null,null,null,null,null,null,null,null,null,null,null,null,null,null,null,null,null,null,null,null,"07","37","40",null,null,null,"18 ปี  6 เดือน  24 วัน  ",402]
[{"$f":"A407+1","v":403},null,"2000-05-03",43,null,null,null,null,"เครื่องปรับอากาศ 60,800 BTU 1 ค.",1,62500,"01.29.442",{"$f":"IF(BV408=\"จำหน่าย\",0,SUM(J408*K408))","v":62500},{"$f":"IF(K408<5000,0,M408)","v":62500},8,"2008-05-03",2922,7812.5,651.04166666666663,21.389459274469541,0,0,62499,0,62499,0,1,18,6,19,6777,"NO",null,null,null,null,null,null,null,null,null,null,null,null,null,null,null,12.5,null,null,null,null,null,null,null,null,null,null,null,null,null,null,null,null,null,null,null,null,null,null,"01","29","442",null,null,null,"18 ปี  6 เดือน  19 วัน  ",403]
[{"$f":"A408+1","v":404},null,"2000-05-16",43,null,null,null,null,"เครื่องปรับอากาศ 35,300 BTU 2 ค.",2,34000,"01.29.447-448",{"$f":"IF(BV409=\"จำหน่าย\",0,SUM(J409*K409))","v":68000},{"$f":"IF(K409<5000,0,M409)","v":68000},8,"2008-05-16",2922,8500,708.33333333333337,23.271731690622861,0,0,67998,0,67998,0,2,18,6,6,6764,"NO",null,null,null,null,null,null,null,null,null,null,null,null,null,null,null,12.5,null,null,null,null,null,null,null,null,null,null,null,null,null,null,null,null,null,null,null,null,null,null,"01","29","447-448",null,null,null,"18 ปี  6 เดือน  6 วัน  ",404]
[{"$f":"A409+1","v":405},null,"2000-05-16",43,null,null,null,null,"เครื่องคอมพิวเตอร์ 1 ค.",1,47000,"01.53.949",{"$f":"IF(BV410=\"จำหน่าย\",0,SUM(J410*K410))","v":47000},{"$f":"IF(K410<5000,0,M410)","v":47000},3,"2003-05-16",1095,15666.666666666666,1305.5555555555554,42.922374429223744,0,0,46999,0,46999,0,1,18,6,6,6764,"NO",null,null,null,null,null,null,null,null,null,null,null,null,null,null,null,33.333333333333336,null,null,null,null,null,null,null,null,null,null,null,null,null,null,null,null,null,null,null,null,null,null,"01","53","949",null,null,null,"18 ปี  6 เดือน  6 วัน  ",405]
[{"$f":"A410+1","v":406},null,"2000-05-16",43,null,null,null,null,"ตู้เก็บอุปกรณ์ 1 หลัง",1,30800,"05.36.19",{"$f":"IF(BV411=\"จำหน่าย\",0,SUM(J411*K411))","v":30800},{"$f":"IF(K411<5000,0,M411)","v":30800},5,"2005-05-16",1826,6160,513.33333333333337,16.867469879518072,0,0,30799,0,30799,0,1,18,6,6,6764,"NO",null,null,null,null,null,null,null,null,null,null,null,null,null,null,null,20,null,null,null,null,null,null,null,null,null,null,null,null,null,null,null,null,null,null,null,null,null,null,"05","36","19",null,null,null,"18 ปี  6 เดือน  6 วัน  ",406]
[{"$f":"A411+1","v":407},null,"2000-05-20",43,null,null,null,null,"เครื่องคอมพิวเตอร์ 2 ค.",2,45000,"01.53.1218-1219",{"$f":"IF(BV412=\"จำหน่าย\",0,SUM(J412*K412))","v":90000},{"$f":"IF(K412<5000,0,M412)","v":90000},3,"2003-05-20",1095,30000,2500,82.191780821917803,0,0,89998,0,89998,0,2,18,6,2,6760,"NO",null,null,null,null,null,null,null,null,null,null,null,null,null,null,null,33.333333333333336,null,null,null,null,null,null,null,null,null,null,null,null,null,null,null,null,null,null,null,null,null,null,"01","53","1218-1219",null,null,null,"18 ปี  6 เดือน  2 วัน  ",407]
[{"$f":"A412+1","v":408},null,"2000-05-20",43,null,null,null,null,"เครื่องพิมพ์เลเซอร์ 1 ค.",1,68800,"01.72.273",{"$f":"IF(BV413=\"จำหน่าย\",0,SUM(J413*K413))","v":68800},{"$f":"IF(K413<5000,0,M413)","v":68800},3,"2003-05-20",1095,22933.333333333332,1911.1111111111111,62.831050228310502,0,0,68799,0,68799,0,1,18,6,2,6760,"NO",null,null,null,null,null,null,null,null,null,null,null,null,null,null,null,33.333333333333336,null,null,null,null,null,null,null,null,null,null,null,null,null,null,null,null,null,null,null,null,null,null,"01","72","273",null,null,null,"18 ปี  6 เดือน  2 วัน  ",408]
[{"$f":"A413+1","v":409},null,"2000-05-20",43,null,null,null,null,"โทรทัศน์สี 29\" 1 ค.",1,33990,"05.10.349",{"$f":"IF(BV414=\"จำหน่าย\",0,SUM(J414*K414))","v":33990},{"$f":"IF(K414<5000,0,M414)","v":33990},5,"2005-05-20",1826,6798,566.5,18.6144578313253,0,0,33989,0,33989,0,1,18,6,2,6760,"NO",null,null,null,null,null,null,null,null,null,null,null,null,null,null,null,20,null,null,null,null,null,null,null,null,null,null,null,null,null,null,null,null,null,null,null,null,null,null,"05","10","349",null,null,null,"18 ปี  6 เดือน  2 วัน  ",409]
[{"$f":"A414+1","v":410},null,"2000-05-22",43,null,null,null,null,"เครื่องเย็บเอกสาร 1 ค.",1,85000,"01.25.26",{"$f":"IF(BV415=\"จำหน่าย\",0,SUM(J415*K415))","v":85000},{"$f":"IF(K415<5000,0,M415)","v":85000},8,"2008-05-22",2922,10625,885.41666666666663,29.089664613278575,0,0,84999,0,84999,0,1,18,5,31,6758,"NO",null,null,null,null,null,null,null,null,null,null,null,null,null,null,null,12.5,null,null,null,null,null,null,null,null,null,null,null,null,null,null,null,null,null,null,null,null,null,null,"01","25","26",null,null,null,"18 ปี  5 เดือน  31 วัน  ",410]
[{"$f":"A415+1","v":411},null,"2000-05-22",43,null,null,null,null,"เครื่องปรับอากาศ 35,000 BTU 3 ค.",3,33000,"01.29.451-453",{"$f":"IF(BV416=\"จำหน่าย\",0,SUM(J416*K416))","v":99000},{"$f":"IF(K416<5000,0,M416)","v":99000},8,"2008-05-22",2922,12375,1031.25,33.880903490759756,0,0,98997,0,98997,0,3,18,5,31,6758,"NO",null,null,null,null,null,null,null,null,null,null,null,null,null,null,null,12.5,null,null,null,null,null,null,null,null,null,null,null,null,null,null,null,null,null,null,null,null,null,null,"01","29","451-453",null,null,null,"18 ปี  5 เดือน  31 วัน  ",411]
[{"$f":"A416+1","v":412},null,"2000-05-22",43,null,null,null,null,"เครื่องคอมพิวเตอร์ 1 ค.",1,52000,"01.53.955",{"$f":"IF(BV417=\"จำหน่าย\",0,SUM(J417*K417))","v":52000},{"$f":"IF(K417<5000,0,M417)","v":52000},3,"2003-05-22",1095,17333.333333333332,1444.4444444444443,47.488584474885847,0,0,51999,0,51999,0,1,18,5,31,6758,"NO",null,null,null,null,null,null,null,null,null,null,null,null,null,null,null,33.333333333333336,null,null,null,null,null,null,null,null,null,null,null,null,null,null,null,null,null,null,null,null,null,null,"01","53","955",null,null,null,"18 ปี  5 เดือน  31 วัน  ",412]
[{"$f":"A417+1","v":413},null,"2000-05-22",43,null,null,null,null,"เครื่องคอมพิวเตอร์ 1 ค.",1,37700,"01.53.957",{"$f":"IF(BV418=\"จำหน่าย\",0,SUM(J418*K418))","v":37700},{"$f":"IF(K418<5000,0,M418)","v":37700},3,"2003-05-22",1095,12566.666666666666,1047.2222222222222,34.429223744292237,0,0,37699,0,37699,0,1,18,5,31,6758,"NO",null,null,null,null,null,null,null,null,null,null,null,null,null,null,null,33.333333333333336,null,null,null,null,null,null,null,null,null,null,null,null,null,null,null,null,null,null,null,null,null,null,"01","53","957",null,null,null,"18 ปี  5 เดือน  31 วัน  ",413]
[{"$f":"A418+1","v":414},null,"2000-05-22",43,null,null,null,null,"เครื่องทำลายเอกสาร 1 ค.",1,35000,"01.68.05",{"$f":"IF(BV419=\"จำหน่าย\",0,SUM(J419*K419))","v":35000},{"$f":"IF(K419<5000,0,M419)","v":35000},8,"2008-05-22",2922,4375,364.58333333333331,11.978097193702943,0,0,34999,0,34999,0,1,18,5,31,6758,"NO",null,null,null,null,null,null,null,null,null,null,null,null,null,null,null,12.5,null,null,null,null,null,null,null,null,null,null,null,null,null,null,null,null,null,null,null,null,null,null,"01","68","05",null,null,null,"18 ปี  5 เดือน  31 วัน  ",414]
[{"$f":"A419+1","v":415},null,"2000-05-22",43,null,null,null,null,"เครื่องพิมพ์เลเซอร์ 1 ค.",1,33170,"01.72.223",{"$f":"IF(BV420=\"จำหน่าย\",0,SUM(J420*K420))","v":33170},{"$f":"IF(K420<5000,0,M420)","v":33170},3,"2003-05-22",1095,11056.666666666666,921.3888888888888,30.292237442922374,0,0,33169,0,33169,0,1,18,5,31,6758,"NO",null,null,null,null,null,null,null,null,null,null,null,null,null,null,null,33.333333333333336,null,null,null,null,null,null,null,null,null,null,null,null,null,null,null,null,null,null,null,null,null,null,"01","72","223",null,null,null,"18 ปี  5 เดือน  31 วัน  ",415]
[{"$f":"A420+1","v":416},null,"2000-05-22",43,null,null,null,null,"บัสบาร์คู่พร้อมดิสคอนเนคเตอร์ 1 ชุด",1,33170,"09.57.01",{"$f":"IF(BV421=\"จำหน่าย\",0,SUM(J421*K421))","v":33170},{"$f":"IF(K421<5000,0,M421)","v":33170},4,"2004-05-22",1461,8292.5,691.04166666666663,22.703627652292951,0,0,33169,0,33169,0,1,18,5,31,6758,"NO",null,null,null,null,null,null,null,null,null,null,null,null,null,null,null,25,null,null,null,null,null,null,null,null,null,null,null,null,null,null,null,null,null,null,null,null,null,null,"09","57","01",null,null,null,"18 ปี  5 เดือน  31 วัน  ",416]
[{"$f":"A421+1","v":417},null,"2000-05-23",43,null,null,null,null,"เครื่องปรับอากาศ 25,600 BTU 2 ค.",2,28000,"01.29.454-455",{"$f":"IF(BV422=\"จำหน่าย\",0,SUM(J422*K422))","v":56000},{"$f":"IF(K422<5000,0,M422)","v":56000},8,"2008-05-23",2922,7000,583.33333333333337,19.16495550992471,0,0,55998,0,55998,0,2,18,5,30,6757,"NO",null,null,null,null,null,null,null,null,null,null,null,null,null,null,null,12.5,null,null,null,null,null,null,null,null,null,null,null,null,null,null,null,null,null,null,null,null,null,null,"01","29","454-455",null,null,null,"18 ปี  5 เดือน  30 วัน  ",417]
[{"$f":"A422+1","v":418},null,"2000-05-23",43,null,null,null,null,"เครื่องคอมพิวเตอร์ 1 ค.",1,45000,"01.53.1220",{"$f":"IF(BV423=\"จำหน่าย\",0,SUM(J423*K423))","v":45000},{"$f":"IF(K423<5000,0,M423)","v":45000},3,"2003-05-23",1095,15000,1250,41.095890410958901,0,0,44999,0,44999,0,1,18,5,30,6757,"NO",null,null,null,null,null,null,null,null,null,null,null,null,null,null,null,33.333333333333336,null,null,null,null,null,null,null,null,null,null,null,null,null,null,null,null,null,null,null,null,null,null,"01","53","1220",null,null,null,"18 ปี  5 เดือน  30 วัน  ",418]
[{"$f":"A423+1","v":419},null,"2000-05-23",43,null,null,null,null,"เครื่องพิมพ์เลเซอร์ 1 ค.",1,31000,"01.72.225",{"$f":"IF(BV424=\"จำหน่าย\",0,SUM(J424*K424))","v":31000},{"$f":"IF(K424<5000,0,M424)","v":31000},3,"2003-05-23",1095,10333.333333333334,861.1111111111112,28.310502283105023,0,0,30999,0,30999,0,1,18,5,30,6757,"NO",null,null,null,null,null,null,null,null,null,null,null,null,null,null,null,33.333333333333336,null,null,null,null,null,null,null,null,null,null,null,null,null,null,null,null,null,null,null,null,null,null,"01","72","225",null,null,null,"18 ปี  5 เดือน  30 วัน  ",419]
[{"$f":"A424+1","v":420},null,"2000-06-02",43,null,null,null,null,"ชุดทดลองฯไฟฟ้ากำลัง 1 ค.",1,601400,"05.41.03",{"$f":"IF(BV425=\"จำหน่าย\",0,SUM(J425*K425))","v":601400},{"$f":"IF(K425<5000,0,M425)","v":601400},5,"2005-06-02",1826,120280,10023.333333333334,329.35377875136913,0,0,601399,0,601399,0,1,18,5,20,6747,"NO",null,null,null,null,null,null,null,null,null,null,null,null,null,null,null,20,null,null,null,null,null,null,null,null,null,null,null,null,null,null,null,null,null,null,null,null,null,null,"05","41","03",null,null,null,"18 ปี  5 เดือน  20 วัน  ",420]
[{"$f":"A425+1","v":421},null,"2000-06-08",43,null,null,null,null,"ชุดโต๊ะประชุม 1 ชุด",1,85400,"01.02.5709",{"$f":"IF(BV426=\"จำหน่าย\",0,SUM(J426*K426))","v":85400},{"$f":"IF(K426<5000,0,M426)","v":85400},8,"2008-06-08",2922,10675,889.58333333333337,29.226557152635181,0,0,85399,0,85399,0,1,18,5,14,6741,"NO",null,null,null,null,null,null,null,null,null,null,null,null,null,null,null,12.5,null,null,null,null,null,null,null,null,null,null,null,null,null,null,null,null,null,null,null,null,null,null,"01","02","5709",null,null,null,"18 ปี  5 เดือน  14 วัน  ",421]
[{"$f":"A426+1","v":422},null,"2000-06-12",43,null,null,null,null,"เครื่องถ่ายทอดสัญญาณ 1 ค.",1,234500,"06.38.13",{"$f":"IF(BV427=\"จำหน่าย\",0,SUM(J427*K427))","v":234500},{"$f":"IF(K427<5000,0,M427)","v":234500},5,"2005-06-12",1826,46900,3908.3333333333335,128.42278203723987,0,0,234499,0,234499,0,1,18,5,10,6737,"NO",null,null,null,null,null,null,null,null,null,null,null,null,null,null,null,20,null,null,null,null,null,null,null,null,null,null,null,null,null,null,null,null,null,null,null,null,null,null,"06","38","13",null,null,null,"18 ปี  5 เดือน  10 วัน  ",422]
[{"$f":"A427+1","v":423},null,"2000-06-14",43,null,null,null,null,"ชุดทดลอง CBR 1 ค.",1,89000,"09.59.01",{"$f":"IF(BV428=\"จำหน่าย\",0,SUM(J428*K428))","v":89000},{"$f":"IF(K428<5000,0,M428)","v":89000},4,"2004-06-14",1461,22250,1854.1666666666667,60.917180013689254,0,0,88999,0,88999,0,1,18,5,8,6735,"NO",null,null,null,null,null,null,null,null,null,null,null,null,null,null,null,25,null,null,null,null,null,null,null,null,null,null,null,null,null,null,null,null,null,null,null,null,null,null,"09","59","01",null,null,null,"18 ปี  5 เดือน  8 วัน  ",423]
[{"$f":"A428+1","v":424},null,"2000-06-14",43,null,null,null,null,"ชุดทดลองความต้านทานฯ  1 ค.",1,134000,"09.59.02",{"$f":"IF(BV429=\"จำหน่าย\",0,SUM(J429*K429))","v":134000},{"$f":"IF(K429<5000,0,M429)","v":134000},4,"2004-06-14",1461,33500,2791.6666666666665,91.7180013689254,0,0,133999,0,133999,0,1,18,5,8,6735,"NO",null,null,null,null,null,null,null,null,null,null,null,null,null,null,null,25,null,null,null,null,null,null,null,null,null,null,null,null,null,null,null,null,null,null,null,null,null,null,"09","59","02",null,null,null,"18 ปี  5 เดือน  8 วัน  ",424]
[{"$f":"A429+1","v":425},null,"2000-06-14",43,null,null,null,null,"ชุดทดสอบหาค่าการทรุดตัวดิน 1 ค.",1,249000,"09.59.07",{"$f":"IF(BV430=\"จำหน่าย\",0,SUM(J430*K430))","v":249000},{"$f":"IF(K430<5000,0,M430)","v":249000},4,"2004-06-14",1461,62250,5187.5,170.43121149897331,0,0,248999,0,248999,0,1,18,5,8,6735,"NO",null,null,null,null,null,null,null,null,null,null,null,null,null,null,null,25,null,null,null,null,null,null,null,null,null,null,null,null,null,null,null,null,null,null,null,null,null,null,"09","59","07",null,null,null,"18 ปี  5 เดือน  8 วัน  ",425]
[{"$f":"A430+1","v":426},null,"2000-06-14",43,null,null,null,null,"ชุดทดสอบหาแรงเฉือน 1 ค.",1,279000,"09.59.08",{"$f":"IF(BV431=\"จำหน่าย\",0,SUM(J431*K431))","v":279000},{"$f":"IF(K431<5000,0,M431)","v":279000},4,"2004-06-14",1461,69750,5812.5,190.96509240246405,0,0,278999,0,278999,0,1,18,5,8,6735,"NO",null,null,null,null,null,null,null,null,null,null,null,null,null,null,null,25,null,null,null,null,null,null,null,null,null,null,null,null,null,null,null,null,null,null,null,null,null,null,"09","59","08",null,null,null,"18 ปี  5 เดือน  8 วัน  ",426]
[{"$f":"A431+1","v":427},null,"2000-06-26",43,null,null,null,null,"ลู่วิ่งไฟฟ้า 2 คัน",2,77500,"10.15.09-10",{"$f":"IF(BV432=\"จำหน่าย\",0,SUM(J432*K432))","v":155000},{"$f":"IF(K432<5000,0,M432)","v":155000},5,"2005-06-26",1826,31000,2583.3333333333335,84.884994523548741,0,0,154998,0,154998,0,2,18,4,27,6723,"NO",null,null,null,null,null,null,null,null,null,null,null,null,null,null,null,20,null,null,null,null,null,null,null,null,null,null,null,null,null,null,null,null,null,null,null,null,null,null,"10","15","09-10",null,null,null,"18 ปี  4 เดือน  27 วัน  ",427]
[{"$f":"A432+1","v":428},null,"2000-06-29",43,null,null,null,null,"เครื่องคอมพิวเตอร์ 1 ค.",1,45000,"01.53.988",{"$f":"IF(BV433=\"จำหน่าย\",0,SUM(J433*K433))","v":45000},{"$f":"IF(K433<5000,0,M433)","v":45000},3,"2003-06-29",1095,15000,1250,41.095890410958901,0,0,44999,0,44999,0,1,18,4,24,6720,"NO",null,null,null,null,null,null,null,null,null,null,null,null,null,null,null,33.333333333333336,null,null,null,null,null,null,null,null,null,null,null,null,null,null,null,null,null,null,null,null,null,null,"01","53","988",null,null,null,"18 ปี  4 เดือน  24 วัน  ",428]
[{"$f":"A433+1","v":429},null,"2000-07-02",43,null,null,null,null,"เครื่องรูดบัตร 1 ชุด",1,61160.5,"01.58.269",{"$f":"IF(BV434=\"จำหน่าย\",0,SUM(J434*K434))","v":61160.5},{"$f":"IF(K434<5000,0,M434)","v":61160.5},8,"2008-07-02",2922,7645.0625,637.08854166666663,20.931040383299109,0,0,61159.5,0,61159.5,0,1,18,4,20,6717,"NO",null,null,null,null,null,null,null,null,null,null,null,null,null,null,null,12.5,null,null,null,null,null,null,null,null,null,null,null,null,null,null,null,null,null,null,null,null,null,null,"01","58","269",null,null,null,"18 ปี  4 เดือน  20 วัน  ",429]
[{"$f":"A434+1","v":430},null,"2000-07-03",43,null,null,null,null,"จักรเย็บผ้า 2 หลัง",2,31837.5,"01.37.68-69",{"$f":"IF(BV435=\"จำหน่าย\",0,SUM(J435*K435))","v":63675},{"$f":"IF(K435<5000,0,M435)","v":63675},8,"2008-07-03",2922,7959.375,663.28125,21.791581108829568,0,0,63673,0,63673,0,2,18,4,19,6716,"NO",null,null,null,null,null,null,null,null,null,null,null,null,null,null,null,12.5,null,null,null,null,null,null,null,null,null,null,null,null,null,null,null,null,null,null,null,null,null,null,"01","37","68-69",null,null,null,"18 ปี  4 เดือน  19 วัน  ",430]
[{"$f":"A435+1","v":431},null,"2000-07-04",43,null,null,null,null,"จักรเย็บผ้า 2 หลัง",2,31900,"01.37.70-71",{"$f":"IF(BV436=\"จำหน่าย\",0,SUM(J436*K436))","v":63800},{"$f":"IF(K436<5000,0,M436)","v":63800},8,"2008-07-04",2922,7975,664.58333333333337,21.834360027378509,0,0,63798,0,63798,0,2,18,4,18,6715,"NO",null,null,null,null,null,null,null,null,null,null,null,null,null,null,null,12.5,null,null,null,null,null,null,null,null,null,null,null,null,null,null,null,null,null,null,null,null,null,null,"01","37","70-71",null,null,null,"18 ปี  4 เดือน  18 วัน  ",431]
[{"$f":"A436+1","v":432},null,"2000-07-04",43,null,null,null,null,"เครื่องคอมพิวเตอร์ 1 ค.",1,49500,"01.53.989",{"$f":"IF(BV437=\"จำหน่าย\",0,SUM(J437*K437))","v":49500},{"$f":"IF(K437<5000,0,M437)","v":49500},3,"2003-07-04",1095,16500,1375,45.205479452054796,0,0,49499,0,49499,0,1,18,4,18,6715,"NO",null,null,null,null,null,null,null,null,null,null,null,null,null,null,null,33.333333333333336,null,null,null,null,null,null,null,null,null,null,null,null,null,null,null,null,null,null,null,null,null,null,"01","53","989",null,null,null,"18 ปี  4 เดือน  18 วัน  ",432]
[{"$f":"A437+1","v":433},null,"2000-07-23",43,null,null,null,null,"กล้องถ่ายภาพดิจิตอล 1 ตัว",1,42693,"06.01.79",{"$f":"IF(BV438=\"จำหน่าย\",0,SUM(J438*K438))","v":42693},{"$f":"IF(K438<5000,0,M438)","v":42693},5,"2005-07-23",1826,8538.6,711.55000000000007,23.380613362541073,0,0,42692,0,42692,0,1,18,3,30,6696,"NO",null,null,null,null,null,null,null,null,null,null,null,null,null,null,null,20,null,null,null,null,null,null,null,null,null,null,null,null,null,null,null,null,null,null,null,null,null,null,"06","01","79",null,null,null,"18 ปี  3 เดือน  30 วัน  ",433]
[{"$f":"A438+1","v":434},null,"2000-07-24",43,null,null,null,null,"ชุดโต๊ะประชุม 1 ชุด",1,170900,"01.02.5865",{"$f":"IF(BV439=\"จำหน่าย\",0,SUM(J439*K439))","v":170900},{"$f":"IF(K439<5000,0,M439)","v":170900},8,"2008-07-24",2922,21362.5,1780.2083333333333,58.487337440109513,0,0,170899,0,170899,0,1,18,3,29,6695,"NO",null,null,null,null,null,null,null,null,null,null,null,null,null,null,null,12.5,null,null,null,null,null,null,null,null,null,null,null,null,null,null,null,null,null,null,null,null,null,null,"01","02","5865",null,null,null,"18 ปี  3 เดือน  29 วัน  ",434]
[{"$f":"A439+1","v":435},null,"2000-07-24",43,null,null,null,null,"เครื่องเลื่อยสายพาน 1 ค.",1,165000,"04.28.09",{"$f":"IF(BV440=\"จำหน่าย\",0,SUM(J440*K440))","v":165000},{"$f":"IF(K440<5000,0,M440)","v":165000},5,"2005-07-24",1826,33000,2750,90.361445783132524,0,0,164999,0,164999,0,1,18,3,29,6695,"NO",null,null,null,null,null,null,null,null,null,null,null,null,null,null,null,20,null,null,null,null,null,null,null,null,null,null,null,null,null,null,null,null,null,null,null,null,null,null,"04","28","09",null,null,null,"18 ปี  3 เดือน  29 วัน  ",435]
[{"$f":"A440+1","v":436},null,"2000-07-24",43,null,null,null,null,"เครื่องเลื่อยตัด 1 ค.",1,87000,"04.29.12",{"$f":"IF(BV441=\"จำหน่าย\",0,SUM(J441*K441))","v":87000},{"$f":"IF(K441<5000,0,M441)","v":87000},5,"2005-07-24",1826,17400,1450,47.645125958378969,0,0,86999,0,86999,0,1,18,3,29,6695,"NO",null,null,null,null,null,null,null,null,null,null,null,null,null,null,null,20,null,null,null,null,null,null,null,null,null,null,null,null,null,null,null,null,null,null,null,null,null,null,"04","29","12",null,null,null,"18 ปี  3 เดือน  29 วัน  ",436]
[{"$f":"A441+1","v":437},null,"2000-07-24",43,null,null,null,null,"เครื่องเลื่อยตัด 1 ค.",1,110000,"04.29.13",{"$f":"IF(BV442=\"จำหน่าย\",0,SUM(J442*K442))","v":110000},{"$f":"IF(K442<5000,0,M442)","v":110000},5,"2005-07-24",1826,22000,1833.3333333333333,60.24096385542169,0,0,109999,0,109999,0,1,18,3,29,6695,"NO",null,null,null,null,null,null,null,null,null,null,null,null,null,null,null,20,null,null,null,null,null,null,null,null,null,null,null,null,null,null,null,null,null,null,null,null,null,null,"04","29","13",null,null,null,"18 ปี  3 เดือน  29 วัน  ",437]
[{"$f":"A442+1","v":438},null,"2000-07-24",43,null,null,null,null,"เครื่องกลึงไม้ 1 ค.",1,99000,"09.10.07-08",{"$f":"IF(BV443=\"จำหน่าย\",0,SUM(J443*K443))","v":99000},{"$f":"IF(K443<5000,0,M443)","v":99000},5,"2005-07-24",1826,19800,1650,54.216867469879517,0,0,98999,0,98999,0,1,18,3,29,6695,"NO",null,null,null,null,null,null,null,null,null,null,null,null,null,null,null,20,null,null,null,null,null,null,null,null,null,null,null,null,null,null,null,null,null,null,null,null,null,null,"09","10","07-08",null,null,null,"18 ปี  3 เดือน  29 วัน  ",438]
[{"$f":"A443+1","v":439},null,"2000-07-24",43,null,null,null,null,"เครื่องแท่นเจาะ 1 ค.",1,35000,"09.18.04",{"$f":"IF(BV444=\"จำหน่าย\",0,SUM(J444*K444))","v":35000},{"$f":"IF(K444<5000,0,M444)","v":35000},5,"2005-07-24",1826,7000,583.33333333333337,19.167579408543265,0,0,34999,0,34999,0,1,18,3,29,6695,"NO",null,null,null,null,null,null,null,null,null,null,null,null,null,null,null,20,null,null,null,null,null,null,null,null,null,null,null,null,null,null,null,null,null,null,null,null,null,null,"09","18","04",null,null,null,"18 ปี  3 เดือน  29 วัน  ",439]
[{"$f":"A444+1","v":440},null,"2000-07-25",43,null,null,null,null,"เครื่องคอมพิวเตอร์แบบพกพา 1 ค.",1,86000,"01.53.991",{"$f":"IF(BV445=\"จำหน่าย\",0,SUM(J445*K445))","v":86000},{"$f":"IF(K445<5000,0,M445)","v":86000},3,"2003-07-25",1095,28666.666666666668,2388.8888888888891,78.538812785388131,0,0,85999,0,85999,0,1,18,3,28,6694,"NO",null,null,null,null,null,null,null,null,null,null,null,null,null,null,null,33.333333333333336,null,null,null,null,null,null,null,null,null,null,null,null,null,null,null,null,null,null,null,null,null,null,"01","53","991",null,null,null,"18 ปี  3 เดือน  28 วัน  ",440]
[{"$f":"A445+1","v":441},null,"2000-08-01",43,null,null,null,null,"โทรทัศน์สี 29\" 1 ค.",1,50730,"05.10.332",{"$f":"IF(BV446=\"จำหน่าย\",0,SUM(J446*K446))","v":50730},{"$f":"IF(K446<5000,0,M446)","v":50730},5,"2005-08-01",1826,10146,845.5,27.782037239868565,0,0,50729,0,50729,0,1,18,3,21,6687,"NO",null,null,null,null,null,null,null,null,null,null,null,null,null,null,null,20,null,null,null,null,null,null,null,null,null,null,null,null,null,null,null,null,null,null,null,null,null,null,"05","10","332",null,null,null,"18 ปี  3 เดือน  21 วัน  ",441]
[{"$f":"A446+1","v":442},null,"2000-08-07",43,null,null,null,null,"ปั้มลม 1 ค.",1,54837.57,"09.01.15",{"$f":"IF(BV447=\"จำหน่าย\",0,SUM(J447*K447))","v":54837.57},{"$f":"IF(K447<5000,0,M447)","v":54837.57},4,{"$f":"DATE(YEAR(C447)+O447,MONTH(C447),DAY(C447))","v":"2004-08-07"},{"$f":"IF(NOT(OR(ISBLANK(P447),ISBLANK(C447))),P447-C447,\"\")","v":1461},{"$f":"SLN(N447,,O447)","v":13709.3925},{"$f":"SLN(R447,,12)","v":1142.4493749999999},{"$f":"SLN(N447,,Q447)","v":37.534271047227925},{"$f":"IF(N447=0,0,IF(AE447<=Q447,1,0))","v":0},0,54836.57,0,54836.57,0,1,{"$f":"DATEDIF(C447,TODAY(),\"Y\")","v":18},{"$f":"DATEDIF(C447,TODAY(),\"YM\")","v":3},{"$f":"DATEDIF(C447,TODAY(),\"md\")+1","v":15},{"$f":"DATEDIF(C447,TODAY(),\"d\")+1","v":6681},{"$f":"IF(N447=0,\"No\",IF(AE447>Q447,\"NO\",\"YES\"))","v":"NO"},null,null,null,null,null,null,null,null,null,null,null,null,null,null,null,{"$f":"100/O447","v":25},null,null,null,null,null,null,null,null,null,null,null,null,null,null,null,null,null,null,null,null,null,null,"09","01","15",null,null,null,{"$f":"CONCATENATE(AB447,\" ปี  \",AC447,\" เดือน  \",AD447,\" วัน  \")","v":"18 ปี  3 เดือน  15 วัน  "},{"$f":"A447","v":442}]
[{"$f":"A447+1","v":443},null,"2000-08-15",43,null,null,null,null,"เครื่องฉายภาพวีดีโอ 1 ค.",1,149800,"06.44.08",{"$f":"IF(BV448=\"จำหน่าย\",0,SUM(J448*K448))","v":149800},{"$f":"IF(K448<5000,0,M448)","v":149800},5,"2005-08-15",1826,29960,2496.6666666666665,82.037239868565166,0,0,149799,0,149799,0,1,18,3,7,6673,"NO",null,null,null,null,null,null,null,null,null,null,null,null,null,null,null,20,null,null,null,null,null,null,null,null,null,null,null,null,null,null,null,null,null,null,null,null,null,null,"06","44","08",null,null,null,"18 ปี  3 เดือน  7 วัน  ",443]
[{"$f":"A448+1","v":444},null,"2000-08-15",43,null,null,null,null,"เครื่องนำเสนอภาพ 1 ค.",1,148730,"06.44.09",{"$f":"IF(BV449=\"จำหน่าย\",0,SUM(J449*K449))","v":148730},{"$f":"IF(K449<5000,0,M449)","v":148730},5,"2005-08-15",1826,29746,2478.8333333333335,81.451259583789707,0,0,148729,0,148729,0,1,18,3,7,6673,"NO",null,null,null,null,null,null,null,null,null,null,null,null,null,null,null,20,null,null,null,null,null,null,null,null,null,null,null,null,null,null,null,null,null,null,null,null,null,null,"06","44","09",null,null,null,"18 ปี  3 เดือน  7 วัน  ",444]
[{"$f":"A449+1","v":445},null,"2000-08-28",43,null,null,null,null,"เครื่องคอมพิวเตอร์พร้อมอุปกรณ์ 1 ชุด",1,37343,"01.53.993",{"$f":"IF(BV450=\"จำหน่าย\",0,SUM(J450*K450))","v":37343},{"$f":"IF(K450<5000,0,M450)","v":37343},3,"2003-08-28",1095,12447.666666666666,1037.3055555555554,34.103196347031961,0,0,37342,0,37342,0,1,18,2,25,6660,"NO",null,null,null,null,null,null,null,null,null,null,null,null,null,null,null,33.333333333333336,null,null,null,null,null,null,null,null,null,null,null,null,null,null,null,null,null,null,null,null,null,null,"01","53","993",null,null,null,"18 ปี  2 เดือน  25 วัน  ",445]
[{"$f":"A450+1","v":446},null,"2000-08-29",43,null,null,null,null,"อุปกรณ์กีฬาบาสเก็ตบอล 1 ชุด",1,41088,"10.07.06",{"$f":"IF(BV451=\"จำหน่าย\",0,SUM(J451*K451))","v":41088},{"$f":"IF(K451<5000,0,M451)","v":41088},5,"2005-08-29",1826,8217.6,684.80000000000007,22.501642935377877,0,0,41087,0,41087,0,1,18,2,24,6659,"NO",null,null,null,null,null,null,null,null,null,null,null,null,null,null,null,20,null,null,null,null,null,null,null,null,null,null,null,null,null,null,null,null,null,null,null,null,null,null,"10","07","06",null,null,null,"18 ปี  2 เดือน  24 วัน  ",446]
[{"$f":"A451+1","v":447},null,"2000-08-31",43,null,null,null,null,"เครื่องปรับอากาศ 35,000 BTU 3 ค.",3,33000,"01.29.498-500",{"$f":"IF(BV452=\"จำหน่าย\",0,SUM(J452*K452))","v":99000},{"$f":"IF(K452<5000,0,M452)","v":99000},8,"2008-08-31",2922,12375,1031.25,33.880903490759756,0,0,98997,0,98997,0,3,18,2,22,6657,"NO",null,null,null,null,null,null,null,null,null,null,null,null,null,null,null,12.5,null,null,null,null,null,null,null,null,null,null,null,null,null,null,null,null,null,null,null,null,null,null,"01","29","498-500",null,null,null,"18 ปี  2 เดือน  22 วัน  ",447]
[{"$f":"A452+1","v":448},null,"2000-08-31",43,null,null,null,null,"เครื่องคอมพิวเตอร์ 5 ชุด",5,39380,"01.53.994-998",{"$f":"IF(BV453=\"จำหน่าย\",0,SUM(J453*K453))","v":196900},{"$f":"IF(K453<5000,0,M453)","v":196900},3,"2003-08-31",1095,65633.333333333328,5469.4444444444443,179.8173515981735,0,0,196895,0,196895,0,5,18,2,22,6657,"NO",null,null,null,null,null,null,null,null,null,null,null,null,null,null,null,33.333333333333336,null,null,null,null,null,null,null,null,null,null,null,null,null,null,null,null,null,null,null,null,null,null,"01","53","994-998",null,null,null,"18 ปี  2 เดือน  22 วัน  ",448]
[{"$f":"A453+1","v":449},null,"2000-09-04",43,null,null,null,null,"เครื่องขยายเสียงเคลื่อนที่ 2 ชุด",2,67945,"05.06.585-586",{"$f":"IF(BV454=\"จำหน่าย\",0,SUM(J454*K454))","v":135890},{"$f":"IF(K454<5000,0,M454)","v":135890},5,"2005-09-04",1826,27178,2264.8333333333335,74.419496166484123,0,0,135888,0,135888,0,2,18,2,18,6653,"NO",null,null,null,null,null,null,null,null,null,null,null,null,null,null,null,20,null,null,null,null,null,null,null,null,null,null,null,null,null,null,null,null,null,null,null,null,null,null,"05","06","585-586",null,null,null,"18 ปี  2 เดือน  18 วัน  ",449]
[{"$f":"A454+1","v":450},null,"2000-09-11",43,null,null,null,null,"เครื่องคอมพิวเตอร์ 1 ค.",1,95000,"01.53.1109",{"$f":"IF(BV455=\"จำหน่าย\",0,SUM(J455*K455))","v":95000},{"$f":"IF(K455<5000,0,M455)","v":95000},3,"2003-09-11",1095,31666.666666666668,2638.8888888888891,86.757990867579906,0,{"$f":"SUM(R455*U455/12)","v":0},{"$f":"IF(N455=0,0,IF((R455*AB455)+(R455*AC455/12)>=N455,N455-J455,((R455*AB455)+(R455*AC455/12))))","v":94999},{"$f":"SUM(T455*U455)","v":0},{"$f":"IF(N455=0,0,IF((DATEDIF(C455,TODAY(),\"d\")+1)*T455>=N455,N455-J455,(DATEDIF(C455,TODAY(),\"d\")+1)*T455))","v":94999},{"$f":"IF(U455=0,0,IF(OR(DAY(C455)=1,MONTH(C455)<>MONTH(TODAY()),YEAR(C455)<>YEAR(TODAY())),T455*((DAY(DATE(YEAR(TODAY()),MONTH(TODAY())+1,1)-1))),T455*((DAY(DATE(YEAR(TODAY()),MONTH(TODAY())+1,1)-1)-DAY(C455)+1))))","v":0},{"$f":"IF(N455=0,0,IF(X455>=N455,(J455),(N455-Y455)))","v":1},18,2,11,6646,"NO",null,null,null,null,null,null,null,null,null,null,null,null,null,null,null,33.333333333333336,null,null,null,null,null,null,null,null,null,null,null,null,null,null,null,null,null,null,null,null,null,null,"01","53","1109",null,null,null,"18 ปี  2 เดือน  11 วัน  ",450]
[{"$f":"A455+1","v":451},null,"2000-09-11",43,null,null,null,null,"เครื่องมัลติมีเดียโปรเจคเตอร์ 4 ค.",4,251450,"06.19.03-06",{"$f":"IF(BV456=\"จำหน่าย\",0,SUM(J456*K456))","v":1005800},{"$f":"IF(K456<5000,0,M456)","v":1005800},3,"2003-09-11",1095,335266.66666666669,27938.888888888891,918.53881278538813,0,0,1005796,0,1005796,0,4,18,2,11,6646,"NO",null,null,null,null,null,null,null,null,null,null,null,null,null,null,null,33.333333333333336,null,null,null,null,null,null,null,null,null,null,null,null,null,null,null,null,null,null,null,null,null,null,"06","19","03-06",null,null,null,"18 ปี  2 เดือน  11 วัน  ",451]
[{"$f":"A456+1","v":452},null,"2000-09-26",43,null,null,null,null,"เครื่องฉายภาพวีดีโอ 1 ค.",1,99510,"06.44.10",{"$f":"IF(BV457=\"จำหน่าย\",0,SUM(J457*K457))","v":99510},{"$f":"IF(K457<5000,0,M457)","v":99510},5,"2005-09-26",1826,19902,1658.5,54.496166484118291,0,0,99509,0,99509,0,1,18,1,27,6631,"NO",null,null,null,null,null,null,null,null,null,null,null,null,null,null,null,20,null,null,null,null,null,null,null,null,null,null,null,null,null,null,null,null,null,null,null,null,null,null,"06","44","10",null,null,null,"18 ปี  1 เดือน  27 วัน  ",452]
[{"$f":"A457+1","v":453},null,"2000-10-09",44,null,null,null,null,"เครื่องคอมพิวเตอร์ 1 ค.",1,41387.599999999999,"01.53.1015",{"$f":"IF(BV458=\"จำหน่าย\",0,SUM(J458*K458))","v":41387.599999999999},{"$f":"IF(K458<5000,0,M458)","v":41387.599999999999},3,"2003-10-09",1095,13795.866666666667,1149.6555555555556,37.796894977168947,0,0,41386.6,0,41386.6,0,1,18,1,13,6618,"NO",null,null,null,null,null,null,null,null,null,null,null,null,null,null,null,33.333333333333336,null,null,null,null,null,null,null,null,null,null,null,null,null,null,null,null,null,null,null,null,null,null,"01","53","1015",null,null,null,"18 ปี  1 เดือน  13 วัน  ",453]
[{"$f":"A458+1","v":454},null,"2000-10-13",44,null,null,null,null,"เครื่องคอมพิวเตอร์ 3 ค.",3,32250,"01.53.1016-1018",{"$f":"IF(BV459=\"จำหน่าย\",0,SUM(J459*K459))","v":96750},{"$f":"IF(K459<5000,0,M459)","v":96750},3,"2003-10-13",1095,32250,2687.5,88.356164383561648,0,0,96747,0,96747,0,3,18,1,9,6614,"NO",null,null,null,null,null,null,null,null,null,null,null,null,null,null,null,33.333333333333336,null,null,null,null,null,null,null,null,null,null,null,null,null,null,null,null,null,null,null,null,null,null,"01","53","1016-1018",null,null,null,"18 ปี  1 เดือน  9 วัน  ",454]
[{"$f":"A459+1","v":455},null,"2000-10-16",44,null,null,null,null,"ชุดตู้ครัว 1 ชุด",1,31500,"01.06.1283",{"$f":"IF(BV460=\"จำหน่าย\",0,SUM(J460*K460))","v":31500},{"$f":"IF(K460<5000,0,M460)","v":31500},8,"2008-10-16",2922,3937.5,328.125,10.780287474332649,0,0,31499,0,31499,0,1,18,1,6,6611,"NO",null,null,null,null,null,null,null,null,null,null,null,null,null,null,null,12.5,null,null,null,null,null,null,null,null,null,null,null,null,null,null,null,null,null,null,null,null,null,null,"01","06","1283",null,null,null,"18 ปี  1 เดือน  6 วัน  ",455]
[{"$f":"A460+1","v":456},null,"2000-10-17",44,null,null,null,null,"เครื่องถ่ายทอดสัญญาณ 1 ค.",1,127330,"06.50.01",{"$f":"IF(BV461=\"จำหน่าย\",0,SUM(J461*K461))","v":127330},{"$f":"IF(K461<5000,0,M461)","v":127330},5,"2005-10-17",1826,25466,2122.1666666666665,69.731653888280391,0,0,127329,0,127329,0,1,18,1,5,6610,"NO",null,null,null,null,null,null,null,null,null,null,null,null,null,null,null,20,null,null,null,null,null,null,null,null,null,null,null,null,null,null,null,null,null,null,null,null,null,null,"06","50","01",null,null,null,"18 ปี  1 เดือน  5 วัน  ",456]
[{"$f":"A461+1","v":457},null,"2000-10-24",44,null,null,null,null,"เครื่องคอมพิวเตอร์ 2 ค.",2,36900,"01.53.1011-1012",{"$f":"IF(BV462=\"จำหน่าย\",0,SUM(J462*K462))","v":73800},{"$f":"IF(K462<5000,0,M462)","v":73800},3,"2003-10-24",1095,24600,2050,67.397260273972606,0,0,73798,0,73798,0,2,18,0,29,6603,"NO",null,null,null,null,null,null,null,null,null,null,null,null,null,null,null,33.333333333333336,null,null,null,null,null,null,null,null,null,null,null,null,null,null,null,null,null,null,null,null,null,null,"01","53","1011-1012",null,null,null,"18 ปี  0 เดือน  29 วัน  ",457]
[{"$f":"A462+1","v":458},null,"2000-10-26",44,null,null,null,null,"เครื่องควบคุมการนำหนังสือออก 1 ชุด",1,900000,"01.58.271",{"$f":"IF(BV463=\"จำหน่าย\",0,SUM(J463*K463))","v":900000},{"$f":"IF(K463<5000,0,M463)","v":900000},8,"2008-10-26",2922,112500,9375,308.00821355236138,0,0,899999,0,899999,0,1,18,0,27,6601,"NO",null,null,null,null,null,null,null,null,null,null,null,null,null,null,null,12.5,null,null,null,null,null,null,null,null,null,null,null,null,null,null,null,null,null,null,null,null,null,null,"01","58","271",null,null,null,"18 ปี  0 เดือน  27 วัน  ",458]
[{"$f":"A463+1","v":459},null,"2000-10-28",44,null,null,null,null,"อุปกรณ์คอมพิวเตอร์ 1 ชุด ",1,52834.29,"01.53.1090",{"$f":"IF(BV464=\"จำหน่าย\",0,SUM(J464*K464))","v":52834.29},{"$f":"IF(K464<5000,0,M464)","v":52834.29},3,"2003-10-28",1095,17611.43,1467.6191666666666,48.250493150684932,0,0,52833.29,0,52833.29,0,1,18,0,25,6599,"NO",null,null,null,null,null,null,null,null,null,null,null,null,null,null,null,33.333333333333336,null,null,null,null,null,null,null,null,null,null,null,null,null,null,null,null,null,null,null,null,null,null,"01","53","1090",null,null,null,"18 ปี  0 เดือน  25 วัน  ",459]
[{"$f":"A464+1","v":460},null,"2000-11-02",44,null,null,null,null,"เครื่องปรับอากาศ 32,000 BTU 1 ค. ",1,34240,"01.29.514",{"$f":"IF(BV465=\"จำหน่าย\",0,SUM(J465*K465))","v":34240},{"$f":"IF(K465<5000,0,M465)","v":34240},8,"2008-11-02",2922,4280,356.66666666666669,11.718001368925394,0,0,34239,0,34239,0,1,18,0,20,6594,"NO",null,null,null,null,null,null,null,null,null,null,null,null,null,null,null,12.5,null,null,null,null,null,null,null,null,null,null,null,null,null,null,null,null,null,null,null,null,null,null,"01","29","514",null,null,null,"18 ปี  0 เดือน  20 วัน  ",460]
[{"$f":"A465+1","v":461},null,"2000-11-04",44,null,null,null,null,"เครื่องสำรองไฟฟ้า 1 ค. ",1,39500,"05.46.153",{"$f":"IF(BV466=\"จำหน่าย\",0,SUM(J466*K466))","v":39500},{"$f":"IF(K466<5000,0,M466)","v":39500},3,"2003-11-04",1095,13166.666666666666,1097.2222222222222,36.073059360730596,0,0,39499,0,39499,0,1,18,0,18,6592,"NO",null,null,null,null,null,null,null,null,null,null,null,null,null,null,null,33.333333333333336,null,null,null,null,null,null,null,null,null,null,null,null,null,null,null,null,null,null,null,null,null,null,"05","46","153",null,null,null,"18 ปี  0 เดือน  18 วัน  ",461]
[{"$f":"A466+1","v":462},null,"2000-11-08",44,null,null,null,null,"เครื่องคอมพิวเตอร์ 2 ลูกข่าย",2,60777,"01.53.1023-1024",{"$f":"IF(BV467=\"จำหน่าย\",0,SUM(J467*K467))","v":121554},{"$f":"IF(K467<5000,0,M467)","v":121554},3,"2003-11-08",1095,40518,3376.5,111.00821917808219,0,0,121552,0,121552,0,2,18,0,14,6588,"NO",null,null,null,null,null,null,null,null,null,null,null,null,null,null,null,33.333333333333336,null,null,null,null,null,null,null,null,null,null,null,null,null,null,null,null,null,null,null,null,null,null,"01","53","1023-1024",null,null,null,"18 ปี  0 เดือน  14 วัน  ",462]
[{"$f":"A467+1","v":463},null,"2000-11-08",44,null,null,null,null,"เครื่องคอมพิวเตอร์ 1 ลูกข่าย",1,60777,"01.53.1027",{"$f":"IF(BV468=\"จำหน่าย\",0,SUM(J468*K468))","v":60777},{"$f":"IF(K468<5000,0,M468)","v":60777},3,"2003-11-08",1095,20259,1688.25,55.504109589041093,0,0,60776,0,60776,0,1,18,0,14,6588,"NO",null,null,null,null,null,null,null,null,null,null,null,null,null,null,null,33.333333333333336,null,null,null,null,null,null,null,null,null,null,null,null,null,null,null,null,null,null,null,null,null,null,"01","53","1027",null,null,null,"18 ปี  0 เดือน  14 วัน  ",463]
[{"$f":"A468+1","v":464},null,"2000-11-08",44,null,null,null,null,"เครื่องคอมพิวเตอร์ 1 ลูกข่าย",1,60777,"01.53.1037",{"$f":"IF(BV469=\"จำหน่าย\",0,SUM(J469*K469))","v":60777},{"$f":"IF(K469<5000,0,M469)","v":60777},3,"2003-11-08",1095,20259,1688.25,55.504109589041093,0,0,60776,0,60776,0,1,18,0,14,6588,"NO",null,null,null,null,null,null,null,null,null,null,null,null,null,null,null,33.333333333333336,null,null,null,null,null,null,null,null,null,null,null,null,null,null,null,null,null,null,null,null,null,null,"01","53","1037",null,null,null,"18 ปี  0 เดือน  14 วัน  ",464]
[{"$f":"A469+1","v":465},null,"2000-11-08",44,null,null,null,null,"เครื่องคอมพิวเตอร์ 4 ลูกข่าย",4,60777,"01.53.1039-1042",{"$f":"IF(BV470=\"จำหน่าย\",0,SUM(J470*K470))","v":243108},{"$f":"IF(K470<5000,0,M470)","v":243108},3,"2003-11-08",1095,81036,6753,222.01643835616437,0,0,243104,0,243104,0,4,18,0,14,6588,"NO",null,null,null,null,null,null,null,null,null,null,null,null,null,null,null,33.333333333333336,null,null,null,null,null,null,null,null,null,null,null,null,null,null,null,null,null,null,null,null,null,null,"01","53","1039-1042",null,null,null,"18 ปี  0 เดือน  14 วัน  ",465]
[{"$f":"A470+1","v":466},null,"2000-11-08",44,null,null,null,null,"เครื่องคอมพิวเตอร์ 1 ลูกข่าย",1,60777,"01.53.1044",{"$f":"IF(BV471=\"จำหน่าย\",0,SUM(J471*K471))","v":60777},{"$f":"IF(K471<5000,0,M471)","v":60777},3,"2003-11-08",1095,20259,1688.25,55.504109589041093,0,0,60776,0,60776,0,1,18,0,14,6588,"NO",null,null,null,null,null,null,null,null,null,null,null,null,null,null,null,33.333333333333336,null,null,null,null,null,null,null,null,null,null,null,null,null,null,null,null,null,null,null,null,null,null,"01","53","1044",null,null,null,"18 ปี  0 เดือน  14 วัน  ",466]
[{"$f":"A471+1","v":467},null,"2000-11-08",44,null,null,null,null,"เครื่องคอมพิวเตอร์ 3 ลูกข่าย",3,60777,"01.53.1047-1049",{"$f":"IF(BV472=\"จำหน่าย\",0,SUM(J472*K472))","v":182331},{"$f":"IF(K472<5000,0,M472)","v":182331},3,"2003-11-08",1095,60777,5064.75,166.51232876712328,0,0,182328,0,182328,0,3,18,0,14,6588,"NO",null,null,null,null,null,null,null,null,null,null,null,null,null,null,null,33.333333333333336,null,null,null,null,null,null,null,null,null,null,null,null,null,null,null,null,null,null,null,null,null,null,"01","53","1047-1049",null,null,null,"18 ปี  0 เดือน  14 วัน  ",467]
[{"$f":"A472+1","v":468},null,"2000-11-08",44,null,null,null,null,"เครื่องคอมพิวเตอร์ 5 ลูกข่าย",4,60777,"01.53.1051-1054",{"$f":"IF(BV473=\"จำหน่าย\",0,SUM(J473*K473))","v":243108},{"$f":"IF(K473<5000,0,M473)","v":243108},3,"2003-11-08",1095,81036,6753,222.01643835616437,0,0,243104,0,243104,0,4,18,0,14,6588,"NO",null,null,null,null,null,null,null,null,null,null,null,null,null,null,null,33.333333333333336,null,null,null,null,null,null,null,null,null,null,null,null,null,null,null,null,null,null,null,null,null,null,"01","53","1051-1054",null,null,null,"18 ปี  0 เดือน  14 วัน  ",468]
[{"$f":"A473+1","v":469},null,"2000-11-08",44,null,null,null,null,"เครื่องคอมพิวเตอร์ 1 ลูกข่าย",1,60777,"01.53.1057",{"$f":"IF(BV474=\"จำหน่าย\",0,SUM(J474*K474))","v":60777},{"$f":"IF(K474<5000,0,M474)","v":60777},3,"2003-11-08",1095,20259,1688.25,55.504109589041093,0,0,60776,0,60776,0,1,18,0,14,6588,"NO",null,null,null,null,null,null,null,null,null,null,null,null,null,null,null,33.333333333333336,null,null,null,null,null,null,null,null,null,null,null,null,null,null,null,null,null,null,null,null,null,null,"01","53","1057",null,null,null,"18 ปี  0 เดือน  14 วัน  ",469]
[{"$f":"A474+1","v":470},null,"2000-11-08",44,null,null,null,null,"เครื่องคอมพิวเตอร์ 1 ลูกข่าย",1,60777,"01.53.1059",{"$f":"IF(BV475=\"จำหน่าย\",0,SUM(J475*K475))","v":60777},{"$f":"IF(K475<5000,0,M475)","v":60777},3,"2003-11-08",1095,20259,1688.25,55.504109589041093,0,0,60776,0,60776,0,1,18,0,14,6588,"NO",null,null,null,null,null,null,null,null,null,null,null,null,null,null,null,33.333333333333336,null,null,null,null,null,null,null,null,null,null,null,null,null,null,null,null,null,null,null,null,null,null,"01","53","1059",null,null,null,"18 ปี  0 เดือน  14 วัน  ",470]
[{"$f":"A475+1","v":471},null,"2000-11-08",44,null,null,null,null,"เครื่องคอมพิวเตอร์ 10 ลูกข่าย",10,60777,"01.53.1063-1072",{"$f":"IF(BV476=\"จำหน่าย\",0,SUM(J476*K476))","v":607770},{"$f":"IF(K476<5000,0,M476)","v":607770},3,"2003-11-08",1095,202590,16882.5,555.04109589041093,0,0,607760,0,607760,0,10,18,0,14,6588,"NO",null,null,null,null,null,null,null,null,null,null,null,null,null,null,null,33.333333333333336,null,null,null,null,null,null,null,null,null,null,null,null,null,null,null,null,null,null,null,null,null,null,"01","53","1063-1072",null,null,null,"18 ปี  0 เดือน  14 วัน  ",471]
[{"$f":"A476+1","v":472},null,"2000-11-12",44,null,null,null,null,"โต๊ะสาธิต 1 ตัว",1,66126,"01.02.6634",{"$f":"IF(BV477=\"จำหน่าย\",0,SUM(J477*K477))","v":66126},{"$f":"IF(K477<5000,0,M477)","v":66126},8,"2008-11-12",2922,8265.75,688.8125,22.630390143737166,0,0,66125,0,66125,0,1,18,0,10,6584,"NO",null,null,null,null,null,null,null,null,null,null,null,null,null,null,null,12.5,null,null,null,null,null,null,null,null,null,null,null,null,null,null,null,null,null,null,null,null,null,null,"01","02","6634",null,null,null,"18 ปี  0 เดือน  10 วัน  ",472]
[{"$f":"A477+1","v":473},null,"2000-11-12",44,null,null,null,null,"โต๊ะปฏิบัติการ 2 ตัว",2,179225,"01.02.6635-6636",{"$f":"IF(BV478=\"จำหน่าย\",0,SUM(J478*K478))","v":358450},{"$f":"IF(K478<5000,0,M478)","v":358450},8,"2008-11-12",2922,44806.25,3733.8541666666665,122.67282683093771,0,0,358448,0,358448,0,2,18,0,10,6584,"NO",null,null,null,null,null,null,null,null,null,null,null,null,null,null,null,12.5,null,null,null,null,null,null,null,null,null,null,null,null,null,null,null,null,null,null,null,null,null,null,"01","02","6635-6636",null,null,null,"18 ปี  0 เดือน  10 วัน  ",473]
[{"$f":"A478+1","v":474},null,"2000-11-12",44,null,null,null,null,"โต๊ะปฏิบัติการด้านข้าง 1 ตัว",1,69550,"01.02.6639",{"$f":"IF(BV479=\"จำหน่าย\",0,SUM(J479*K479))","v":69550},{"$f":"IF(K479<5000,0,M479)","v":69550},8,"2008-11-12",2922,8693.75,724.47916666666663,23.802190280629706,0,0,69549,0,69549,0,1,18,0,10,6584,"NO",null,null,null,null,null,null,null,null,null,null,null,null,null,null,null,12.5,null,null,null,null,null,null,null,null,null,null,null,null,null,null,null,null,null,null,null,null,null,null,"01","02","6639",null,null,null,"18 ปี  0 เดือน  10 วัน  ",474]
[{"$f":"A479+1","v":475},null,"2000-11-12",44,null,null,null,null,"โต๊ะปฏิบัติการพร้อมชั้นวางของ 1 ตัว",1,121445,"01.02.6640",{"$f":"IF(BV480=\"จำหน่าย\",0,SUM(J480*K480))","v":121445},{"$f":"IF(K480<5000,0,M480)","v":121445},8,"2008-11-12",2922,15180.625,1265.0520833333333,41.562286105407253,0,0,121444,0,121444,0,1,18,0,10,6584,"NO",null,null,null,null,null,null,null,null,null,null,null,null,null,null,null,12.5,null,null,null,null,null,null,null,null,null,null,null,null,null,null,null,null,null,null,null,null,null,null,"01","02","6640",null,null,null,"18 ปี  0 เดือน  10 วัน  ",475]
[{"$f":"A480+1","v":476},null,"2000-11-12",44,null,null,null,null,"โต๊ะปฏิบัติการติดผนัง 1 ตัว",1,77040,"01.02.6641",{"$f":"IF(BV481=\"จำหน่าย\",0,SUM(J481*K481))","v":77040},{"$f":"IF(K481<5000,0,M481)","v":77040},8,"2008-11-12",2922,9630,802.5,26.365503080082135,0,0,77039,0,77039,0,1,18,0,10,6584,"NO",null,null,null,null,null,null,null,null,null,null,null,null,null,null,null,12.5,null,null,null,null,null,null,null,null,null,null,null,null,null,null,null,null,null,null,null,null,null,null,"01","02","6641",null,null,null,"18 ปี  0 เดือน  10 วัน  ",476]
[{"$f":"A481+1","v":477},null,"2000-11-12",44,null,null,null,null,"โต๊ะปฏิบัติการสาธิต 2 ตัว",2,87740,"01.02.6642-6643",{"$f":"IF(BV482=\"จำหน่าย\",0,SUM(J482*K482))","v":175480},{"$f":"IF(K482<5000,0,M482)","v":175480},8,"2008-11-12",2922,21935,1827.9166666666667,60.054757015742645,0,0,175478,0,175478,0,2,18,0,10,6584,"NO",null,null,null,null,null,null,null,null,null,null,null,null,null,null,null,12.5,null,null,null,null,null,null,null,null,null,null,null,null,null,null,null,null,null,null,null,null,null,null,"01","02","6642-6643",null,null,null,"18 ปี  0 เดือน  10 วัน  ",477]
[{"$f":"A482+1","v":478},null,"2000-11-12",44,null,null,null,null,"โต๊ะปฏิบัติการกลาง 1 ตัว",1,132680,"01.02.6644",{"$f":"IF(BV483=\"จำหน่าย\",0,SUM(J483*K483))","v":132680},{"$f":"IF(K483<5000,0,M483)","v":132680},8,"2008-11-12",2922,16585,1382.0833333333333,45.407255304585902,0,0,132679,0,132679,0,1,18,0,10,6584,"NO",null,null,null,null,null,null,null,null,null,null,null,null,null,null,null,12.5,null,null,null,null,null,null,null,null,null,null,null,null,null,null,null,null,null,null,null,null,null,null,"01","02","6644",null,null,null,"18 ปี  0 เดือน  10 วัน  ",478]
[{"$f":"A483+1","v":479},null,"2000-11-12",44,null,null,null,null,"โต๊ะปฏิบัติการติดผนัง 1 ตัว",1,42800,"01.02.6645",{"$f":"IF(BV484=\"จำหน่าย\",0,SUM(J484*K484))","v":42800},{"$f":"IF(K484<5000,0,M484)","v":42800},8,"2008-11-12",2922,5350,445.83333333333331,14.647501711156742,0,0,42799,0,42799,0,1,18,0,10,6584,"NO",null,null,null,null,null,null,null,null,null,null,null,null,null,null,null,12.5,null,null,null,null,null,null,null,null,null,null,null,null,null,null,null,null,null,null,null,null,null,null,"01","02","6645",null,null,null,"18 ปี  0 เดือน  10 วัน  ",479]
[{"$f":"A484+1","v":480},null,"2000-11-12",44,null,null,null,null,"โต๊ะปฏิบัติการติดผนัง 1 ตัว",1,58850,"01.02.6646",{"$f":"IF(BV485=\"จำหน่าย\",0,SUM(J485*K485))","v":58850},{"$f":"IF(K485<5000,0,M485)","v":58850},8,"2008-11-12",2922,7356.25,613.02083333333337,20.140314852840522,0,0,58849,0,58849,0,1,18,0,10,6584,"NO",null,null,null,null,null,null,null,null,null,null,null,null,null,null,null,12.5,null,null,null,null,null,null,null,null,null,null,null,null,null,null,null,null,null,null,null,null,null,null,"01","02","6646",null,null,null,"18 ปี  0 เดือน  10 วัน  ",480]
[{"$f":"A485+1","v":481},null,"2000-11-12",44,null,null,null,null,"โต๊ะปฏิบัติการสาธิต 2 ตัว",2,50841,"01.02.6647-6648",{"$f":"IF(BV486=\"จำหน่าย\",0,SUM(J486*K486))","v":101682},{"$f":"IF(K486<5000,0,M486)","v":101682},8,"2008-11-12",2922,12710.25,1059.1875,34.798767967145793,0,0,101680,0,101680,0,2,18,0,10,6584,"NO",null,null,null,null,null,null,null,null,null,null,null,null,null,null,null,12.5,null,null,null,null,null,null,null,null,null,null,null,null,null,null,null,null,null,null,null,null,null,null,"01","02","6647-6648",null,null,null,"18 ปี  0 เดือน  10 วัน  ",481]
[{"$f":"A486+1","v":482},null,"2000-11-12",44,null,null,null,null,"โต๊ะปฏิบัติการกลาง 1 ตัว",1,101766,"01.02.6649",{"$f":"IF(BV487=\"จำหน่าย\",0,SUM(J487*K487))","v":101766},{"$f":"IF(K487<5000,0,M487)","v":101766},8,"2008-11-12",2922,12720.75,1060.0625,34.827515400410675,0,0,101765,0,101765,0,1,18,0,10,6584,"NO",null,null,null,null,null,null,null,null,null,null,null,null,null,null,null,12.5,null,null,null,null,null,null,null,null,null,null,null,null,null,null,null,null,null,null,null,null,null,null,"01","02","6649",null,null,null,"18 ปี  0 เดือน  10 วัน  ",482]
[{"$f":"A487+1","v":483},null,"2000-11-12",44,null,null,null,null,"โต๊ะปฏิบัติการติดผนัง 1 ตัว",1,32781,"01.02.6650",{"$f":"IF(BV488=\"จำหน่าย\",0,SUM(J488*K488))","v":32781},{"$f":"IF(K488<5000,0,M488)","v":32781},8,"2008-11-12",2922,4097.625,341.46875,11.218685831622176,0,0,32780,0,32780,0,1,18,0,10,6584,"NO",null,null,null,null,null,null,null,null,null,null,null,null,null,null,null,12.5,null,null,null,null,null,null,null,null,null,null,null,null,null,null,null,null,null,null,null,null,null,null,"01","02","6650",null,null,null,"18 ปี  0 เดือน  10 วัน  ",483]
[{"$f":"A488+1","v":484},null,"2000-11-12",44,null,null,null,null,"โต๊ะปฏิบัติการติดผนัง 1 ตัว",1,45129,"01.02.6651",{"$f":"IF(BV489=\"จำหน่าย\",0,SUM(J489*K489))","v":45129},{"$f":"IF(K489<5000,0,M489)","v":45129},8,"2008-11-12",2922,5641.125,470.09375,15.444558521560575,0,0,45128,0,45128,0,1,18,0,10,6584,"NO",null,null,null,null,null,null,null,null,null,null,null,null,null,null,null,12.5,null,null,null,null,null,null,null,null,null,null,null,null,null,null,null,null,null,null,null,null,null,null,"01","02","6651",null,null,null,"18 ปี  0 เดือน  10 วัน  ",484]
[{"$f":"A489+1","v":485},null,"2000-11-12",44,null,null,null,null,"ตู้เก็บอุปกรณ์ 1 ตัว",1,44940,"01.06.1302",{"$f":"IF(BV490=\"จำหน่าย\",0,SUM(J490*K490))","v":44940},{"$f":"IF(K490<5000,0,M490)","v":44940},8,"2008-11-12",2922,5617.5,468.125,15.379876796714578,0,0,44939,0,44939,0,1,18,0,10,6584,"NO",null,null,null,null,null,null,null,null,null,null,null,null,null,null,null,12.5,null,null,null,null,null,null,null,null,null,null,null,null,null,null,null,null,null,null,null,null,null,null,"01","06","1302",null,null,null,"18 ปี  0 เดือน  10 วัน  ",485]
[{"$f":"A490+1","v":486},null,"2000-11-12",44,null,null,null,null,"ตู้อ่างน้ำ  1 ตัว",1,131610,"01.06.1303",{"$f":"IF(BV491=\"จำหน่าย\",0,SUM(J491*K491))","v":131610},{"$f":"IF(K491<5000,0,M491)","v":131610},8,"2008-11-12",2922,16451.25,1370.9375,45.041067761806978,0,0,131609,0,131609,0,1,18,0,10,6584,"NO",null,null,null,null,null,null,null,null,null,null,null,null,null,null,null,12.5,null,null,null,null,null,null,null,null,null,null,null,null,null,null,null,null,null,null,null,null,null,null,"01","06","1303",null,null,null,"18 ปี  0 เดือน  10 วัน  ",486]
[{"$f":"A491+1","v":487},null,"2000-11-12",44,null,null,null,null,"ชั้นวางของทำด้วยโครงไม้  1 ตัว",1,121445,"01.10.899",{"$f":"IF(BV492=\"จำหน่าย\",0,SUM(J492*K492))","v":121445},{"$f":"IF(K492<5000,0,M492)","v":121445},8,"2008-11-12",2922,15180.625,1265.0520833333333,41.562286105407253,0,0,121444,0,121444,0,1,18,0,10,6584,"NO",null,null,null,null,null,null,null,null,null,null,null,null,null,null,null,12.5,null,null,null,null,null,null,null,null,null,null,null,null,null,null,null,null,null,null,null,null,null,null,"01","10","899",null,null,null,"18 ปี  0 เดือน  10 วัน  ",487]
[{"$f":"A492+1","v":488},null,"2000-11-12",44,null,null,null,null,"เครื่องชั่งความละเอียด 3 ค.",3,30000,"01.17.76-78",{"$f":"IF(BV493=\"จำหน่าย\",0,SUM(J493*K493))","v":90000},{"$f":"IF(K493<5000,0,M493)","v":90000},8,"2008-11-12",2922,11250,937.5,30.800821355236138,0,0,89997,0,89997,0,3,18,0,10,6584,"NO",null,null,null,null,null,null,null,null,null,null,null,null,null,null,null,12.5,null,null,null,null,null,null,null,null,null,null,null,null,null,null,null,null,null,null,null,null,null,null,"01","17","76-78",null,null,null,"18 ปี  0 เดือน  10 วัน  ",488]
[{"$f":"A493+1","v":489},null,"2000-11-12",44,null,null,null,null,"เครื่องเขย่า 2 ค.",2,48000,"03.26.05-06",{"$f":"IF(BV494=\"จำหน่าย\",0,SUM(J494*K494))","v":96000},{"$f":"IF(K494<5000,0,M494)","v":96000},5,"2005-11-12",1826,19200,1600,52.573932092004384,0,0,95998,0,95998,0,2,18,0,10,6584,"NO",null,null,null,null,null,null,null,null,null,null,null,null,null,null,null,20,null,null,null,null,null,null,null,null,null,null,null,null,null,null,null,null,null,null,null,null,null,null,"03","26","05-06",null,null,null,"18 ปี  0 เดือน  10 วัน  ",489]
[{"$f":"A494+1","v":490},null,"2000-11-12",44,null,null,null,null,"กล้องจุลทรรศน์สองตา 20 ค.",20,149200,"07.04.143-162",{"$f":"IF(BV495=\"จำหน่าย\",0,SUM(J495*K495))","v":2984000},{"$f":"IF(K495<5000,0,M495)","v":2984000},5,"2005-11-12",1826,596800,49733.333333333336,1634.1730558598028,0,0,2983980,0,2983980,0,20,18,0,10,6584,"NO",null,null,null,null,null,null,null,null,null,null,null,null,null,null,null,20,null,null,null,null,null,null,null,null,null,null,null,null,null,null,null,null,null,null,null,null,null,null,"07","04","143-162",null,null,null,"18 ปี  0 เดือน  10 วัน  ",490]
[{"$f":"A495+1","v":491},null,"2000-11-12",44,null,null,null,null,"ตู้ดูดควัน 2 ชุด",2,133750,"08.34.16-17",{"$f":"IF(BV496=\"จำหน่าย\",0,SUM(J496*K496))","v":267500},{"$f":"IF(K496<5000,0,M496)","v":267500},5,"2005-11-12",1826,53500,4458.333333333333,146.49507119386638,0,0,267498,0,267498,0,2,18,0,10,6584,"NO",null,null,null,null,null,null,null,null,null,null,null,null,null,null,null,20,null,null,null,null,null,null,null,null,null,null,null,null,null,null,null,null,null,null,null,null,null,null,"08","34","16-17",null,null,null,"18 ปี  0 เดือน  10 วัน  ",491]
[{"$f":"A496+1","v":492},null,"2000-11-13",44,null,null,null,null,"เครื่องปรับอากาศ 38,000 BTU 90 ค. ",90,37000,"01.29.541-630",{"$f":"IF(BV497=\"จำหน่าย\",0,SUM(J497*K497))","v":3330000},{"$f":"IF(K497<5000,0,M497)","v":3330000},8,"2008-11-13",2922,416250,34687.5,1139.6303901437373,0,0,3329910,0,3329910,0,90,18,0,9,6583,"NO",null,null,null,null,null,null,null,null,null,null,null,null,null,null,null,12.5,null,null,null,null,null,null,null,null,null,null,null,null,null,null,null,null,null,null,null,null,null,null,"01","29","541-630",null,null,null,"18 ปี  0 เดือน  9 วัน  ",492]
[{"$f":"A497+1","v":493},null,"2000-11-13",44,null,null,null,null,"กล้องถ่ายภาพดิจิตอล 1 ตัว",1,34990,"06.01.82",{"$f":"IF(BV498=\"จำหน่าย\",0,SUM(J498*K498))","v":34990},{"$f":"IF(K498<5000,0,M498)","v":34990},5,"2005-11-13",1826,6998,583.16666666666663,19.162102957283679,0,0,34989,0,34989,0,1,18,0,9,6583,"NO",null,null,null,null,null,null,null,null,null,null,null,null,null,null,null,20,null,null,null,null,null,null,null,null,null,null,null,null,null,null,null,null,null,null,null,null,null,null,"06","01","82",null,null,null,"18 ปี  0 เดือน  9 วัน  ",493]
[{"$f":"A498+1","v":494},null,"2000-11-13",44,null,null,null,null,"กล้องถ่ายวีดีโอ 1 ตัว",1,32089.3,"06.17.36",{"$f":"IF(BV499=\"จำหน่าย\",0,SUM(J499*K499))","v":32089.3},{"$f":"IF(K499<5000,0,M499)","v":32089.3},5,"2005-11-13",1826,6417.86,534.8216666666666,17.573548740416211,0,0,32088.3,0,32088.3,0,1,18,0,9,6583,"NO",null,null,null,null,null,null,null,null,null,null,null,null,null,null,null,20,null,null,null,null,null,null,null,null,null,null,null,null,null,null,null,null,null,null,null,null,null,null,"06","17","36",null,null,null,"18 ปี  0 เดือน  9 วัน  ",494]
[{"$f":"A499+1","v":495},null,"2000-11-15",44,null,null,null,null,"เครื่องคอมพิวเตอร์ 1 ค.",1,35000,"01.53.1073",{"$f":"IF(BV500=\"จำหน่าย\",0,SUM(J500*K500))","v":35000},{"$f":"IF(K500<5000,0,M500)","v":35000},3,"2003-11-15",1095,11666.666666666666,972.22222222222217,31.963470319634702,0,0,34999,0,34999,0,1,18,0,7,6581,"NO",null,null,null,null,null,null,null,null,null,null,null,null,null,null,null,33.333333333333336,null,null,null,null,null,null,null,null,null,null,null,null,null,null,null,null,null,null,null,null,null,null,"01","53","1073",null,null,null,"18 ปี  0 เดือน  7 วัน  ",495]
[{"$f":"A505+1","v":501},null,"2000-12-23",44,null,null,null,null,"รถบัสพัดลม 60 ที่นั่ง 5 คัน",3,400000,"02.02.31-33",{"$f":"IF(BV506=\"จำหน่าย\",0,SUM(J506*K506))","v":0},{"$f":"IF(K506<5000,0,M506)","v":0},5,"2005-12-23",1826,0,0,0,0,0,0,0,0,0,0,17,10,30,6543,"No",null,null,null,null,null,null,null,null,null,null,null,null,null,null,null,20,null,null,null,null,null,null,null,null,null,null,null,null,null,null,null,null,null,null,null,null,null,null,"02","02","30-34","จำหน่าย","13/7/2561",null,"17 ปี  10 เดือน  30 วัน  ",501]
[{"$f":"A516+1","v":512},null,"2001-02-12",44,null,null,null,null,"เครื่องคอมพิวเตอร์ 1 ค.",1,45368,"01.53.1106",{"$f":"IF(BV517=\"จำหน่าย\",0,SUM(J517*K517))","v":45368},{"$f":"IF(K517<5000,0,M517)","v":45368},3,"2004-02-12",1095,15122.666666666666,1260.2222222222222,41.431963470319637,0,0,45367,0,45367,0,1,17,9,10,6492,"NO",null,null,null,null,null,null,null,null,null,null,null,null,null,null,null,33.333333333333336,null,null,null,null,null,null,null,null,null,null,null,null,null,null,null,null,null,null,null,null,null,null,"01","53","1106",null,null,null,"17 ปี  9 เดือน  10 วัน  ",512]
[{"$f":"A521+1","v":517},null,"2001-04-03",44,null,null,null,null,"เครื่องปรับอากาศ 35,000 BTU 1 ค.",1,35000,"01.29.674",{"$f":"IF(BV522=\"จำหน่าย\",0,SUM(J522*K522))","v":35000},{"$f":"IF(K522<5000,0,M522)","v":35000},8,"2009-04-03",2922,4375,364.58333333333331,11.978097193702943,0,0,34999,0,34999,0,1,17,7,19,6442,"NO",null,null,null,null,null,null,null,null,null,null,null,null,null,null,null,12.5,null,null,null,null,null,null,null,null,null,null,null,null,null,null,null,null,null,null,null,null,null,null,"01","29","674",null,null,null,"17 ปี  7 เดือน  19 วัน  ",517]
[{"$f":"A532+1","v":528},null,"2001-04-28",44,null,null,null,null,"เครื่องคอมพิวเตอร์ 1 ค.",1,47615,"01.53.1226",{"$f":"IF(BV533=\"จำหน่าย\",0,SUM(J533*K533))","v":47615},{"$f":"IF(K533<5000,0,M533)","v":47615},3,"2004-04-28",1096,15871.666666666666,1322.6388888888889,43.444343065693431,0,0,47614,0,47614,0,1,17,6,25,6417,"NO",null,null,null,null,null,null,null,null,null,null,null,null,null,null,null,33.333333333333336,null,null,null,null,null,null,null,null,null,null,null,null,null,null,null,null,null,null,null,null,null,null,"01","53","1226",null,null,null,"17 ปี  6 เดือน  25 วัน  ",528]
[{"$f":"A547+1","v":543},null,"2001-05-14",44,null,null,null,null,"กล้องถ่ายวีดีโอ 1 ค.",1,48540,"06.17.38",{"$f":"IF(BV548=\"จำหน่าย\",0,SUM(J548*K548))","v":48540},{"$f":"IF(K548<5000,0,M548)","v":48540},5,"2006-05-14",1826,9708,809,26.582694414019716,0,0,48539,0,48539,0,1,17,6,8,6401,"NO",null,null,null,null,null,null,null,null,null,null,null,null,null,null,null,20,null,null,null,null,null,null,null,null,null,null,null,null,null,null,null,null,null,null,null,null,null,null,"06","17","38",null,null,null,"17 ปี  6 เดือน  8 วัน  ",543]
[{"$f":"A552+1","v":548},null,"2001-05-21",44,null,null,null,null,"เครื่องดิจิไทเซอร์ 2 ค.",2,37450,"06.48.01-02",{"$f":"IF(BV553=\"จำหน่าย\",0,SUM(J553*K553))","v":74900},{"$f":"IF(K553<5000,0,M553)","v":74900},5,"2006-05-21",1826,14980,1248.3333333333333,41.018619934282583,0,0,74898,0,74898,0,2,17,6,1,6394,"NO",null,null,null,null,null,null,null,null,null,null,null,null,null,null,null,20,null,null,null,null,null,null,null,null,null,null,null,null,null,null,null,null,null,null,null,null,null,null,"06","48","01-02",null,null,null,"17 ปี  6 เดือน  1 วัน  ",548]
[{"$f":"A563+1","v":559},null,"2001-06-25",44,null,null,null,null,"เครื่องนับธนบัตร 1 ค.",1,80000,"01.64.02",{"$f":"IF(BV564=\"จำหน่าย\",0,SUM(J564*K564))","v":80000},{"$f":"IF(K564<5000,0,M564)","v":80000},8,"2009-06-25",2922,10000,833.33333333333337,27.378507871321013,0,0,79999,0,79999,0,1,17,4,28,6359,"NO",null,null,null,null,null,null,null,null,null,null,null,null,null,null,null,12.5,null,null,null,null,null,null,null,null,null,null,null,null,null,null,null,null,null,null,null,null,null,null,"01","64","02",null,null,null,"17 ปี  4 เดือน  28 วัน  ",559]
[{"$f":"A572+1","v":568},null,"2001-07-16",44,null,null,null,null,"เครื่องคอมพิวเตอร์ 1 ค.",1,30500,"01.53.1184",{"$f":"IF(BV573=\"จำหน่าย\",0,SUM(J573*K573))","v":30500},{"$f":"IF(K573<5000,0,M573)","v":30500},5,"2006-07-16",1826,6100,508.33333333333331,16.703176341730558,0,0,30499,0,30499,0,1,17,4,6,6338,"NO",null,null,null,null,null,null,null,null,null,null,null,null,null,null,null,20,null,null,null,null,null,null,null,null,null,null,null,null,null,null,null,null,null,null,null,null,null,null,null,null,null,null,null,null,"17 ปี  4 เดือน  6 วัน  ",568]
[{"$f":"A590+1","v":586},null,"2001-08-30",44,null,null,null,null,"เครื่องพิมพ์เลเซอร์ 2 ค.",1,38000,"01.72.280",{"$f":"IF(BV591=\"จำหน่าย\",0,SUM(J591*K591))","v":38000},{"$f":"IF(K591<5000,0,M591)","v":38000},4,"2005-08-30",1461,9500,791.66666666666663,26.009582477754961,0,0,37999,0,37999,0,1,17,2,23,6293,"NO",null,null,null,null,null,null,null,null,null,null,null,null,null,null,null,25,null,null,null,null,null,null,null,null,null,null,null,null,null,null,null,null,null,null,null,null,null,null,null,null,null,null,null,null,"17 ปี  2 เดือน  23 วัน  ",586]
[{"$f":"A595+1","v":591},null,"2001-09-08",44,null,null,null,null,"เครื่องฉายภาพ LCD 1 ค.",1,99724,"06.19.11",{"$f":"IF(BV596=\"จำหน่าย\",0,SUM(J596*K596))","v":99724},{"$f":"IF(K596<5000,0,M596)","v":99724},3,"2004-09-08",1096,33241.333333333336,2770.1111111111113,90.989051094890513,0,0,99723,0,99723,0,1,17,2,14,6284,"NO",null,null,null,null,null,null,null,null,null,null,null,null,null,null,null,33.333333333333336,null,null,null,null,null,null,null,null,null,null,null,null,null,null,null,null,null,null,null,null,null,null,"06","19","11",null,null,null,"17 ปี  2 เดือน  14 วัน  ",591]
[{"$f":"A610+1","v":606},null,"2001-10-01",45,null,null,null,null,"เครื่องคอมพิวเตอร์ 2 ค.",2,32040,"01.53.1307-1308",{"$f":"IF(BV611=\"จำหน่าย\",0,SUM(J611*K611))","v":64080},{"$f":"IF(K611<5000,0,M611)","v":64080},3,"2004-10-01",1096,21360,1780,58.467153284671532,0,0,64078,0,64078,0,2,17,1,21,6261,"NO",null,null,null,null,null,null,null,null,null,null,null,null,null,null,null,33.333333333333336,null,null,null,null,null,null,null,null,null,null,null,null,null,null,null,null,null,null,null,null,null,null,"01","53","1307-1308",null,null,null,"17 ปี  1 เดือน  21 วัน  ",606]
[{"$f":"A611+1","v":607},null,"2001-10-01",45,null,null,null,null,"เครื่องคอมพิวเตอร์ 6 ค.",6,32040,"01.53.1310-1315",{"$f":"IF(BV612=\"จำหน่าย\",0,SUM(J612*K612))","v":192240},{"$f":"IF(K612<5000,0,M612)","v":192240},3,"2004-10-01",1096,64080,5340,175.4014598540146,0,0,192234,0,192234,0,6,17,1,21,6261,"NO",null,null,null,null,null,null,null,null,null,null,null,null,null,null,null,33.333333333333336,null,null,null,null,null,null,null,null,null,null,null,null,null,null,null,null,null,null,null,null,null,null,"01","53","1310-1315",null,null,null,"17 ปี  1 เดือน  21 วัน  ",607]
[{"$f":"A626+1","v":622},null,"2001-11-05",45,null,null,null,null,"ไมโครโฟน 2 ชุด",2,43575,"05.12.311-312",{"$f":"IF(BV627=\"จำหน่าย\",0,SUM(J627*K627))","v":87150},{"$f":"IF(K627<5000,0,M627)","v":87150},5,"2006-11-05",1826,17430,1452.5,47.727272727272727,0,0,87148,0,87148,0,2,17,0,17,6226,"NO",null,null,null,null,null,null,null,null,null,null,null,null,null,null,null,20,null,null,null,null,null,null,null,null,null,null,null,null,null,null,null,null,null,null,null,null,null,null,"05","12","311-312",null,null,null,"17 ปี  0 เดือน  17 วัน  ",622]
[{"$f":"A631+1","v":627},null,"2001-11-05",45,null,null,null,null,"เครื่องนำเสนอวีดีทัศน์ 1 ค.",1,105040,"06.50.06",{"$f":"IF(BV632=\"จำหน่าย\",0,SUM(J632*K632))","v":105040},{"$f":"IF(K632<5000,0,M632)","v":105040},5,"2006-11-05",1826,21008,1750.6666666666667,57.524644030668128,0,0,105039,0,105039,0,1,17,0,17,6226,"NO",null,null,null,null,null,null,null,null,null,null,null,null,null,null,null,20,null,null,null,null,null,null,null,null,null,null,null,null,null,null,null,null,null,null,null,null,null,null,"06","50","06",null,null,null,"17 ปี  0 เดือน  17 วัน  ",627]
[{"$f":"A642+1","v":638},null,"2001-12-07",45,null,null,null,null,"เครื่องคอมพิวเตอร์ 6 ค.",6,33300,"01.53.1343-1348",{"$f":"IF(BV643=\"จำหน่าย\",0,SUM(J643*K643))","v":199800},{"$f":"IF(K643<5000,0,M643)","v":199800},3,"2004-12-07",1096,66600,5550,182.2992700729927,0,0,199794,0,199794,0,6,16,11,15,6194,"NO",null,null,null,null,null,null,null,null,null,null,null,null,null,null,null,33.333333333333336,null,null,null,null,null,null,null,null,null,null,null,null,null,null,null,null,null,null,null,null,null,null,"01","53","1343-1348",null,null,null,"16 ปี  11 เดือน  15 วัน  ",638]
[{"$f":"A658+1","v":654},null,"2001-12-18",45,null,null,null,null,"เครื่องฉายภาพสามมิติ 1 ค.",1,69500,"06.38.19",{"$f":"IF(BV659=\"จำหน่าย\",0,SUM(J659*K659))","v":69500},{"$f":"IF(K659<5000,0,M659)","v":69500},5,"2006-12-18",1826,13900,1158.3333333333333,38.061336254107339,0,0,69499,0,69499,0,1,16,11,4,6183,"NO",null,null,null,null,null,null,null,null,null,null,null,null,null,null,null,20,null,null,null,null,null,null,null,null,null,null,null,null,null,null,null,null,null,null,null,null,null,null,"06","38","19",null,null,null,"16 ปี  11 เดือน  4 วัน  ",654]
[{"$f":"A669+1","v":665},null,"2002-01-28",45,null,null,null,null,"เครื่องตรวจสอบระบบเครือข่าย 1 ค.",1,61246.8,"05.58.01",{"$f":"IF(BV670=\"จำหน่าย\",0,SUM(J670*K670))","v":61246.8},{"$f":"IF(K670<5000,0,M670)","v":61246.8},3,"2005-01-28",1096,20415.600000000002,1701.3000000000002,55.88211678832117,0,0,61245.8,0,61245.8,0,1,16,9,25,6142,"NO",null,null,null,null,null,null,null,null,null,null,null,null,null,null,null,33.333333333333336,null,null,null,null,null,null,null,null,null,null,null,null,null,null,null,null,null,null,null,null,null,null,"05","58","01",null,null,null,"16 ปี  9 เดือน  25 วัน  ",665]
[{"$f":"A674+1","v":670},null,"2002-02-12",45,null,null,null,null,"เครื่องพิมพ์เลเซอร์ 1 ค.",1,30602,"01.72.291",{"$f":"IF(BV675=\"จำหน่าย\",0,SUM(J675*K675))","v":30602},{"$f":"IF(K675<5000,0,M675)","v":30602},3,"2005-02-12",1096,10200.666666666666,850.05555555555554,27.92153284671533,0,0,30601,0,30601,0,1,16,9,10,6127,"NO",null,null,null,null,null,null,null,null,null,null,null,null,null,null,null,33.333333333333336,null,null,null,null,null,null,null,null,null,null,null,null,null,null,null,null,null,null,null,null,null,null,"01","72","291",null,null,null,"16 ปี  9 เดือน  10 วัน  ",670]
[{"$f":"A689+1","v":685},null,"2002-03-25",45,null,null,null,null,"เครื่องเรียงกระดาษ 1 ค.",1,160000,"01.63.06",{"$f":"IF(BV690=\"จำหน่าย\",0,SUM(J690*K690))","v":160000},{"$f":"IF(K690<5000,0,M690)","v":160000},8,"2010-03-25",2922,20000,1666.6666666666667,54.757015742642025,0,0,159999,0,159999,0,1,16,7,28,6086,"NO",null,null,null,null,null,null,null,null,null,null,null,null,null,null,null,12.5,null,null,null,null,null,null,null,null,null,null,null,null,null,null,null,null,null,null,null,null,null,null,"01","63","06",null,null,null,"16 ปี  7 เดือน  28 วัน  ",685]
[{"$f":"A700+1","v":696},null,"2002-04-21",45,null,null,null,null,"เครื่องคอมพิวเตอร์ 1 ชุด",1,49500,"01.53.1359",{"$f":"IF(BV701=\"จำหน่าย\",0,SUM(J701*K701))","v":49500},{"$f":"IF(K701<5000,0,M701)","v":49500},3,"2005-04-21",1096,16500,1375,45.164233576642339,0,0,49499,0,49499,0,1,16,7,1,6059,"NO",null,null,null,null,null,null,null,null,null,null,null,null,null,null,null,33.333333333333336,null,null,null,null,null,null,null,null,null,null,null,null,null,null,null,null,null,null,null,null,null,null,"01","53","1359",null,null,null,"16 ปี  7 เดือน  1 วัน  ",696]
[{"$f":"A705+1","v":701},null,"2002-04-25",45,null,null,null,null,"เครื่องพิมพ์เลเซอร์ 1 ค.",1,35000,"01.72.294",{"$f":"IF(BV706=\"จำหน่าย\",0,SUM(J706*K706))","v":35000},{"$f":"IF(K706<5000,0,M706)","v":35000},3,"2005-04-25",1096,11666.666666666666,972.22222222222217,31.934306569343065,0,0,34999,0,34999,0,1,16,6,28,6055,"NO",null,null,null,null,null,null,null,null,null,null,null,null,null,null,null,33.333333333333336,null,null,null,null,null,null,null,null,null,null,null,null,null,null,null,null,null,null,null,null,null,null,"01","72","294",null,null,null,"16 ปี  6 เดือน  28 วัน  ",701]
[{"$f":"A716+1","v":712},null,"2002-05-13",45,null,null,null,null,"จอรับภาพ 1 ชุด",1,61953,"06.07.140",{"$f":"IF(BV717=\"จำหน่าย\",0,SUM(J717*K717))","v":61953},{"$f":"IF(K717<5000,0,M717)","v":61953},5,"2007-05-13",1826,12390.6,1032.55,33.928258488499452,0,0,61952,0,61952,0,1,16,6,9,6037,"NO",null,null,null,null,null,null,null,null,null,null,null,null,null,null,null,20,null,null,null,null,null,null,null,null,null,null,null,null,null,null,null,null,null,null,null,null,null,null,"06","07","140",null,null,null,"16 ปี  6 เดือน  9 วัน  ",712]
[{"$f":"A731+1","v":727},null,"2002-06-24",45,null,null,null,null,"เครื่องปรับอากาศ 26,000 BTU 1 ค.",1,32000,"01.29.778",{"$f":"IF(BV732=\"จำหน่าย\",0,SUM(J732*K732))","v":32000},{"$f":"IF(K732<5000,0,M732)","v":32000},8,"2010-06-24",2922,4000,333.33333333333331,10.951403148528405,0,0,31999,0,31999,0,1,16,4,29,5995,"NO",null,null,null,null,null,null,null,null,null,null,null,null,null,null,null,12.5,null,null,null,null,null,null,null,null,null,null,null,null,null,null,null,null,null,null,null,null,null,null,"01","29","778",null,null,null,"16 ปี  4 เดือน  29 วัน  ",727]
[{"$f":"A733+1","v":729},null,"2002-06-28",45,null,null,null,null,"จอรับภาพ 1 ชุด",1,54000,"06.07.165",{"$f":"IF(BV734=\"จำหน่าย\",0,SUM(J734*K734))","v":54000},{"$f":"IF(K734<5000,0,M734)","v":54000},5,"2007-06-28",1826,10800,900,29.572836801752466,0,0,53999,0,53999,0,1,16,4,25,5991,"NO",null,null,null,null,null,null,null,null,null,null,null,null,null,null,null,20,null,null,null,null,null,null,null,null,null,null,null,null,null,null,null,null,null,null,null,null,null,null,"06","07","165",null,null,null,"16 ปี  4 เดือน  25 วัน  ",729]
[{"$f":"A748+1","v":744},null,"2002-09-11",45,null,null,null,null,"ชุดเครื่องตัดต่อวีดีโอ 1 ค.",1,99082,"06.06.05",{"$f":"IF(BV749=\"จำหน่าย\",0,SUM(J749*K749))","v":99082},{"$f":"IF(K749<5000,0,M749)","v":99082},5,"2007-09-11",1826,19816.400000000001,1651.3666666666668,54.261774370208109,0,0,99081,0,99081,0,1,16,2,11,5916,"NO",null,null,null,null,null,null,null,null,null,null,null,null,null,null,null,20,null,null,null,null,null,null,null,null,null,null,null,null,null,null,null,null,null,null,null,null,null,null,"06","06","05",null,null,null,"16 ปี  2 เดือน  11 วัน  ",744]
[{"$f":"A753+1","v":749},null,"2002-09-14",45,null,null,null,null,"เครื่องคอมพิวเตอร์แม่ข่าย 1 ค.",1,86110,"01.53.1500",{"$f":"IF(BV754=\"จำหน่าย\",0,SUM(J754*K754))","v":86110},{"$f":"IF(K754<5000,0,M754)","v":86110},3,"2005-09-14",1096,28703.333333333332,2391.9444444444443,78.567518248175176,0,0,86109,0,86109,0,1,16,2,8,5913,"NO",null,null,null,null,null,null,null,null,null,null,null,null,null,null,null,33.333333333333336,null,null,null,null,null,null,null,null,null,null,null,null,null,null,null,null,null,null,null,null,null,null,"01","53","1500",null,null,null,"16 ปี  2 เดือน  8 วัน  ",749]
[{"$f":"A768+1","v":764},null,"2002-11-12",46,null,null,null,null,"ตู้แอมป์เบส 1 ตู้ ",1,20865,"05.40.21",{"$f":"IF(BV769=\"จำหน่าย\",0,SUM(J769*K769))","v":20865},{"$f":"IF(K769<5000,0,M769)","v":20865},5,"2007-11-12",1826,4173,347.75,11.426615553121577,0,0,20864,0,20864,0,1,16,0,10,5854,"NO",null,null,null,null,null,null,null,null,null,null,null,null,null,null,null,20,null,null,null,null,null,null,null,null,null,null,null,null,null,null,null,null,null,null,null,null,null,null,"05","40","21",null,null,null,"16 ปี  0 เดือน  10 วัน  ",764]
[{"$f":"A779+1","v":775},null,"2002-12-03",46,null,null,null,null,"ชุดศึกษาการไหลของอากาศ 1 ชุด",1,379850,"09.79.01",{"$f":"IF(BV780=\"จำหน่าย\",0,SUM(J780*K780))","v":379850},{"$f":"IF(K780<5000,0,M780)","v":379850},4,"2006-12-03",1461,94962.5,7913.541666666667,259.99315537303215,0,0,379849,0,379849,0,1,15,11,19,5833,"NO",null,null,null,null,null,null,null,null,null,null,null,null,null,null,null,25,null,null,null,null,null,null,null,null,null,null,null,null,null,null,null,null,null,null,null,null,null,null,"09","79","01",null,null,null,"15 ปี  11 เดือน  19 วัน  ",775]
[{"$f":"A784+1","v":780},null,"2002-12-16",46,null,null,null,null,"เครื่องคอมพิวเตอร์ 1 ค.",1,27820,"01.53.1527",{"$f":"IF(BV785=\"จำหน่าย\",0,SUM(J785*K785))","v":27820},{"$f":"IF(K785<5000,0,M785)","v":27820},3,"2005-12-16",1096,9273.3333333333339,772.77777777777783,25.383211678832115,0,0,27819,0,27819,0,1,15,11,6,5820,"NO",null,null,null,null,null,null,null,null,null,null,null,null,null,null,null,33.333333333333336,null,null,null,null,null,null,null,null,null,null,null,null,null,null,null,null,null,null,null,null,null,null,"01","53","1527",null,null,null,"15 ปี  11 เดือน  6 วัน  ",780]
[{"$f":"A795+1","v":791},null,"2002-12-18",46,null,null,null,null,"โทรศัพท์เคลื่อนที่ 2 ค.",2,13500,"01.45.690-691",{"$f":"IF(BV796=\"จำหน่าย\",0,SUM(J796*K796))","v":27000},{"$f":"IF(K796<5000,0,M796)","v":27000},8,"2010-12-18",2922,3375,281.25,9.2402464065708418,0,0,26998,0,26998,0,2,15,11,4,5818,"NO",null,null,null,null,null,null,null,null,null,null,null,null,null,null,null,12.5,null,null,null,null,null,null,null,null,null,null,null,null,null,null,null,null,null,null,null,null,null,null,"01","45","690-691",null,null,null,"15 ปี  11 เดือน  4 วัน  ",791]
[{"$f":"A803+1","v":799},null,"2002-12-26",46,null,null,null,null,"ชุดทดลองเครื่องกำเนิดไอน้ำ 1 ชุด",1,591592.30000000005,"09.80.01",{"$f":"IF(BV804=\"จำหน่าย\",0,SUM(J804*K804))","v":591592.30000000005},{"$f":"IF(K804<5000,0,M804)","v":591592.30000000005},4,"2006-12-26",1461,147898.07500000001,12324.839583333334,404.9228610540726,0,0,591591.30000000005,0,591591.30000000005,0,1,15,10,27,5810,"NO",null,null,null,null,null,null,null,null,null,null,null,null,null,null,null,25,null,null,null,null,null,null,null,null,null,null,null,null,null,null,null,null,null,null,null,null,null,null,"09","80","01",null,null,null,"15 ปี  10 เดือน  27 วัน  ",799]
[{"$f":"A816+1","v":812},null,"2003-01-08",46,null,null,null,null,"ปั๊มลม 1 ชุด",1,68399.75,"09.01.19",{"$f":"IF(BV817=\"จำหน่าย\",0,SUM(J817*K817))","v":68399.75},{"$f":"IF(K817<5000,0,M817)","v":68399.75},4,"2007-01-08",1461,17099.9375,1424.9947916666667,46.817077344284733,0,0,68398.75,0,68398.75,0,1,15,10,14,5797,"NO",null,null,null,null,null,null,null,null,null,null,null,null,null,null,null,25,null,null,null,null,null,null,null,null,null,null,null,null,null,null,null,null,null,null,null,null,null,null,"09","01","19",null,null,null,"15 ปี  10 เดือน  14 วัน  ",812]
[{"$f":"A827+1","v":823},null,"2003-01-24",46,null,null,null,null,"ตู้เก็บเอกสาร 2 ชุด",2,79715,"01.06.1624-1625",{"$f":"IF(BV828=\"จำหน่าย\",0,SUM(J828*K828))","v":159430},{"$f":"IF(K828<5000,0,M828)","v":159430},8,"2011-01-24",2922,19928.75,1660.7291666666667,54.561943874058862,0,0,159428,0,159428,0,2,15,9,29,5781,"NO",null,null,null,null,null,null,null,null,null,null,null,null,null,null,null,12.5,null,null,null,null,null,null,null,null,null,null,null,null,null,null,null,null,null,null,null,null,null,null,"01","06","1624-1625",null,null,null,"15 ปี  9 เดือน  29 วัน  ",823]
[{"$f":"A842+1","v":838},null,"2003-02-18",46,null,null,null,null,"เครื่องปรับอากาศ 26,200 BTU 1 ค.",1,30000,"01.29.803",{"$f":"IF(BV843=\"จำหน่าย\",0,SUM(J843*K843))","v":30000},{"$f":"IF(K843<5000,0,M843)","v":30000},8,"2011-02-18",2922,3750,312.5,10.266940451745381,0,0,29999,0,29999,0,1,15,9,4,5756,"NO",null,null,null,null,null,null,null,null,null,null,null,null,null,null,null,12.5,null,null,null,null,null,null,null,null,null,null,null,null,null,null,null,null,null,null,null,null,null,null,"01","29","803",null,null,null,"15 ปี  9 เดือน  4 วัน  ",838]
[{"$f":"A847+1","v":843},null,"2003-02-21",46,null,null,null,null,"เครื่องคอมพิวเตอร์ 1 ค.",1,27000,"01.53.1561",{"$f":"IF(BV848=\"จำหน่าย\",0,SUM(J848*K848))","v":27000},{"$f":"IF(K848<5000,0,M848)","v":27000},3,"2006-02-21",1096,9000,750,24.635036496350367,0,0,26999,0,26999,0,1,15,9,1,5753,"NO",null,null,null,null,null,null,null,null,null,null,null,null,null,null,null,33.333333333333336,null,null,null,null,null,null,null,null,null,null,null,null,null,null,null,null,null,null,null,null,null,null,"01","53","1561",null,null,null,"15 ปี  9 เดือน  1 วัน  ",843]
[{"$f":"A858+1","v":854},null,"2003-02-25",46,null,null,null,null,"โต๊ะจัดอาหาร 1 ชุด",1,6400,"01.02.7796",{"$f":"IF(BV859=\"จำหน่าย\",0,SUM(J859*K859))","v":6400},{"$f":"IF(K859<5000,0,M859)","v":6400},8,"2011-02-25",2922,800,66.666666666666671,2.1902806297056809,0,0,6399,0,6399,0,1,15,8,28,5749,"NO",null,null,null,null,null,null,null,null,null,null,null,null,null,null,null,12.5,null,null,null,null,null,null,null,null,null,null,null,null,null,null,null,null,null,null,null,null,null,null,"01","02","7796",null,null,null,"15 ปี  8 เดือน  28 วัน  ",854]
[{"$f":"A873+1","v":869},null,"2003-03-04",46,null,null,null,null,"เครื่องคอมพิวเตอร์ 3 ค.",3,29000,"01.53.1584-1586",{"$f":"IF(BV874=\"จำหน่าย\",0,SUM(J874*K874))","v":87000},{"$f":"IF(K874<5000,0,M874)","v":87000},3,"2006-03-04",1096,29000,2416.6666666666665,79.379562043795616,0,0,86997,0,86997,0,3,15,8,18,5742,"NO",null,null,null,null,null,null,null,null,null,null,null,null,null,null,null,33.333333333333336,null,null,null,null,null,null,null,null,null,null,null,null,null,null,null,null,null,null,null,null,null,null,"01","53","1584-1586",null,null,null,"15 ปี  8 เดือน  18 วัน  ",869]
[{"$f":"A874+1","v":870},null,"2003-03-04",46,null,null,null,null,"สกอร์บอร์ด 1 อัน",1,55640,"01.58.299",{"$f":"IF(BV875=\"จำหน่าย\",0,SUM(J875*K875))","v":55640},{"$f":"IF(K875<5000,0,M875)","v":55640},8,"2011-03-04",2922,6955,579.58333333333337,19.041752224503764,0,0,55639,0,55639,0,1,15,8,18,5742,"NO",null,null,null,null,null,null,null,null,null,null,null,null,null,null,null,12.5,null,null,null,null,null,null,null,null,null,null,null,null,null,null,null,null,null,null,null,null,null,null,"01","58","299",null,null,null,"15 ปี  8 เดือน  18 วัน  ",870]
[{"$f":"A889+1","v":885},null,"2003-03-07",46,null,null,null,null,"เครื่องมือวัดและทดสอบยานยนต์ 1 ชุด",1,719040,"09.84.02",{"$f":"IF(BV890=\"จำหน่าย\",0,SUM(J890*K890))","v":719040},{"$f":"IF(K890<5000,0,M890)","v":719040},4,"2007-03-07",1461,179760,14980,492.1560574948665,0,0,719039,0,719039,0,1,15,8,15,5739,"NO",null,null,null,null,null,null,null,null,null,null,null,null,null,null,null,25,null,null,null,null,null,null,null,null,null,null,null,null,null,null,null,null,null,null,null,null,null,null,"09","84","02",null,null,null,"15 ปี  8 เดือน  15 วัน  ",885]
[{"$f":"A895+1","v":891},null,"2003-03-21",46,null,null,null,null,"อุปกรณ์ปรับแต่งเสียง 1 ชุด",1,19795,"05.06.724",{"$f":"IF(BV896=\"จำหน่าย\",0,SUM(J896*K896))","v":19795},{"$f":"IF(K896<5000,0,M896)","v":19795},5,"2008-03-21",1827,3959,329.91666666666669,10.834701696770662,0,0,19794,0,19794,0,1,15,8,1,5725,"NO",null,null,null,null,null,null,null,null,null,null,null,null,null,null,null,20,null,null,null,null,null,null,null,null,null,null,null,null,null,null,null,null,null,null,null,null,null,null,"05","06","724",null,null,null,"15 ปี  8 เดือน  1 วัน  ",891]
[{"$f":"A906+1","v":902},null,"2003-04-25",46,null,null,null,null,"ผ้าม่าน 4 ชุด",4,5500,"01.19.248-251",{"$f":"IF(BV907=\"จำหน่าย\",0,SUM(J907*K907))","v":22000},{"$f":"IF(K907<5000,0,M907)","v":22000},8,"2011-04-25",2922,2750,229.16666666666666,7.529089664613279,0,0,21996,0,21996,0,4,15,6,28,5690,"NO",null,null,null,null,null,null,null,null,null,null,null,null,null,null,null,12.5,null,null,null,null,null,null,null,null,null,null,null,null,null,null,null,null,null,null,null,null,null,null,"01","19","248-251",null,null,null,"15 ปี  6 เดือน  28 วัน  ",902]
[{"$f":"A921+1","v":917},null,"2003-05-23",46,null,null,null,null,"ตู้เหล็กบานเลื่อน 1 ชุด",1,5000,"01.06.1649-1650",{"$f":"IF(BV922=\"จำหน่าย\",0,SUM(J922*K922))","v":5000},{"$f":"IF(K922<5000,0,M922)","v":5000},8,"2011-05-23",2922,625,52.083333333333336,1.7111567419575633,0,0,4999,0,4999,0,1,15,5,30,5662,"NO",null,null,null,null,null,null,null,null,null,null,null,null,null,null,null,12.5,null,null,null,null,null,null,null,null,null,null,null,null,null,null,null,null,null,null,null,null,null,null,"01","06","1649-1650",null,null,null,"15 ปี  5 เดือน  30 วัน  ",917]
[{"$f":"A932+1","v":928},null,"2003-06-09",46,null,null,null,null,"กล้องถ่ายภาพดิจิตอล 1 ตัว",1,27392,"06.01.100",{"$f":"IF(BV933=\"จำหน่าย\",0,SUM(J933*K933))","v":27392},{"$f":"IF(K933<5000,0,M933)","v":27392},5,"2008-06-09",1827,5478.4,456.5333333333333,14.99288451012589,0,0,27391,0,27391,0,1,15,5,13,5645,"NO",null,null,null,null,null,null,null,null,null,null,null,null,null,null,null,20,null,null,null,null,null,null,null,null,null,null,null,null,null,null,null,null,null,null,null,null,null,null,"06","01","100",null,null,null,"15 ปี  5 เดือน  13 วัน  ",928]
[{"$f":"A937+1","v":933},null,"2003-06-27",46,null,null,null,null,"เครื่องคอมพิวเตอร์แม่ข่าย 2 ค.",2,242783,"01.53.1607-1608",{"$f":"IF(BV938=\"จำหน่าย\",0,SUM(J938*K938))","v":485566},{"$f":"IF(K938<5000,0,M938)","v":485566},3,"2006-06-27",1096,161855.33333333334,13487.944444444445,443.03467153284669,0,0,485564,0,485564,0,2,15,4,26,5627,"NO",null,null,null,null,null,null,null,null,null,null,null,null,null,null,null,33.333333333333336,null,null,null,null,null,null,null,null,null,null,null,null,null,null,null,null,null,null,null,null,null,null,"01","53","1607-1608",null,null,null,"15 ปี  4 เดือน  26 วัน  ",933]
[{"$f":"A952+1","v":948},null,"2003-08-12",46,null,null,null,null,"กล้องถ่ายวีดีโอ 1 ตัว",1,27990,"06.17.55",{"$f":"IF(BV953=\"จำหน่าย\",0,SUM(J953*K953))","v":27990},{"$f":"IF(K953<5000,0,M953)","v":27990},5,"2008-08-12",1827,5598,466.5,15.320197044334975,0,0,27989,0,27989,0,1,15,3,10,5581,"NO",null,null,null,null,null,null,null,null,null,null,null,null,null,null,null,20,null,null,null,null,null,null,null,null,null,null,null,null,null,null,null,null,null,null,null,null,null,null,"06","17","55",null,null,null,"15 ปี  3 เดือน  10 วัน  ",948]
[{"$f":"A963+1","v":959},null,"2003-09-05",46,null,null,null,null,"เครื่องปรับอากาศ 9,500 BTU 1 ค.",1,20000,"01.29.816",{"$f":"IF(BV964=\"จำหน่าย\",0,SUM(J964*K964))","v":20000},{"$f":"IF(K964<5000,0,M964)","v":20000},8,"2011-09-05",2922,2500,208.33333333333334,6.8446269678302532,0,0,19999,0,19999,0,1,15,2,17,5557,"NO",null,null,null,null,null,null,null,null,null,null,null,null,null,null,null,12.5,null,null,null,null,null,null,null,null,null,null,null,null,null,null,null,null,null,null,null,null,null,null,"01","29","816",null,null,null,"15 ปี  2 เดือน  17 วัน  ",959]
[{"$f":"A975+1","v":971},null,"2003-09-12",46,null,null,null,null,"เครื่องถ่ายทอดสัญญาณ 1 ค.",1,240000,"06.38.27-29",{"$f":"IF(BV976=\"จำหน่าย\",0,SUM(J976*K976))","v":240000},{"$f":"IF(K976<5000,0,M976)","v":240000},5,"2008-09-12",1827,48000,4000,131.36288998357963,0,0,239999,0,239999,0,1,15,2,10,5550,"NO",null,null,null,null,null,null,null,null,null,null,null,null,null,null,null,20,null,null,null,null,null,null,null,null,null,null,null,null,null,null,null,null,null,null,null,null,null,null,"06","38","27-29",null,null,null,"15 ปี  2 เดือน  10 วัน  ",971]
[{"$f":"A984+1","v":980},null,"2003-09-25",46,null,null,null,null,"เครื่องพิมพ์สำเนาระบบดิจิตอล 1 ค.",1,119000,"01.46.36",{"$f":"IF(BV985=\"จำหน่าย\",0,SUM(J985*K985))","v":119000},{"$f":"IF(K985<5000,0,M985)","v":119000},8,"2011-09-25",2922,14875,1239.5833333333333,40.725530458590008,0,0,118999,0,118999,0,1,15,1,28,5537,"NO",null,null,null,null,null,null,null,null,null,null,null,null,null,null,null,12.5,null,null,null,null,null,null,null,null,null,null,null,null,null,null,null,null,null,null,null,null,null,null,"01","46","36",null,null,null,"15 ปี  1 เดือน  28 วัน  ",980]
[{"$f":"A995+1","v":991},null,"2003-11-22",47,null,null,null,null,"เครื่องคอมพิวเตอร์ 1 ค.",1,29000,"01.53.1633",{"$f":"IF(BV996=\"จำหน่าย\",0,SUM(J996*K996))","v":29000},{"$f":"IF(K996<5000,0,M996)","v":29000},3,"2006-11-22",1096,9666.6666666666661,805.55555555555554,26.459854014598541,0,0,28999,0,28999,0,1,14,11,31,5479,"NO",null,null,null,null,null,null,null,null,null,null,null,null,null,null,null,33.333333333333336,null,null,null,null,null,null,null,null,null,null,null,null,null,null,null,null,null,null,null,null,null,null,"01","53","1633",null,null,null,"14 ปี  11 เดือน  31 วัน  ",991]
[{"$f":"A1000+1","v":996},null,"2003-11-24",47,null,null,null,null,"เครื่องคอมพิวเตอร์ 1 ค.",1,29000,"01.53.1638",{"$f":"IF(BV1001=\"จำหน่าย\",0,SUM(J1001*K1001))","v":29000},{"$f":"IF(K1001<5000,0,M1001)","v":29000},3,"2006-11-24",1096,9666.6666666666661,805.55555555555554,26.459854014598541,0,0,28999,0,28999,0,1,14,11,29,5477,"NO",null,null,null,null,null,null,null,null,null,null,null,null,null,null,null,33.333333333333336,null,null,null,null,null,null,null,null,null,null,null,null,null,null,null,null,null,null,null,null,null,null,"01","53","1638",null,null,null,"14 ปี  11 เดือน  29 วัน  ",996]
[{"$f":"A1011+1","v":1007},null,"2003-12-08",47,null,null,null,null,"รถแทรกเตอร์ 1 คัน",1,89880,"03.10.01",{"$f":"IF(BV1012=\"จำหน่าย\",0,SUM(J1012*K1012))","v":89880},{"$f":"IF(K1012<5000,0,M1012)","v":89880},5,"2008-12-08",1827,17976,1498,49.195402298850574,0,0,89879,0,89879,0,1,14,11,14,5463,"NO",null,null,null,null,null,null,null,null,null,null,null,null,null,null,null,20,null,null,null,null,null,null,null,null,null,null,null,null,null,null,null,null,null,null,null,null,null,null,"03","10","01",null,null,null,"14 ปี  11 เดือน  14 วัน  ",1007]
[{"$f":"A1016+1","v":1012},null,"2003-12-18",47,null,null,null,null,"โทรทัศน์สี 29\" 1 ค.",1,17990,"05.10.432",{"$f":"IF(BV1017=\"จำหน่าย\",0,SUM(J1017*K1017))","v":17990},{"$f":"IF(K1017<5000,0,M1017)","v":17990},5,"2008-12-18",1827,3598,299.83333333333331,9.8467432950191576,0,0,17989,0,17989,0,1,14,11,4,5453,"NO",null,null,null,null,null,null,null,null,null,null,null,null,null,null,null,20,null,null,null,null,null,null,null,null,null,null,null,null,null,null,null,null,null,null,null,null,null,null,"05","10","432",null,null,null,"14 ปี  11 เดือน  4 วัน  ",1012]
[{"$f":"A1031+1","v":1027},null,"2004-01-07",47,null,null,null,null,"บอร์ด 3 ชุด",3,7200,"01.14.281-283",{"$f":"IF(BV1032=\"จำหน่าย\",0,SUM(J1032*K1032))","v":21600},{"$f":"IF(K1032<5000,0,M1032)","v":21600},8,"2012-01-07",2922,2700,225,7.3921971252566738,0,0,21597,0,21597,0,3,14,10,15,5433,"NO",null,null,null,null,null,null,null,null,null,null,null,null,null,null,null,12.5,null,null,null,null,null,null,null,null,null,null,null,null,null,null,null,null,null,null,null,null,null,null,"01","14","281-283",null,null,null,"14 ปี  10 เดือน  15 วัน  ",1027]
[{"$f":"A1045+1","v":1041},null,"2004-01-12",47,null,null,null,null,"คีย์บอร์ดพร้อมแอมป์ 1 ชุด",1,50000,"12.32.31",{"$f":"IF(BV1046=\"จำหน่าย\",0,SUM(J1046*K1046))","v":50000},{"$f":"IF(K1046<5000,0,M1046)","v":50000},5,"2009-01-12",1827,10000,833.33333333333337,27.367268746579093,0,0,49999,0,49999,0,1,14,10,10,5428,"NO",null,null,null,null,null,null,null,null,null,null,null,null,null,null,null,20,null,null,null,null,null,null,null,null,null,null,null,null,null,null,null,null,null,null,null,null,null,null,"12","32","31",null,null,null,"14 ปี  10 เดือน  10 วัน  ",1041]
[{"$f":"A1048+1","v":1044},null,"2004-01-13",47,null,null,null,null,"เครื่องคอมพิวเตอร์ 3 ค.",3,22994.3,"01.53.1824-1826",{"$f":"IF(BV1049=\"จำหน่าย\",0,SUM(J1049*K1049))","v":68982.899999999994},{"$f":"IF(K1049<5000,0,M1049)","v":68982.899999999994},3,"2007-01-13",1096,22994.3,1916.1916666666666,62.940602189781018,0,0,68979.899999999994,0,68979.899999999994,0,3,14,10,9,5427,"NO",null,null,null,null,null,null,null,null,null,null,null,null,null,null,null,33.333333333333336,null,null,null,null,null,null,null,null,null,null,null,null,null,null,null,null,null,null,null,null,null,null,"01","53","1824-1826",null,null,null,"14 ปี  10 เดือน  9 วัน  ",1044]
[{"$f":"A1059+1","v":1055},null,"2004-02-02",47,null,null,null,null,"เครื่องฉายภาพข้ามศรีษะ 3 ค.",3,8500,"06.08.549-551",{"$f":"IF(BV1060=\"จำหน่าย\",0,SUM(J1060*K1060))","v":25500},{"$f":"IF(K1060<5000,0,M1060)","v":25500},5,"2009-02-02",1827,5100,425,13.957307060755337,0,0,25497,0,25497,0,3,14,9,20,5407,"NO",null,null,null,null,null,null,null,null,null,null,null,null,null,null,null,20,null,null,null,null,null,null,null,null,null,null,null,null,null,null,null,null,null,null,null,null,null,null,"06","08","549-551",null,null,null,"14 ปี  9 เดือน  20 วัน  ",1055]
[{"$f":"A1074+1","v":1070},null,"2004-02-13",47,null,null,null,null,"ไมค์โครโฟนไร้สาย 1 ชุด",1,19000,"05.12.349",{"$f":"IF(BV1075=\"จำหน่าย\",0,SUM(J1075*K1075))","v":19000},{"$f":"IF(K1075<5000,0,M1075)","v":19000},5,"2009-02-13",1827,3800,316.66666666666669,10.399562123700054,0,0,18999,0,18999,0,1,14,9,9,5396,"NO",null,null,null,null,null,null,null,null,null,null,null,null,null,null,null,20,null,null,null,null,null,null,null,null,null,null,null,null,null,null,null,null,null,null,null,null,null,null,"05","12","349",null,null,null,"14 ปี  9 เดือน  9 วัน  ",1070]
[{"$f":"A1079+1","v":1075},null,"2004-02-13",47,null,null,null,null,"เครื่องตัดสติ๊กเกอร์ 1 ค.",1,64400,"06.45.04",{"$f":"IF(BV1080=\"จำหน่าย\",0,SUM(J1080*K1080))","v":64400},{"$f":"IF(K1080<5000,0,M1080)","v":64400},5,"2009-02-13",1827,12880,1073.3333333333333,35.249042145593869,0,0,64399,0,64399,0,1,14,9,9,5396,"NO",null,null,null,null,null,null,null,null,null,null,null,null,null,null,null,20,null,null,null,null,null,null,null,null,null,null,null,null,null,null,null,null,null,null,null,null,null,null,"06","45","04",null,null,null,"14 ปี  9 เดือน  9 วัน  ",1075]
[{"$f":"A1090+1","v":1086},null,"2004-03-14",47,null,null,null,null,"กล้องถ่ายวีดีโอ 1 ชุด",1,25000,"06.17.59",{"$f":"IF(BV1091=\"จำหน่าย\",0,SUM(J1091*K1091))","v":25000},{"$f":"IF(K1091<5000,0,M1091)","v":25000},5,"2009-03-14",1826,5000,416.66666666666669,13.691128148959475,0,0,24999,0,24999,0,1,14,8,8,5366,"NO",null,null,null,null,null,null,null,null,null,null,null,null,null,null,null,20,null,null,null,null,null,null,null,null,null,null,null,null,null,null,null,null,null,null,null,null,null,null,"06","17","59",null,null,null,"14 ปี  8 เดือน  8 วัน  ",1086]
[{"$f":"A1105+1","v":1101},null,"2004-05-31",47,null,null,null,null,"ฉากและโคมไฟ 1 ชุด",1,75600,"06.02.33",{"$f":"IF(BV1106=\"จำหน่าย\",0,SUM(J1106*K1106))","v":75600},{"$f":"IF(K1106<5000,0,M1106)","v":75600},5,"2009-05-31",1826,15120,1260,41.401971522453451,0,0,75599,0,75599,0,1,14,5,22,5288,"NO",null,null,null,null,null,null,null,null,null,null,null,null,null,null,null,20,null,null,null,null,null,null,null,null,null,null,null,null,null,null,null,null,null,null,null,null,null,null,"06","02","33",null,null,null,"14 ปี  5 เดือน  22 วัน  ",1101]
[{"$f":"A1110+1","v":1106},null,"2004-06-10",47,null,null,null,null,"เครื่องคอมพิวเตอร์แบบพกพา 1 ค.",1,42693,"01.53.1954",{"$f":"IF(BV1111=\"จำหน่าย\",0,SUM(J1111*K1111))","v":42693},{"$f":"IF(K1111<5000,0,M1111)","v":42693},3,"2007-06-10",1095,14231,1185.9166666666667,38.989041095890414,0,0,42692,0,42692,0,1,14,5,12,5278,"NO",null,null,null,null,null,null,null,null,null,null,null,null,null,null,null,33.333333333333336,null,null,null,null,null,null,null,null,null,null,null,null,null,null,null,null,null,null,null,null,null,null,"01","53","1954",null,null,null,"14 ปี  5 เดือน  12 วัน  ",1106]
[{"$f":"A1120+1","v":1116},null,"2004-07-09",47,null,null,null,null,"ชุดลำโพง 3 ชุด",3,16500,"05.06.795-797",{"$f":"IF(BV1121=\"จำหน่าย\",0,SUM(J1121*K1121))","v":49500},{"$f":"IF(K1121<5000,0,M1121)","v":49500},5,"2009-07-09",1826,9900,825,27.108433734939759,0,0,49497,0,49497,0,3,14,4,13,5249,"NO",null,null,null,null,null,null,null,null,null,null,null,null,null,null,null,20,null,null,null,null,null,null,null,null,null,null,null,null,null,null,null,null,null,null,null,null,null,null,"05","06","795-797",null,null,null,"14 ปี  4 เดือน  13 วัน  ",1116]
[{"$f":"A1137+1","v":1133},null,"2004-08-30",47,null,null,null,null,"เครื่องคอมพิวเตอร์ 1 ค.",1,26643,"01.53.1965",{"$f":"IF(BV1138=\"จำหน่าย\",0,SUM(J1138*K1138))","v":26643},{"$f":"IF(K1138<5000,0,M1138)","v":26643},3,"2007-08-30",1095,8881,740.08333333333337,24.331506849315069,0,0,26642,0,26642,0,1,14,2,23,5197,"NO",null,null,null,null,null,null,null,null,null,null,null,null,null,null,null,33.333333333333336,null,null,null,null,null,null,null,null,null,null,null,null,null,null,null,null,null,null,null,null,null,null,"01","53","1965",null,null,null,"14 ปี  2 เดือน  23 วัน  ",1133]
[{"$f":"A1138+1","v":1134},null,"2004-08-31",47,null,null,null,null,"เครื่องปรับอากาศ 16,000 BTU 2 ค.",2,22000,"01.29.866-867",{"$f":"IF(BV1139=\"จำหน่าย\",0,SUM(J1139*K1139))","v":44000},{"$f":"IF(K1139<5000,0,M1139)","v":44000},8,"2012-08-31",2922,5500,458.33333333333331,15.058179329226558,0,0,43998,0,43998,0,2,14,2,22,5196,"NO",null,null,null,null,null,null,null,null,null,null,null,null,null,null,null,12.5,null,null,null,null,null,null,null,null,null,null,null,null,null,null,null,null,null,null,null,null,null,null,"01","29","866-867",null,null,null,"14 ปี  2 เดือน  22 วัน  ",1134]
[{"$f":"A1153+1","v":1149},null,"2004-09-13",47,null,null,null,null,"ตู้ครัว 1 หลัง",1,13375,"08.18.21",{"$f":"IF(BV1154=\"จำหน่าย\",0,SUM(J1154*K1154))","v":13375},{"$f":"IF(K1154<5000,0,M1154)","v":13375},5,"2009-09-13",1826,2675,222.91666666666666,7.3247535596933186,0,0,13374,0,13374,0,1,14,2,9,5183,"NO",null,null,null,null,null,null,null,null,null,null,null,null,null,null,null,20,null,null,null,null,null,null,null,null,null,null,null,null,null,null,null,null,null,null,null,null,null,null,"08","18","21",null,null,null,"14 ปี  2 เดือน  9 วัน  ",1149]
[{"$f":"A1158+1","v":1154},null,"2004-09-18",47,null,null,null,null,"ขิม 2 ตัว",2,5000,"12.08.12-13",{"$f":"IF(BV1159=\"จำหน่าย\",0,SUM(J1159*K1159))","v":10000},{"$f":"IF(K1159<5000,0,M1159)","v":10000},5,"2009-09-18",1826,2000,166.66666666666666,5.47645125958379,0,{"$f":"SUM(R1159*U1159/12)","v":0},{"$f":"IF(N1159=0,0,IF((R1159*AB1159)+(R1159*AC1159/12)>=N1159,N1159-J1159,((R1159*AB1159)+(R1159*AC1159/12))))","v":9998},{"$f":"SUM(T1159*U1159)","v":0},{"$f":"IF(N1159=0,0,IF((DATEDIF(C1159,TODAY(),\"d\")+1)*T1159>=N1159,N1159-J1159,(DATEDIF(C1159,TODAY(),\"d\")+1)*T1159))","v":9998},{"$f":"IF(U1159=0,0,IF(OR(DAY(C1159)=1,MONTH(C1159)<>MONTH(TODAY()),YEAR(C1159)<>YEAR(TODAY())),T1159*((DAY(DATE(YEAR(TODAY()),MONTH(TODAY())+1,1)-1))),T1159*((DAY(DATE(YEAR(TODAY()),MONTH(TODAY())+1,1)-1)-DAY(C1159)+1))))","v":0},{"$f":"IF(N1159=0,0,IF(X1159>=N1159,(J1159),(N1159-Y1159)))","v":2},14,2,4,5178,"NO",null,null,null,null,null,null,null,null,null,null,null,null,null,null,null,20,null,null,null,null,null,null,null,null,null,null,null,null,null,null,null,null,null,null,null,null,null,null,"12","08","12-13",null,null,null,"14 ปี  2 เดือน  4 วัน  ",1154]
[{"$f":"A1169+1","v":1165},null,"2004-11-11",48,null,null,null,null,"เครื่องคอมพิวเตอร์ 1 ค.",1,27500,"01.53.1967",{"$f":"IF(BV1170=\"จำหน่าย\",0,SUM(J1170*K1170))","v":27500},{"$f":"IF(K1170<5000,0,M1170)","v":27500},3,"2007-11-11",1095,9166.6666666666661,763.8888888888888,25.114155251141554,0,0,27499,0,27499,0,1,14,0,11,5124,"NO",null,null,null,null,null,null,null,null,null,null,null,null,null,null,null,33.333333333333336,null,null,null,null,null,null,null,null,null,null,null,null,null,null,null,null,null,null,null,null,null,null,"01","53","1967",null,null,null,"14 ปี  0 เดือน  11 วัน  ",1165]
[{"$f":"A1184+1","v":1180},null,"2004-12-02",48,null,null,null,null,"เลนส์ซูม 28-200 mm. 1 ตัว",1,22000,"06.15.15",{"$f":"IF(BV1185=\"จำหน่าย\",0,SUM(J1185*K1185))","v":22000},{"$f":"IF(K1185<5000,0,M1185)","v":22000},5,"2009-12-02",1826,4400,366.66666666666669,12.048192771084338,0,0,21999,0,21999,0,1,13,11,20,5103,"NO",null,null,null,null,null,null,null,null,null,null,null,null,null,null,null,20,null,null,null,null,null,null,null,null,null,null,null,null,null,null,null,null,null,null,null,null,null,null,"06","15","15",null,null,null,"13 ปี  11 เดือน  20 วัน  ",1180]
[{"$f":"A1189+1","v":1185},null,"2004-12-09",48,null,null,null,null,"มู่ลี่ปรับแสง 2.06x1.75 ม. 1 ชุด",1,5662.44,"01.19.288",{"$f":"IF(BV1190=\"จำหน่าย\",0,SUM(J1190*K1190))","v":5662.44},{"$f":"IF(K1190<5000,0,M1190)","v":5662.44},8,"2012-12-09",2922,707.80499999999995,58.983749999999993,1.9378644763860369,0,0,5661.44,0,5661.44,0,1,13,11,13,5096,"NO",null,null,null,null,null,null,null,null,null,null,null,null,null,null,null,12.5,null,null,null,null,null,null,null,null,null,null,null,null,null,null,null,null,null,null,null,null,null,null,"01","19","288",null,null,null,"13 ปี  11 เดือน  13 วัน  ",1185]
[{"$f":"A1206+1","v":1202},null,"2005-01-17",48,null,null,null,null,"เครื่องคอมพิวเตอร์ 1 ค.",1,20000,"01.53.2034",{"$f":"IF(BV1207=\"จำหน่าย\",0,SUM(J1207*K1207))","v":20000},{"$f":"IF(K1207<5000,0,M1207)","v":20000},3,"2008-01-17",1095,6666.666666666667,555.55555555555554,18.264840182648403,0,0,19999,0,19999,0,1,13,10,5,5057,"NO",null,null,null,null,null,null,null,null,null,null,null,null,null,null,null,33.333333333333336,null,null,null,null,null,null,null,null,null,null,null,null,null,null,null,null,null,null,null,null,null,null,"01","53","2034",null,null,null,"13 ปี  10 เดือน  5 วัน  ",1202]
[{"$f":"A1216+1","v":1212},null,"2005-01-19",48,null,null,null,null,"เครื่องคอมพิวเตอร์ 1 ค.",1,31779,"01.53.1991",{"$f":"IF(BV1217=\"จำหน่าย\",0,SUM(J1217*K1217))","v":31779},{"$f":"IF(K1217<5000,0,M1217)","v":31779},3,"2008-01-19",1095,10593,882.75,29.021917808219179,0,0,31778,0,31778,0,1,13,10,3,5055,"NO",null,null,null,null,null,null,null,null,null,null,null,null,null,null,null,33.333333333333336,null,null,null,null,null,null,null,null,null,null,null,null,null,null,null,null,null,null,null,null,null,null,"01","53","1991",null,null,null,"13 ปี  10 เดือน  3 วัน  ",1212]
[{"$f":"A1227+1","v":1223},null,"2005-01-19",48,null,null,null,null,"เครื่องคอมพิวเตอร์ 1 ค.",1,31779,"01.53.2010",{"$f":"IF(BV1228=\"จำหน่าย\",0,SUM(J1228*K1228))","v":31779},{"$f":"IF(K1228<5000,0,M1228)","v":31779},3,"2008-01-19",1095,10593,882.75,29.021917808219179,0,0,31778,0,31778,0,1,13,10,3,5055,"NO",null,null,null,null,null,null,null,null,null,null,null,null,null,null,null,33.333333333333336,null,null,null,null,null,null,null,null,null,null,null,null,null,null,null,null,null,null,null,null,null,null,"01","53","2010",null,null,null,"13 ปี  10 เดือน  3 วัน  ",1223]
[{"$f":"A1232+1","v":1228},null,"2005-01-19",48,null,null,null,null,"เครื่องคอมพิวเตอร์ 1 ค.",1,31779,"01.53.2019",{"$f":"IF(BV1233=\"จำหน่าย\",0,SUM(J1233*K1233))","v":31779},{"$f":"IF(K1233<5000,0,M1233)","v":31779},3,"2008-01-19",1095,10593,882.75,29.021917808219179,0,0,31778,0,31778,0,1,13,10,3,5055,"NO",null,null,null,null,null,null,null,null,null,null,null,null,null,null,null,33.333333333333336,null,null,null,null,null,null,null,null,null,null,null,null,null,null,null,null,null,null,null,null,null,null,"01","53","2019",null,null,null,"13 ปี  10 เดือน  3 วัน  ",1228]
[{"$f":"A1247+1","v":1243},null,"2005-02-12",48,null,null,null,null,"กล่องใส่มิคเซอร์ 1 ใบ",1,6200,"01.58.352",{"$f":"IF(BV1248=\"จำหน่าย\",0,SUM(J1248*K1248))","v":6200},{"$f":"IF(K1248<5000,0,M1248)","v":6200},8,"2013-02-12",2922,775,64.583333333333329,2.1218343600273784,0,0,6199,0,6199,0,1,13,9,10,5031,"NO",null,null,null,null,null,null,null,null,null,null,null,null,null,null,null,12.5,null,null,null,null,null,null,null,null,null,null,null,null,null,null,null,null,null,null,null,null,null,null,"01","58","352",null,null,null,"13 ปี  9 เดือน  10 วัน  ",1243]
[{"$f":"A1258+1","v":1254},null,"2005-03-04",48,null,null,null,null,"เครื่องทำลายเอกสาร 1 ค.",1,18400,"01.68.09",{"$f":"IF(BV1259=\"จำหน่าย\",0,SUM(J1259*K1259))","v":18400},{"$f":"IF(K1259<5000,0,M1259)","v":18400},8,"2013-03-04",2922,2300,191.66666666666666,6.2970568104038334,0,0,18399,0,18399,0,1,13,8,18,5011,"NO",null,null,null,null,null,null,null,null,null,null,null,null,null,null,null,12.5,null,null,null,null,null,null,null,null,null,null,null,null,null,null,null,null,null,null,null,null,null,null,"01","68","09",null,null,null,"13 ปี  8 เดือน  18 วัน  ",1254]
[{"$f":"A1263+1","v":1259},null,"2005-03-16",48,null,null,null,null,"เครื่องปรับอากาศ 1 ค.",1,23900,"01.29.872",{"$f":"IF(BV1264=\"จำหน่าย\",0,SUM(J1264*K1264))","v":23900},{"$f":"IF(K1264<5000,0,M1264)","v":23900},8,"2013-03-16",2922,2987.5,248.95833333333334,8.1793292265571527,0,0,23899,0,23899,0,1,13,8,6,4999,"NO",null,null,null,null,null,null,null,null,null,null,null,null,null,null,null,12.5,null,null,null,null,null,null,null,null,null,null,null,null,null,null,null,null,null,null,null,null,null,null,"01","29","872",null,null,null,"13 ปี  8 เดือน  6 วัน  ",1259]
[{"$f":"A1276+1","v":1272},null,"2005-04-04",48,null,null,null,null,"เครื่องอ่านบาร์โค๊ด 1 ค.",1,8560,"05.53.16",{"$f":"IF(BV1277=\"จำหน่าย\",0,SUM(J1277*K1277))","v":8560},{"$f":"IF(K1277<5000,0,M1277)","v":8560},3,"2008-04-04",1096,2853.3333333333335,237.7777777777778,7.8102189781021893,0,0,8559,0,8559,0,1,13,7,18,4980,"NO",null,null,null,null,null,null,null,null,null,null,null,null,null,null,null,33.333333333333336,null,null,null,null,null,null,null,null,null,null,null,null,null,null,null,null,null,null,null,null,null,null,"05","53","16",null,null,null,"13 ปี  7 เดือน  18 วัน  ",1272]
[{"$f":"A1280+1","v":1276},null,"2005-04-16",48,null,null,null,null,"เครื่องคอมพิวเตอร์แบบพกพา 1 ค.",1,53393,"01.53.2099",{"$f":"IF(BV1281=\"จำหน่าย\",0,SUM(J1281*K1281))","v":53393},{"$f":"IF(K1281<5000,0,M1281)","v":53393},3,"2008-04-16",1096,17797.666666666668,1483.1388888888889,48.716240875912412,0,0,53392,0,53392,0,1,13,7,6,4968,"NO",null,null,null,null,null,null,null,null,null,null,null,null,null,null,null,33.333333333333336,null,null,null,null,null,null,null,null,null,null,null,null,null,null,null,null,null,null,null,null,null,null,"01","53","2099",null,null,null,"13 ปี  7 เดือน  6 วัน  ",1276]
[{"$f":"A1295+1","v":1291},null,"2005-04-28",48,null,null,null,null,"ถังเก็บน้ำ PE 1800 ลิตร 1 ใบ",1,8025,"08.04.106",{"$f":"IF(BV1296=\"จำหน่าย\",0,SUM(J1296*K1296))","v":8025},{"$f":"IF(K1296<5000,0,M1296)","v":8025},5,"2010-04-28",1826,1605,133.75,4.3948521358159915,0,0,8024,0,8024,0,1,13,6,25,4956,"NO",null,null,null,null,null,null,null,null,null,null,null,null,null,null,null,20,null,null,null,null,null,null,null,null,null,null,null,null,null,null,null,null,null,null,null,null,null,null,"08","04","106",null,null,null,"13 ปี  6 เดือน  25 วัน  ",1291]
[{"$f":"A1306+1","v":1302},null,"2005-04-29",48,null,null,null,null,"เครื่องถ่ายเอกสารระบบดิจิตอล 1 ค.",1,82968,"01.22.53",{"$f":"IF(BV1307=\"จำหน่าย\",0,SUM(J1307*K1307))","v":82968},{"$f":"IF(K1307<5000,0,M1307)","v":82968},8,{"$f":"DATE(YEAR(C1307)+O1307,MONTH(C1307),DAY(C1307))","v":"2013-04-29"},{"$f":"IF(NOT(OR(ISBLANK(P1307),ISBLANK(C1307))),P1307-C1307,\"\")","v":2922},{"$f":"SLN(N1307,,O1307)","v":10371},{"$f":"SLN(R1307,,12)","v":864.25},{"$f":"SLN(N1307,,Q1307)","v":28.394250513347021},{"$f":"IF(N1307=0,0,IF(AE1307<=Q1307,1,0))","v":0},0,82967,0,82967,0,1,{"$f":"DATEDIF(C1307,TODAY(),\"Y\")","v":13},{"$f":"DATEDIF(C1307,TODAY(),\"YM\")","v":6},{"$f":"DATEDIF(C1307,TODAY(),\"md\")+1","v":24},{"$f":"DATEDIF(C1307,TODAY(),\"d\")+1","v":4955},{"$f":"IF(N1307=0,\"No\",IF(AE1307>Q1307,\"NO\",\"YES\"))","v":"NO"},null,null,null,null,null,null,null,null,null,null,null,null,null,null,null,{"$f":"100/O1307","v":12.5},null,null,null,null,null,null,null,null,null,null,null,null,null,null,null,null,null,null,null,null,null,null,"01","22","53",null,null,null,{"$f":"CONCATENATE(AB1307,\" ปี  \",AC1307,\" เดือน  \",AD1307,\" วัน  \")","v":"13 ปี  6 เดือน  24 วัน  "},{"$f":"A1307","v":1302}]
[{"$f":"A1311+1","v":1307},null,"2005-05-12",48,null,null,null,null,"ชุดลำโพงช่วยสอน 1 ชุด",1,15515,"05.06.799",{"$f":"IF(BV1312=\"จำหน่าย\",0,SUM(J1312*K1312))","v":15515},{"$f":"IF(K1312<5000,0,M1312)","v":15515},5,"2010-05-12",1826,3103,258.58333333333331,8.4967141292442498,0,0,15514,0,15514,0,1,13,6,10,4942,"NO",null,null,null,null,null,null,null,null,null,null,null,null,null,null,null,20,null,null,null,null,null,null,null,null,null,null,null,null,null,null,null,null,null,null,null,null,null,null,"05","06","799",null,null,null,"13 ปี  6 เดือน  10 วัน  ",1307]
[{"$f":"A1326+1","v":1322},null,"2005-06-15",48,null,null,null,null,"กระดานไวท์บอร์ด 170x475 ซม. 1 แผ่น",1,6400,"01.14.317",{"$f":"IF(BV1327=\"จำหน่าย\",0,SUM(J1327*K1327))","v":6400},{"$f":"IF(K1327<5000,0,M1327)","v":6400},8,"2013-06-15",2922,800,66.666666666666671,2.1902806297056809,0,0,6399,0,6399,0,1,13,5,7,4908,"NO",null,null,null,null,null,null,null,null,null,null,null,null,null,null,null,12.5,null,null,null,null,null,null,null,null,null,null,null,null,null,null,null,null,null,null,null,null,null,null,"01","14","317",null,null,null,"13 ปี  5 เดือน  7 วัน  ",1322]
[{"$f":"A1337+1","v":1333},null,"2005-07-10",48,null,null,null,null,"เครื่องคอมพิวเตอร์แม่ข่าย 1 ค.",1,97905,"01.53.2110",{"$f":"IF(BV1338=\"จำหน่าย\",0,SUM(J1338*K1338))","v":0},{"$f":"IF(K1338<5000,0,M1338)","v":0},3,"2008-07-10",1096,0,0,0,0,0,0,0,0,0,0,13,4,12,4883,"No",null,null,null,null,null,null,null,null,null,null,null,null,null,null,null,33.333333333333336,null,null,null,null,null,null,null,null,null,null,null,null,null,null,null,null,null,null,null,null,null,null,"01","53","2110","จำหน่าย","3/8/2561",null,"13 ปี  4 เดือน  12 วัน  ",1333]
[{"$f":"A1342+1","v":1338},null,"2005-07-14",48,null,null,null,null,"เครื่องเล่นและบันทึกวีดีโอระบบดิจิตอล 1 ค.",1,149907,"05.09.332",{"$f":"IF(BV1343=\"จำหน่าย\",0,SUM(J1343*K1343))","v":149907},{"$f":"IF(K1343<5000,0,M1343)","v":149907},5,"2010-07-14",1826,29981.4,2498.4500000000003,82.095837897042713,0,0,149906,0,149906,0,1,13,4,8,4879,"NO",null,null,null,null,null,null,null,null,null,null,null,null,null,null,null,20,null,null,null,null,null,null,null,null,null,null,null,null,null,null,null,null,null,null,null,null,null,null,"05","09","332",null,null,null,"13 ปี  4 เดือน  8 วัน  ",1338]
[{"$f":"A1351+1","v":1347},null,"2005-07-14",48,null,null,null,null,"ไมโครโฟนสำหรับกล้องถ่ายวีดีโอ 1 ตัว",1,29960,"05.12.362",{"$f":"IF(BV1352=\"จำหน่าย\",0,SUM(J1352*K1352))","v":29960},{"$f":"IF(K1352<5000,0,M1352)","v":29960},5,"2010-07-14",1826,5992,499.33333333333331,16.407447973713033,0,0,29959,0,29959,0,1,13,4,8,4879,"NO",null,null,null,null,null,null,null,null,null,null,null,null,null,null,null,20,null,null,null,null,null,null,null,null,null,null,null,null,null,null,null,null,null,null,null,null,null,null,"05","12","362",null,null,null,"13 ปี  4 เดือน  8 วัน  ",1347]
[{"$f":"A1369+1","v":1365},null,"2005-08-16",48,null,null,null,null,"เครื่องสแกนเนอร์ 1 ค.",1,22470,"01.65.68",{"$f":"IF(BV1370=\"จำหน่าย\",0,SUM(J1370*K1370))","v":22470},{"$f":"IF(K1370<5000,0,M1370)","v":22470},3,"2008-08-16",1096,7490,624.16666666666663,20.501824817518248,0,0,22469,0,22469,0,1,13,3,6,4846,"NO",null,null,null,null,null,null,null,null,null,null,null,null,null,null,null,33.333333333333336,null,null,null,null,null,null,null,null,null,null,null,null,null,null,null,null,null,null,null,null,null,null,"01","65","68",null,null,null,"13 ปี  3 เดือน  6 วัน  ",1365]
[{"$f":"A1374+1","v":1370},null,"2005-08-23",48,null,null,null,null,"ฉากกั้นห้อง PVC 5.82x2.31 ม. 1 ชุด",1,12000,"01.19.297",{"$f":"IF(BV1375=\"จำหน่าย\",0,SUM(J1375*K1375))","v":12000},{"$f":"IF(K1375<5000,0,M1375)","v":12000},8,"2013-08-23",2922,1500,125,4.1067761806981515,0,0,11999,0,11999,0,1,13,2,30,4839,"NO",null,null,null,null,null,null,null,null,null,null,null,null,null,null,null,12.5,null,null,null,null,null,null,null,null,null,null,null,null,null,null,null,null,null,null,null,null,null,null,"01","19","297",null,null,null,"13 ปี  2 เดือน  30 วัน  ",1370]
[{"$f":"A1385+1","v":1381},null,"2005-08-30",48,null,null,null,null,"จานบันทึกข้อมูล (Harddisk) 200 GB 1 อัน",1,6099,"01.78.04",{"$f":"IF(BV1386=\"จำหน่าย\",0,SUM(J1386*K1386))","v":6099},{"$f":"IF(K1386<5000,0,M1386)","v":6099},3,"2008-08-30",1096,2033,169.41666666666666,5.5647810218978107,0,0,6098,0,6098,0,1,13,2,23,4832,"NO",null,null,null,null,null,null,null,null,null,null,null,null,null,null,null,33.333333333333336,null,null,null,null,null,null,null,null,null,null,null,null,null,null,null,null,null,null,null,null,null,null,"01","78","04",null,null,null,"13 ปี  2 เดือน  23 วัน  ",1381]
[{"$f":"A1400+1","v":1396},null,"2005-09-10",48,null,null,null,null,"ผ้าม่าน 3.76x2.36 ม. 1 ชุด ",1,5292,"01.19.309",{"$f":"IF(BV1401=\"จำหน่าย\",0,SUM(J1401*K1401))","v":5292},{"$f":"IF(K1401<5000,0,M1401)","v":5292},8,"2013-09-10",2922,661.5,55.125,1.8110882956878851,0,0,5291,0,5291,0,1,13,2,12,4821,"NO",null,null,null,null,null,null,null,null,null,null,null,null,null,null,null,12.5,null,null,null,null,null,null,null,null,null,null,null,null,null,null,null,null,null,null,null,null,null,null,"01","19","309",null,null,null,"13 ปี  2 เดือน  12 วัน  ",1396]
[{"$f":"A1405+1","v":1401},null,"2005-09-12",48,null,null,null,null,"เครื่องถ่ายเอกสาร 1 ค.",1,75000,"01.22.57",{"$f":"IF(BV1406=\"จำหน่าย\",0,SUM(J1406*K1406))","v":75000},{"$f":"IF(K1406<5000,0,M1406)","v":75000},8,"2013-09-12",2922,9375,781.25,25.66735112936345,0,0,74999,0,74999,0,1,13,2,10,4819,"NO",null,null,null,null,null,null,null,null,null,null,null,null,null,null,null,12.5,null,null,null,null,null,null,null,null,null,null,null,null,null,null,null,null,null,null,null,null,null,null,"01","22","57",null,null,null,"13 ปี  2 เดือน  10 วัน  ",1401]
[{"$f":"A1416+1","v":1412},null,"2005-10-07",49,null,null,null,null,"เตาทอดแผ่นกระทะ 1 ชุด",1,17655,"08.14.63",{"$f":"IF(BV1417=\"จำหน่าย\",0,SUM(J1417*K1417))","v":17655},{"$f":"IF(K1417<5000,0,M1417)","v":17655},5,"2010-10-07",1826,3531,294.25,9.668674698795181,0,0,17654,0,17654,0,1,13,1,15,4794,"NO",null,null,null,null,null,null,null,null,null,null,null,null,null,null,null,20,null,null,null,null,null,null,null,null,null,null,null,null,null,null,null,null,null,null,null,null,null,null,"08","14","63",null,null,null,"13 ปี  1 เดือน  15 วัน  ",1412]
[{"$f":"A1421+1","v":1417},null,"2005-11-16",49,null,null,null,null,"เครื่องคอมพิวเตอร์ 1 ค.",1,31999.42,"01.53.2131",{"$f":"IF(BV1422=\"จำหน่าย\",0,SUM(J1422*K1422))","v":31999.42},{"$f":"IF(K1422<5000,0,M1422)","v":31999.42},3,"2008-11-16",1096,10666.473333333333,888.87277777777774,29.196551094890509,0,0,31998.42,0,31998.42,0,1,13,0,6,4754,"NO",null,null,null,null,null,null,null,null,null,null,null,null,null,null,null,33.333333333333336,null,null,null,null,null,null,null,null,null,null,null,null,null,null,null,null,null,null,null,null,null,null,"01","53","2131",null,null,null,"13 ปี  0 เดือน  6 วัน  ",1417]
[{"$f":"A1437+1","v":1433},null,"2005-12-13",49,null,null,null,null,"วิทยุสื่อสาร 3 ค.",3,7383,"05.19.41-43",{"$f":"IF(BV1438=\"จำหน่าย\",0,SUM(J1438*K1438))","v":22149},{"$f":"IF(K1438<5000,0,M1438)","v":22149},5,"2010-12-13",1826,4429.8,369.15000000000003,12.129791894852136,0,0,22146,0,22146,0,3,12,11,9,4727,"NO",null,null,null,null,null,null,null,null,null,null,null,null,null,null,null,20,null,null,null,null,null,null,null,null,null,null,null,null,null,null,null,null,null,null,null,null,null,null,"05","19","41-43",null,null,null,"12 ปี  11 เดือน  9 วัน  ",1433]
[{"$f":"A1448+1","v":1444},null,"2006-01-25",49,null,null,null,null,"ชุดโปรแกรมจำลองออกแบบและควบคุมกระบวนการทางระบบ PLC 1 ชุด",1,42158,"05.41.09",{"$f":"IF(BV1449=\"จำหน่าย\",0,SUM(J1449*K1449))","v":42158},{"$f":"IF(K1449<5000,0,M1449)","v":42158},5,"2011-01-25",1826,8431.6,702.63333333333333,23.08762322015334,0,0,42157,0,42157,0,1,12,9,28,4684,"NO",null,null,null,null,null,null,null,null,null,null,null,null,null,null,null,20,null,null,null,null,null,null,null,null,null,null,null,null,null,null,null,null,null,null,null,null,null,null,"05","41","09",null,null,null,"12 ปี  9 เดือน  28 วัน  ",1444]
[{"$f":"A1453+1","v":1449},null,"2006-01-26",49,null,null,null,null,"เครื่องคอมพิวเตอร์ 1 ค.",1,26215,"01.53.2161",{"$f":"IF(BV1454=\"จำหน่าย\",0,SUM(J1454*K1454))","v":26215},{"$f":"IF(K1454<5000,0,M1454)","v":26215},3,"2009-01-26",1096,8738.3333333333339,728.19444444444446,23.918795620437955,0,0,26214,0,26214,0,1,12,9,27,4683,"NO",null,null,null,null,null,null,null,null,null,null,null,null,null,null,null,33.333333333333336,null,null,null,null,null,null,null,null,null,null,null,null,null,null,null,null,null,null,null,null,null,null,"01","53","2161",null,null,null,"12 ปี  9 เดือน  27 วัน  ",1449]
[{"$f":"A1464+1","v":1460},null,"2006-02-03",49,null,null,null,null,"เครื่องคอมพิวเตอร์ 2 ค.",2,26000,"01.53.3020-3020.1",{"$f":"IF(BV1465=\"จำหน่าย\",0,SUM(J1465*K1465))","v":52000},{"$f":"IF(K1465<5000,0,M1465)","v":52000},3,"2009-02-03",1096,17333.333333333332,1444.4444444444443,47.445255474452551,0,0,51998,0,51998,0,2,12,9,19,4675,"NO",null,null,null,null,null,null,null,null,null,null,null,null,null,null,null,33.333333333333336,null,null,null,null,null,null,null,null,null,null,null,null,null,null,null,null,null,null,null,null,null,null,"01","53","3020-3020.1",null,null,null,"12 ปี  9 เดือน  19 วัน  ",1460]
[{"$f":"A1479+1","v":1475},null,"2006-02-22",49,null,null,null,null,"ป้าย pop sign 2 1 ป้าย",1,5564,"01.14.342",{"$f":"IF(BV1480=\"จำหน่าย\",0,SUM(J1480*K1480))","v":5564},{"$f":"IF(K1480<5000,0,M1480)","v":5564},8,"2014-02-22",2922,695.5,57.958333333333336,1.9041752224503765,0,0,5563,0,5563,0,1,12,8,31,4656,"NO",null,null,null,null,null,null,null,null,null,null,null,null,null,null,null,12.5,null,null,null,null,null,null,null,null,null,null,null,null,null,null,null,null,null,null,null,null,null,null,"01","14","342",null,null,null,"12 ปี  8 เดือน  31 วัน  ",1475]
[{"$f":"A1490+1","v":1486},null,"2006-02-27",49,null,null,null,null,"เครื่องพิมพ์สำเนาระบบดิจิตอล 1 ค.",1,90000,"01.46.41",{"$f":"IF(BV1491=\"จำหน่าย\",0,SUM(J1491*K1491))","v":90000},{"$f":"IF(K1491<5000,0,M1491)","v":90000},8,"2014-02-27",2922,11250,937.5,30.800821355236138,0,0,89999,0,89999,0,1,12,8,26,4651,"NO",null,null,null,null,null,null,null,null,null,null,null,null,null,null,null,12.5,null,null,null,null,null,null,null,null,null,null,null,null,null,null,null,null,null,null,null,null,null,null,"01","46","41",null,null,null,"12 ปี  8 เดือน  26 วัน  ",1486]
[{"$f":"A1495+1","v":1491},null,"2006-02-28",49,null,null,null,null,"เครื่องพิมพ์ 1 ค.",1,10960,"01.72.397",{"$f":"IF(BV1496=\"จำหน่าย\",0,SUM(J1496*K1496))","v":10960},{"$f":"IF(K1496<5000,0,M1496)","v":10960},3,"2009-02-28",1096,3653.3333333333335,304.44444444444446,10,0,0,10959,0,10959,0,1,12,8,25,4650,"NO",null,null,null,null,null,null,null,null,null,null,null,null,null,null,null,33.333333333333336,null,null,null,null,null,null,null,null,null,null,null,null,null,null,null,null,null,null,null,null,null,null,"01","72","397",null,null,null,"12 ปี  8 เดือน  25 วัน  ",1491]
[{"$f":"A1503+1","v":1499},null,"2006-03-19",49,null,null,null,null,"เครื่องฉายภาพข้ามศรีษะ 1 ค.",1,8500,"06.08.561",{"$f":"IF(BV1504=\"จำหน่าย\",0,SUM(J1504*K1504))","v":8500},{"$f":"IF(K1504<5000,0,M1504)","v":8500},5,"2011-03-19",1826,1700,141.66666666666666,4.6549835706462215,0,0,8499,0,8499,0,1,12,8,3,4631,"NO",null,null,null,null,null,null,null,null,null,null,null,null,null,null,null,20,null,null,null,null,null,null,null,null,null,null,null,null,null,null,null,null,null,null,null,null,null,null,"06","08","561",null,null,null,"12 ปี  8 เดือน  3 วัน  ",1499]
[{"$f":"A1522+1","v":1518},null,"2006-04-11",49,null,null,null,null,"เครื่องสำรองไฟฟ้า 2 ค.",2,9630,"05.46.394-395",{"$f":"IF(BV1523=\"จำหน่าย\",0,SUM(J1523*K1523))","v":19260},{"$f":"IF(K1523<5000,0,M1523)","v":19260},3,"2009-04-11",1096,6420,535,17.572992700729927,0,0,19258,0,19258,0,2,12,7,11,4608,"NO",null,null,null,null,null,null,null,null,null,null,null,null,null,null,null,33.333333333333336,null,null,null,null,null,null,null,null,null,null,null,null,null,null,null,null,null,null,null,null,null,null,"05","46","394-395",null,null,null,"12 ปี  7 เดือน  11 วัน  ",1518]
[{"$f":"A1527+1","v":1523},null,"2006-04-14",49,null,null,null,null,"เครื่องผสมสัญญาณเสียง 3 ค.",3,7490,"05.06.900-902",{"$f":"IF(BV1528=\"จำหน่าย\",0,SUM(J1528*K1528))","v":22470},{"$f":"IF(K1528<5000,0,M1528)","v":22470},5,"2011-04-14",1826,4494,374.5,12.305585980284775,0,0,22467,0,22467,0,3,12,7,8,4605,"NO",null,null,null,null,null,null,null,null,null,null,null,null,null,null,null,20,null,null,null,null,null,null,null,null,null,null,null,null,null,null,null,null,null,null,null,null,null,null,"05","06","900-902",null,null,null,"12 ปี  7 เดือน  8 วัน  ",1523]
[{"$f":"A1542+1","v":1538},null,"2006-05-03",49,null,null,null,null,"กล้องถ่ายภาพดิจิตอล 1 ตัว",1,19998.3,"06.01.129",{"$f":"IF(BV1543=\"จำหน่าย\",0,SUM(J1543*K1543))","v":19998.3},{"$f":"IF(K1543<5000,0,M1543)","v":19998.3},5,"2011-05-03",1826,3999.66,333.30500000000001,10.95197152245345,0,{"$f":"SUM(R1543*U1543/12)","v":0},{"$f":"IF(N1543=0,0,IF((R1543*AB1543)+(R1543*AC1543/12)>=N1543,N1543-J1543,((R1543*AB1543)+(R1543*AC1543/12))))","v":19997.3},{"$f":"SUM(T1543*U1543)","v":0},{"$f":"IF(N1543=0,0,IF((DATEDIF(C1543,TODAY(),\"d\")+1)*T1543>=N1543,N1543-J1543,(DATEDIF(C1543,TODAY(),\"d\")+1)*T1543))","v":19997.3},{"$f":"IF(U1543=0,0,IF(OR(DAY(C1543)=1,MONTH(C1543)<>MONTH(TODAY()),YEAR(C1543)<>YEAR(TODAY())),T1543*((DAY(DATE(YEAR(TODAY()),MONTH(TODAY())+1,1)-1))),T1543*((DAY(DATE(YEAR(TODAY()),MONTH(TODAY())+1,1)-1)-DAY(C1543)+1))))","v":0},{"$f":"IF(N1543=0,0,IF(X1543>=N1543,(J1543),(N1543-Y1543)))","v":1},12,6,19,4586,"NO",null,null,null,null,null,null,null,null,null,null,null,null,null,null,null,20,null,null,null,null,null,null,null,null,null,null,null,null,null,null,null,null,null,null,null,null,null,null,"06","01","129",null,null,null,"12 ปี  6 เดือน  19 วัน  ",1538]
[{"$f":"A1543+1","v":1539},null,"2006-05-03",49,null,null,null,null,"เลนส์ซูม 1 ตัว",1,19795,"06.15.16",{"$f":"IF(BV1544=\"จำหน่าย\",0,SUM(J1544*K1544))","v":19795},{"$f":"IF(K1544<5000,0,M1544)","v":19795},5,"2011-05-03",1826,3959,329.91666666666669,10.840635268346112,0,0,19794,0,19794,0,1,12,6,19,4586,"NO",null,null,null,null,null,null,null,null,null,null,null,null,null,null,null,20,null,null,null,null,null,null,null,null,null,null,null,null,null,null,null,null,null,null,null,null,null,null,"06","15","16",null,null,null,"12 ปี  6 เดือน  19 วัน  ",1539]
[{"$f":"A1558+1","v":1554},null,"2006-05-20",49,null,null,null,null,"เครื่องคอมพิวเตอร์ 1 ค.",1,32000,"01.53.2232",{"$f":"IF(BV1559=\"จำหน่าย\",0,SUM(J1559*K1559))","v":32000},{"$f":"IF(K1559<5000,0,M1559)","v":32000},3,"2009-05-20",1096,10666.666666666666,888.8888888888888,29.197080291970803,0,0,31999,0,31999,0,1,12,6,2,4569,"NO",null,null,null,null,null,null,null,null,null,null,null,null,null,null,null,33.333333333333336,null,null,null,null,null,null,null,null,null,null,null,null,null,null,null,null,null,null,null,null,null,null,"01","53","2232",null,null,null,"12 ปี  6 เดือน  2 วัน  ",1554]
[{"$f":"A1569+1","v":1565},null,"2006-05-31",49,null,null,null,null,"เครื่องตัดสติ๊กเกอร์ 1 ค.",1,65000,"06.45.08",{"$f":"IF(BV1570=\"จำหน่าย\",0,SUM(J1570*K1570))","v":65000},{"$f":"IF(K1570<5000,0,M1570)","v":65000},5,"2011-05-31",1826,13000,1083.3333333333333,35.596933187294631,0,0,64999,0,64999,0,1,12,5,22,4558,"NO",null,null,null,null,null,null,null,null,null,null,null,null,null,null,null,20,null,null,null,null,null,null,null,null,null,null,null,null,null,null,null,null,null,null,null,null,null,null,"06","45","08",null,null,null,"12 ปี  5 เดือน  22 วัน  ",1565]
[{"$f":"A1574+1","v":1570},null,"2006-06-08",49,null,null,null,null,"เครื่องตรวจวัดคุณภาพอากาศในอาคาร 1 ค.",1,309230,"07.33.06",{"$f":"IF(BV1575=\"จำหน่าย\",0,SUM(J1575*K1575))","v":309230},{"$f":"IF(K1575<5000,0,M1575)","v":309230},5,"2011-06-08",1826,61846,5153.833333333333,169.34830230010954,0,0,309229,0,309229,0,1,12,5,14,4550,"NO",null,null,null,null,null,null,null,null,null,null,null,null,null,null,null,20,null,null,null,null,null,null,null,null,null,null,null,null,null,null,null,null,null,null,null,null,null,null,"07","33","06",null,null,null,"12 ปี  5 เดือน  14 วัน  ",1570]
[{"$f":"A1589+1","v":1585},null,"2006-06-23",49,null,null,null,null,"เครื่องมัลติมีเดียโปรเจคเตอร์ 1 ค.",1,48685,"06.19.62",{"$f":"IF(BV1590=\"จำหน่าย\",0,SUM(J1590*K1590))","v":48685},{"$f":"IF(K1590<5000,0,M1590)","v":48685},3,"2009-06-23",1096,16228.333333333334,1352.3611111111111,44.420620437956202,0,0,48684,0,48684,0,1,12,4,30,4535,"NO",null,null,null,null,null,null,null,null,null,null,null,null,null,null,null,33.333333333333336,null,null,null,null,null,null,null,null,null,null,null,null,null,null,null,null,null,null,null,null,null,null,"06","19","62",null,null,null,"12 ปี  4 เดือน  30 วัน  ",1585]
[{"$f":"A1601+1","v":1597},null,"2006-07-06",49,null,null,null,null,"เครื่องมัลติมีเดียโปรเจคเตอร์ 1 ค.",1,49900,"06.19.63",{"$f":"IF(BV1602=\"จำหน่าย\",0,SUM(J1602*K1602))","v":49900},{"$f":"IF(K1602<5000,0,M1602)","v":49900},3,"2009-07-06",1096,16633.333333333332,1386.1111111111111,45.529197080291972,0,0,49899,0,49899,0,1,12,4,16,4522,"NO",null,null,null,null,null,null,null,null,null,null,null,null,null,null,null,33.333333333333336,null,null,null,null,null,null,null,null,null,null,null,null,null,null,null,null,null,null,null,null,null,null,"06","19","63",null,null,null,"12 ปี  4 เดือน  16 วัน  ",1597]
[{"$f":"A1606+1","v":1602},null,"2006-07-14",49,null,null,null,null,"เครื่องพิมพ์ 1 ค.",1,11000,"01.72.427",{"$f":"IF(BV1607=\"จำหน่าย\",0,SUM(J1607*K1607))","v":11000},{"$f":"IF(K1607<5000,0,M1607)","v":11000},3,"2009-07-14",1096,3666.6666666666665,305.55555555555554,10.036496350364963,0,{"$f":"SUM(R1607*U1607/12)","v":0},{"$f":"IF(N1607=0,0,IF((R1607*AB1607)+(R1607*AC1607/12)>=N1607,N1607-J1607,((R1607*AB1607)+(R1607*AC1607/12))))","v":10999},{"$f":"SUM(T1607*U1607)","v":0},{"$f":"IF(N1607=0,0,IF((DATEDIF(C1607,TODAY(),\"d\")+1)*T1607>=N1607,N1607-J1607,(DATEDIF(C1607,TODAY(),\"d\")+1)*T1607))","v":10999},{"$f":"IF(U1607=0,0,IF(OR(DAY(C1607)=1,MONTH(C1607)<>MONTH(TODAY()),YEAR(C1607)<>YEAR(TODAY())),T1607*((DAY(DATE(YEAR(TODAY()),MONTH(TODAY())+1,1)-1))),T1607*((DAY(DATE(YEAR(TODAY()),MONTH(TODAY())+1,1)-1)-DAY(C1607)+1))))","v":0},{"$f":"IF(N1607=0,0,IF(X1607>=N1607,(J1607),(N1607-Y1607)))","v":1},12,4,8,4514,"NO",null,null,null,null,null,null,null,null,null,null,null,null,null,null,null,33.333333333333336,null,null,null,null,null,null,null,null,null,null,null,null,null,null,null,null,null,null,null,null,null,null,"01","72","427",null,null,null,"12 ปี  4 เดือน  8 วัน  ",1602]
[{"$f":"A1617+1","v":1613},null,"2006-08-04",49,null,null,null,null,"เครื่องสแกนเนอร์ 1 ค.",1,8100,"01.65.77",{"$f":"IF(BV1618=\"จำหน่าย\",0,SUM(J1618*K1618))","v":8100},{"$f":"IF(K1618<5000,0,M1618)","v":8100},3,"2009-08-04",1096,2700,225,7.3905109489051091,0,0,8099,0,8099,0,1,12,3,18,4493,"NO",null,null,null,null,null,null,null,null,null,null,null,null,null,null,null,33.333333333333336,null,null,null,null,null,null,null,null,null,null,null,null,null,null,null,null,null,null,null,null,null,null,"01","65","77",null,null,null,"12 ปี  3 เดือน  18 วัน  ",1613]
[{"$f":"A1632+1","v":1627},null,"2006-08-11",49,null,null,null,null,"เครื่องพิมพ์ 1 ค.",1,20972,"01.72.430",{"$f":"IF(BV1633=\"จำหน่าย\",0,SUM(J1633*K1633))","v":20972},{"$f":"IF(K1633<5000,0,M1633)","v":20972},3,"2009-08-11",1096,6990.666666666667,582.55555555555554,19.135036496350367,0,0,20971,0,20971,0,1,12,3,11,4486,"NO",null,null,null,null,null,null,null,null,null,null,null,null,null,null,null,33.333333333333336,null,null,null,null,null,null,null,null,null,null,null,null,null,null,null,null,null,null,null,null,null,null,"01","72","430",null,null,null,"12 ปี  3 เดือน  11 วัน  ",1627]
[{"$f":"A1637+1","v":1632},null,"2006-08-20",49,null,null,null,null,"เครื่องพิมพ์ 1 ค.",1,17013,"01.72.433",{"$f":"IF(BV1638=\"จำหน่าย\",0,SUM(J1638*K1638))","v":17013},{"$f":"IF(K1638<5000,0,M1638)","v":17013},3,"2009-08-20",1096,5671,472.58333333333331,15.522810218978103,0,0,17012,0,17012,0,1,12,3,2,4477,"NO",null,null,null,null,null,null,null,null,null,null,null,null,null,null,null,33.333333333333336,null,null,null,null,null,null,null,null,null,null,null,null,null,null,null,null,null,null,null,null,null,null,"01","72","433",null,null,null,"12 ปี  3 เดือน  2 วัน  ",1632]
[{"$f":"A1648+1","v":1643},null,"2006-08-25",49,null,null,null,null,"กล้องถ่ายวีดีโอระบบดิจิตอล 1 ตัว",1,39900,"06.17.74",{"$f":"IF(BV1649=\"จำหน่าย\",0,SUM(J1649*K1649))","v":0},{"$f":"IF(K1649<5000,0,M1649)","v":0},5,"2011-08-25",1826,0,0,0,0,0,0,0,0,0,0,12,2,28,4472,"No",null,null,null,null,null,null,null,null,null,null,null,null,null,null,null,20,null,null,null,null,null,null,null,null,null,null,null,null,null,null,null,null,null,null,null,null,null,null,"06","17","74","จำหน่าย","17/7/2561",null,"12 ปี  2 เดือน  28 วัน  ",1643]
[{"$f":"A1663+1","v":1658},null,"2006-09-02",49,null,null,null,null,"เครื่องคอมพิวเตอร์ 1 ค.",1,26215,"01.53.2312",{"$f":"IF(BV1664=\"จำหน่าย\",0,SUM(J1664*K1664))","v":26215},{"$f":"IF(K1664<5000,0,M1664)","v":26215},3,"2009-09-02",1096,8738.3333333333339,728.19444444444446,23.918795620437955,0,0,26214,0,26214,0,1,12,2,20,4464,"NO",null,null,null,null,null,null,null,null,null,null,null,null,null,null,null,33.333333333333336,null,null,null,null,null,null,null,null,null,null,null,null,null,null,null,null,null,null,null,null,null,null,"01","53","2312",null,null,null,"12 ปี  2 เดือน  20 วัน  ",1658]
[{"$f":"A1664+1","v":1659},null,"2006-09-03",49,null,null,null,null,"เครื่องขยายเสียง 1 ค.",1,15200,"05.06.876",{"$f":"IF(BV1665=\"จำหน่าย\",0,SUM(J1665*K1665))","v":15200},{"$f":"IF(K1665<5000,0,M1665)","v":15200},5,"2011-09-03",1826,3040,253.33333333333334,8.3242059145673597,0,0,15199,0,15199,0,1,12,2,19,4463,"NO",null,null,null,null,null,null,null,null,null,null,null,null,null,null,null,20,null,null,null,null,null,null,null,null,null,null,null,null,null,null,null,null,null,null,null,null,null,null,"05","06","876",null,null,null,"12 ปี  2 เดือน  19 วัน  ",1659]
[{"$f":"A1680+1","v":1675},null,"2006-09-10",49,null,null,null,null,"ตู้เก็บชุดรับรอง 1 ใบ",1,6900,"01.06.1804",{"$f":"IF(BV1681=\"จำหน่าย\",0,SUM(J1681*K1681))","v":6900},{"$f":"IF(K1681<5000,0,M1681)","v":6900},8,"2014-09-10",2922,862.5,71.875,2.3613963039014374,0,0,6899,0,6899,0,1,12,2,12,4456,"NO",null,null,null,null,null,null,null,null,null,null,null,null,null,null,null,12.5,null,null,null,null,null,null,null,null,null,null,null,null,null,null,null,null,null,null,null,null,null,null,"01","06","1804",null,null,null,"12 ปี  2 เดือน  12 วัน  ",1675]
[{"$f":"A1685+1","v":1680},null,"2006-09-18",49,null,null,null,null,"หม้อแปลงไฟฟ้าและอุปกรณ์ 1,250 KVA",1,788000,"05.02.24",{"$f":"IF(BV1686=\"จำหน่าย\",0,SUM(J1686*K1686))","v":788000},{"$f":"IF(K1686<5000,0,M1686)","v":788000},15,"2021-09-18",5479,52533.333333333336,4377.7777777777783,143.82186530388756,1,4377.7777777777783,639155.5555555555,143.82186530388756,639719.65687169193,4314.6559591166269,148280.34312830807,12,2,4,4448,"YES",null,null,null,null,null,null,null,null,null,null,null,null,null,null,null,6.666666666666667,null,null,null,null,null,null,null,null,null,null,null,null,null,null,null,null,null,null,null,null,null,null,"05","02","24",null,null,null,"12 ปี  2 เดือน  4 วัน  ",1680]
[{"$f":"A1696+1","v":1691},null,"2006-11-09",50,null,null,null,null,"เครื่องคอมพิวเตอร์ 3 ค.",3,24931,"01.53.2418-2420",{"$f":"IF(BV1697=\"จำหน่าย\",0,SUM(J1697*K1697))","v":74793},{"$f":"IF(K1697<5000,0,M1697)","v":74793},3,"2009-11-09",1096,24931,2077.5833333333335,68.241788321167888,0,0,74790,0,74790,0,3,12,0,13,4396,"NO",null,null,null,null,null,null,null,null,null,null,null,null,null,null,null,33.333333333333336,null,null,null,null,null,null,null,null,null,null,null,null,null,null,null,null,null,null,null,null,null,null,"01","53","2418-2420",null,null,null,"12 ปี  0 เดือน  13 วัน  ",1691]
[{"$f":"A1711+1","v":1706},null,"2006-11-19",50,null,null,null,null,"เครื่องคอมพิวเตอร์ 1 ค.",1,15943,"01.53.2401",{"$f":"IF(BV1712=\"จำหน่าย\",0,SUM(J1712*K1712))","v":15943},{"$f":"IF(K1712<5000,0,M1712)","v":15943},3,"2009-11-19",1096,5314.333333333333,442.86111111111109,14.546532846715328,0,0,15942,0,15942,0,1,12,0,3,4386,"NO",null,null,null,null,null,null,null,null,null,null,null,null,null,null,null,33.333333333333336,null,null,null,null,null,null,null,null,null,null,null,null,null,null,null,null,null,null,null,null,null,null,"01","53","2401",null,null,null,"12 ปี  0 เดือน  3 วัน  ",1706]
[{"$f":"A1716+1","v":1711},null,"2006-11-24",50,null,null,null,null,"เครื่องคอมพิวเตอร์แบบพกพา 1 ค.",1,40553,"01.53.2403",{"$f":"IF(BV1717=\"จำหน่าย\",0,SUM(J1717*K1717))","v":40553},{"$f":"IF(K1717<5000,0,M1717)","v":40553},3,"2009-11-24",1096,13517.666666666666,1126.4722222222222,37.000912408759127,0,0,40552,0,40552,0,1,11,11,29,4381,"NO",null,null,null,null,null,null,null,null,null,null,null,null,null,null,null,33.333333333333336,null,null,null,null,null,null,null,null,null,null,null,null,null,null,null,null,null,null,null,null,null,null,"01","53","2403",null,null,null,"11 ปี  11 เดือน  29 วัน  ",1711]
[{"$f":"A1727+1","v":1722},null,"2006-11-30",50,null,null,null,null,"บอร์ดนิทรรศการ 1 ชุด",1,5450,"01.14.359",{"$f":"IF(BV1728=\"จำหน่าย\",0,SUM(J1728*K1728))","v":5450},{"$f":"IF(K1728<5000,0,M1728)","v":5450},8,"2014-11-30",2922,681.25,56.770833333333336,1.8651608487337441,0,0,5449,0,5449,0,1,11,11,23,4375,"NO",null,null,null,null,null,null,null,null,null,null,null,null,null,null,null,12.5,null,null,null,null,null,null,null,null,null,null,null,null,null,null,null,null,null,null,null,null,null,null,"01","14","359",null,null,null,"11 ปี  11 เดือน  23 วัน  ",1722]
[{"$f":"A1742+1","v":1737},null,"2006-12-13",50,null,null,null,null,"เครื่องคอมพิวเตอร์แบบพกพา 1 ค.",1,44307,"01.53.2510",{"$f":"IF(BV1743=\"จำหน่าย\",0,SUM(J1743*K1743))","v":44307},{"$f":"IF(K1743<5000,0,M1743)","v":44307},3,"2009-12-13",1096,14769,1230.75,40.426094890510946,0,0,44306,0,44306,0,1,11,11,9,4362,"NO",null,null,null,null,null,null,null,null,null,null,null,null,null,null,null,33.333333333333336,null,null,null,null,null,null,null,null,null,null,null,null,null,null,null,null,null,null,null,null,null,null,"01","53","2510",null,null,null,"11 ปี  11 เดือน  9 วัน  ",1737]
[{"$f":"A1750+1","v":1745},null,"2006-12-25",50,null,null,null,null,"เครื่องปรับอากาศ 45,200 BTU 1 ค.",1,47000,"01.29.915",{"$f":"IF(BV1751=\"จำหน่าย\",0,SUM(J1751*K1751))","v":47000},{"$f":"IF(K1751<5000,0,M1751)","v":47000},8,"2014-12-25",2922,5875,489.58333333333331,16.084873374401095,0,0,46999,0,46999,0,1,11,10,28,4350,"NO",null,null,null,null,null,null,null,null,null,null,null,null,null,null,null,12.5,null,null,null,null,null,null,null,null,null,null,null,null,null,null,null,null,null,null,null,null,null,null,"01","29","915",null,null,null,"11 ปี  10 เดือน  28 วัน  ",1745]
[{"$f":"A1759+1","v":1754},null,"2007-01-06",50,null,null,null,null,"เครื่องพิมพ์ 1 ค.",1,18450,"01.72.448",{"$f":"IF(BV1760=\"จำหน่าย\",0,SUM(J1760*K1760))","v":18450},{"$f":"IF(K1760<5000,0,M1760)","v":18450},3,"2010-01-06",1096,6150,512.5,16.833941605839417,0,0,18449,0,18449,0,1,11,10,16,4338,"NO",null,null,null,null,null,null,null,null,null,null,null,null,null,null,null,33.333333333333336,null,null,null,null,null,null,null,null,null,null,null,null,null,null,null,null,null,null,null,null,null,null,"01","72","448",null,null,null,"11 ปี  10 เดือน  16 วัน  ",1754]
[{"$f":"A1774+1","v":1769},null,"2007-01-15",50,null,null,null,null,"เครื่องคอมพิวเตอร์แบบพกพา 1 ค.",1,36273,"01.53.2541",{"$f":"IF(BV1775=\"จำหน่าย\",0,SUM(J1775*K1775))","v":36273},{"$f":"IF(K1775<5000,0,M1775)","v":36273},3,"2010-01-15",1096,12091,1007.5833333333334,33.095802919708028,0,0,36272,0,36272,0,1,11,10,7,4329,"NO",null,null,null,null,null,null,null,null,null,null,null,null,null,null,null,33.333333333333336,null,null,null,null,null,null,null,null,null,null,null,null,null,null,null,null,null,null,null,null,null,null,"01","53","2541",null,null,null,"11 ปี  10 เดือน  7 วัน  ",1769]
[{"$f":"A1785+1","v":1780},null,"2007-01-23",50,null,null,null,null,"เครื่องคอมพิวเตอร์แบบพกพา 4 ค.",4,41500,"01.53.2526-2529",{"$f":"IF(BV1786=\"จำหน่าย\",0,SUM(J1786*K1786))","v":166000},{"$f":"IF(K1786<5000,0,M1786)","v":166000},3,"2010-01-23",1096,55333.333333333336,4611.1111111111113,151.45985401459853,0,0,165996,0,165996,0,4,11,9,30,4321,"NO",null,null,null,null,null,null,null,null,null,null,null,null,null,null,null,33.333333333333336,null,null,null,null,null,null,null,null,null,null,null,null,null,null,null,null,null,null,null,null,null,null,"01","53","2526-2529",null,null,null,"11 ปี  9 เดือน  30 วัน  ",1780]
[{"$f":"A1790+1","v":1785},null,"2007-01-23",50,null,null,null,null,"เครื่องคอมพิวเตอร์แบบพกพา 1 ค.",1,41500,"01.53.2535",{"$f":"IF(BV1791=\"จำหน่าย\",0,SUM(J1791*K1791))","v":41500},{"$f":"IF(K1791<5000,0,M1791)","v":41500},3,"2010-01-23",1096,13833.333333333334,1152.7777777777778,37.864963503649633,0,0,41499,0,41499,0,1,11,9,30,4321,"NO",null,null,null,null,null,null,null,null,null,null,null,null,null,null,null,33.333333333333336,null,null,null,null,null,null,null,null,null,null,null,null,null,null,null,null,null,null,null,null,null,null,"01","53","2535",null,null,null,"11 ปี  9 เดือน  30 วัน  ",1785]
[{"$f":"A1805+1","v":1800},null,"2007-01-23",50,null,null,null,null,"จอรับภาพ 120 นิ้ว 10 จอ",10,5000,"06.07.204-213",{"$f":"IF(BV1806=\"จำหน่าย\",0,SUM(J1806*K1806))","v":50000},{"$f":"IF(K1806<5000,0,M1806)","v":50000},5,"2012-01-23",1826,10000,833.33333333333337,27.38225629791895,0,0,49990,0,49990,0,10,11,9,30,4321,"NO",null,null,null,null,null,null,null,null,null,null,null,null,null,null,null,20,null,null,null,null,null,null,null,null,null,null,null,null,null,null,null,null,null,null,null,null,null,null,"06","07","204-213",null,null,null,"11 ปี  9 เดือน  30 วัน  ",1800]
[{"$f":"A1806+1","v":1801},null,"2007-01-23",50,null,null,null,null,"เครื่องมัลติมีเดียโปรเจคเตอร์ 4 ค.",4,41500,"06.19.78-81",{"$f":"IF(BV1807=\"จำหน่าย\",0,SUM(J1807*K1807))","v":166000},{"$f":"IF(K1807<5000,0,M1807)","v":166000},3,"2010-01-23",1096,55333.333333333336,4611.1111111111113,151.45985401459853,0,0,165996,0,165996,0,4,11,9,30,4321,"NO",null,null,null,null,null,null,null,null,null,null,null,null,null,null,null,33.333333333333336,null,null,null,null,null,null,null,null,null,null,null,null,null,null,null,null,null,null,null,null,null,null,"06","19","78-81",null,null,null,"11 ปี  9 เดือน  30 วัน  ",1801]
[{"$f":"A1820+1","v":1815},null,"2007-01-30",50,null,null,null,null,"เครื่องปรับอากาศ 19,308.17 BTU 2 ค.",2,26500,"01.29.920-921",{"$f":"IF(BV1821=\"จำหน่าย\",0,SUM(J1821*K1821))","v":53000},{"$f":"IF(K1821<5000,0,M1821)","v":53000},8,"2015-01-30",2922,6625,552.08333333333337,18.138261464750173,0,0,52998,0,52998,0,2,11,9,23,4314,"NO",null,null,null,null,null,null,null,null,null,null,null,null,null,null,null,12.5,null,null,null,null,null,null,null,null,null,null,null,null,null,null,null,null,null,null,null,null,null,null,"01","29","920-921",null,null,null,"11 ปี  9 เดือน  23 วัน  ",1815]
[{"$f":"A1833+1","v":1828},null,"2007-02-02",50,null,null,null,null,"เครื่องตัดสติ๊กเกอร์ 1 ค.",1,69550,"06.45.09",{"$f":"IF(BV1834=\"จำหน่าย\",0,SUM(J1834*K1834))","v":69550},{"$f":"IF(K1834<5000,0,M1834)","v":69550},5,"2012-02-02",1826,13910,1159.1666666666667,38.088718510405258,0,0,69549,0,69549,0,1,11,9,20,4311,"NO",null,null,null,null,null,null,null,null,null,null,null,null,null,null,null,20,null,null,null,null,null,null,null,null,null,null,null,null,null,null,null,null,null,null,null,null,null,null,"06","45","09",null,null,null,"11 ปี  9 เดือน  20 วัน  ",1828]
[{"$f":"A1838+1","v":1833},null,"2007-02-10",50,null,null,null,null,"เครื่องสีข้าว 1 ค.",1,59000,"03.31.03",{"$f":"IF(BV1839=\"จำหน่าย\",0,SUM(J1839*K1839))","v":59000},{"$f":"IF(K1839<5000,0,M1839)","v":59000},3,"2010-02-10",1096,19666.666666666668,1638.8888888888889,53.832116788321166,0,0,58999,0,58999,0,1,11,9,12,4303,"NO",null,null,null,null,null,null,null,null,null,null,null,null,null,null,null,33.333333333333336,null,null,null,null,null,null,null,null,null,null,null,null,null,null,null,null,null,null,null,null,null,null,"03","31","03",null,null,null,"11 ปี  9 เดือน  12 วัน  ",1833]
[{"$f":"A1853+1","v":1848},null,"2007-03-06",50,null,null,null,null,"ชุดไมโครโฟน 1 ชุด",1,16478,"05.12.384",{"$f":"IF(BV1854=\"จำหน่าย\",0,SUM(J1854*K1854))","v":16478},{"$f":"IF(K1854<5000,0,M1854)","v":16478},5,"2012-03-06",1827,3295.6,274.63333333333333,9.019157088122606,0,0,16477,0,16477,0,1,11,8,16,4279,"NO",null,null,null,null,null,null,null,null,null,null,null,null,null,null,null,20,null,null,null,null,null,null,null,null,null,null,null,null,null,null,null,null,null,null,null,null,null,null,"05","12","384",null,null,null,"11 ปี  8 เดือน  16 วัน  ",1848]
[{"$f":"A1864+1","v":1859},null,"2007-03-20",50,null,null,null,null,"เครื่องขยายเสียง 2 ชุด",2,7062,"05.13.466-467",{"$f":"IF(BV1865=\"จำหน่าย\",0,SUM(J1865*K1865))","v":14124},{"$f":"IF(K1865<5000,0,M1865)","v":14124},5,"2012-03-20",1827,2824.8,235.4,7.7307060755336616,0,0,14122,0,14122,0,2,11,8,2,4265,"NO",null,null,null,null,null,null,null,null,null,null,null,null,null,null,null,20,null,null,null,null,null,null,null,null,null,null,null,null,null,null,null,null,null,null,null,null,null,null,"05","13","466-467",null,null,null,"11 ปี  8 เดือน  2 วัน  ",1859]
[{"$f":"A1869+1","v":1864},null,"2007-03-29",50,null,null,null,null,"เครื่องคอมพิวเตอร์ 2 ค.",2,24503,"01.53.2557-2558",{"$f":"IF(BV1870=\"จำหน่าย\",0,SUM(J1870*K1870))","v":49006},{"$f":"IF(K1870<5000,0,M1870)","v":49006},3,"2010-03-29",1096,16335.333333333334,1361.2777777777778,44.713503649635037,0,0,49004,0,49004,0,2,11,7,24,4256,"NO",null,null,null,null,null,null,null,null,null,null,null,null,null,null,null,33.333333333333336,null,null,null,null,null,null,null,null,null,null,null,null,null,null,null,null,null,null,null,null,null,null,"01","53","2557-2558",null,null,null,"11 ปี  7 เดือน  24 วัน  ",1864]
[{"$f":"A1884+1","v":1879},null,"2007-04-19",50,null,null,null,null,"เครื่องคอมพิวเตอร์ 3 ค.",3,21250,"01.53.2583-2585",{"$f":"IF(BV1885=\"จำหน่าย\",0,SUM(J1885*K1885))","v":63750},{"$f":"IF(K1885<5000,0,M1885)","v":63750},3,"2010-04-19",1096,21250,1770.8333333333333,58.166058394160586,0,0,63747,0,63747,0,3,11,7,3,4235,"NO",null,null,null,null,null,null,null,null,null,null,null,null,null,null,null,33.333333333333336,null,null,null,null,null,null,null,null,null,null,null,null,null,null,null,null,null,null,null,null,null,null,"01","53","2583-2585",null,null,null,"11 ปี  7 เดือน  3 วัน  ",1879]
[{"$f":"A1895+1","v":1890},null,"2007-04-20",50,null,null,null,null,"เครื่องสำรองไฟฟ้า 1 ค.",1,16050,"05.46.422",{"$f":"IF(BV1896=\"จำหน่าย\",0,SUM(J1896*K1896))","v":16050},{"$f":"IF(K1896<5000,0,M1896)","v":16050},3,"2010-04-20",1096,5350,445.83333333333331,14.644160583941606,0,0,16049,0,16049,0,1,11,7,2,4234,"NO",null,null,null,null,null,null,null,null,null,null,null,null,null,null,null,33.333333333333336,null,null,null,null,null,null,null,null,null,null,null,null,null,null,null,null,null,null,null,null,null,null,"05","46","422",null,null,null,"11 ปี  7 เดือน  2 วัน  ",1890]
[{"$f":"A1906+1","v":1901},null,"2007-05-21",50,null,null,null,null,"เครื่องกัดซีเอ็นซี 1 ชุด",1,879000,"09.72.02",{"$f":"IF(BV1907=\"จำหน่าย\",0,SUM(J1907*K1907))","v":879000},{"$f":"IF(K1907<5000,0,M1907)","v":879000},5,"2012-05-21",1827,175800,14650,481.11658456486043,0,0,878999,0,878999,0,1,11,6,1,4203,"NO",null,null,null,null,null,null,null,null,null,null,null,null,null,null,null,20,null,null,null,null,null,null,null,null,null,null,null,null,null,null,null,null,null,null,null,null,null,null,"09","72","02",null,null,null,"11 ปี  6 เดือน  1 วัน  ",1901]
[{"$f":"A1912+1","v":1907},null,"2007-05-26",50,null,null,null,null,"เครื่องเสียง 1 ชุด",1,17990,"05.07.17",{"$f":"IF(BV1913=\"จำหน่าย\",0,SUM(J1913*K1913))","v":17990},{"$f":"IF(K1913<5000,0,M1913)","v":17990},5,"2012-05-26",1827,3598,299.83333333333331,9.8467432950191576,0,0,17989,0,17989,0,1,11,5,27,4198,"NO",null,null,null,null,null,null,null,null,null,null,null,null,null,null,null,20,null,null,null,null,null,null,null,null,null,null,null,null,null,null,null,null,null,null,null,null,null,null,"05","07","17",null,null,null,"11 ปี  5 เดือน  27 วัน  ",1907]
[{"$f":"A1927+1","v":1922},null,"2007-06-06",50,null,null,null,null,"ไมโครโฟน 2 ชุด",2,9500,"05.12.393-394",{"$f":"IF(BV1928=\"จำหน่าย\",0,SUM(J1928*K1928))","v":19000},{"$f":"IF(K1928<5000,0,M1928)","v":19000},5,"2012-06-06",1827,3800,316.66666666666669,10.399562123700054,0,{"$f":"SUM(R1928*U1928/12)","v":0},{"$f":"IF(N1928=0,0,IF((R1928*AB1928)+(R1928*AC1928/12)>=N1928,N1928-J1928,((R1928*AB1928)+(R1928*AC1928/12))))","v":18998},{"$f":"SUM(T1928*U1928)","v":0},{"$f":"IF(N1928=0,0,IF((DATEDIF(C1928,TODAY(),\"d\")+1)*T1928>=N1928,N1928-J1928,(DATEDIF(C1928,TODAY(),\"d\")+1)*T1928))","v":18998},{"$f":"IF(U1928=0,0,IF(OR(DAY(C1928)=1,MONTH(C1928)<>MONTH(TODAY()),YEAR(C1928)<>YEAR(TODAY())),T1928*((DAY(DATE(YEAR(TODAY()),MONTH(TODAY())+1,1)-1))),T1928*((DAY(DATE(YEAR(TODAY()),MONTH(TODAY())+1,1)-1)-DAY(C1928)+1))))","v":0},{"$f":"IF(N1928=0,0,IF(X1928>=N1928,(J1928),(N1928-Y1928)))","v":2},11,5,16,4187,"NO",null,null,null,null,null,null,null,null,null,null,null,null,null,null,null,20,null,null,null,null,null,null,null,null,null,null,null,null,null,null,null,null,null,null,null,null,null,null,"05","12","393-394",null,null,null,"11 ปี  5 เดือน  16 วัน  ",1922]
[{"$f":"A1932+1","v":1927},null,"2007-06-08",50,null,null,null,null,"เครื่องคอมพิวเตอร์ 1 ค.",1,26000,"01.53.2658",{"$f":"IF(BV1933=\"จำหน่าย\",0,SUM(J1933*K1933))","v":26000},{"$f":"IF(K1933<5000,0,M1933)","v":26000},3,"2010-06-08",1096,8666.6666666666661,722.22222222222217,23.722627737226276,0,0,25999,0,25999,0,1,11,5,14,4185,"NO",null,null,null,null,null,null,null,null,null,null,null,null,null,null,null,33.333333333333336,null,null,null,null,null,null,null,null,null,null,null,null,null,null,null,null,null,null,null,null,null,null,1,53,2658,null,null,null,"11 ปี  5 เดือน  14 วัน  ",1927]
[{"$f":"A1943+1","v":1936},null,"2007-06-08",50,null,null,null,null,"เครื่องคอมพิวเตอร์ 1 ค.",1,26375.5,"01.53.2899",{"$f":"IF(BV1944=\"จำหน่าย\",0,SUM(J1944*K1944))","v":0},{"$f":"IF(K1944<5000,0,M1944)","v":0},3,{"$f":"DATE(YEAR(C1944)+O1944,MONTH(C1944),DAY(C1944))","v":"2010-06-08"},{"$f":"IF(NOT(OR(ISBLANK(P1944),ISBLANK(C1944))),P1944-C1944,\"\")","v":1096},{"$f":"SLN(N1944,,O1944)","v":0},{"$f":"SLN(R1944,,12)","v":0},{"$f":"SLN(N1944,,Q1944)","v":0},{"$f":"IF(N1944=0,0,IF(AE1944<=Q1944,1,0))","v":0},{"$f":"SUM(R1944*U1944/12)","v":0},{"$f":"IF(N1944=0,0,IF((R1944*AB1944)+(R1944*AC1944/12)>=N1944,N1944-J1944,((R1944*AB1944)+(R1944*AC1944/12))))","v":0},{"$f":"SUM(T1944*U1944)","v":0},{"$f":"IF(N1944=0,0,IF((DATEDIF(C1944,TODAY(),\"d\")+1)*T1944>=N1944,N1944-J1944,(DATEDIF(C1944,TODAY(),\"d\")+1)*T1944))","v":0},{"$f":"IF(U1944=0,0,IF(OR(DAY(C1944)=1,MONTH(C1944)<>MONTH(TODAY()),YEAR(C1944)<>YEAR(TODAY())),T1944*((DAY(DATE(YEAR(TODAY()),MONTH(TODAY())+1,1)-1))),T1944*((DAY(DATE(YEAR(TODAY()),MONTH(TODAY())+1,1)-1)-DAY(C1944)+1))))","v":0},{"$f":"IF(N1944=0,0,IF(X1944>=N1944,(J1944),(N1944-Y1944)))","v":0},{"$f":"DATEDIF(C1944,TODAY(),\"Y\")","v":11},{"$f":"DATEDIF(C1944,TODAY(),\"YM\")","v":5},{"$f":"DATEDIF(C1944,TODAY(),\"md\")+1","v":14},{"$f":"DATEDIF(C1944,TODAY(),\"d\")+1","v":4185},{"$f":"IF(N1944=0,\"No\",IF(AE1944>Q1944,\"NO\",\"YES\"))","v":"No"},null,null,null,null,null,null,null,null,null,null,null,null,null,null,null,{"$f":"100/O1944","v":33.333333333333336},null,null,null,null,null,null,null,null,null,null,null,null,null,null,null,null,null,null,null,null,null,null,"01","53",2899,"จำหน่าย","17/7/2561",null,{"$f":"CONCATENATE(AB1944,\" ปี  \",AC1944,\" เดือน  \",AD1944,\" วัน  \")","v":"11 ปี  5 เดือน  14 วัน  "},{"$f":"A1944","v":1936}]
[{"$f":"A1948+1","v":1939},null,"2007-06-08",50,null,null,null,null,"เครื่องคอมพิวเตอร์ 1 ค.",1,26375.5,"01.53.2904",{"$f":"IF(BV1949=\"จำหน่าย\",0,SUM(J1949*K1949))","v":0},{"$f":"IF(K1949<5000,0,M1949)","v":0},3,"2010-06-08",1096,0,0,0,0,0,0,0,0,0,0,11,5,14,4185,"No",null,null,null,null,null,null,null,null,null,null,null,null,null,null,null,33.333333333333336,null,null,null,null,null,null,null,null,null,null,null,null,null,null,null,null,null,null,null,null,null,null,"01","53",2904,"จำหน่าย","17/7/2561",null,"11 ปี  5 เดือน  14 วัน  ",1939]
[{"$f":"A1959+1","v":2925},null,"2007-06-15",50,null,null,null,null,"เครื่องไสสองหน้า 1 ค.",1,695500,"04.36.13",{"$f":"IF(BV1960=\"จำหน่าย\",0,SUM(J1960*K1960))","v":695500},{"$f":"IF(K1960<5000,0,M1960)","v":695500},5,"2012-06-15",1827,139100,11591.666666666666,380.67870826491514,0,0,695499,0,695499,0,1,11,5,7,4178,"NO",null,null,null,null,null,null,null,null,null,null,null,null,null,null,null,20,null,null,null,null,null,null,null,null,null,null,null,null,null,null,null,null,null,null,null,null,null,null,"04","36","13",null,null,null,"11 ปี  5 เดือน  7 วัน  ",2925]
[{"$f":"A1974+1","v":2940},null,"2007-06-25",50,null,null,null,null,"ตู้เย็น 8.3 คิว 1 ค.",1,9200,"01.09.156",{"$f":"IF(BV1975=\"จำหน่าย\",0,SUM(J1975*K1975))","v":9200},{"$f":"IF(K1975<5000,0,M1975)","v":9200},8,"2015-06-25",2922,1150,95.833333333333329,3.1485284052019167,0,0,9199,0,9199,0,1,11,4,28,4168,"NO",null,null,null,null,null,null,null,null,null,null,null,null,null,null,null,12.5,null,null,null,null,null,null,null,null,null,null,null,null,null,null,null,null,null,null,null,null,null,null,"01","09","156",null,null,null,"11 ปี  4 เดือน  28 วัน  ",2940]
[{"$f":"A1981+1","v":2947},null,"2007-06-27",50,null,null,null,null,"เครื่องคอมพิวเตอร์ 1 ค.",1,29853,"01.53.2999",{"$f":"IF(BV1982=\"จำหน่าย\",0,SUM(J1982*K1982))","v":29853},{"$f":"IF(K1982<5000,0,M1982)","v":29853},3,"2010-06-27",1096,9951,829.25,27.238138686131386,0,0,29852,0,29852,0,1,11,4,26,4166,"NO",null,null,null,null,null,null,null,null,null,null,null,null,null,null,null,33.333333333333336,null,null,null,null,null,null,null,null,null,null,null,null,null,null,null,null,null,null,null,null,null,null,"01","53","2999",null,null,null,"11 ปี  4 เดือน  26 วัน  ",2947]
[{"$f":"A1991+1","v":2957},null,"2007-07-04",50,null,null,null,null,"เครื่องพิมพ์สำเนาระบบดิจิตอล 1 ค.",1,195000,"01.46.46",{"$f":"IF(BV1992=\"จำหน่าย\",0,SUM(J1992*K1992))","v":195000},{"$f":"IF(K1992<5000,0,M1992)","v":195000},8,"2015-07-04",2922,24375,2031.25,66.735112936344976,0,0,194999,0,194999,0,1,11,4,18,4159,"NO",null,null,null,null,null,null,null,null,null,null,null,null,null,null,null,12.5,null,null,null,null,null,null,null,null,null,null,null,null,null,null,null,null,null,null,null,null,null,null,"01","46","46",null,null,null,"11 ปี  4 เดือน  18 วัน  ",2957]
[{"$f":"A2006+1","v":2972},null,"2007-07-17",50,null,null,null,null,"เครื่องคอมพิวเตอร์ 1 ค.",1,37450,"01.53.3001",{"$f":"IF(BV2007=\"จำหน่าย\",0,SUM(J2007*K2007))","v":37450},{"$f":"IF(K2007<5000,0,M2007)","v":37450},3,"2010-07-17",1096,12483.333333333334,1040.2777777777778,34.169708029197082,0,0,37449,0,37449,0,1,11,4,5,4146,"NO",null,null,null,null,null,null,null,null,null,null,null,null,null,null,null,33.333333333333336,null,null,null,null,null,null,null,null,null,null,null,null,null,null,null,null,null,null,null,null,null,null,"01","53","3001",null,null,null,"11 ปี  4 เดือน  5 วัน  ",2972]
[{"$f":"A2011+1","v":2977},null,"2007-07-19",50,null,null,null,null,"เครื่องมัลติมีเดียโปรเจคเตอร์ 1 ค.",1,40660,"06.19.107",{"$f":"IF(BV2012=\"จำหน่าย\",0,SUM(J2012*K2012))","v":0},{"$f":"IF(K2012<5000,0,M2012)","v":0},3,"2010-07-19",1096,0,0,0,0,0,0,0,0,0,0,11,4,3,4144,"No",null,null,null,null,null,null,null,null,null,null,null,null,null,null,null,33.333333333333336,null,null,null,null,null,null,null,null,null,null,null,null,null,null,null,null,null,null,null,null,null,null,"06","19","107","จำหน่าย","17/7/2561",null,"11 ปี  4 เดือน  3 วัน  ",2977]
[{"$f":"A2022+1","v":2988},null,"2007-07-25",50,null,null,null,null,"เครื่องมัลติมีเดียโปรเจคเตอร์ 1 ค.",1,46010,"06.19.108",{"$f":"IF(BV2023=\"จำหน่าย\",0,SUM(J2023*K2023))","v":46010},{"$f":"IF(K2023<5000,0,M2023)","v":46010},3,"2010-07-25",1096,15336.666666666666,1278.0555555555554,41.979927007299267,0,0,46009,0,46009,0,1,11,3,28,4138,"NO",null,null,null,null,null,null,null,null,null,null,null,null,null,null,null,33.333333333333336,null,null,null,null,null,null,null,null,null,null,null,null,null,null,null,null,null,null,null,null,null,null,"06","19","108",null,null,null,"11 ปี  3 เดือน  28 วัน  ",2988]
[{"$f":"A2037+1","v":3003},null,"2007-08-08",50,null,null,null,null,"เครื่องคอมพิวเตอร์แม่ข่าย 1 ค.",1,23425,"01.53.3017",{"$f":"IF(BV2038=\"จำหน่าย\",0,SUM(J2038*K2038))","v":23425},{"$f":"IF(K2038<5000,0,M2038)","v":23425},3,"2010-08-08",1096,7808.333333333333,650.69444444444446,21.373175182481752,0,0,23424,0,23424,0,1,11,3,14,4124,"NO",null,null," ",null," ",null,null,null,null,null,null,null,null,null,null,33.333333333333336,null,null,null,null,null,null,null,null,null,null,null,null,null,null,null,null,null,null,null,null,null,null,"01","53","3017",null,null,null,"11 ปี  3 เดือน  14 วัน  ",3003]
[{"$f":"A2048+1","v":3014},null,"2007-08-09",50,null,null,null,null,"ระบบ Analyzer, NH4, NO3, NO2, TOC and BOD 1 ระบบ",1,288900,"07.95.03",{"$f":"IF(BV2049=\"จำหน่าย\",0,SUM(J2049*K2049))","v":288900},{"$f":"IF(K2049<5000,0,M2049)","v":288900},5,"2012-08-09",1827,57780,4815,158.12807881773398,0,0,288899,0,288899,0,1,11,3,13,4123,"NO",null,null,null,null,null,null,null,null,null,null,null,null,null,null,null,20,null,null,null,null,null,null,null,null,null,null,null,null,null,null,null,null,null,null,null,null,null,null,"07","95","03",null,null,null,"11 ปี  3 เดือน  13 วัน  ",3014]
[{"$f":"A2051+1","v":3017},null,"2007-08-10",50,null,null,null,null,"เครื่องมัลติมีเดียโปรเจคเตอร์ 1 ค.",1,43900,"06.19.111",{"$f":"IF(BV2052=\"จำหน่าย\",0,SUM(J2052*K2052))","v":43900},{"$f":"IF(K2052<5000,0,M2052)","v":43900},3,"2010-08-10",1096,14633.333333333334,1219.4444444444446,40.054744525547449,0,0,43899,0,43899,0,1,11,3,12,4122,"NO",null,null,null,null,null,null,null,null,null,null,null,null,null,null,null,33.333333333333336,null,null,null,null,null,null,null,null,null,null,null,null,null,null,null,null,null,null,null,null,null,null,"06","19","111",null,null,null,"11 ปี  3 เดือน  12 วัน  ",3017]
[{"$f":"A2069+1","v":3035},null,"2007-08-24",50,null,null,null,null,"กล้องถ่ายวีดีโอ 1 ตัว",1,44480,"06.17.84",{"$f":"IF(BV2070=\"จำหน่าย\",0,SUM(J2070*K2070))","v":44480},{"$f":"IF(K2070<5000,0,M2070)","v":44480},5,"2012-08-24",1827,8896,741.33333333333337,24.34592227695676,0,0,44479,0,44479,0,1,11,2,29,4108,"NO",null,null,null,null,null,null,null,null,null,null,null,null,null,null,null,20,null,null,null,null,null,null,null,null,null,null,null,null,null,null,null,null,null,null,null,null,null,null,"06","17","84",null,null,null,"11 ปี  2 เดือน  29 วัน  ",3035]
[{"$f":"A2070+1","v":3036},null,"2007-08-25",50,null,null,null,null,"มู่ลี่ปรับแสง 1 ชุด",1,6240.24,"01.19.380",{"$f":"IF(BV2071=\"จำหน่าย\",0,SUM(J2071*K2071))","v":6240.24},{"$f":"IF(K2071<5000,0,M2071)","v":6240.24},8,"2015-08-25",2922,780.03,65.002499999999998,2.1356057494866527,0,0,6239.24,0,6239.24,0,1,11,2,28,4107,"NO",null,null,null,null,null,null,null,null,null,null,null,null,null,null,null,12.5,null,null,null,null,null,null,null,null,null,null,null,null,null,null,null,null,null,null,null,null,null,null,"01","19","380",null,null,null,"11 ปี  2 เดือน  28 วัน  ",3036]
[{"$f":"A2085+1","v":3051},null,"2007-08-29",50,null,null,null,null,"กล้องถ่ายภาพดิจิตอล 1 ตัว",1,14990,"06.01.157",{"$f":"IF(BV2086=\"จำหน่าย\",0,SUM(J2086*K2086))","v":14990},{"$f":"IF(K2086<5000,0,M2086)","v":14990},5,"2012-08-29",1827,2998,249.83333333333334,8.2047071702244114,0,0,14989,0,14989,0,1,11,2,24,4103,"NO",null,null,null,null,null,null,null,null,null,null,null,null,null,null,null,20,null,null,null,null,null,null,null,null,null,null,null,null,null,null,null,null,null,null,null,null,null,null,"06","01","157",null,null,null,"11 ปี  2 เดือน  24 วัน  ",3051]
[{"$f":"A2090+1","v":3056},null,"2007-08-31",50,null,null,null,null,"ชุดกล้องวงจรปิด 1 ชุด",1,97972.41,"06.17.92",{"$f":"IF(BV2091=\"จำหน่าย\",0,SUM(J2091*K2091))","v":97972.41},{"$f":"IF(K2091<5000,0,M2091)","v":97972.41},5,"2012-08-31",1827,19594.482,1632.8734999999999,53.624745484400655,0,0,97971.41,0,97971.41,0,1,11,2,22,4101,"NO",null,null,null,null,null,null,null,null,null,null,null,null,null,null,null,20,null,null,null,null,null,null,null,null,null,null,null,null,null,null,null,null,null,null,null,null,null,null,"06","17","92",null,null,null,"11 ปี  2 เดือน  22 วัน  ",3056]
[{"$f":"A2101+1","v":3067},null,"2007-09-03",50,null,null,null,null,"จานบันทึกข้อมูล (Harddisk) สำหรับ Server 1 อัน",1,16050,"01.78.27",{"$f":"IF(BV2102=\"จำหน่าย\",0,SUM(J2102*K2102))","v":16050},{"$f":"IF(K2102<5000,0,M2102)","v":16050},3,"2010-09-03",1096,5350,445.83333333333331,14.644160583941606,0,0,16049,0,16049,0,1,11,2,19,4098,"NO",null,null,null,null,null,null,null,null,null,null,null,null,null,null,null,33.333333333333336,null,null,null,null,null,null,null,null,null,null,null,null,null,null,null,null,null,null,null,null,null,null,"01","78","27",null,null,null,"11 ปี  2 เดือน  19 วัน  ",3067]
[{"$f":"A2116+1","v":3082},null,"2007-09-06",50,null,null,null,null,"ตู้เหล็กชนิดรางเลื่อน 6 ใบ",6,15166.666666666666,"01.06.1879-1884",{"$f":"IF(BV2117=\"จำหน่าย\",0,SUM(J2117*K2117))","v":91000},{"$f":"IF(K2117<5000,0,M2117)","v":91000},8,"2015-09-06",2922,11375,947.91666666666663,31.143052703627653,0,0,90994,0,90994,0,6,11,2,16,4095,"NO",null,null,null,null,null,null,null,null,null,null,null,null,null,null,null,12.5,null,null,null,null,null,null,null,null,null,null,null,null,null,null,null,null,null,null,null,null,null,null,"01","06","1879-1884",null,null,null,"11 ปี  2 เดือน  16 วัน  ",3082]
[{"$f":"A2127+1","v":3093},null,"2007-09-07",50,null,null,null,null,"ผ้าม่านหน้าต่าง 1 ชุด",1,35000,"01.19.399",{"$f":"IF(BV2128=\"จำหน่าย\",0,SUM(J2128*K2128))","v":35000},{"$f":"IF(K2128<5000,0,M2128)","v":35000},8,"2015-09-07",2922,4375,364.58333333333331,11.978097193702943,0,0,34999,0,34999,0,1,11,2,15,4094,"NO",null,null,null,null,null,null,null,null,null,null,null,null,null,null,null,12.5,null,null,null,null,null,null,null,null,null,null,null,null,null,null,null,null,null,null,null,null,null,null,"01","19","399",null,null,null,"11 ปี  2 เดือน  15 วัน  ",3093]
[{"$f":"A2137+1","v":3103},null,"2007-09-10",50,null,null,null,null,"ตู้ใส่กระเป๋า 30 ช่อง 1 ใบ",1,13000,"01.06.1897",{"$f":"IF(BV2138=\"จำหน่าย\",0,SUM(J2138*K2138))","v":13000},{"$f":"IF(K2138<5000,0,M2138)","v":13000},8,"2015-09-10",2922,1625,135.41666666666666,4.4490075290896645,0,0,12999,0,12999,0,1,11,2,12,4091,"NO",null,null,null,null,null,null,null,null,null,null,null,null,null,null,null,12.5,null,null,null,null,null,null,null,null,null,null,null,null,null,null,null,null,null,null,null,null,null,null,"01","06","1897",null,null,null,"11 ปี  2 เดือน  12 วัน  ",3103]
[{"$f":"A2148+1","v":3114},null,"2007-09-13",50,null,null,null,null,"เครื่องออกกำลังกายข้อเข่า 1 ค.",1,7100,"10.15.34",{"$f":"IF(BV2149=\"จำหน่าย\",0,SUM(J2149*K2149))","v":7100},{"$f":"IF(K2149<5000,0,M2149)","v":7100},5,"2012-09-13",1827,1420,118.33333333333333,3.886152162014231,0,0,7099,0,7099,0,1,11,2,9,4088,"NO",null,null,null,null,null,null,null,null,null,null,null,null,null,null,null,20,null,null,null,null,null,null,null,null,null,null,null,null,null,null,null,null,null,null,null,null,null,null,"10","15","34",null,null,null,"11 ปี  2 เดือน  9 วัน  ",3114]
[{"$f":"A2159+1","v":3125},null,"2007-09-28",50,null,null,null,null,"เครื่องคอมพิวเตอร์ 5 ค.",5,30495,"01.53.3075-3079",{"$f":"IF(BV2160=\"จำหน่าย\",0,SUM(J2160*K2160))","v":152475},{"$f":"IF(K2160<5000,0,M2160)","v":152475},3,"2010-09-28",1096,50825,4235.416666666667,139.11952554744525,0,0,152470,0,152470,0,5,11,1,25,4073,"NO",null,null,null,null,null,null,null,null,null,null,null,null,null,null,null,33.333333333333336,null,null,null,null,null,null,null,null,null,null,null,null,null,null,null,null,null,null,null,null,null,null,"01","53","3075-3079",null,null,null,"11 ปี  1 เดือน  25 วัน  ",3125]
[{"$f":"A2164+1","v":3130},null,"2007-10-12",51,null,null,null,null,"เครื่องคอมพิวเตอร์ 1 ค.",1,20000,"01.53.3115",{"$f":"IF(BV2165=\"จำหน่าย\",0,SUM(J2165*K2165))","v":20000},{"$f":"IF(K2165<5000,0,M2165)","v":20000},3,"2010-10-12",1096,6666.666666666667,555.55555555555554,18.248175182481752,0,0,19999,0,19999,0,1,11,1,10,4059,"NO",null,null,null,null,null,null,null,null,null,null,null,null,null,null,null,33.333333333333336,null,null,null,null,null,null,null,null,null,null,null,null,null,null,null,null,null,null,null,null,null,null,"01","53","3115",null,null,null,"11 ปี  1 เดือน  10 วัน  ",3130]
[{"$f":"A2175+1","v":3141},null,"2007-11-07",51,null,null,null,null,"เครื่องปรับอากาศ 25,733.30 BTU 15 ค.",15,31500,"01.29.1059-1073",{"$f":"IF(BV2176=\"จำหน่าย\",0,SUM(J2176*K2176))","v":472500},{"$f":"IF(K2176<5000,0,M2176)","v":472500},8,"2015-11-07",2922,59062.5,4921.875,161.70431211498973,0,0,472485,0,472485,0,15,11,0,15,4033,"NO",null,null,null,null,null,null,null,null,null,null,null,null,null,null,null,12.5,null,null,null,null,null,null,null,null,null,null,null,null,null,null,null,null,null,null,null,null,null,null,"01","29","1059-1073",null,null,null,"11 ปี  0 เดือน  15 วัน  ",3141]
[{"$f":"A2190+1","v":3156},null,"2007-12-04",51,null,null,null,null,"เครื่องพิมพ์ 1 ค.",1,25700,"01.72.508",{"$f":"IF(BV2191=\"จำหน่าย\",0,SUM(J2191*K2191))","v":25700},{"$f":"IF(K2191<5000,0,M2191)","v":25700},3,"2010-12-04",1096,8566.6666666666661,713.8888888888888,23.448905109489051,0,0,25699,0,25699,0,1,10,11,18,4006,"NO",null,null,null,null,null,null,null,null,null,null,null,null,null,null,null,33.333333333333336,null,null,null,null,null,null,null,null,null,null,null,null,null,null,null,null,null,null,null,null,null,null,"01","72","508",null,null,null,"10 ปี  11 เดือน  18 วัน  ",3156]
[{"$f":"A2195+1","v":3161},null,"2007-12-07",51,null,null,null,null,"ระบบกล้องวงจรปิด 1 ชุด",1,53532.1,"06.17.93",{"$f":"IF(BV2196=\"จำหน่าย\",0,SUM(J2196*K2196))","v":53532.1},{"$f":"IF(K2196<5000,0,M2196)","v":53532.1},5,"2012-12-07",1827,10706.42,892.20166666666671,29.30054734537493,0,0,53531.1,0,53531.1,0,1,10,11,15,4003,"NO",null,null,null,null,null,null,null,null,null,null,null,null,null,null,null,20,null,null,null,null,null,null,null,null,null,null,null,null,null,null,null,null,null,null,null,null,null,null,"06","17","93",null,null,null,"10 ปี  11 เดือน  15 วัน  ",3161]
[{"$f":"A2206+1","v":3172},null,"2007-12-25",51,null,null,null,null,"เครื่องมัลติมีเดียโปรเจคเตอร์ 1 ค.",1,49755,"06.19.150",{"$f":"IF(BV2207=\"จำหน่าย\",0,SUM(J2207*K2207))","v":49755},{"$f":"IF(K2207<5000,0,M2207)","v":49755},3,"2010-12-25",1096,16585,1382.0833333333333,45.396897810218981,0,0,49754,0,49754,0,1,10,10,28,3985,"NO",null,null,null,null,null,null,null,null,null,null,null,null,null,null,null,33.333333333333336,null,null,null,null,null,null,null,null,null,null,null,null,null,null,null,null,null,null,null,null,null,null,"06","19","150",null,null,null,"10 ปี  10 เดือน  28 วัน  ",3172]
[{"$f":"A2212+1","v":3178},null,"2008-01-09",51,null,null,null,null,"เครื่องตอกบัตร 1 ค.",1,18618,"01.58.424",{"$f":"IF(BV2213=\"จำหน่าย\",0,SUM(J2213*K2213))","v":18618},{"$f":"IF(K2213<5000,0,M2213)","v":18618},8,"2016-01-09",2922,2327.25,193.9375,6.3716632443531829,0,0,18617,0,18617,0,1,10,10,13,3970,"NO",null,null,null,null,null,null,null,null,null,null,null,null,null,null,null,12.5,null,null,null,null,null,null,null,null,null,null,null,null,null,null,null,null,null,null,null,null,null,null,"01","58","424",null,null,null,"10 ปี  10 เดือน  13 วัน  ",3178]
[{"$f":"A2227+1","v":3193},null,"2008-02-06",51,null,null,null,null,"เครื่องคอมพิวเตอร์ 12 ค.",12,22470,"01.53.3226-3237",{"$f":"IF(BV2228=\"จำหน่าย\",0,SUM(J2228*K2228))","v":269640},{"$f":"IF(K2228<5000,0,M2228)","v":269640},3,"2011-02-06",1096,89880,7490,246.02189781021897,0,0,269628,0,269628,0,12,10,9,16,3942,"NO",null,null,null,null,null,null,null,null,null,null,null,null,null,null,null,33.333333333333336,null,null,null,null,null,null,null,null,null,null,null,null,null,null,null,null,null,null,null,null,null,null,"01","53","3226-3237",null,null,null,"10 ปี  9 เดือน  16 วัน  ",3193]
[{"$f":"A2238+1","v":3204},null,"2008-02-07",51,null,null,null,null,"กล้องถ่ายภาพดิจิตอล 1 ตัว",1,13990,"06.01.166",{"$f":"IF(BV2239=\"จำหน่าย\",0,SUM(J2239*K2239))","v":13990},{"$f":"IF(K2239<5000,0,M2239)","v":13990},5,"2013-02-07",1827,2798,233.16666666666666,7.6573617952928297,0,0,13989,0,13989,0,1,10,9,15,3941,"NO",null,null,null,null,null,null,null,null,null,null,null,null,null,null,null,20,null,null,null,null,null,null,null,null,null,null,null,null,null,null,null,null,null,null,null,null,null,null,"06","01","166",null,null,null,"10 ปี  9 เดือน  15 วัน  ",3204]
[{"$f":"A2243+1","v":3209},null,"2008-02-08",51,null,null,null,null,"ไฟแฟลช 1 ชุด",1,9500,"06.02.42",{"$f":"IF(BV2244=\"จำหน่าย\",0,SUM(J2244*K2244))","v":9500},{"$f":"IF(K2244<5000,0,M2244)","v":9500},5,"2013-02-08",1827,1900,158.33333333333334,5.1997810618500271,0,0,9499,0,9499,0,1,10,9,14,3940,"NO",null,null,null,null,null,null,null,null,null,null,null,null,null,null,null,20,null,null,null,null,null,null,null,null,null,null,null,null,null,null,null,null,null,null,null,null,null,null,"06","02","42",null,null,null,"10 ปี  9 เดือน  14 วัน  ",3209]
[{"$f":"A2254+1","v":3220},null,"2008-02-26",51,null,null,null,null,"ตู้เก็บอุปกรณ์ 2 ใบ",2,26750,"01.06.1932-1933",{"$f":"IF(BV2255=\"จำหน่าย\",0,SUM(J2255*K2255))","v":53500},{"$f":"IF(K2255<5000,0,M2255)","v":53500},8,"2016-02-26",2922,6687.5,557.29166666666663,18.309377138945926,0,0,53498,0,53498,0,2,10,8,27,3922,"NO",null,null,null,null,null,null,null,null,null,null,null,null,null,null,null,12.5,null,null,null,null,null,null,null,null,null,null,null,null,null,null,null,null,null,null,null,null,null,null,"01","06","1932-1933",null,null,null,"10 ปี  8 เดือน  27 วัน  ",3220]
[{"$f":"A2269+1","v":3235},null,"2008-02-26",51,null,null,null,null,"โทรทัศน์สี 42\" 3 ค.",3,53393,"05.10.523-525",{"$f":"IF(BV2270=\"จำหน่าย\",0,SUM(J2270*K2270))","v":160179},{"$f":"IF(K2270<5000,0,M2270)","v":160179},5,"2013-02-26",1827,32035.8,2669.65,87.673234811165841,0,0,160176,0,160176,0,3,10,8,27,3922,"NO",null,null,null,null,null,null,null,null,null,null,null,null,null,null,null,20,null,null,null,null,null,null,null,null,null,null,null,null,null,null,null,null,null,null,null,null,null,null,"05","10","523-525",null,null,null,"10 ปี  8 เดือน  27 วัน  ",3235]
[{"$f":"A2274+1","v":3240},null,"2008-02-26",51,null,null,null,null,"เครื่องหรี่ไฟ ขนาด 6 ช่อง 1 ค.",1,64735,"05.21.11",{"$f":"IF(BV2275=\"จำหน่าย\",0,SUM(J2275*K2275))","v":64735},{"$f":"IF(K2275<5000,0,M2275)","v":64735},5,"2013-02-26",1827,12947,1078.9166666666667,35.432402846195949,0,0,64734,0,64734,0,1,10,8,27,3922,"NO",null,null,null,null,null,null,null,null,null,null,null,null,null,null,null,20,null,null,null,null,null,null,null,null,null,null,null,null,null,null,null,null,null,null,null,null,null,null,"05","21","11",null,null,null,"10 ปี  8 เดือน  27 วัน  ",3240]
[{"$f":"A2282+1","v":3248},null,"2008-03-04",51,null,null,null,null,"เครื่องมัลติมีเดียโปรเจคเตอร์ 1 ค.",1,31900,"06.19.151",{"$f":"IF(BV2283=\"จำหน่าย\",0,SUM(J2283*K2283))","v":31900},{"$f":"IF(K2283<5000,0,M2283)","v":31900},3,"2011-03-04",1095,10633.333333333334,886.1111111111112,29.1324200913242,0,0,31899,0,31899,0,1,10,8,18,3915,"NO",null,null,null,null,null,null,null,null,null,null,null,null,null,null,null,33.333333333333336,null,null,null,null,null,null,null,null,null,null,null,null,null,null,null,null,null,null,null,null,null,null,"06","19","151",null,null,null,"10 ปี  8 เดือน  18 วัน  ",3248]
[{"$f":"A2301+1","v":3267},null,"2008-04-23",51,null,null,null,null,"เครื่องดูดฝุ่น 1 ค.",1,10000,"01.59.40",{"$f":"IF(BV2302=\"จำหน่าย\",0,SUM(J2302*K2302))","v":10000},{"$f":"IF(K2302<5000,0,M2302)","v":10000},8,"2016-04-23",2922,1250,104.16666666666667,3.4223134839151266,0,0,9999,0,9999,0,1,10,6,30,3865,"NO",null,null,null,null,null,null,null,null,null,null,null,null,null,null,null,12.5,null,null,null,null,null,null,null,null,null,null,null,null,null,null,null,null,null,null,null,null,null,null,"01","59","40",null,null,null,"10 ปี  6 เดือน  30 วัน  ",3267]
[{"$f":"A2306+1","v":3272},null,"2008-04-25",51,null,null,null,null,"รถตัดหญ้าแบบนั่งขับ 1 คัน",1,95000,"08.03.80",{"$f":"IF(BV2307=\"จำหน่าย\",0,SUM(J2307*K2307))","v":95000},{"$f":"IF(K2307<5000,0,M2307)","v":95000},5,"2013-04-25",1826,19000,1583.3333333333333,52.026286966046001,0,0,94999,0,94999,0,1,10,6,28,3863,"NO",null,null,null,null,null,null,null,null,null,null,null,null,null,null,null,20,null,null,null,null,null,null,null,null,null,null,null,null,null,null,null,null,null,null,null,null,null,null,"08","03","80",null,null,null,"10 ปี  6 เดือน  28 วัน  ",3272]
[{"$f":"A2317+1","v":3283},null,"2008-05-06",51,null,null,null,null,"กลองทัด 1 ชุด",1,5900,"12.02.11",{"$f":"IF(BV2318=\"จำหน่าย\",0,SUM(J2318*K2318))","v":5900},{"$f":"IF(K2318<5000,0,M2318)","v":5900},5,"2013-05-06",1826,1180,98.333333333333329,3.2311062431544357,0,0,5899,0,5899,0,1,10,6,16,3852,"NO",null,null,null,null,null,null,null,null,null,null,null,null,null,null,null,20,null,null,null,null,null,null,null,null,null,null,null,null,null,null,null,null,null,null,null,null,null,null,"12","02","11",null,null,null,"10 ปี  6 เดือน  16 วัน  ",3283]
[{"$f":"A2332+1","v":3298},null,"2008-05-26",51,null,null,null,null,"เครื่องมัลติมีเดียโปรเจคเตอร์ 1 ค.",1,49800,"06.19.158",{"$f":"IF(BV2333=\"จำหน่าย\",0,SUM(J2333*K2333))","v":49800},{"$f":"IF(K2333<5000,0,M2333)","v":49800},3,"2011-05-26",1095,16600,1383.3333333333333,45.479452054794521,0,0,49799,0,49799,0,1,10,5,27,3832,"NO",null,null,null,null,null,null,null,null,null,null,null,null,null,null,null,33.333333333333336,null,null,null,null,null,null,null,null,null,null,null,null,null,null,null,null,null,null,null,null,null,null,"06","19","158",null,null,null,"10 ปี  5 เดือน  27 วัน  ",3298]
[{"$f":"A2333+1","v":3299},null,"2008-05-26",51,null,null,null,null,"ดับเบิ้ลเบส 1 ตัว",1,255000,"12.12.04",{"$f":"IF(BV2334=\"จำหน่าย\",0,SUM(J2334*K2334))","v":255000},{"$f":"IF(K2334<5000,0,M2334)","v":255000},5,"2013-05-26",1826,51000,4250,139.64950711938664,0,0,254999,0,254999,0,1,10,5,27,3832,"NO",null,null,null,null,null,null,null,null,null,null,null,null,null,null,null,20,null,null,null,null,null,null,null,null,null,null,null,null,null,null,null,null,null,null,null,null,null,null,"12","12","04",null,null,null,"10 ปี  5 เดือน  27 วัน  ",3299]
[{"$f":"A2348+1","v":3314},null,"2008-06-06",51,null,null,null,null,"เครื่องถ่ายทอดสัญญาณภาพ 3 มิติ 5 ค.",5,32100,"06.38.90-94",{"$f":"IF(BV2349=\"จำหน่าย\",0,SUM(J2349*K2349))","v":160500},{"$f":"IF(K2349<5000,0,M2349)","v":160500},5,"2013-06-06",1826,32100,2675,87.897042716319831,0,0,160495,0,160495,0,5,10,5,16,3821,"NO",null,null,null,null,null,null,null,null,null,null,null,null,null,null,null,20,null,null,null,null,null,null,null,null,null,null,null,null,null,null,null,null,null,null,null,null,null,null,"06","38","90-94",null,null,null,"10 ปี  5 เดือน  16 วัน  ",3314]
[{"$f":"A2353+1","v":3319},null,"2008-06-20",51,null,null,null,null,"เครื่องซักผ้า 1 ค.",1,8990,"08.02.12",{"$f":"IF(BV2354=\"จำหน่าย\",0,SUM(J2354*K2354))","v":8990},{"$f":"IF(K2354<5000,0,M2354)","v":8990},5,"2013-06-20",1826,1798,149.83333333333334,4.9233296823658268,0,0,8989,0,8989,0,1,10,5,2,3807,"NO",null,null,null,null,null,null,null,null,null,null,null,null,null,null,null,20,null,null,null,null,null,null,null,null,null,null,null,null,null,null,null,null,null,null,null,null,null,null,"08","02","12",null,null,null,"10 ปี  5 เดือน  2 วัน  ",3319]
[{"$f":"A2368+1","v":3334},null,"2008-07-07",51,null,null,null,null,"เครื่องคอมพิวเตอร์ 1 ค.",1,39162,"01.53.3543",{"$f":"IF(BV2369=\"จำหน่าย\",0,SUM(J2369*K2369))","v":39162},{"$f":"IF(K2369<5000,0,M2369)","v":39162},3,"2011-07-07",1095,13054,1087.8333333333333,35.764383561643832,0,0,39161,0,39161,0,1,10,4,15,3790,"NO",null,null,null,null,null,null,null,null,null,null,null,null,null,null,null,33.333333333333336,null,null,null,null,null,null,null,null,null,null,null,null,null,null,null,null,null,null,null,null,null,null,"01","53","3543",null,null,null,"10 ปี  4 เดือน  15 วัน  ",3334]
[{"$f":"A2380+1","v":3346},null,"2008-07-15",51,null,null,null,null,"ชุดไมโครโฟนสำหรับประธาน 1 ชุด",1,5521.2,"05.12.537",{"$f":"IF(BV2381=\"จำหน่าย\",0,SUM(J2381*K2381))","v":5521.2},{"$f":"IF(K2381<5000,0,M2381)","v":5521.2},5,"2013-07-15",1826,1104.24,92.02,3.0236582694414018,0,0,5520.2,0,5520.2,0,1,10,4,7,3782,"NO",null,null,null,null,null,null,null,null,null,null,null,null,null,null,null,20,null,null,null,null,null,null,null,null,null,null,null,null,null,null,null,null,null,null,null,null,null,null,"05","12","537",null,null,null,"10 ปี  4 เดือน  7 วัน  ",3346]
[{"$f":"A2391+1","v":3357},null,"2008-07-23",51,null,null,null,null,"เครื่องมัลติมีเดียโปรเจคเตอร์ 1 ค.",1,18590,"06.19.161",{"$f":"IF(BV2392=\"จำหน่าย\",0,SUM(J2392*K2392))","v":18590},{"$f":"IF(K2392<5000,0,M2392)","v":18590},3,"2011-07-23",1095,6196.666666666667,516.38888888888891,16.977168949771688,0,0,18589,0,18589,0,1,10,3,30,3774,"NO",null,null,null,null,null,null,null,null,null,null,null,null,null,null,null,33.333333333333336,null,null,null,null,null,null,null,null,null,null,null,null,null,null,null,null,null,null,null,null,null,null,"06","19","161",null,null,null,"10 ปี  3 เดือน  30 วัน  ",3357]
[{"$f":"A2396+1","v":3362},null,"2008-07-28",51,null,null,null,null,"เครื่องพิมพ์ 3 ค.",3,16000,"01.72.549-551",{"$f":"IF(BV2397=\"จำหน่าย\",0,SUM(J2397*K2397))","v":48000},{"$f":"IF(K2397<5000,0,M2397)","v":48000},3,"2011-07-28",1095,16000,1333.3333333333333,43.835616438356162,0,0,47997,0,47997,0,3,10,3,25,3769,"NO",null,null,null,null,null,null,null,null,null,null,null,null,null,null,null,33.333333333333336,null,null,null,null,null,null,null,null,null,null,null,null,null,null,null,null,null,null,null,null,null,null,"01","72","549-551",null,null,null,"10 ปี  3 เดือน  25 วัน  ",3362]
[{"$f":"A2411+1","v":3377},null,"2008-08-08",51,null,null,null,null,"เครื่องพิมพ์ 1 ค.",1,6420,"01.72.556",{"$f":"IF(BV2412=\"จำหน่าย\",0,SUM(J2412*K2412))","v":6420},{"$f":"IF(K2412<5000,0,M2412)","v":6420},3,"2011-08-08",1095,2140,178.33333333333334,5.8630136986301373,0,0,6419,0,6419,0,1,10,3,14,3758,"NO",null,null,null,null,null,null,null,null,null,null,null,null,null,null,null,33.333333333333336,null,null,null,null,null,null,null,null,null,null,null,null,null,null,null,null,null,null,null,null,null,null,"01","72","556",null,null,null,"10 ปี  3 เดือน  14 วัน  ",3377]
[{"$f":"A2422+1","v":3388},null,"2008-08-18",51,null,null,null,null,"ไมโครเวฟ 1 ค.",1,5339.3,"08.14.74",{"$f":"IF(BV2423=\"จำหน่าย\",0,SUM(J2423*K2423))","v":5339.3},{"$f":"IF(K2423<5000,0,M2423)","v":5339.3},5,"2013-08-18",1826,1067.8600000000001,88.988333333333344,2.924041621029573,0,0,5338.3,0,5338.3,0,1,10,3,4,3748,"NO",null,null,null,null,null,null,null,null,null,null,null,null,null,null,null,20,null,null,null,null,null,null,null,null,null,null,null,null,null,null,null,null,null,null,null,null,null,null,"08","14","74",null,null,null,"10 ปี  3 เดือน  4 วัน  ",3388]
[{"$f":"A2427+1","v":3393},null,"2008-08-20",51,null,null,null,null,"ปั๊มน้ำ 1 ค.",1,14445,"08.06.91",{"$f":"IF(BV2428=\"จำหน่าย\",0,SUM(J2428*K2428))","v":14445},{"$f":"IF(K2428<5000,0,M2428)","v":14445},5,"2013-08-20",1826,2889,240.75,7.9107338444687842,0,0,14444,0,14444,0,1,10,3,2,3746,"NO",null,null,null,null,null,null,null,null,null,null,null,null,null,null,null,20,null,null,null,null,null,null,null,null,null,null,null,null,null,null,null,null,null,null,null,null,null,null,"08","06","91",null,null,null,"10 ปี  3 เดือน  2 วัน  ",3393]
[{"$f":"A2442+1","v":3408},null,"2008-08-26",51,null,null,null,null,"เครื่องคอมพิวเตอร์ 1 ค.",1,53500,"01.53.3645",{"$f":"IF(BV2443=\"จำหน่าย\",0,SUM(J2443*K2443))","v":0},{"$f":"IF(K2443<5000,0,M2443)","v":0},3,"2011-08-26",1095,0,0,0,0,0,0,0,0,0,0,10,2,27,3740,"No",null,null,null,null,null,null,null,null,null,null,null,null,null,null,null,33.333333333333336,null,null,null,null,null,null,null,null,null,null,null,null,null,null,null,null,null,null,null,null,null,null,"01","53","3645","จำหน่าย","17/7/2561",null,"10 ปี  2 เดือน  27 วัน  ",3408]
[{"$f":"A2454+1","v":3420},null,"2008-09-01",51,null,null,null,null,"เครื่องปรับอากาศ 45,200 BTU 2 ค.",2,49850,"01.29.1106-1107",{"$f":"IF(BV2455=\"จำหน่าย\",0,SUM(J2455*K2455))","v":99700},{"$f":"IF(K2455<5000,0,M2455)","v":99700},8,"2016-09-01",2922,12462.5,1038.5416666666667,34.120465434633815,0,0,99698,0,99698,0,2,10,2,21,3734,"NO",null,null,null,null,null,null,null,null,null,null,null,null,null,null,null,12.5,null,null,null,null,null,null,null,null,null,null,null,null,null,null,null,null,null,null,null,null,null,null,"01","29","1106-1107",null,null,null,"10 ปี  2 เดือน  21 วัน  ",3420]
[{"$f":"A2459+1","v":3425},null,"2008-09-02",51,null,null,null,null,"เครื่องคอมพิวเตอร์แบบพกพา 2 ค.",2,29500,"01.53.3662-3663",{"$f":"IF(BV2460=\"จำหน่าย\",0,SUM(J2460*K2460))","v":59000},{"$f":"IF(K2460<5000,0,M2460)","v":59000},3,"2011-09-02",1095,19666.666666666668,1638.8888888888889,53.881278538812786,0,0,58998,0,58998,0,2,10,2,20,3733,"NO",null,null,null,null,null,null,null,null,null,null,null,null,null,null,null,33.333333333333336,null,null,null,null,null,null,null,null,null,null,null,null,null,null,null,null,null,null,null,null,null,null,"01","53","3662-3663",null,null,null,"10 ปี  2 เดือน  20 วัน  ",3425]
[{"$f":"A2470+1","v":3436},null,"2008-09-04",51,null,null,null,null,"ป้ายอักษรสแตนเลส 1 อัน",1,37000,"01.14.530",{"$f":"IF(BV2471=\"จำหน่าย\",0,SUM(J2471*K2471))","v":37000},{"$f":"IF(K2471<5000,0,M2471)","v":37000},8,"2016-09-04",2922,4625,385.41666666666669,12.662559890485969,0,0,36999,0,36999,0,1,10,2,18,3731,"NO",null,null,null,null,null,null,null,null,null,null,null,null,null,null,null,12.5,null,null,null,null,null,null,null,null,null,null,null,null,null,null,null,null,null,null,null,null,null,null,"01","14","530",null,null,null,"10 ปี  2 เดือน  18 วัน  ",3436]
[{"$f":"A2475+1","v":3441},null,"2008-09-05",51,null,null,null,null,"จานบันทึกข้อมูล (Harddisk External) 500 GB 1 อัน",1,8200,"01.78.33",{"$f":"IF(BV2476=\"จำหน่าย\",0,SUM(J2476*K2476))","v":8200},{"$f":"IF(K2476<5000,0,M2476)","v":8200},3,"2011-09-05",1095,2733.3333333333335,227.7777777777778,7.4885844748858448,0,0,8199,0,8199,0,1,10,2,17,3730,"NO",null,null,null,null,null,null,null,null,null,null,null,null,null,null,null,33.333333333333336,null,null,null,null,null,null,null,null,null,null,null,null,null,null,null,null,null,null,null,null,null,null,"01","78","33",null,null,null,"10 ปี  2 เดือน  17 วัน  ",3441]
[{"$f":"A2490+1","v":3456},null,"2008-09-12",51,null,null,null,null,"ชุดควบคุมกล้องชนิดโดม 1 ชุด",1,48000,"06.17.119",{"$f":"IF(BV2491=\"จำหน่าย\",0,SUM(J2491*K2491))","v":48000},{"$f":"IF(K2491<5000,0,M2491)","v":48000},5,"2013-09-12",1826,9600,800,26.286966046002192,0,0,47999,0,47999,0,1,10,2,10,3723,"NO",null,null,null,null,null,null,null,null,null,null,null,null,null,null,null,20,null,null,null,null,null,null,null,null,null,null,null,null,null,null,null,null,null,null,null,null,null,null,"06","17","119",null,null,null,"10 ปี  2 เดือน  10 วัน  ",3456]
[{"$f":"A2501+1","v":3467},null,"2008-09-22",51,null,null,null,null,"จานบันทึกข้อมูล (Harddisk External) 500 GB 1 อัน",1,7860,"01.78.35",{"$f":"IF(BV2502=\"จำหน่าย\",0,SUM(J2502*K2502))","v":7860},{"$f":"IF(K2502<5000,0,M2502)","v":7860},3,"2011-09-22",1095,2620,218.33333333333334,7.1780821917808222,0,0,7859,0,7859,0,1,10,1,31,3713,"NO",null,null,null,null,null,null,null,null,null,null,null,null,null,null,null,33.333333333333336,null,null,null,null,null,null,null,null,null,null,null,null,null,null,null,null,null,null,null,null,null,null,"01","78","35",null,null,null,"10 ปี  1 เดือน  31 วัน  ",3467]
[{"$f":"A2506+1","v":3472},null,"2008-09-22",51,null,null,null,null,"จานบันทึกข้อมูล (Harddisk External) 500 GB 1 อัน",1,7860,"01.78.40",{"$f":"IF(BV2507=\"จำหน่าย\",0,SUM(J2507*K2507))","v":7860},{"$f":"IF(K2507<5000,0,M2507)","v":7860},3,"2011-09-22",1095,2620,218.33333333333334,7.1780821917808222,0,0,7859,0,7859,0,1,10,1,31,3713,"NO",null,null,null,null,null,null,null,null,null,null,null,null,null,null,null,33.333333333333336,null,null,null,null,null,null,null,null,null,null,null,null,null,null,null,null,null,null,null,null,null,null,"01","78","40",null,null,null,"10 ปี  1 เดือน  31 วัน  ",3472]
[{"$f":"A2524+1","v":3489},null,"2008-11-06",52,null,null,null,null,"เครื่องถ่ายทอดสัญญาณภาพ 3 มิติ 1 ค.",1,40553,"06.38.89",{"$f":"IF(BV2525=\"จำหน่าย\",0,SUM(J2525*K2525))","v":40553},{"$f":"IF(K2525<5000,0,M2525)","v":40553},5,"2013-11-06",1826,8110.6,675.88333333333333,22.208652792990144,0,0,40552,0,40552,0,1,10,0,16,3668,"NO",null,null,null,null,null,null,null,null,null,null,null,null,null,null,null,20,null,null,null,null,null,null,null,null,null,null,null,null,null,null,null,null,null,null,null,null,null,null,"06","38","89",null,null,null,"10 ปี  0 เดือน  16 วัน  ",3489]
[{"$f":"A2533+1","v":3498},null,"2008-11-12",52,null,null,null,null,"แม่แรงตะเข้ 3 ตัน 1 ตัว",1,8881,"09.14.06",{"$f":"IF(BV2534=\"จำหน่าย\",0,SUM(J2534*K2534))","v":8881},{"$f":"IF(K2534<5000,0,M2534)","v":8881},5,"2013-11-12",1826,1776.2,148.01666666666668,4.8636363636363633,0,0,8880,0,8880,0,1,10,0,10,3662,"NO",null,null,null,null,null,null,null,null,null,null,null,null,null,null,null,20,null,null,null,null,null,null,null,null,null,null,null,null,null,null,null,null,null,null,null,null,null,null,"09","14","06",null,null,null,"10 ปี  0 เดือน  10 วัน  ",3498]
[{"$f":"A2538+1","v":3503},null,"2008-11-17",52,null,null,null,null,"เครื่องปรับอากาศ 25,733.30 BTU 3 ค.",3,33250,"01.29.1111-1113",{"$f":"IF(BV2539=\"จำหน่าย\",0,SUM(J2539*K2539))","v":99750},{"$f":"IF(K2539<5000,0,M2539)","v":99750},8,"2016-11-17",2922,12468.75,1039.0625,34.137577002053391,0,0,99747,0,99747,0,3,10,0,5,3657,"NO",null,null,null,null,null,null,null,null,null,null,null,null,null,null,null,12.5,null,null,null,null,null,null,null,null,null,null,null,null,null,null,null,null,null,null,null,null,null,null,"01","29","1111-1113",null,null,null,"10 ปี  0 เดือน  5 วัน  ",3503]
[{"$f":"A2549+1","v":3514},null,"2008-12-01",52,null,null,null,null,"เครื่องคอมพิวเตอร์แบบพกพา 1 ค.",1,23300,"01.53.3706",{"$f":"IF(BV2550=\"จำหน่าย\",0,SUM(J2550*K2550))","v":23300},{"$f":"IF(K2550<5000,0,M2550)","v":23300},3,"2011-12-01",1095,7766.666666666667,647.22222222222229,21.278538812785389,0,0,23299,0,23299,0,1,9,11,21,3643,"NO",null,null,null,null,null,null,null,null,null,null,null,null,null,null,null,33.333333333333336,null,null,null,null,null,null,null,null,null,null,null,null,null,null,null,null,null,null,null,null,null,null,"01","53","3706",null,null,null,"9 ปี  11 เดือน  21 วัน  ",3514]
[{"$f":"A2564+1","v":3529},null,"2008-12-24",52,null,null,null,null,"ม่านปรับแสง 3.19x2.15 ม. 1 ชุด",1,5560,"01.19.433",{"$f":"IF(BV2565=\"จำหน่าย\",0,SUM(J2565*K2565))","v":5560},{"$f":"IF(K2565<5000,0,M2565)","v":5560},8,"2016-12-24",2922,695,57.916666666666664,1.9028062970568105,0,0,5559,0,5559,0,1,9,10,29,3620,"NO",null,null,null,null,null,null,null,null,null,null,null,null,null,null,null,12.5,null,null,null,null,null,null,null,null,null,null,null,null,null,null,null,null,null,null,null,null,null,null,"01","19","433",null,null,null,"9 ปี  10 เดือน  29 วัน  ",3529]
[{"$f":"A2569+1","v":3534},null,"2008-12-24",52,null,null,null,null,"ม่านปรับแสง 3.07x2.03 ม. 1 ชุด",1,5050,"01.19.447",{"$f":"IF(BV2570=\"จำหน่าย\",0,SUM(J2570*K2570))","v":5050},{"$f":"IF(K2570<5000,0,M2570)","v":5050},8,"2016-12-24",2922,631.25,52.604166666666664,1.7282683093771389,0,0,5049,0,5049,0,1,9,10,29,3620,"NO",null,null,null,null,null,null,null,null,null,null,null,null,null,null,null,12.5,null,null,null,null,null,null,null,null,null,null,null,null,null,null,null,null,null,null,null,null,null,null,"01","19","447",null,null,null,"9 ปี  10 เดือน  29 วัน  ",3534]
[{"$f":"A2580+1","v":3545},null,"2008-12-25",52,null,null,null,null,"ไมโครโฟนไร้สาย 1 ชุด",1,8550,"05.12.548",{"$f":"IF(BV2581=\"จำหน่าย\",0,SUM(J2581*K2581))","v":8550},{"$f":"IF(K2581<5000,0,M2581)","v":8550},5,"2013-12-25",1826,1710,142.5,4.6823658269441406,0,0,8549,0,8549,0,1,9,10,28,3619,"NO",null,null,null,null,null,null,null,null,null,null,null,null,null,null,null,20,null,null,null,null,null,null,null,null,null,null,null,null,null,null,null,null,null,null,null,null,null,null,"05","12","548",null,null,null,"9 ปี  10 เดือน  28 วัน  ",3545]
[{"$f":"A2595+1","v":3560},null,"2009-01-09",52,null,null,null,null,"รถโดยสาร 11 ที่นั่ง 1 คัน",1,1470000,"02.02.64",{"$f":"IF(BV2596=\"จำหน่าย\",0,SUM(J2596*K2596))","v":1470000},{"$f":"IF(K2596<5000,0,M2596)","v":1470000},5,"2014-01-09",1826,294000,24500,805.03833515881706,0,0,1469999,0,1469999,0,1,9,10,13,3604,"NO",null,null,null,null,null,null,null,null,null,null,null,null,null,null,null,20,null,null,null,null,null,null,null,null,null,null,null,null,null,null,null,null,null,null,null,null,null,null,"02","02","64",null,null,null,"9 ปี  10 เดือน  13 วัน  ",3560]
[{"$f":"A2599+1","v":3564},null,"2009-01-29",52,null,null,null,null,"เครื่องถ่ายเอกสาร 1 ค.",1,47000,"01.22.76",{"$f":"IF(BV2600=\"จำหน่าย\",0,SUM(J2600*K2600))","v":47000},{"$f":"IF(K2600<5000,0,M2600)","v":47000},8,"2017-01-29",2922,5875,489.58333333333331,16.084873374401095,0,0,46999,0,46999,0,1,9,9,24,3584,"NO",null,null,null,null,null,null,null,null,null,null,null,null,null,null,null,12.5,null,null,null,null,null,null,null,null,null,null,null,null,null,null,null,null,null,null,null,null,null,null,"01","22","76",null,null,null,"9 ปี  9 เดือน  24 วัน  ",3564]
[{"$f":"A2612+1","v":3577},null,"2009-02-12",52,null,null,null,null,"เครื่องเซาะร่อง 1 ค.",1,16500,"04.24.05",{"$f":"IF(BV2613=\"จำหน่าย\",0,SUM(J2613*K2613))","v":16500},{"$f":"IF(K2613<5000,0,M2613)","v":16500},5,"2014-02-12",1826,3300,275,9.0361445783132535,0,0,16499,0,16499,0,1,9,9,10,3570,"NO",null,null,null,null,null,null,null,null,null,null,null,null,null,null,null,20,null,null,null,null,null,null,null,null,null,null,null,null,null,null,null,null,null,null,null,null,null,null,"04","24","05",null,null,null,"9 ปี  9 เดือน  10 วัน  ",3577]
[{"$f":"A2617+1","v":3582},null,"2009-02-16",52,null,null,null,null,"จอคอมพิวเตอร์ 1 จอ",1,5339.3,"01.53.3719",{"$f":"IF(BV2618=\"จำหน่าย\",0,SUM(J2618*K2618))","v":5339.3},{"$f":"IF(K2618<5000,0,M2618)","v":5339.3},3,"2012-02-16",1095,1779.7666666666667,148.3138888888889,4.8760730593607304,0,0,5338.3,0,5338.3,0,1,9,9,6,3566,"NO",null,null,null,null,null,null,null,null,null,null,null,null,null,null,null,33.333333333333336,null,null,null,null,null,null,null,null,null,null,null,null,null,null,null,null,null,null,null,null,null,null,"01","53","3719",null,null,null,"9 ปี  9 เดือน  6 วัน  ",3582]
[{"$f":"A2628+1","v":3593},null,"2009-03-26",52,null,null,null,null,"กล้องถ่ายวีดีโอ 1 ตัว",1,23900,"06.17.259",{"$f":"IF(BV2629=\"จำหน่าย\",0,SUM(J2629*K2629))","v":23900},{"$f":"IF(K2629<5000,0,M2629)","v":23900},5,"2014-03-26",1826,4780,398.33333333333331,13.088718510405258,0,0,23899,0,23899,0,1,9,7,27,3528,"NO",null,null,null,null,null,null,null,null,null,null,null,null,null,null,null,20,null,null,null,null,null,null,null,null,null,null,null,null,null,null,null,null,null,null,null,null,null,null,"06","17","259",null,null,null,"9 ปี  7 เดือน  27 วัน  ",3593]
[{"$f":"A2643+1","v":3608},null,"2009-05-04",52,null,null,null,null,"รถยกลาก 1 คัน",1,14659,"01.52.143",{"$f":"IF(BV2644=\"จำหน่าย\",0,SUM(J2644*K2644))","v":14659},{"$f":"IF(K2644<5000,0,M2644)","v":14659},8,"2017-05-04",2922,1832.375,152.69791666666666,5.0167693360711842,0,{"$f":"SUM(R2644*U2644/12)","v":0},{"$f":"IF(N2644=0,0,IF((R2644*AB2644)+(R2644*AC2644/12)>=N2644,N2644-J2644,((R2644*AB2644)+(R2644*AC2644/12))))","v":14658},{"$f":"SUM(T2644*U2644)","v":0},{"$f":"IF(N2644=0,0,IF((DATEDIF(C2644,TODAY(),\"d\")+1)*T2644>=N2644,N2644-J2644,(DATEDIF(C2644,TODAY(),\"d\")+1)*T2644))","v":14658},{"$f":"IF(U2644=0,0,IF(OR(DAY(C2644)=1,MONTH(C2644)<>MONTH(TODAY()),YEAR(C2644)<>YEAR(TODAY())),T2644*((DAY(DATE(YEAR(TODAY()),MONTH(TODAY())+1,1)-1))),T2644*((DAY(DATE(YEAR(TODAY()),MONTH(TODAY())+1,1)-1)-DAY(C2644)+1))))","v":0},{"$f":"IF(N2644=0,0,IF(X2644>=N2644,(J2644),(N2644-Y2644)))","v":1},9,6,18,3489,"NO",null,null,null,null,null,null,null,null,null,null,null,null,null,null,null,12.5,null,null,null,null,null,null,null,null,null,null,null,null,null,null,null,null,null,null,null,null,null,null,"01","52","143",null,null,null,"9 ปี  6 เดือน  18 วัน  ",3608]
[{"$f":"A2648+1","v":3613},null,"2009-05-08",52,null,null,null,null,"ปั๊มพ่นย่าแบบสะพาย 1 ตัว",1,5000,"03.08.26",{"$f":"IF(BV2649=\"จำหน่าย\",0,SUM(J2649*K2649))","v":5000},{"$f":"IF(K2649<5000,0,M2649)","v":5000},3,"2012-05-08",1096,1666.6666666666667,138.88888888888889,4.562043795620438,0,0,4999,0,4999,0,1,9,6,14,3485,"NO",null,null,null,null,null,null,null,null,null,null,null,null,null,null,null,33.333333333333336,null,null,null,null,null,null,null,null,null,null,null,null,null,null,null,null,null,null,null,null,null,null,"03","08","26",null,null,null,"9 ปี  6 เดือน  14 วัน  ",3613]
[{"$f":"A2659+1","v":3624},null,"2009-05-22",52,null,null,null,null,"กล้องถ่ายภาพดิจิตอล 1 ตัว",1,44940,"06.01.182",{"$f":"IF(BV2660=\"จำหน่าย\",0,SUM(J2660*K2660))","v":44940},{"$f":"IF(K2660<5000,0,M2660)","v":44940},5,"2014-05-22",1826,8988,749,24.61117196056955,0,0,44939,0,44939,0,1,9,5,31,3471,"NO",null,null,null,null,null,null,null,null,null,null,null,null,null,null,null,20,null,null,null,null,null,null,null,null,null,null,null,null,null,null,null,null,null,null,null,null,null,null,"06","01","182",null,null,null,"9 ปี  5 เดือน  31 วัน  ",3624]
[{"$f":"A2674+1","v":3639},null,"2009-06-02",52,null,null,null,null,"เครื่องคอมพิวเตอร์ 1 ค.",1,17900,"01.53.3745",{"$f":"IF(BV2675=\"จำหน่าย\",0,SUM(J2675*K2675))","v":17900},{"$f":"IF(K2675<5000,0,M2675)","v":17900},3,"2012-06-02",1096,5966.666666666667,497.22222222222223,16.332116788321169,0,0,17899,0,17899,0,1,9,5,20,3460,"NO",null,null,null,null,null,null,null,null,null,null,null,null,null,null,null,33.333333333333336,null,null,null,null,null,null,null,null,null,null,null,null,null,null,null,null,null,null,null,null,null,null,"01","53","3745",null,null,null,"9 ปี  5 เดือน  20 วัน  ",3639]
[{"$f":"A2685+1","v":3650},null,"2009-06-29",52,null,null,null,null,"เครื่องถ่ายเอกสาร 1 ค.",1,99500,"01.22.81",{"$f":"IF(BV2686=\"จำหน่าย\",0,SUM(J2686*K2686))","v":99500},{"$f":"IF(K2686<5000,0,M2686)","v":99500},8,"2017-06-29",2922,12437.5,1036.4583333333333,34.05201916495551,0,0,99499,0,99499,0,1,9,4,24,3433,"NO",null,null,null,null,null,null,null,null,null,null,null,null,null,null,null,12.5,null,null,null,null,null,null,null,null,null,null,null,null,null,null,null,null,null,null,null,null,null,null,"01","22","81",null,null,null,"9 ปี  4 เดือน  24 วัน  ",3650]
[{"$f":"A2691+1","v":3656},null,"2009-07-11",52,null,null,null,null,"เครื่องปรับอากาศ 25,733.30 BTU 2 ค.",2,34000,"01.29.1132-1133",{"$f":"IF(BV2692=\"จำหน่าย\",0,SUM(J2692*K2692))","v":68000},{"$f":"IF(K2692<5000,0,M2692)","v":68000},8,"2017-07-11",2922,8500,708.33333333333337,23.271731690622861,0,0,67998,0,67998,0,2,9,4,11,3421,"NO",null,null,null,null,null,null,null,null,null,null,null,null,null,null,null,12.5,null,null,null,null,null,null,null,null,null,null,null,null,null,null,null,null,null,null,null,null,null,null,"01","29","1132-1133",null,null,null,"9 ปี  4 เดือน  11 วัน  ",3656]
[{"$f":"A2706+1","v":3671},null,"2009-07-31",52,null,null,null,null,"แผงกั้นห้อง 1 ชุด",1,15943,"01.14.578",{"$f":"IF(BV2707=\"จำหน่าย\",0,SUM(J2707*K2707))","v":15943},{"$f":"IF(K2707<5000,0,M2707)","v":15943},8,"2017-07-31",2922,1992.875,166.07291666666666,5.456194387405886,0,0,15942,0,15942,0,1,9,3,22,3401,"NO",null,null,null,null,null,null,null,null,null,null,null,null,null,null,null,12.5,null,null,null,null,null,null,null,null,null,null,null,null,null,null,null,null,null,null,null,null,null,null,"01","14","578",null,null,null,"9 ปี  3 เดือน  22 วัน  ",3671]
[{"$f":"A2717+1","v":3682},null,"2009-08-03",52,null,null,null,null,"เครื่องสำรองไฟ 1 ค.",1,73830,"05.46.610",{"$f":"IF(BV2718=\"จำหน่าย\",0,SUM(J2718*K2718))","v":73830},{"$f":"IF(K2718<5000,0,M2718)","v":73830},3,"2012-08-03",1096,24610,2050.8333333333335,67.363138686131393,0,0,73829,0,73829,0,1,9,3,19,3398,"NO",null,null,null,null,null,null,null,null,null,null,null,null,null,null,null,33.333333333333336,null,null,null,null,null,null,null,null,null,null,null,null,null,null,null,null,null,null,null,null,null,null,"05","46","610",null,null,null,"9 ปี  3 เดือน  19 วัน  ",3682]
[{"$f":"A2722+1","v":3687},null,"2009-08-04",52,null,null,null,null,"จอรับภาพชนิดมอเตอร์ไฟฟ้า 1 จอ",1,17655,"06.07.260",{"$f":"IF(BV2723=\"จำหน่าย\",0,SUM(J2723*K2723))","v":17655},{"$f":"IF(K2723<5000,0,M2723)","v":17655},5,"2014-08-04",1826,3531,294.25,9.668674698795181,0,0,17654,0,17654,0,1,9,3,18,3397,"NO",null,null,null,null,null,null,null,null,null,null,null,null,null,null,null,20,null,null,null,null,null,null,null,null,null,null,null,null,null,null,null,null,null,null,null,null,null,null,"06","07","260",null,null,null,"9 ปี  3 เดือน  18 วัน  ",3687]
[{"$f":"A2733+1","v":3698},null,"2009-08-06",52,null,null,null,null,"เครื่องสำรองไฟ 1 ค.",1,6955,"05.46.612",{"$f":"IF(BV2734=\"จำหน่าย\",0,SUM(J2734*K2734))","v":6955},{"$f":"IF(K2734<5000,0,M2734)","v":6955},3,"2012-08-06",1096,2318.3333333333335,193.19444444444446,6.3458029197080288,0,0,6954,0,6954,0,1,9,3,16,3395,"NO",null,null,null,null,null,null,null,null,null,null,null,null,null,null,null,33.333333333333336,null,null,null,null,null,null,null,null,null,null,null,null,null,null,null,null,null,null,null,null,null,null,null,null,null,null,null,null,"9 ปี  3 เดือน  16 วัน  ",3698]
[{"$f":"A2738+1","v":3703},null,"2009-08-07",52,null,null,null,null,"ชุดรับแขก 1 ชุด",1,14400,"01.01.42988",{"$f":"IF(BV2739=\"จำหน่าย\",0,SUM(J2739*K2739))","v":14400},{"$f":"IF(K2739<5000,0,M2739)","v":14400},8,"2017-08-07",2922,1800,150,4.9281314168377826,0,0,14399,0,14399,0,1,9,3,15,3394,"NO",null,null,null,null,null,null,null,null,null,null,null,null,null,null,null,12.5,null,null,null,null,null,null,null,null,null,null,null,null,null,null,null,null,null,null,null,null,null,null,"01","01","42988",null,null,null,"9 ปี  3 เดือน  15 วัน  ",3703]
[{"$f":"A2753+1","v":3718},null,"2009-08-14",52,null,null,null,null,"จอรับภาพชนิดมอเตอร์ไฟฟ้า 3 จอ",3,6955,"06.07.264-266",{"$f":"IF(BV2754=\"จำหน่าย\",0,SUM(J2754*K2754))","v":20865},{"$f":"IF(K2754<5000,0,M2754)","v":20865},5,"2014-08-14",1826,4173,347.75,11.426615553121577,0,0,20862,0,20862,0,3,9,3,8,3387,"NO",null,null,null,null,null,null,null,null,null,null,null,null,null,null,null,20,null,null,null,null,null,null,null,null,null,null,null,null,null,null,null,null,null,null,null,null,null,null,"06","07","264-266",null,null,null,"9 ปี  3 เดือน  8 วัน  ",3718]
[{"$f":"A2760+1","v":3725},null,"2009-08-20",52,null,null,null,null,"ตู้ใส่อุปกรณ์ 1 ใบ",1,21400,"01.06.2065",{"$f":"IF(BV2761=\"จำหน่าย\",0,SUM(J2761*K2761))","v":21400},{"$f":"IF(K2761<5000,0,M2761)","v":21400},8,"2017-08-20",2922,2675,222.91666666666666,7.3237508555783712,0,0,21399,0,21399,0,1,9,3,2,3381,"NO",null,null,null,null,null,null,null,null,null,null,null,null,null,null,null,12.5,null,null,null,null,null,null,null,null,null,null,null,null,null,null,null,null,null,null,null,null,null,null,"01","06","2065",null,null,null,"9 ปี  3 เดือน  2 วัน  ",3725]
[{"$f":"A2770+1","v":3735},null,"2009-08-20",52,null,null,null,null,"ลำโพง 2 ชุด",2,13407.1,"05.13.578-579",{"$f":"IF(BV2771=\"จำหน่าย\",0,SUM(J2771*K2771))","v":26814.2},{"$f":"IF(K2771<5000,0,M2771)","v":26814.2},5,"2014-08-20",1826,5362.84,446.90333333333336,14.684665936473166,0,0,26812.2,0,26812.2,0,2,9,3,2,3381,"NO",null,null,null,null,null,null,null,null,null,null,null,null,null,null,null,20,null,null,null,null,null,null,null,null,null,null,null,null,null,null,null,null,null,null,null,null,null,null,"05","13","578-579",null,null,null,"9 ปี  3 เดือน  2 วัน  ",3735]
[{"$f":"A2785+1","v":3750},null,"2009-08-28",52,null,null,null,null,"ตู้เย็น 7.3 คิว 3 ค.",3,8800,"01.09.177-179",{"$f":"IF(BV2786=\"จำหน่าย\",0,SUM(J2786*K2786))","v":26400},{"$f":"IF(K2786<5000,0,M2786)","v":26400},8,"2017-08-28",2922,3300,275,9.0349075975359341,0,0,26397,0,26397,0,3,9,2,25,3373,"NO",null,null,null,null,null,null,null,null,null,null,null,null,null,null,null,12.5,null,null,null,null,null,null,null,null,null,null,null,null,null,null,null,null,null,null,null,null,null,null,"01","09","177-179",null,null,null,"9 ปี  2 เดือน  25 วัน  ",3750]
[{"$f":"A2796+1","v":3761},null,"2009-09-01",52,null,null,null,null,"เครื่องสแกนเนอร์ 1 ค.",1,5290,"01.65.92",{"$f":"IF(BV2797=\"จำหน่าย\",0,SUM(J2797*K2797))","v":5290},{"$f":"IF(K2797<5000,0,M2797)","v":5290},3,"2012-09-01",1096,1763.3333333333333,146.94444444444443,4.8266423357664232,0,0,5289,0,5289,0,1,9,2,21,3369,"NO",null,null,null,null,null,null,null,null,null,null,null,null,null,null,null,33.333333333333336,null,null,null,null,null,null,null,null,null,null,null,null,null,null,null,null,null,null,null,null,null,null,"01","65","92",null,null,null,"9 ปี  2 เดือน  21 วัน  ",3761]
[{"$f":"A2801+1","v":3766},null,"2009-09-04",52,null,null,null,null,"ชุดอุปกรณ์กระจายสัญญาณไร้สายระยะไกล 1 ชุด",1,99500,"01.58.511",{"$f":"IF(BV2802=\"จำหน่าย\",0,SUM(J2802*K2802))","v":99500},{"$f":"IF(K2802<5000,0,M2802)","v":99500},8,"2017-09-04",2922,12437.5,1036.4583333333333,34.05201916495551,0,0,99499,0,99499,0,1,9,2,18,3366,"NO",null,null,null,null,null,null,null,null,null,null,null,null,null,null,null,12.5,null,null,null,null,null,null,null,null,null,null,null,null,null,null,null,null,null,null,null,null,null,null,"01","58","511",null,null,null,"9 ปี  2 เดือน  18 วัน  ",3766]
[{"$f":"A2812+1","v":3777},null,"2009-09-08",52,null,null,null,null,"เครื่องพิมพ์ 1 ค.",1,25900,"01.72.649",{"$f":"IF(BV2813=\"จำหน่าย\",0,SUM(J2813*K2813))","v":25900},{"$f":"IF(K2813<5000,0,M2813)","v":25900},3,"2012-09-08",1096,8633.3333333333339,719.44444444444446,23.631386861313867,0,0,25899,0,25899,0,1,9,2,14,3362,"NO",null,null,null,null,null,null,null,null,null,null,null,null,null,null,null,33.333333333333336,null,null,null,null,null,null,null,null,null,null,null,null,null,null,null,null,null,null,null,null,null,null,"01","72","649",null,null,null,"9 ปี  2 เดือน  14 วัน  ",3777]
[{"$f":"A2827+1","v":3792},null,"2009-09-10",52,null,null,null,null,"เครื่องปรับอากาศ 6,480 BTU 2 ค.",2,12000,"01.29.1134-1135",{"$f":"IF(BV2828=\"จำหน่าย\",0,SUM(J2828*K2828))","v":24000},{"$f":"IF(K2828<5000,0,M2828)","v":24000},8,"2017-09-10",2922,3000,250,8.2135523613963031,0,0,23998,0,23998,0,2,9,2,12,3360,"NO",null,null,null,null,null,null,null,null,null,null,null,null,null,null,null,12.5,null,null,null,null,null,null,null,null,null,null,null,null,null,null,null,null,null,null,null,null,null,null,"01","29","1134-1135",null,null,null,"9 ปี  2 เดือน  12 วัน  ",3792]
[{"$f":"A2837+1","v":3802},null,"2009-09-10",52,null,null,null,null,"โต๊ะประชุม 1 ตัว",1,5885,"01.02.9773",{"$f":"IF(BV2838=\"จำหน่าย\",0,SUM(J2838*K2838))","v":5885},{"$f":"IF(K2838<5000,0,M2838)","v":5885},8,"2017-09-10",2922,735.625,61.302083333333336,2.0140314852840522,0,0,5884,0,5884,0,1,9,2,12,3360,"NO",null,null,null,null,null,null,null,null,null,null,null,null,null,null,null,12.5,null,null,null,null,null,null,null,null,null,null,null,null,null,null,null,null,null,null,null,null,null,null,"01","02","9773",null,null,null,"9 ปี  2 เดือน  12 วัน  ",3802]
[{"$f":"A2844+1","v":3809},null,"2009-09-11",52,null,null,null,null,"โทรศัพท์ผ่านเครือข่าย 1 ระบบ",1,829250,"01.45.797",{"$f":"IF(BV2845=\"จำหน่าย\",0,SUM(J2845*K2845))","v":829250},{"$f":"IF(K2845<5000,0,M2845)","v":829250},8,"2017-09-11",2922,103656.25,8638.0208333333339,283.79534565366185,0,0,829249,0,829249,0,1,9,2,11,3359,"NO",null,null,null,null,null,null,null,null,null,null,null,null,null,null,null,12.5,null,null,null,null,null,null,null,null,null,null,null,null,null,null,null,null,null,null,null,null,null,null,"01","45","797",null,null,null,"9 ปี  2 เดือน  11 วัน  ",3809]
[{"$f":"A2859+1","v":3824},null,"2009-09-24",52,null,null,null,null,"เครื่องคอมพิวเตอร์แบบพกพา 1 ค.",1,39590,"01.53.3989",{"$f":"IF(BV2860=\"จำหน่าย\",0,SUM(J2860*K2860))","v":39590},{"$f":"IF(K2860<5000,0,M2860)","v":39590},3,"2012-09-24",1096,13196.666666666666,1099.7222222222222,36.122262773722625,0,0,39589,0,39589,0,1,9,1,29,3346,"NO",null,null,null,null,null,null,null,null,null,null,null,null,null,null,null,33.333333333333336,null,null,null,null,null,null,null,null,null,null,null,null,null,null,null,null,null,null,null,null,null,null,"01","53","3989",null,null,null,"9 ปี  1 เดือน  29 วัน  ",3824]
[{"$f":"A2864+1","v":3829},null,"2009-09-24",52,null,null,null,null,"เครื่องพิมพ์สี 1 ค.",1,20900,"01.72.658",{"$f":"IF(BV2865=\"จำหน่าย\",0,SUM(J2865*K2865))","v":20900},{"$f":"IF(K2865<5000,0,M2865)","v":20900},3,"2012-09-24",1096,6966.666666666667,580.55555555555554,19.069343065693431,0,0,20899,0,20899,0,1,9,1,29,3346,"NO",null,null,null,null,null,null,null,null,null,null,null,null,null,null,null,33.333333333333336,null,null,null,null,null,null,null,null,null,null,null,null,null,null,null,null,null,null,null,null,null,null,"01","72","658",null,null,null,"9 ปี  1 เดือน  29 วัน  ",3829]
[{"$f":"A2875+1","v":3840},null,"2009-09-25",52,null,null,null,null,"ไมโครโฟนสำหรับผู้ร่วมประชุม 5 ชุด",5,6955,"05.12.595-599",{"$f":"IF(BV2876=\"จำหน่าย\",0,SUM(J2876*K2876))","v":34775},{"$f":"IF(K2876<5000,0,M2876)","v":34775},5,"2014-09-25",1826,6955,579.58333333333337,19.044359255202629,0,0,34770,0,34770,0,5,9,1,28,3345,"NO",null,null,null,null,null,null,null,null,null,null,null,null,null,null,null,20,null,null,null,null,null,null,null,null,null,null,null,null,null,null,null,null,null,null,null,null,null,null,"05","12","595-599",null,null,null,"9 ปี  1 เดือน  28 วัน  ",3840]
[{"$f":"A2880+1","v":3845},null,"2009-09-28",52,null,null,null,null,"เครื่องคอมพิวเตอร์แบบพกพา 2 ค.",2,36380,"01.53.3970-3971",{"$f":"IF(BV2881=\"จำหน่าย\",0,SUM(J2881*K2881))","v":72760},{"$f":"IF(K2881<5000,0,M2881)","v":72760},3,"2012-09-28",1096,24253.333333333332,2021.1111111111111,66.386861313868607,0,0,72758,0,72758,0,2,9,1,25,3342,"NO",null,null,null,null,null,null,null,null,null,null,null,null,null,null,null,33.333333333333336,null,null,null,null,null,null,null,null,null,null,null,null,null,null,null,null,null,null,null,null,null,null,"01","53","3970-3971",null,null,null,"9 ปี  1 เดือน  25 วัน  ",3845]
[{"$f":"A2891+1","v":3856},null,"2009-09-28",52,null,null,null,null,"กล้องถ่ายภาพดิจิตอล 1 ตัว",1,22990,"06.01.195",{"$f":"IF(BV2892=\"จำหน่าย\",0,SUM(J2892*K2892))","v":22990},{"$f":"IF(K2892<5000,0,M2892)","v":22990},5,"2014-09-28",1826,4598,383.16666666666669,12.590361445783133,0,0,22989,0,22989,0,1,9,1,25,3342,"NO",null,null,null,null,null,null,null,null,null,null,null,null,null,null,null,20,null,null,null,null,null,null,null,null,null,null,null,null,null,null,null,null,null,null,null,null,null,null,"06","01","195",null,null,null,"9 ปี  1 เดือน  25 วัน  ",3856]
[{"$f":"A2906+1","v":3871},null,"2009-10-31",53,null,null,null,null,"ปั๊มน้ำบาดาล 1 ค.",1,31565,"08.06.100",{"$f":"IF(BV2907=\"จำหน่าย\",0,SUM(J2907*K2907))","v":31565},{"$f":"IF(K2907<5000,0,M2907)","v":31565},5,"2014-10-31",1826,6313,526.08333333333337,17.286418400876233,0,0,31564,0,31564,0,1,9,0,22,3309,"NO",null,null,null,null,null,null,null,null,null,null,null,null,null,null,null,20,null,null,null,null,null,null,null,null,null,null,null,null,null,null,null,null,null,null,null,null,null,null,"08","06","100",null,null,null,"9 ปี  0 เดือน  22 วัน  ",3871]
[{"$f":"A2912+1","v":3877},null,"2009-11-03",53,null,null,null,null,"เครื่องคอมพิวเตอร์ 5 ค.",5,19973.34,"01.53.4073-4077",{"$f":"IF(BV2913=\"จำหน่าย\",0,SUM(J2913*K2913))","v":99866.7},{"$f":"IF(K2913<5000,0,M2913)","v":99866.7},3,"2012-11-03",1096,33288.9,2774.0750000000003,91.119251824817511,0,0,99861.7,0,99861.7,0,5,9,0,19,3306,"NO",null,null,null,null,null,null,null,null,null,null,null,null,null,null,null,33.333333333333336,null,null,null,null,null,null,null,null,null,null,null,null,null,null,null,null,null,null,null,null,null,null,"01","53","4073-4077",null,null,null,"9 ปี  0 เดือน  19 วัน  ",3877]
[{"$f":"A2923+1","v":3888},null,"2009-11-16",53,null,null,null,null,"เครื่องปรับอากาศ 25,733.30 BTU 1 ค.",1,29000,"01.29.1141",{"$f":"IF(BV2924=\"จำหน่าย\",0,SUM(J2924*K2924))","v":29000},{"$f":"IF(K2924<5000,0,M2924)","v":29000},8,"2017-11-16",2922,3625,302.08333333333331,9.9247091033538677,0,0,28999,0,28999,0,1,9,0,6,3293,"NO",null,null,null,null,null,null,null,null,null,null,null,null,null,null,null,12.5,null,null,null,null,null,null,null,null,null,null,null,null,null,null,null,null,null,null,null,null,null,null,"01","29","1141",null,null,null,"9 ปี  0 เดือน  6 วัน  ",3888]
[{"$f":"A2938+1","v":3903},null,"2009-12-01",53,null,null,null,null,"ตู้วางทีวีและเครื่องเสียง 2 ใบ",2,5900,"01.06.2072-2073",{"$f":"IF(BV2939=\"จำหน่าย\",0,SUM(J2939*K2939))","v":11800},{"$f":"IF(K2939<5000,0,M2939)","v":11800},8,"2017-12-01",2922,1475,122.91666666666667,4.0383299110198498,0,0,11798,0,11798,0,2,8,11,21,3278,"NO",null,null,null,null,null,null,null,null,null,null,null,null,null,null,null,12.5,null,null,null,null,null,null,null,null,null,null,null,null,null,null,null,null,null,null,null,null,null,null,"01","06","2072-2073",null,null,null,"8 ปี  11 เดือน  21 วัน  ",3903]
[{"$f":"A2949+1","v":3914},null,"2009-12-08",53,null,null,null,null,"เครื่องปรับอากาศ 25,120.51 BTU 10 ค.",10,24200,"01.29.1146-1155",{"$f":"IF(BV2950=\"จำหน่าย\",0,SUM(J2950*K2950))","v":242000},{"$f":"IF(K2950<5000,0,M2950)","v":242000},8,"2017-12-08",2922,30250,2520.8333333333335,82.81998631074606,0,0,241990,0,241990,0,10,8,11,14,3271,"NO",null,null,null,null,null,null,null,null,null,null,null,null,null,null,null,12.5,null,null,null,null,null,null,null,null,null,null,null,null,null,null,null,null,null,null,null,null,null,null,"01","29","1146-1155",null,null,null,"8 ปี  11 เดือน  14 วัน  ",3914]
[{"$f":"A2954+1","v":3919},null,"2009-12-09",53,null,null,null,null,"เครื่องพิมพ์ 1 ค.",1,21990,"01.72.678",{"$f":"IF(BV2955=\"จำหน่าย\",0,SUM(J2955*K2955))","v":21990},{"$f":"IF(K2955<5000,0,M2955)","v":21990},3,"2012-12-09",1096,7330,610.83333333333337,20.063868613138688,0,0,21989,0,21989,0,1,8,11,13,3270,"NO",null,null,null,null,null,null,null,null,null,null,null,null,null,null,null,33.333333333333336,null,null,null,null,null,null,null,null,null,null,null,null,null,null,null,null,null,null,null,null,null,null,"01","72","678",null,null,null,"8 ปี  11 เดือน  13 วัน  ",3919]
[{"$f":"A2969+1","v":3934},null,"2009-12-23",53,null,null,null,null,"เครื่องพิมพ์ 1 ค.",1,24990,"01.72.684",{"$f":"IF(BV2970=\"จำหน่าย\",0,SUM(J2970*K2970))","v":24990},{"$f":"IF(K2970<5000,0,M2970)","v":24990},3,"2012-12-23",1096,8330,694.16666666666663,22.801094890510949,0,0,24989,0,24989,0,1,8,10,30,3256,"NO",null,null,null,null,null,null,null,null,null,null,null,null,null,null,null,33.333333333333336,null,null,null,null,null,null,null,null,null,null,null,null,null,null,null,null,null,null,null,null,null,null,"01","72","684",null,null,null,"8 ปี  10 เดือน  30 วัน  ",3934]
[{"$f":"A2980+1","v":3945},null,"2010-01-05",53,null,null,null,null,"กล้องถ่ายภาพดิจิตอล 1 ตัว",1,14969.3,"06.01.201",{"$f":"IF(BV2981=\"จำหน่าย\",0,SUM(J2981*K2981))","v":14969.3},{"$f":"IF(K2981<5000,0,M2981)","v":14969.3},5,"2015-01-05",1826,2993.8599999999997,249.48833333333332,8.1978641840087612,0,0,14968.3,0,14968.3,0,1,8,10,17,3243,"NO",null,null,null,null,null,null,null,null,null,null,null,null,null,null,null,20,null,null,null,null,null,null,null,null,null,null,null,null,null,null,null,null,null,null,null,null,null,null,"06","01","201",null,null,null,"8 ปี  10 เดือน  17 วัน  ",3945]
[{"$f":"A2985+1","v":3950},null,"2010-01-08",53,null,null,null,null,"เครื่องทำน้ำร้อน-น้ำเย็น 1 ค.",1,5590,"08.17.286",{"$f":"IF(BV2986=\"จำหน่าย\",0,SUM(J2986*K2986))","v":5590},{"$f":"IF(K2986<5000,0,M2986)","v":5590},5,"2015-01-08",1826,1118,93.166666666666671,3.0613362541073386,0,0,5589,0,5589,0,1,8,10,14,3240,"NO",null,null,null,null,null,null,null,null,null,null,null,null,null,null,null,20,null,null,null,null,null,null,null,null,null,null,null,null,null,null,null,null,null,null,null,null,null,null,"08","17","286",null,null,null,"8 ปี  10 เดือน  14 วัน  ",3950]
[{"$f":"A2998+1","v":3963},null,"2010-01-19",53,null,null,null,null,"เครื่องพิมพ์ All in One 1 ค.",1,17120,"01.72.692",{"$f":"IF(BV2999=\"จำหน่าย\",0,SUM(J2999*K2999))","v":0},{"$f":"IF(K2999<5000,0,M2999)","v":0},3,"2013-01-19",1096,0,0,0,0,0,0,0,0,0,0,8,10,3,3229,"No",null,null,null,null,null,null,null,null,null,null,null,null,null,null,null,33.333333333333336,null,null,null,null,null,null,null,null,null,null,null,null,null,null,null,null,null,null,null,null,null,null,"01","72",692,"จำหน่าย","17/7/2561",null,"8 ปี  10 เดือน  3 วัน  ",3963]
[{"$f":"A3002+1","v":3966},null,"2010-01-20",53,null,null,null,null,"โต๊ะประชุมวงรี 2 ตัว  ",2,6660,"01.02.9997-9998",{"$f":"IF(BV3003=\"จำหน่าย\",0,SUM(J3003*K3003))","v":13320},{"$f":"IF(K3003<5000,0,M3003)","v":13320},8,"2018-01-20",2922,1665,138.75,4.5585215605749489,0,0,13318,0,13318,0,2,8,10,2,3228,"NO",null,null,null,null,null,null,null,null,null,null,null,null,null,null,null,12.5,null,null,null,null,null,null,null,null,null,null,null,null,null,null,null,null,null,null,null,null,null,null,"01","02","9997-9998",null,null,null,"8 ปี  10 เดือน  2 วัน  ",3966]
[{"$f":"A3017+1","v":3981},null,"2010-02-04",53,null,null,null,null,"เครื่องพิมพ์ 1 ค.",1,7136.9,"01.72.698",{"$f":"IF(BV3018=\"จำหน่าย\",0,SUM(J3018*K3018))","v":7136.9},{"$f":"IF(K3018<5000,0,M3018)","v":7136.9},3,"2013-02-04",1096,2378.9666666666667,198.24722222222223,6.5117700729927002,0,0,7135.9,0,7135.9,0,1,8,9,18,3213,"NO",null,null,null,null,null,null,null,null,null,null,null,null,null,null,null,33.333333333333336,null,null,null,null,null,null,null,null,null,null,null,null,null,null,null,null,null,null,null,null,null,null,"01","72","698",null,null,null,"8 ปี  9 เดือน  18 วัน  ",3981]
[{"$f":"A3028+1","v":3992},null,"2010-03-03",53,null,null,null,null,"เครื่องสแกนเนอร์  1 ค.",1,38500,"01.65.96",{"$f":"IF(BV3029=\"จำหน่าย\",0,SUM(J3029*K3029))","v":38500},{"$f":"IF(K3029<5000,0,M3029)","v":38500},3,"2013-03-03",1096,12833.333333333334,1069.4444444444446,35.127737226277375,0,{"$f":"SUM(R3029*U3029/12)","v":0},{"$f":"IF(N3029=0,0,IF((R3029*AB3029)+(R3029*AC3029/12)>=N3029,N3029-J3029,((R3029*AB3029)+(R3029*AC3029/12))))","v":38499},{"$f":"SUM(T3029*U3029)","v":0},{"$f":"IF(N3029=0,0,IF((DATEDIF(C3029,TODAY(),\"d\")+1)*T3029>=N3029,N3029-J3029,(DATEDIF(C3029,TODAY(),\"d\")+1)*T3029))","v":38499},{"$f":"IF(U3029=0,0,IF(OR(DAY(C3029)=1,MONTH(C3029)<>MONTH(TODAY()),YEAR(C3029)<>YEAR(TODAY())),T3029*((DAY(DATE(YEAR(TODAY()),MONTH(TODAY())+1,1)-1))),T3029*((DAY(DATE(YEAR(TODAY()),MONTH(TODAY())+1,1)-1)-DAY(C3029)+1))))","v":0},{"$f":"IF(N3029=0,0,IF(X3029>=N3029,(J3029),(N3029-Y3029)))","v":1},8,8,19,3186,"NO",null,null,null,null,null,null,null,null,null,null,null,null,null,null,null,33.333333333333336,null,null,null,null,null,null,null,null,null,null,null,null,null,null,null,null,null,null,null,null,null,null,"01","65","96",null,null,null,"8 ปี  8 เดือน  19 วัน  ",3992]
[{"$f":"A3033+1","v":3997},null,"2010-03-06",53,null,null,null,null,"เครื่องปรับอากาศ 36,000 BTU 6 ค.",6,34400,"01.29.1206-1211",{"$f":"IF(BV3034=\"จำหน่าย\",0,SUM(J3034*K3034))","v":206400},{"$f":"IF(K3034<5000,0,M3034)","v":206400},8,"2018-03-06",2922,25800,2150,70.636550308008211,0,0,206394,0,206394,0,6,8,8,16,3183,"NO",null,null,null,null,null,null,null,null,null,null,null,null,null,null,null,12.5,null,null,null,null,null,null,null,null,null,null,null,null,null,null,null,null,null,null,null,null,null,null,"01","29","1206-1211",null,null,null,"8 ปี  8 เดือน  16 วัน  ",3997]
[{"$f":"A3048+1","v":4012},null,"2010-03-29",53,null,null,null,null,"เครื่องปรับอากาศ 13,090.14 BTU 2 ค.",2,19000,"01.29.1227-1228",{"$f":"IF(BV3049=\"จำหน่าย\",0,SUM(J3049*K3049))","v":38000},{"$f":"IF(K3049<5000,0,M3049)","v":38000},8,"2018-03-29",2922,4750,395.83333333333331,13.00479123887748,0,0,37998,0,37998,0,2,8,7,24,3160,"NO",null,null,null,null,null,null,null,null,null,null,null,null,null,null,null,12.5,null,null,null,null,null,null,null,null,null,null,null,null,null,null,null,null,null,null,null,null,null,null,"01","29","1227-1228",null,null,null,"8 ปี  7 เดือน  24 วัน  ",4012]
[{"$f":"A3059+1","v":4023},null,"2010-04-07",53,null,null,null,null,"เครื่องมัลติมีเดียโปรเจคเตอร์ 1 ค.",1,54773.3,"06.19.257",{"$f":"IF(BV3060=\"จำหน่าย\",0,SUM(J3060*K3060))","v":54773.3},{"$f":"IF(K3060<5000,0,M3060)","v":54773.3},3,"2013-04-07",1096,18257.766666666666,1521.4805555555556,49.97563868613139,0,0,54772.3,0,54772.3,0,1,8,7,15,3151,"NO",null,null,null,null,null,null,null,null,null,null,null,null,null,null,null,33.333333333333336,null,null,null,null,null,null,null,null,null,null,null,null,null,null,null,null,null,null,null,null,null,null,"06","19","257",null,null,null,"8 ปี  7 เดือน  15 วัน  ",4023]
[{"$f":"A3068+1","v":4032},null,"2010-04-22",53,null,null,null,null,"กล้องถ่ายภาพดิจิตอล 1 ตัว",1,10000,"06.01.209",{"$f":"IF(BV3069=\"จำหน่าย\",0,SUM(J3069*K3069))","v":10000},{"$f":"IF(K3069<5000,0,M3069)","v":10000},5,"2015-04-22",1826,2000,166.66666666666666,5.47645125958379,0,0,9999,0,9999,0,1,8,6,31,3136,"NO",null,null,null,null,null,null,null,null,null,null,null,null,null,null,null,20,null,null,null,null,null,null,null,null,null,null,null,null,null,null,null,null,null,null,null,null,null,null,"06","01","209",null,null,null,"8 ปี  6 เดือน  31 วัน  ",4032]
[{"$f":"A3076+1","v":4040},null,"2010-05-07",53,null,null,null,null,"ม่านปรับแสง 2.33x2.10 ม. 2 ชุด",2,5636,"01.19.597-598",{"$f":"IF(BV3077=\"จำหน่าย\",0,SUM(J3077*K3077))","v":11272},{"$f":"IF(K3077<5000,0,M3077)","v":11272},8,"2018-05-07",2922,1409,117.41666666666667,3.8576317590691307,0,0,11270,0,11270,0,2,8,6,15,3121,"NO",null,null,null,null,null,null,null,null,null,null,null,null,null,null,null,12.5,null,null,null,null,null,null,null,null,null,null,null,null,null,null,null,null,null,null,null,null,null,null,"01","19","597-598",null,null,null,"8 ปี  6 เดือน  15 วัน  ",4040]
[{"$f":"A3091+1","v":4055},null,"2010-06-04",53,null,null,null,null,"เครื่องปรับอากาศ 35,500 BTU 1 ค.",1,33000,"01.29.1297",{"$f":"IF(BV3092=\"จำหน่าย\",0,SUM(J3092*K3092))","v":33000},{"$f":"IF(K3092<5000,0,M3092)","v":33000},8,"2018-06-04",2922,4125,343.75,11.293634496919918,0,0,32999,0,32999,0,1,8,5,18,3093,"NO",null,null,null,null,null,null,null,null,null,null,null,null,null,null,null,12.5,null,null,null,null,null,null,null,null,null,null,null,null,null,null,null,null,null,null,null,null,null,null,"01","29","1297",null,null,null,"8 ปี  5 เดือน  18 วัน  ",4055]
[{"$f":"A3096+1","v":4060},null,"2010-06-09",53,null,null,null,null,"ผ้าม่าน 3.52x2.11 ม. 2 ชุด",2,7500,"01.19.608-609",{"$f":"IF(BV3097=\"จำหน่าย\",0,SUM(J3097*K3097))","v":15000},{"$f":"IF(K3097<5000,0,M3097)","v":15000},8,{"$f":"DATE(YEAR(C3097)+O3097,MONTH(C3097),DAY(C3097))","v":"2018-06-09"},{"$f":"IF(NOT(OR(ISBLANK(P3097),ISBLANK(C3097))),P3097-C3097,\"\")","v":2922},{"$f":"SLN(N3097,,O3097)","v":1875},{"$f":"SLN(R3097,,12)","v":156.25},{"$f":"SLN(N3097,,Q3097)","v":5.1334702258726903},{"$f":"IF(N3097=0,0,IF(AE3097<=Q3097,1,0))","v":0},0,14998,0,14998,0,2,{"$f":"DATEDIF(C3097,TODAY(),\"Y\")","v":8},{"$f":"DATEDIF(C3097,TODAY(),\"YM\")","v":5},{"$f":"DATEDIF(C3097,TODAY(),\"md\")+1","v":13},{"$f":"DATEDIF(C3097,TODAY(),\"d\")+1","v":3088},{"$f":"IF(N3097=0,\"No\",IF(AE3097>Q3097,\"NO\",\"YES\"))","v":"NO"},null,null,null,null,null,null,null,null,null,null,null,null,null,null,null,{"$f":"100/O3097","v":12.5},null,null,null,null,null,null,null,null,null,null,null,null,null,null,null,null,null,null,null,null,null,null,"01","19","608-609",null,null,null,{"$f":"CONCATENATE(AB3097,\" ปี  \",AC3097,\" เดือน  \",AD3097,\" วัน  \")","v":"8 ปี  5 เดือน  13 วัน  "},{"$f":"A3097","v":4060}]
[{"$f":"A3107+1","v":4071},null,"2010-06-18",53,null,null,null,null,"กลองทัด 1 ชุด",1,12000,"12.02.12",{"$f":"IF(BV3108=\"จำหน่าย\",0,SUM(J3108*K3108))","v":12000},{"$f":"IF(K3108<5000,0,M3108)","v":12000},5,"2015-06-18",1826,2400,200,6.571741511500548,0,0,11999,0,11999,0,1,8,5,4,3079,"NO",null,null,null,null,null,null,null,null,null,null,null,null,null,null,null,20,null,null,null,null,null,null,null,null,null,null,null,null,null,null,null,null,null,null,null,null,null,null,"12","02","12",null,null,null,"8 ปี  5 เดือน  4 วัน  ",4071]
[{"$f":"A3122+1","v":4086},null,"2010-06-24",53,null,null,null,null,"เครื่องปรับอากาศ 25,733.30BTU 1 ค.",1,29000,"01.29.1300",{"$f":"IF(BV3123=\"จำหน่าย\",0,SUM(J3123*K3123))","v":29000},{"$f":"IF(K3123<5000,0,M3123)","v":29000},8,"2018-06-24",2922,3625,302.08333333333331,9.9247091033538677,0,0,28999,0,28999,0,1,8,4,29,3073,"NO",null,null,null,null,null,null,null,null,null,null,null,null,null,null,null,12.5,null,null,null,null,null,null,null,null,null,null,null,null,null,null,null,null,null,null,null,null,null,null,"01","29","1300",null,null,null,"8 ปี  4 เดือน  29 วัน  ",4086]
[{"$f":"A3127+1","v":4091},null,"2010-07-02",53,null,null,null,null,"เครื่องปรับอากาศ 25,000 BTU 1 ค. ",1,37400,"01.29.1301",{"$f":"IF(BV3128=\"จำหน่าย\",0,SUM(J3128*K3128))","v":37400},{"$f":"IF(K3128<5000,0,M3128)","v":37400},8,"2018-07-02",2922,4675,389.58333333333331,12.799452429842573,0,0,37399,0,37399,0,1,8,4,20,3065,"NO",null,null,null,null,null,null,null,null,null,null,null,null,null,null,null,12.5,null,null,null,null,null,null,null,null,null,null,null,null,null,null,null,null,null,null,null,null,null,null,"01","29","1301",null,null,null,"8 ปี  4 เดือน  20 วัน  ",4091]
[{"$f":"A3138+1","v":4102},null,"2010-07-14",53,null,null,null,null,"โต๊ะสนาม 18 ตัว",18,7800,"01.02.10188-10205",{"$f":"IF(BV3139=\"จำหน่าย\",0,SUM(J3139*K3139))","v":140400},{"$f":"IF(K3139<5000,0,M3139)","v":140400},8,"2018-07-14",2922,17550,1462.5,48.049281314168375,0,0,140382,0,140382,0,18,8,4,8,3053,"NO",null,null,null,null,null,null,null,null,null,null,null,null,null,null,null,12.5,null,null,null,null,null,null,null,null,null,null,null,null,null,null,null,null,null,null,null,null,null,null,"01","02","10188-10205",null,null,null,"8 ปี  4 เดือน  8 วัน  ",4102]
[{"$f":"A3143+1","v":4107},null,"2010-07-15",53,null,null,null,null,"เครื่องมัลติมีเดียโปรเจคเตอร์ 1 ค.",1,95230,"06.19.264",{"$f":"IF(BV3144=\"จำหน่าย\",0,SUM(J3144*K3144))","v":95230},{"$f":"IF(K3144<5000,0,M3144)","v":95230},3,"2013-07-15",1096,31743.333333333332,2645.2777777777778,86.888686131386862,0,0,95229,0,95229,0,1,8,4,7,3052,"NO",null,null,null,null,null,null,null,null,null,null,null,null,null,null,null,33.333333333333336,null,null,null,null,null,null,null,null,null,null,null,null,null,null,null,null,null,null,null,null,null,null,"06","19","264",null,null,null,"8 ปี  4 เดือน  7 วัน  ",4107]
[{"$f":"A3155+1","v":4119},null,"2010-07-23",53,null,null,null,null,"เครื่องตัดหญ้าแบบรถเข็น 4 ล้อ 5 ค.",5,13375,"08.03.91-95",{"$f":"IF(BV3156=\"จำหน่าย\",0,SUM(J3156*K3156))","v":66875},{"$f":"IF(K3156<5000,0,M3156)","v":66875},5,"2015-07-23",1826,13375,1114.5833333333333,36.623767798466595,0,0,66870,0,66870,0,5,8,3,30,3044,"NO",null,null,null,null,null,null,null,null,null,null,null,null,null,null,null,20,null,null,null,null,null,null,null,null,null,null,null,null,null,null,null,null,null,null,null,null,null,null,"08","03","91-95",null,null,null,"8 ปี  3 เดือน  30 วัน  ",4119]
[{"$f":"A3170+1","v":4133},null,"2010-08-10",53,null,null,null,null,"บอร์ดขาเดียว 4 อัน  ",4,6250,"01.14.698-701",{"$f":"IF(BV3171=\"จำหน่าย\",0,SUM(J3171*K3171))","v":25000},{"$f":"IF(K3171<5000,0,M3171)","v":25000},8,"2018-08-10",2922,3125,260.41666666666669,8.555783709787816,0,0,24996,0,24996,0,4,8,3,12,3026,"NO",null,null,null,null,null,null,null,null,null,null,null,null,null,null,null,12.5,null,null,null,null,null,null,null,null,null,null,null,null,null,null,null,null,null,null,null,null,null,null,"01","14","698-701",null,null,null,"8 ปี  3 เดือน  12 วัน  ",4133]
[{"$f":"A3175+1","v":4138},null,"2010-08-11",53,null,null,null,null,"กล้องวิดีโอ 1 ตัว",1,11900,"06.17.267",{"$f":"IF(BV3176=\"จำหน่าย\",0,SUM(J3176*K3176))","v":11900},{"$f":"IF(K3176<5000,0,M3176)","v":11900},5,"2015-08-11",1826,2380,198.33333333333334,6.5169769989047097,0,0,11899,0,11899,0,1,8,3,11,3025,"NO",null,null,null,null,null,null,null,null,null,null,null,null,null,null,null,20,null,null,null,null,null,null,null,null,null,null,null,null,null,null,null,null,null,null,null,null,null,null,"06","17","267",null,null,null,"8 ปี  3 เดือน  11 วัน  ",4138]
[{"$f":"A3186+1","v":4149},null,"2010-08-25",53,null,null,null,null,"โต๊ะประชุมขนาด 8 ที่นั่ง 1 ตัว",1,8000,"01.02.10305",{"$f":"IF(BV3187=\"จำหน่าย\",0,SUM(J3187*K3187))","v":8000},{"$f":"IF(K3187<5000,0,M3187)","v":8000},8,"2018-08-25",2922,1000,83.333333333333329,2.7378507871321012,0,0,7999,0,7999,0,1,8,2,28,3011,"NO",null,null,null,null,null,null,null,null,null,null,null,null,null,null,null,12.5,null,null,null,null,null,null,null,null,null,null,null,null,null,null,null,null,null,null,null,null,null,null,"01","02","10305",null,null,null,"8 ปี  2 เดือน  28 วัน  ",4149]
[{"$f":"A3201+1","v":4164},null,"2010-09-06",53,null,null,null,null,"เครื่องปรับอากาศ 25,733 BTU 1 ค.",1,29000,"01.29.1308",{"$f":"IF(BV3202=\"จำหน่าย\",0,SUM(J3202*K3202))","v":29000},{"$f":"IF(K3202<5000,0,M3202)","v":29000},8,"2018-09-06",2922,3625,302.08333333333331,9.9247091033538677,0,0,28999,0,28999,0,1,8,2,16,2999,"NO",null,null,null,null,null,null,null,null,null,null,null,null,null,null,null,12.5,null,null,null,null,null,null,null,null,null,null,null,null,null,null,null,null,null,null,null,null,null,null,"01","29","1308",null,null,null,"8 ปี  2 เดือน  16 วัน  ",4164]
[{"$f":"A3206+1","v":4169},null,"2010-09-08",53,null,null,null,null,"ชุดรับแขก 4 ชุด",4,23219,"01.01.43640-43643",{"$f":"IF(BV3207=\"จำหน่าย\",0,SUM(J3207*K3207))","v":92876},{"$f":"IF(K3207<5000,0,M3207)","v":92876},8,"2018-09-08",2922,11609.5,967.45833333333337,31.78507871321013,0,0,92872,0,92872,0,4,8,2,14,2997,"NO",null,null,null,null,null,null,null,null,null,null,null,null,null,null,null,12.5,null,null,null,null,null,null,null,null,null,null,null,null,null,null,null,null,null,null,null,null,null,null,"01","01","43640-43643",null,null,null,"8 ปี  2 เดือน  14 วัน  ",4169]
[{"$f":"A3217+1","v":4180},null,"2010-09-21",53,null,null,null,null,"เครื่องปรับอากาศ 24,000 BTU 4 ค.",4,24399.21,"01.29.1326-1329",{"$f":"IF(BV3218=\"จำหน่าย\",0,SUM(J3218*K3218))","v":97596.84},{"$f":"IF(K3218<5000,0,M3218)","v":97596.84},8,"2018-09-21",2922,12199.605,1016.63375,33.400698151950721,0,0,97592.84,0,97592.84,0,4,8,2,1,2984,"NO",null,null,null,null,null,null,null,null,null,null,null,null,null,null,null,12.5,null,null,null,null,null,null,null,null,null,null,null,null,null,null,null,null,null,null,null,null,null,null,"01","29","1326-1329",null,null,null,"8 ปี  2 เดือน  1 วัน  ",4180]
[{"$f":"A3229+1","v":4192},null,"2010-10-27",54,null,null,null,null,"เครื่องขยายเสียง 1 ค.",1,28500,"05.06.955",{"$f":"IF(BV3230=\"จำหน่าย\",0,SUM(J3230*K3230))","v":28500},{"$f":"IF(K3230<5000,0,M3230)","v":28500},5,"2015-10-27",1826,5700,475,15.607886089813801,0,0,28499,0,28499,0,1,8,0,26,2948,"NO",null,null,null,null,null,null,null,null,null,null,null,null,null,null,null,20,null,null,null,null,null,null,null,null,null,null,null,null,null,null,null,null,null,null,null,null,null,null,"05","06","955",null,null,null,"8 ปี  0 เดือน  26 วัน  ",4192]
[{"$f":"A3244+1","v":4207},null,"2010-11-08",54,null,null,null,null,"ปั๊มน้ำบาดาล 1 ค.",1,31000,"08.06.109",{"$f":"IF(BV3245=\"จำหน่าย\",0,SUM(J3245*K3245))","v":31000},{"$f":"IF(K3245<5000,0,M3245)","v":31000},5,"2015-11-08",1826,6200,516.66666666666663,16.976998904709749,0,0,30999,0,30999,0,1,8,0,14,2936,"NO",null,null,null,null,null,null,null,null,null,null,null,null,null,null,null,20,null,null,null,null,null,null,null,null,null,null,null,null,null,null,null,null,null,null,null,null,null,null,"08","06","109",null,null,null,"8 ปี  0 เดือน  14 วัน  ",4207]
[{"$f":"A3249+1","v":4212},null,"2010-11-15",54,null,null,null,null,"ตู้เหล็กล็อกเกอร์ 2 ใบ",2,11000,"01.06.2212-2213",{"$f":"IF(BV3250=\"จำหน่าย\",0,SUM(J3250*K3250))","v":22000},{"$f":"IF(K3250<5000,0,M3250)","v":22000},8,"2018-11-15",2922,2750,229.16666666666666,7.529089664613279,0,0,21998,0,21998,0,2,8,0,7,2929,"NO",null,null,null,null,null,null,null,null,null,null,null,null,null,null,null,12.5,null,null,null,null,null,null,null,null,null,null,null,null,null,null,null,null,null,null,null,null,null,null,"01","06","2212-2213",null,null,null,"8 ปี  0 เดือน  7 วัน  ",4212]
[{"$f":"A3264+1","v":4227},null,"2010-11-26",54,null,null,null,null,"เครื่องมัลติมีเดียโปรเจคเตอร์ 1 ค.",1,29425,"06.19.321",{"$f":"IF(BV3265=\"จำหน่าย\",0,SUM(J3265*K3265))","v":29425},{"$f":"IF(K3265<5000,0,M3265)","v":29425},3,"2013-11-26",1096,9808.3333333333339,817.3611111111112,26.847627737226276,0,0,29424,0,29424,0,1,7,11,27,2918,"NO",null,null,null,null,null,null,null,null,null,null,null,null,null,null,null,33.333333333333336,null,null,null,null,null,null,null,null,null,null,null,null,null,null,null,null,null,null,null,null,null,null,"06","19","321",null,null,null,"7 ปี  11 เดือน  27 วัน  ",4227]
[{"$f":"A3265+1","v":4228},null,"2010-11-29",54,null,null,null,null,"เครื่องปรับอากาศ 9,000 BTU 1 ค.",1,17013,"01.29.1337",{"$f":"IF(BV3266=\"จำหน่าย\",0,SUM(J3266*K3266))","v":17013},{"$f":"IF(K3266<5000,0,M3266)","v":17013},8,"2018-11-29",2922,2126.625,177.21875,5.8223819301848048,1,177.21875,16835.78125,5.8223819301848048,16972.243326488708,174.67145790554414,40.75667351129232,7,11,24,2915,"YES",null,null,null,null,null,null,null,null,null,null,null,null,null,null,null,12.5,null,null,null,null,null,null,null,null,null,null,null,null,null,null,null,null,null,null,null,null,null,null,"01","29","1337",null,null,null,"7 ปี  11 เดือน  24 วัน  ",4228]
[{"$f":"A3280+1","v":4243},null,"2010-12-10",54,null,null,null,null,"บอร์ดติดผนังโครงไม้ 1 อัน",1,7000,"01.14.775",{"$f":"IF(BV3281=\"จำหน่าย\",0,SUM(J3281*K3281))","v":7000},{"$f":"IF(K3281<5000,0,M3281)","v":7000},8,"2018-12-10",2922,875,72.916666666666671,2.3956194387405887,1,72.916666666666671,6927.083333333333,2.3956194387405887,6956.8788501026693,71.868583162217661,43.121149897330724,7,11,12,2904,"YES",null,null,null,null,null,null,null,null,null,null,null,null,null,null,null,12.5,null,null,null,null,null,null,null,null,null,null,null,null,null,null,null,null,null,null,null,null,null,null,"01","14","775",null,null,null,"7 ปี  11 เดือน  12 วัน  ",4243]
[{"$f":"A3291+1","v":4254},null,"2010-12-15",54,null,null,null,null,"บอร์ดเสียบกระดาษโปสเตอร์ 3 อัน",3,6250,"01.14.761-763",{"$f":"IF(BV3292=\"จำหน่าย\",0,SUM(J3292*K3292))","v":18750},{"$f":"IF(K3292<5000,0,M3292)","v":18750},8,"2018-12-15",2922,2343.75,195.3125,6.4168377823408624,1,195.3125,18554.6875,6.4168377823408624,18602.412731006159,192.50513347022587,147.58726899384055,7,11,7,2899,"YES",null,null,null,null,null,null,null,null,null,null,null,null,null,null,null,12.5,null,null,null,null,null,null,null,null,null,null,null,null,null,null,null,null,null,null,null,null,null,null,"01","14","761-763",null,null,null,"7 ปี  11 เดือน  7 วัน  ",4254]
[{"$f":"A3299+1","v":4262},null,"2010-12-20",54,null,null,null,null,"ป้ายไปรษณีย์ราชภัฏราชนครินทร์ 1 อัน",1,10000,"01.14.766",{"$f":"IF(BV3300=\"จำหน่าย\",0,SUM(J3300*K3300))","v":10000},{"$f":"IF(K3300<5000,0,M3300)","v":10000},8,"2018-12-20",2922,1250,104.16666666666667,3.4223134839151266,1,104.16666666666667,9895.8333333333339,3.4223134839151266,9904.1752224503762,102.6694045174538,95.824777549623832,7,11,2,2894,"YES",null,null,null,null,null,null,null,null,null,null,null,null,null,null,null,12.5,null,null,null,null,null,null,null,null,null,null,null,null,null,null,null,null,null,null,null,null,null,null,"01","14","766",null,null,null,"7 ปี  11 เดือน  2 วัน  ",4262]
[{"$f":"A3312+1","v":4275},null,"2011-01-07",54,null,null,null,null,"ตู้เก็บเอกสารบานเลื่อน 2 ใบ",2,5000,"01.06.2235-2236",{"$f":"IF(BV3313=\"จำหน่าย\",0,SUM(J3313*K3313))","v":10000},{"$f":"IF(K3313<5000,0,M3313)","v":10000},8,"2019-01-07",2922,1250,104.16666666666667,3.4223134839151266,1,104.16666666666667,9791.6666666666661,3.4223134839151266,9842.5735797399047,102.6694045174538,157.42642026009526,7,10,15,2876,"YES",null,null,null,null,null,null,null,null,null,null,null,null,null,null,null,12.5,null,null,null,null,null,null,null,null,null,null,null,null,null,null,null,null,null,null,null,null,null,null,"01","06","2235-2236",null,null,null,"7 ปี  10 เดือน  15 วัน  ",4275]
[{"$f":"A3323+1","v":4286},null,"2011-01-19",54,null,null,null,null,"เครื่องเล่นคาราโอเกะ 2 ค.",2,14650,"01.58.571-572",{"$f":"IF(BV3324=\"จำหน่าย\",0,SUM(J3324*K3324))","v":29300},{"$f":"IF(K3324<5000,0,M3324)","v":29300},8,"2019-01-19",2922,3662.5,305.20833333333331,10.027378507871321,1,305.20833333333331,28689.583333333332,10.027378507871321,28718.412046543461,300.8213552361396,581.58795345653925,7,10,3,2864,"YES",null,null,null,null,null,null,null,null,null,null,null,null,null,null,null,12.5,null,null,null,null,null,null,null,null,null,null,null,null,null,null,null,null,null,null,null,null,null,null,"01","58","571-572",null,null,null,"7 ปี  10 เดือน  3 วัน  ",4286]
[{"$f":"A3328+1","v":4291},null,"2011-01-20",54,null,null,null,null,"โต๊ะวางคอมพิวเตอร์ 3 ตัว",3,6666.666666666667,"01.02.10562-10565",{"$f":"IF(BV3329=\"จำหน่าย\",0,SUM(J3329*K3329))","v":20000},{"$f":"IF(K3329<5000,0,M3329)","v":20000},8,"2019-01-20",2922,2500,208.33333333333334,6.8446269678302532,1,208.33333333333334,19583.333333333332,6.8446269678302532,19596.167008898014,205.3388090349076,403.83299110198641,7,10,2,2863,"YES",null,null,null,null,null,null,null,null,null,null,null,null,null,null,null,12.5,null,null,null,null,null,null,null,null,null,null,null,null,null,null,null,null,null,null,null,null,null,null,"01","02","10562-10565",null,null,null,"7 ปี  10 เดือน  2 วัน  ",4291]
[{"$f":"A3343+1","v":4306},null,"2011-01-31",54,null,null,null,null,"ชุดรับแขก 1 ชุด",1,12733,"01.01.45348",{"$f":"IF(BV3344=\"จำหน่าย\",0,SUM(J3344*K3344))","v":12733},{"$f":"IF(K3344<5000,0,M3344)","v":12733},8,"2019-01-31",2922,1591.625,132.63541666666666,4.3576317590691307,1,132.63541666666666,12335.09375,4.3576317590691307,12427.965776865161,130.72895277207391,305.03422313483861,7,9,22,2852,"YES",null,null,null,null,null,null,null,null,null,null,null,null,null,null,null,12.5,null,null,null,null,null,null,null,null,null,null,null,null,null,null,null,null,null,null,null,null,null,null,"01","01","45348",null,null,null,"7 ปี  9 เดือน  22 วัน  ",4306]
[{"$f":"A3354+1","v":4317},null,"2011-02-04",54,null,null,null,null,"เครื่องถ่ายทอดสัญญาณภาพ 3 มิติ 1 ค.",1,27300,"06.38.99",{"$f":"IF(BV3355=\"จำหน่าย\",0,SUM(J3355*K3355))","v":27300},{"$f":"IF(K3355<5000,0,M3355)","v":27300},5,"2016-02-04",1826,5460,455,14.950711938663746,0,0,27299,0,27299,0,1,7,9,18,2848,"NO",null,null,null,null,null,null,null,null,null,null,null,null,null,null,null,20,null,null,null,null,null,null,null,null,null,null,null,null,null,null,null,null,null,null,null,null,null,null,"06","38","99",null,null,null,"7 ปี  9 เดือน  18 วัน  ",4317]
[{"$f":"A3359+1","v":4322},null,"2011-03-04",54,null,null,null,null,"บอร์ดประชาสัมพันธ์ 1 อัน",1,8500,"01.14.793",{"$f":"IF(BV3360=\"จำหน่าย\",0,SUM(J3360*K3360))","v":8500},{"$f":"IF(K3360<5000,0,M3360)","v":8500},8,"2019-03-04",2922,1062.5,88.541666666666671,2.9089664613278576,1,88.541666666666671,8145.833333333333,2.9089664613278576,8203.2854209445577,87.26899383983573,296.7145790554423,7,8,18,2820,"YES",null,null,null,null,null,null,null,null,null,null,null,null,null,null,null,12.5,null,null,null,null,null,null,null,null,null,null,null,null,null,null,null,null,null,null,null,null,null,null,"01","14","793",null,null,null,"7 ปี  8 เดือน  18 วัน  ",4322]
[{"$f":"A3370+1","v":4333},null,"2011-03-22",54,null,null,null,null,"เครื่องขยายเสียง 1 ค.",1,12800,"05.06.970",{"$f":"IF(BV3371=\"จำหน่าย\",0,SUM(J3371*K3371))","v":12800},{"$f":"IF(K3371<5000,0,M3371)","v":12800},5,"2016-03-22",1827,2560,213.33333333333334,7.0060207991242471,0,0,12799,0,12799,0,1,7,7,31,2802,"NO",null,null,null,null,null,null,null,null,null,null,null,null,null,null,null,20,null,null,null,null,null,null,null,null,null,null,null,null,null,null,null,null,null,null,null,null,null,null,"05","06","970",null,null,null,"7 ปี  7 เดือน  31 วัน  ",4333]
[{"$f":"A3385+1","v":4348},null,"2011-04-05",54,null,null,null,null,"เครื่องพิมพ์ 1 ค.",1,12829.3,"01.72.756",{"$f":"IF(BV3386=\"จำหน่าย\",0,SUM(J3386*K3386))","v":12829.3},{"$f":"IF(K3386<5000,0,M3386)","v":12829.3},3,"2014-04-05",1096,4276.4333333333334,356.36944444444447,11.705565693430657,0,0,12828.3,0,12828.3,0,1,7,7,17,2788,"NO",null,null,null,null,null,null,null,null,null,null,null,null,null,null,null,33.333333333333336,null,null,null,null,null,null,null,null,null,null,null,null,null,null,null,null,null,null,null,null,null,null,"01","72","756",null,null,null,"7 ปี  7 เดือน  17 วัน  ",4348]
[{"$f":"A3391+1","v":4354},null,"2011-04-18",54,null,null,null,null,"เครื่องพิมพ์ 1 ค.",1,17500,"01.72.755",{"$f":"IF(BV3392=\"จำหน่าย\",0,SUM(J3392*K3392))","v":17500},{"$f":"IF(K3392<5000,0,M3392)","v":17500},3,"2014-04-18",1096,5833.333333333333,486.11111111111109,15.967153284671532,0,0,17499,0,17499,0,1,7,7,4,2775,"NO",null,null,null,null,null,null,null,null,null,null,null,null,null,null,null,33.333333333333336,null,null,null,null,null,null,null,null,null,null,null,null,null,null,null,null,null,null,null,null,null,null,"01","72","755",null,null,null,"7 ปี  7 เดือน  4 วัน  ",4354]
[{"$f":"A3402+1","v":4365},null,"2011-04-22",54,null,null,null,null,"กล้องถ่ายภาพดิจิตอล 1 ตัว",1,9990,"06.01.221",{"$f":"IF(BV3403=\"จำหน่าย\",0,SUM(J3403*K3403))","v":9990},{"$f":"IF(K3403<5000,0,M3403)","v":9990},5,"2016-04-22",1827,1998,166.5,5.4679802955665027,0,0,9989,0,9989,0,1,7,6,31,2771,"NO",null,null,null,null,null,null,null,null,null,null,null,null,null,null,null,20,null,null,null,null,null,null,null,null,null,null,null,null,null,null,null,null,null,null,null,null,null,null,"06","01","221",null,null,null,"7 ปี  6 เดือน  31 วัน  ",4365]
[{"$f":"A3407+1","v":4370},null,"2011-04-30",54,null,null,null,null,"เครื่องขยายเสียง 1 ค.",1,19153,"05.06.971",{"$f":"IF(BV3408=\"จำหน่าย\",0,SUM(J3408*K3408))","v":19153},{"$f":"IF(K3408<5000,0,M3408)","v":19153},5,"2016-04-30",1827,3830.6,319.21666666666664,10.483305966064586,0,0,19152,0,19152,0,1,7,6,23,2763,"NO",null,null,null,null,null,null,null,null,null,null,null,null,null,null,null,20,null,null,null,null,null,null,null,null,null,null,null,null,null,null,null,null,null,null,null,null,null,null,"05","06","971",null,null,null,"7 ปี  6 เดือน  23 วัน  ",4370]
[{"$f":"A3418+1","v":4381},null,"2011-05-04",54,null,null,null,null,"โทรทัศน์สี 32\" 1 ค.",1,10690,"05.10.570",{"$f":"IF(BV3419=\"จำหน่าย\",0,SUM(J3419*K3419))","v":10690},{"$f":"IF(K3419<5000,0,M3419)","v":10690},5,"2016-05-04",1827,2138,178.16666666666666,5.8511220580186096,0,0,10689,0,10689,0,1,7,6,18,2759,"NO",null,null,null,null,null,null,null,null,null,null,null,null,null,null,null,20,null,null,null,null,null,null,null,null,null,null,null,null,null,null,null,null,null,null,null,null,null,null,"05","10","570",null,null,null,"7 ปี  6 เดือน  18 วัน  ",4381]
[{"$f":"A3433+1","v":4396},null,"2011-06-12",54,null,null,null,null,"เครื่องคอมพิวเตอร์ 1 ค.",1,15515,"01.53.4155",{"$f":"IF(BV3434=\"จำหน่าย\",0,SUM(J3434*K3434))","v":15515},{"$f":"IF(K3434<5000,0,M3434)","v":15515},3,"2014-06-12",1096,5171.666666666667,430.97222222222223,14.156021897810218,0,0,15514,0,15514,0,1,7,5,10,2720,"NO",null,null,null,null,null,null,null,null,null,null,null,null,null,null,null,33.333333333333336,null,null,null,null,null,null,null,null,null,null,null,null,null,null,null,null,null,null,null,null,null,null,"01","53","4155",null,null,null,"7 ปี  5 เดือน  10 วัน  ",4396]
[{"$f":"A3438+1","v":4401},null,"2011-06-20",54,null,null,null,null,"เครื่องปรับอากาศ 25,000 BTU 2 ค.",2,31500,"01.29.1389-1390",{"$f":"IF(BV3439=\"จำหน่าย\",0,SUM(J3439*K3439))","v":63000},{"$f":"IF(K3439<5000,0,M3439)","v":63000},8,"2019-06-20",2922,7875,656.25,21.560574948665298,1,656.25,58406.25,21.560574948665298,58472.279260780291,646.81724845995893,4527.7207392197088,7,5,2,2712,"YES",null,null,null,null,null,null,null,null,null,null,null,null,null,null,null,12.5,null,null,null,null,null,null,null,null,null,null,null,null,null,null,null,null,null,null,null,null,null,null,"01","29","1389-1390",null,null,null,"7 ปี  5 เดือน  2 วัน  ",4401]
[{"$f":"A3449+1","v":4412},null,"2011-07-12",54,null,null,null,null,"พรม 1.20x1.80 ม. 1 ผืน",1,7920,"01.49.23",{"$f":"IF(BV3450=\"จำหน่าย\",0,SUM(J3450*K3450))","v":7920},{"$f":"IF(K3450<5000,0,M3450)","v":7920},8,"2019-07-12",2922,990,82.5,2.7104722792607805,1,82.5,7260,2.7104722792607805,7291.1704312114998,81.314168377823421,628.82956878850018,7,4,10,2690,"YES",null,null,null,null,null,null,null,null,null,null,null,null,null,null,null,12.5,null,null,null,null,null,null,null,null,null,null,null,null,null,null,null,null,null,null,null,null,null,null,"01","49","23",null,null,null,"7 ปี  4 เดือน  10 วัน  ",4412]
[{"$f":"A3460+1","v":4423},null,"2011-07-25",54,null,null,null,null,"ม่านปรับแสง 3.80x3.67 ม. 1 ชุด",1,11690,"01.19.848",{"$f":"IF(BV3461=\"จำหน่าย\",0,SUM(J3461*K3461))","v":11690},{"$f":"IF(K3461<5000,0,M3461)","v":11690},8,"2019-07-25",2922,1461.25,121.77083333333333,4.0006844626967828,1,121.77083333333333,10594.0625,4.0006844626967828,10709.832306639288,120.02053388090349,980.16769336071229,7,3,28,2677,"YES",null,null,null,null,null,null,null,null,null,null,null,null,null,null,null,12.5,null,null,null,null,null,null,null,null,null,null,null,null,null,null,null,null,null,null,null,null,null,null,"01","19","848",null,null,null,"7 ปี  3 เดือน  28 วัน  ",4423]
[{"$f":"A3470+1","v":4433},null,"2011-08-11",54,null,null,null,null,"เครื่องสแกนเนอร์ 1 ค.",1,6500,"01.65.102",{"$f":"IF(BV3471=\"จำหน่าย\",0,SUM(J3471*K3471))","v":6500},{"$f":"IF(K3471<5000,0,M3471)","v":6500},3,"2014-08-11",1096,2166.6666666666665,180.55555555555554,5.9306569343065689,0,0,6499,0,6499,0,1,7,3,11,2660,"NO",null,null,null,null,null,null,null,null,null,null,null,null,null,null,null,33.333333333333336,null,null,null,null,null,null,null,null,null,null,null,null,null,null,null,null,null,null,null,null,null,null,"01","65","102",null,null,null,"7 ปี  3 เดือน  11 วัน  ",4433]
[{"$f":"A3481+1","v":4444},null,"2011-08-27",54,null,null,null,null,"ชุดตู้เหล็กเก็บเอกสาร  2 ใบ",2,20972,"01.06.2320-2321",{"$f":"IF(BV3482=\"จำหน่าย\",0,SUM(J3482*K3482))","v":41944},{"$f":"IF(K3482<5000,0,M3482)","v":41944},8,"2019-08-27",2922,5243,436.91666666666669,14.354551676933607,1,436.91666666666669,37574.833333333336,14.354551676933607,37953.43463381246,430.63655030800822,3990.5653661875403,7,2,26,2644,"YES",null,null,null,null,null,null,null,null,null,null,null,null,null,null,null,12.5,null,null,null,null,null,null,null,null,null,null,null,null,null,null,null,null,null,null,null,null,null,null,"01","06","2320-2321",null,null,null,"7 ปี  2 เดือน  26 วัน  ",4444]
[{"$f":"A3496+1","v":4459},null,"2011-09-01",54,null,null,null,null,"เครื่องคอมพิวเตอร์แบบพกพา 1 ค.",1,25145,"01.53.4349",{"$f":"IF(BV3497=\"จำหน่าย\",0,SUM(J3497*K3497))","v":25145},{"$f":"IF(K3497<5000,0,M3497)","v":25145},3,"2014-09-01",1096,8381.6666666666661,698.47222222222217,22.942518248175183,0,0,25144,0,25144,0,1,7,2,21,2639,"NO",null,null,null,null,null,null,null,null,null,null,null,null,null,null,null,33.333333333333336,null,null,null,null,null,null,null,null,null,null,null,null,null,null,null,null,null,null,null,null,null,null,"01","53","4349",null,null,null,"7 ปี  2 เดือน  21 วัน  ",4459]
[{"$f":"A3507+1","v":4470},null,"2011-09-05",54,null,null,null,null,"บอร์ดติดประกาศ 2 หน้า 2 อัน",2,9100,"01.14.822-823",{"$f":"IF(BV3508=\"จำหน่าย\",0,SUM(J3508*K3508))","v":18200},{"$f":"IF(K3508<5000,0,M3508)","v":18200},8,"2019-09-05",2922,2275,189.58333333333334,6.2286105407255308,1,189.58333333333334,16304.166666666666,6.2286105407255308,16412.388774811774,186.85831622176593,1787.6112251882259,7,2,17,2635,"YES",null,null,null,null,null,null,null,null,null,null,null,null,null,null,null,12.5,null,null,null,null,null,null,null,null,null,null,null,null,null,null,null,null,null,null,null,null,null,null,"01","14","822-823",null,null,null,"7 ปี  2 เดือน  17 วัน  ",4470]
[{"$f":"A3512+1","v":4475},null,"2011-09-22",54,null,null,null,null,"เครื่องแสกนเนอร์ 1 ค.",1,58850,"01.65.103",{"$f":"IF(BV3513=\"จำหน่าย\",0,SUM(J3513*K3513))","v":58850},{"$f":"IF(K3513<5000,0,M3513)","v":58850},3,"2014-09-22",1096,19616.666666666668,1634.7222222222224,53.695255474452551,0,0,58849,0,58849,0,1,7,1,31,2618,"NO",null,null,null,null,null,null,null,null,null,null,null,null,null,null,null,33.333333333333336,null,1,"2560-10-31","เครื่องสแกนเอกสาร",1,4847.1000000000004,null,null,null,null,null,null,null,null,null,null,null,null,null,null,null,null,"01","65","103",null,null,null,"7 ปี  1 เดือน  31 วัน  ",4475]
[{"$f":"A3527+1","v":4490},null,"2011-09-28",54,null,null,null,null,"โทรทัศน์สี 55\" 1 ค.",1,57000,"05.10.575",{"$f":"IF(BV3528=\"จำหน่าย\",0,SUM(J3528*K3528))","v":57000},{"$f":"IF(K3528<5000,0,M3528)","v":57000},5,"2016-09-28",1827,11400,950,31.198686371100163,0,0,56999,0,56999,0,1,7,1,25,2612,"NO",null,null,null,null,null,null,null,null,null,null,null,null,null,null,null,20,null,null,null,null,null,null,null,null,null,null,null,null,null,null,null,null,null,null,null,null,null,null,"05","10","575",null,null,null,"7 ปี  1 เดือน  25 วัน  ",4490]
[{"$f":"A3530+1","v":4493},null,"2011-09-28",54,null,null,null,null,"กล้องถ่ายภาพดิจิตอล 1 ตัว",1,8990,"06.01.232",{"$f":"IF(BV3531=\"จำหน่าย\",0,SUM(J3531*K3531))","v":8990},{"$f":"IF(K3531<5000,0,M3531)","v":8990},5,"2016-09-28",1827,1798,149.83333333333334,4.9206349206349209,0,0,8989,0,8989,0,1,7,1,25,2612,"NO",null,null,null,null,null,null,null,null,null,null,null,null,null,null,null,20,null,null,null,null,null,null,null,null,null,null,null,null,null,null,null,null,null,null,null,null,null,null,"06","01","232",null,null,null,"7 ปี  1 เดือน  25 วัน  ",4493]
[{"$f":"A3544+1","v":4507},null,"2011-11-08",55,null,null,null,null,"เครื่องปรับอากาศ 18,000 BTU 6 ค.",6,25145,"01.29.1422-1427",{"$f":"IF(BV3545=\"จำหน่าย\",0,SUM(J3545*K3545))","v":150870},{"$f":"IF(K3545<5000,0,M3545)","v":150870},8,"2019-11-08",2922,18858.75,1571.5625,51.632443531827512,1,1571.5625,132011.25,51.632443531827512,132747.01232032853,1548.9733059548253,18122.987679671467,7,0,14,2571,"YES",null,null,null,null,null,null,null,null,null,null,null,null,null,null,null,12.5,null,null,null,null,null,null,null,null,null,null,null,null,null,null,null,null,null,null,null,null,null,null,"01","29","1422-1427",null,null,null,"7 ปี  0 เดือน  14 วัน  ",4507]
[{"$f":"A3549+1","v":4512},null,"2011-11-11",55,null,null,null,null,"เครื่องเจาะรัศมีพร้อมอุปกรณ์ 1 ชุด",1,848000,"09.37.02",{"$f":"IF(BV3550=\"จำหน่าย\",0,SUM(J3550*K3550))","v":848000},{"$f":"IF(K3550<5000,0,M3550)","v":848000},4,"2015-11-11",1461,212000,17666.666666666668,580.42436687200552,0,0,847999,0,847999,0,1,7,0,11,2568,"NO",null,null,null,null,null,null,null,null,null,null,null,null,null,null,null,25,null,null,null,null,null,null,null,null,null,null,null,null,null,null,null,null,null,null,null,null,null,null,"09","37","02",null,null,null,"7 ปี  0 เดือน  11 วัน  ",4512]
[{"$f":"A3560+1","v":4523},null,"2011-12-16",55,null,null,null,null,"เครื่องพิมพ์ All in One 1 ค.",1,12300,"01.72.794",{"$f":"IF(BV3561=\"จำหน่าย\",0,SUM(J3561*K3561))","v":12300},{"$f":"IF(K3561<5000,0,M3561)","v":12300},3,"2014-12-16",1096,4100,341.66666666666669,11.222627737226277,0,0,12299,0,12299,0,1,6,11,6,2533,"NO",null,null,null,null,null,null,null,null,null,null,null,null,null,null,null,33.333333333333336,null,null,null,null,null,null,null,null,null,null,null,null,null,null,null,null,null,null,null,null,null,null,"01","72","794",null,null,null,"6 ปี  11 เดือน  6 วัน  ",4523]
[{"$f":"A3575+1","v":4538},null,"2012-02-02",55,null,null,null,null,"เครื่องพิมพ์เลเซอร์ 1 ค.",1,13890,"01.72.798",{"$f":"IF(BV3576=\"จำหน่าย\",0,SUM(J3576*K3576))","v":13890},{"$f":"IF(K3576<5000,0,M3576)","v":13890},3,"2015-02-02",1096,4630,385.83333333333331,12.673357664233576,0,0,13889,0,13889,0,1,6,9,20,2485,"NO",null,null,null,null,null,null,null,null,null,null,null,null,null,null,null,33.333333333333336,null,null,null,null,null,null,null,null,null,null,null,null,null,null,null,null,null,null,null,null,null,null,"01","72","798",null,null,null,"6 ปี  9 เดือน  20 วัน  ",4538]
[{"$f":"A3586+1","v":4549},null,"2012-02-16",55,null,null,null,null,"ระบบเครื่องเสียงห้องเรียน 2 ชุด",2,13910,"05.06.995-996",{"$f":"IF(BV3587=\"จำหน่าย\",0,SUM(J3587*K3587))","v":27820},{"$f":"IF(K3587<5000,0,M3587)","v":27820},5,"2017-02-16",1827,5564,463.66666666666669,15.227148330596606,0,0,27818,0,27818,0,2,6,9,6,2471,"NO",null,null,null,null,null,null,null,null,null,null,null,null,null,null,null,20,null,null,null,null,null,null,null,null,null,null,null,null,null,null,null,null,null,null,null,null,null,null,"05","06","995-996",null,null,null,"6 ปี  9 เดือน  6 วัน  ",4549]
[{"$f":"A3591+1","v":4554},null,"2012-02-22",55,null,null,null,null,"ตู้ไม้วางโชว์โล่ห์รางวัลและผลงาน 2 ใบ",2,8000,"01.06.2330-2331",{"$f":"IF(BV3592=\"จำหน่าย\",0,SUM(J3592*K3592))","v":16000},{"$f":"IF(K3592<5000,0,M3592)","v":16000},8,"2020-02-22",2922,2000,166.66666666666666,5.4757015742642023,1,166.66666666666666,13333.333333333334,5.4757015742642023,13497.604380561259,164.27104722792606,2502.3956194387411,6,8,31,2465,"YES",null,null,null,null,null,null,null,null,null,null,null,null,null,null,null,12.5,null,null,null,null,null,null,null,null,null,null,null,null,null,null,null,null,null,null,null,null,null,null,"01","06","2330-2331",null,null,null,"6 ปี  8 เดือน  31 วัน  ",4554]
[{"$f":"A3606+1","v":4569},null,"2012-03-15",55,null,null,null,null,"โต๊ะห้องประชุม 1 ชุด",1,25300,"01.02.11609",{"$f":"IF(BV3607=\"จำหน่าย\",0,SUM(J3607*K3607))","v":25300},{"$f":"IF(K3607<5000,0,M3607)","v":25300},8,"2020-03-15",2922,3162.5,263.54166666666669,8.6584531143052708,1,263.54166666666669,21083.333333333332,8.6584531143052708,21152.600958247778,259.75359342915812,4147.3990417522218,6,8,7,2443,"YES",null,null,null,null,null,null,null,null,null,null,null,null,null,null,null,12.5,null,null,null,null,null,null,null,null,null,null,null,null,null,null,null,null,null,null,null,null,null,null,"01","02","11609",null,null,null,"6 ปี  8 เดือน  7 วัน  ",4569]
[{"$f":"A3616+1","v":4579},null,"2012-03-23",55,null,null,null,null,"เครื่องพิมพ์เลเซอร์สี 1 ค.",1,13803,"01.72.806",{"$f":"IF(BV3617=\"จำหน่าย\",0,SUM(J3617*K3617))","v":13803},{"$f":"IF(K3617<5000,0,M3617)","v":13803},3,"2015-03-23",1095,4601,383.41666666666669,12.605479452054794,0,0,13802,0,13802,0,1,6,7,30,2435,"NO",null,null,null,null,null,null,null,null,null,null,null,null,null,null,null,33.333333333333336,null,null,null,null,null,null,null,null,null,null,null,null,null,null,null,null,null,null,null,null,null,null,"01","72","806",null,null,null,"6 ปี  7 เดือน  30 วัน  ",4579]
[{"$f":"A3623+1","v":4586},null,"2012-03-30",55,null,null,null,null,"ตู้ไม้ใส่รองเท้า 27 ช่อง 1 ใบ",1,5500,"01.06.2341",{"$f":"IF(BV3624=\"จำหน่าย\",0,SUM(J3624*K3624))","v":5500},{"$f":"IF(K3624<5000,0,M3624)","v":5500},8,"2020-03-30",2922,687.5,57.291666666666664,1.8822724161533197,1,57.291666666666664,4526.041666666667,1.8822724161533197,4570.15742642026,56.468172484599592,929.84257357974002,6,7,23,2428,"YES",null,null,null,null,null,null,null,null,null,null,null,null,null,null,null,12.5,null,null,null,null,null,null,null,null,null,null,null,null,null,null,null,null,null,null,null,null,null,null,"01","06","2341",null,null,null,"6 ปี  7 เดือน  23 วัน  ",4586]
[{"$f":"A3634+1","v":4597},null,"2012-04-18",55,null,null,null,null,"เครื่องพิมพ์ 1 ค.",1,5000,"01.72.814",{"$f":"IF(BV3635=\"จำหน่าย\",0,SUM(J3635*K3635))","v":5000},{"$f":"IF(K3635<5000,0,M3635)","v":5000},3,"2015-04-18",1095,1666.6666666666667,138.88888888888889,4.5662100456621006,0,0,4999,0,4999,0,1,6,7,4,2409,"NO",null,null,null,null,null,null,null,null,null,null,null,null,null,null,null,33.333333333333336,null,null,null,null,null,null,null,null,null,null,null,null,null,null,null,null,null,null,null,null,null,null,"01","72","814",null,null,null,"6 ปี  7 เดือน  4 วัน  ",4597]
[{"$f":"A3649+1","v":4612},null,"2012-05-11",55,null,null,null,null,"สายมัลติคอล 1 ชุด",1,50000,"01.58.598",{"$f":"IF(BV3650=\"จำหน่าย\",0,SUM(J3650*K3650))","v":50000},{"$f":"IF(K3650<5000,0,M3650)","v":50000},8,"2020-05-11",2922,6250,520.83333333333337,17.111567419575632,1,520.83333333333337,40625,17.111567419575632,40828.19986310746,513.34702258726895,9171.8001368925397,6,6,11,2386,"YES",null,null,null,null,null,null,null,null,null,null,null,null,null,null,null,12.5,null,null,null,null,null,null,null,null,null,null,null,null,null,null,null,null,null,null,null,null,null,null,"01","58","598",null,null,null,"6 ปี  6 เดือน  11 วัน  ",4612]
[{"$f":"A3654+1","v":4617},null,"2012-05-11",55,null,null,null,null,"เครื่องปรับสัญญาณความถี่เสียง 1 ค.",1,11500,"05.06.1007",{"$f":"IF(BV3655=\"จำหน่าย\",0,SUM(J3655*K3655))","v":11500},{"$f":"IF(K3655<5000,0,M3655)","v":11500},5,"2017-05-11",1826,2300,191.66666666666666,6.2979189485213585,0,0,11499,0,11499,0,1,6,6,11,2386,"NO",null,null,null,null,null,null,null,null,null,null,null,null,null,null,null,20,null,null,null,null,null,null,null,null,null,null,null,null,null,null,null,null,null,null,null,null,null,null,"05","06","1007",null,null,null,"6 ปี  6 เดือน  11 วัน  ",4617]
[{"$f":"A3665+1","v":4628},null,"2012-05-11",55,null,null,null,null,"อัลโตแซกโซโฟน 1 คัน",1,42000,"12.34.10",{"$f":"IF(BV3666=\"จำหน่าย\",0,SUM(J3666*K3666))","v":42000},{"$f":"IF(K3666<5000,0,M3666)","v":42000},5,"2017-05-11",1826,8400,700,23.001095290251918,0,0,41999,0,41999,0,1,6,6,11,2386,"NO",null,null,null,null,null,null,null,null,null,null,null,null,null,null,null,20,null,null,null,null,null,null,null,null,null,null,null,null,null,null,null,null,null,null,null,null,null,null,"12","34","10",null,null,null,"6 ปี  6 เดือน  11 วัน  ",4628]
[{"$f":"A3670+1","v":4633},null,"2012-05-22",55,null,null,null,null,"เครื่องมัลติมีเดียโปรเจคเตอร์ 3 ค.",3,16585,"06.19.361-363",{"$f":"IF(BV3671=\"จำหน่าย\",0,SUM(J3671*K3671))","v":49755},{"$f":"IF(K3671<5000,0,M3671)","v":49755},3,"2015-05-22",1095,16585,1382.0833333333333,45.438356164383563,0,0,49752,0,49752,0,3,6,5,31,2375,"NO",null,null,null,null,null,null,null,null,null,null,null,null,null,null,null,33.333333333333336,null,null,null,null,null,null,null,null,null,null,null,null,null,null,null,null,null,null,null,null,null,null,"06","19","361-363",null,null,null,"6 ปี  5 เดือน  31 วัน  ",4633]
[{"$f":"A3685+1","v":4648},null,"2012-07-06",55,null,null,null,null,"เครื่องมัลติมิเตอร์ 1 ค.",1,6527,"05.03.106",{"$f":"IF(BV3686=\"จำหน่าย\",0,SUM(J3686*K3686))","v":6527},{"$f":"IF(K3686<5000,0,M3686)","v":6527},5,"2017-07-06",1826,1305.4000000000001,108.78333333333335,3.5744797371303396,0,0,6526,0,6526,0,1,6,4,16,2330,"NO",null,null,null,null,null,null,null,null,null,null,null,null,null,null,null,20,null,null,null,null,null,null,null,null,null,null,null,null,null,null,null,null,null,null,null,null,null,null,"05","03","106",null,null,null,"6 ปี  4 เดือน  16 วัน  ",4648]
[{"$f":"A3691+1","v":4654},null,"2012-07-19",55,null,null,null,null,"เครื่องพิมพ์ 2 ค.",2,5900,"01.72.817-818",{"$f":"IF(BV3692=\"จำหน่าย\",0,SUM(J3692*K3692))","v":11800},{"$f":"IF(K3692<5000,0,M3692)","v":11800},3,"2015-07-19",1095,3933.3333333333335,327.77777777777777,10.776255707762557,0,0,11798,0,11798,0,2,6,4,3,2317,"NO",null,null,null,null,null,null,null,null,null,null,null,null,null,null,null,33.333333333333336,null,null,null,null,null,null,null,null,null,null,null,null,null,null,null,null,null,null,null,null,null,null,"01","72","817-818",null,null,null,"6 ปี  4 เดือน  3 วัน  ",4654]
[{"$f":"A3702+1","v":4665},null,"2012-07-25",55,null,null,null,null,"เครื่องสำรองไฟฟ้า 1 ค.",1,9000,"05.46.798",{"$f":"IF(BV3703=\"จำหน่าย\",0,SUM(J3703*K3703))","v":9000},{"$f":"IF(K3703<5000,0,M3703)","v":9000},3,"2015-07-25",1095,3000,250,8.2191780821917817,0,0,8999,0,8999,0,1,6,3,28,2311,"NO",null,null,null,null,null,null,null,null,null,null,null,null,null,null,null,33.333333333333336,null,null,null,null,null,null,null,null,null,null,null,null,null,null,null,null,null,null,null,null,null,null,"05","46","798",null,null,null,"6 ปี  3 เดือน  28 วัน  ",4665]
[{"$f":"A3713+1","v":4676},null,"2012-08-01",55,null,null,null,null,"ม่านปรับแสง 3.90x2.06 ม. 1 ชุด",1,5800,"01.19.1000",{"$f":"IF(BV3714=\"จำหน่าย\",0,SUM(J3714*K3714))","v":5800},{"$f":"IF(K3714<5000,0,M3714)","v":5800},8,"2020-08-01",2922,725,60.416666666666664,1.9849418206707734,1,60.416666666666664,4531.25,1.9849418206707734,4573.3059548254623,59.548254620123203,1226.6940451745377,6,3,21,2304,"YES",null,null,null,null,null,null,null,null,null,null,null,null,null,null,null,12.5,null,null,null,null,null,null,null,null,null,null,null,null,null,null,null,null,null,null,null,null,null,null,"01","19","1000",null,null,null,"6 ปี  3 เดือน  21 วัน  ",4676]
[{"$f":"A3728+1","v":4691},null,"2012-08-16",55,null,null,null,null,"โทรทัศน์สี 50\" 2 ค.",2,24932.5,"05.10.576-577",{"$f":"IF(BV3729=\"จำหน่าย\",0,SUM(J3729*K3729))","v":49865},{"$f":"IF(K3729<5000,0,M3729)","v":49865},5,"2017-08-16",1826,9973,831.08333333333337,27.308324205914566,0,0,49863,0,49863,0,2,6,3,6,2289,"NO",null,null,null,null,null,null,null,null,null,null,null,null,null,null,null,20,null,null,null,null,null,null,null,null,null,null,null,null,null,null,null,null,null,null,null,null,null,null,"05","10","576-577",null,null,null,"6 ปี  3 เดือน  6 วัน  ",4691]
[{"$f":"A3733+1","v":4696},null,"2012-08-21",55,null,null,null,null,"ตู้สำหรับจัดเก็บอุปกรณ์ 1 ใบ",1,7490,"01.58.602",{"$f":"IF(BV3734=\"จำหน่าย\",0,SUM(J3734*K3734))","v":7490},{"$f":"IF(K3734<5000,0,M3734)","v":7490},8,"2020-08-21",2922,936.25,78.020833333333329,2.5633127994524298,1,{"$f":"SUM(R3734*U3734/12)","v":78.020833333333329},{"$f":"IF(N3734=0,0,IF((R3734*AB3734)+(R3734*AC3734/12)>=N3734,N3734-J3734,((R3734*AB3734)+(R3734*AC3734/12))))","v":5851.5625},{"$f":"SUM(T3734*U3734)","v":2.5633127994524298},{"$f":"IF(N3734=0,0,IF((DATEDIF(C3734,TODAY(),\"d\")+1)*T3734>=N3734,N3734-J3734,(DATEDIF(C3734,TODAY(),\"d\")+1)*T3734))","v":5854.6064339493496},{"$f":"IF(U3734=0,0,IF(OR(DAY(C3734)=1,MONTH(C3734)<>MONTH(TODAY()),YEAR(C3734)<>YEAR(TODAY())),T3734*((DAY(DATE(YEAR(TODAY()),MONTH(TODAY())+1,1)-1))),T3734*((DAY(DATE(YEAR(TODAY()),MONTH(TODAY())+1,1)-1)-DAY(C3734)+1))))","v":76.899383983572889},{"$f":"IF(N3734=0,0,IF(X3734>=N3734,(J3734),(N3734-Y3734)))","v":1635.3935660506504},6,3,1,2284,"YES",null,null,null,null,null,null,null,null,null,null,null,null,null,null,null,12.5,null,null,null,null,null,null,null,null,null,null,null,null,null,null,null,null,null,null,null,null,null,null,"01","58","602",null,null,null,"6 ปี  3 เดือน  1 วัน  ",4696]
[{"$f":"A3744+1","v":4707},null,"2012-08-28",55,null,null,null,null,"เครื่องคอมพิวเตอร์แบบพกพา 1 ค.",1,19902,"01.53.4463",{"$f":"IF(BV3745=\"จำหน่าย\",0,SUM(J3745*K3745))","v":19902},{"$f":"IF(K3745<5000,0,M3745)","v":19902},5,"2017-08-28",1826,3980.4,331.7,10.899233296823658,0,0,19901,0,19901,0,1,6,2,25,2277,"NO",null,null,null,null,null,null,null,null,null,null,null,null,null,null,null,20,null,null,null,null,null,null,null,null,null,null,null,null,null,null,null,null,null,null,null,null,null,null,"01","53","4463",null,null,null,"6 ปี  2 เดือน  25 วัน  ",4707]
[{"$f":"A3759+1","v":4722},null,"2012-09-14",55,null,null,null,null,"หม้อแปลงไฟฟ้า 315 KVA",1,197950,"05.02.29",{"$f":"IF(BV3760=\"จำหน่าย\",0,SUM(J3760*K3760))","v":197950},{"$f":"IF(K3760<5000,0,M3760)","v":197950},15,"2027-09-14",5478,13196.666666666666,1099.7222222222222,36.135450894487036,1,1099.7222222222222,81379.444444444438,36.135450894487036,81666.119021540697,1084.0635268346111,116283.8809784593,6,2,8,2260,"YES",null,null,null,null,null,null,null,null,null,null,null,null,null,null,null,6.666666666666667,null,null,null,null,null,null,null,null,null,null,null,null,null,null,null,null,null,null,null,null,null,null,"05","02","29",null,null,null,"6 ปี  2 เดือน  8 วัน  ",4722]
[{"$f":"A3764+1","v":4727},null,"2012-09-27",55,null,null,null,null,"เครื่องคอมพิวเตอร์แท็ปเล็ต 64 GB 2 ค.",2,26000,"01.53.4477-4478",{"$f":"IF(BV3765=\"จำหน่าย\",0,SUM(J3765*K3765))","v":52000},{"$f":"IF(K3765<5000,0,M3765)","v":52000},5,"2017-09-27",1826,10400,866.66666666666663,28.477546549835708,0,0,51998,0,51998,0,2,6,1,26,2247,"NO",null,null,null,null,null,null,null,null,null,null,null,null,null,null,null,20,null,null,null,null,null,null,null,null,null,null,null,null,null,null,null,null,null,null,null,null,null,null,"01","53","4477-4478",null,null,null,"6 ปี  1 เดือน  26 วัน  ",4727]
[{"$f":"A3777+1","v":4740},null,"2012-11-05",56,null,null,null,null,"บอร์ดเฟรมอลูมิเนียม 1.20x4.80 ม. 1 อัน",1,14000,"01.14.874",{"$f":"IF(BV3778=\"จำหน่าย\",0,SUM(J3778*K3778))","v":14000},{"$f":"IF(K3778<5000,0,M3778)","v":14000},8,"2020-11-05",2922,1750,145.83333333333334,4.7912388774811774,1,145.83333333333334,10500,4.7912388774811774,10579.05544147844,143.73716632443532,3420.9445585215599,6,0,17,2208,"YES",null,null,null,null,null,null,null,null,null,null,null,null,null,null,null,12.5,null,null,null,null,null,null,null,null,null,null,null,null,null,null,null,null,null,null,null,null,null,null,"01","14","874",null,null,null,"6 ปี  0 เดือน  17 วัน  ",4740]
[{"$f":"A3791+1","v":4754},null,"2012-11-15",56,null,null,null,null,"สว่านไฟฟ้า 1 ตัว",1,9630,"04.22.91",{"$f":"IF(BV3792=\"จำหน่าย\",0,SUM(J3792*K3792))","v":9630},{"$f":"IF(K3792<5000,0,M3792)","v":9630},2,"2014-11-15",730,4815,401.25,13.191780821917808,0,0,9629,0,9629,0,1,6,0,7,2198,"NO",null,null,null,null,null,null,null,null,null,null,null,null,null,null,null,50,null,null,null,null,null,null,null,null,null,null,null,null,null,null,null,null,null,null,null,null,null,null,"04","22","91",null,null,null,"6 ปี  0 เดือน  7 วัน  ",4754]
[{"$f":"A3792+1","v":4755},null,"2012-11-15",56,null,null,null,null,"กบไสไม้ไฟฟ้า 1 ตัว",1,13375,"04.36.17",{"$f":"IF(BV3793=\"จำหน่าย\",0,SUM(J3793*K3793))","v":13375},{"$f":"IF(K3793<5000,0,M3793)","v":13375},5,"2017-11-15",1826,2675,222.91666666666666,7.3247535596933186,0,0,13374,0,13374,0,1,6,0,7,2198,"NO",null,null,null,null,null,null,null,null,null,null,null,null,null,null,null,20,null,null,null,null,null,null,null,null,null,null,null,null,null,null,null,null,null,null,null,null,null,null,"04","36","17",null,null,null,"6 ปี  0 เดือน  7 วัน  ",4755]
[{"$f":"A3807+1","v":4770},null,"2012-11-23",56,null,null,null,null,"เครื่องพิมพ์เลเซอร์ 3 ค.",3,20758,"01.72.855-857",{"$f":"IF(BV3808=\"จำหน่าย\",0,SUM(J3808*K3808))","v":62274},{"$f":"IF(K3808<5000,0,M3808)","v":62274},3,"2015-11-23",1095,20758,1729.8333333333333,56.871232876712327,0,0,62271,0,62271,0,3,5,11,30,2190,"NO",null,null,null,null,null,null,null,null,null,null,null,null,null,null,null,33.333333333333336,null,null,null,null,null,null,null,null,null,null,null,null,null,null,null,null,null,null,null,null,null,null,"01","72","855-857",null,null,null,"5 ปี  11 เดือน  30 วัน  ",4770]
[{"$f":"A3812+1","v":4775},null,"2012-12-01",56,null,null,null,null,"เตรื่องคอมพิวเตอร์แบบพกพา 2 ค.",2,11800,"01.53.4515-4516",{"$f":"IF(BV3813=\"จำหน่าย\",0,SUM(J3813*K3813))","v":23600},{"$f":"IF(K3813<5000,0,M3813)","v":23600},5,"2017-12-01",1826,4720,393.33333333333331,12.924424972617743,0,0,23598,0,23598,0,2,5,11,21,2182,"NO",null,null,null,null,null,null,null,null,null,null,null,null,null,null,null,20,null,null,null,null,null,null,null,null,null,null,null,null,null,null,null,null,null,null,null,null,null,null,"01","53","4515-4516",null,null,null,"5 ปี  11 เดือน  21 วัน  ",4775]
[{"$f":"A3823+1","v":4786},null,"2012-12-14",56,null,null,null,null,"เครื่องคอมพิวเตอร์แบบพกพา 2 ค.",2,26964,"01.53.4518-4519",{"$f":"IF(BV3824=\"จำหน่าย\",0,SUM(J3824*K3824))","v":53928},{"$f":"IF(K3824<5000,0,M3824)","v":53928},5,"2017-12-14",1826,10785.6,898.80000000000007,29.53340635268346,0,0,53926,0,53926,0,2,5,11,8,2169,"NO",null,null,null,null,null,null,null,null,null,null,null,null,null,null,null,20,null,null,null,null,null,null,null,null,null,null,null,null,null,null,null,null,null,null,null,null,null,null,"01","53","4518-4519",null,null,null,"5 ปี  11 เดือน  8 วัน  ",4786]
[{"$f":"A3838+1","v":4801},null,"2012-12-25",56,null,null,null,null,"ชุดเครื่องเสียง 1 ชุด",1,42693,"05.06.1014",{"$f":"IF(BV3839=\"จำหน่าย\",0,SUM(J3839*K3839))","v":42693},{"$f":"IF(K3839<5000,0,M3839)","v":42693},5,"2017-12-25",1826,8538.6,711.55000000000007,23.380613362541073,0,0,42692,0,42692,0,1,5,10,28,2158,"NO",null,null,null,null,null,null,null,null,null,null,null,null,null,null,null,20,null,null,null,null,null,null,null,null,null,null,null,null,null,null,null,null,null,null,null,null,null,null,"05","06","1014",null,null,null,"5 ปี  10 เดือน  28 วัน  ",4801]
[{"$f":"A3847+1","v":4810},null,"2013-01-04",56,null,null,null,null,"เครื่องพิมพ์เลเซอร์ 1 ค.",1,18999.990000000002,"01.72.845",{"$f":"IF(BV3848=\"จำหน่าย\",0,SUM(J3848*K3848))","v":18999.990000000002},{"$f":"IF(K3848<5000,0,M3848)","v":18999.990000000002},3,"2016-01-04",1095,6333.3300000000008,527.77750000000003,17.351589041095892,0,0,18998.990000000002,0,18998.990000000002,0,1,5,10,18,2148,"NO",null,null,null,null,null,null,null,null,null,null,null,null,null,null,null,33.333333333333336,null,null,null,null,null,null,null,null,null,null,null,null,null,null,null,null,null,null,null,null,null,null,"01","72","845",null,null,null,"5 ปี  10 เดือน  18 วัน  ",4810]
[{"$f":"A3855+1","v":4818},null,"2013-01-14",56,null,null,null,null,"เครื่องพิมพ์ All in One 1 ค.",1,9630,"01.72.850",{"$f":"IF(BV3856=\"จำหน่าย\",0,SUM(J3856*K3856))","v":9630},{"$f":"IF(K3856<5000,0,M3856)","v":9630},3,"2016-01-14",1095,3210,267.5,8.794520547945206,0,0,9629,0,9629,0,1,5,10,8,2138,"NO",null,null,null,null,null,null,null,null,null,null,null,null,null,null,null,33.333333333333336,null,null,null,null,null,null,null,null,null,null,null,null,null,null,null,null,null,null,null,null,null,null,"01","72","850",null,null,null,"5 ปี  10 เดือน  8 วัน  ",4818]
[{"$f":"A3870+1","v":4833},null,"2013-01-31",56,null,null,null,null,"เครื่องคอมพิวเตอร์แบบพกพา 2 ค.",2,35700,"01.53.4705-4706",{"$f":"IF(BV3871=\"จำหน่าย\",0,SUM(J3871*K3871))","v":71400},{"$f":"IF(K3871<5000,0,M3871)","v":71400},5,"2018-01-31",1826,14280,1190,39.101861993428258,0,0,71398,0,71398,0,2,5,9,22,2121,"NO",null,null,null,null,null,null,null,null,null,null,null,null,null,null,null,20,null,null,null,null,null,null,null,null,null,null,null,null,null,null,null,null,null,null,null,null,null,null,"01","53","4705-4706",null,null,null,"5 ปี  9 เดือน  22 วัน  ",4833]
[{"$f":"A3881+1","v":4844},null,"2013-02-11",56,null,null,null,null,"กล้องส่องทางไกล 1 ตัว",1,6500,"07.01.10",{"$f":"IF(BV3882=\"จำหน่าย\",0,SUM(J3882*K3882))","v":6500},{"$f":"IF(K3882<5000,0,M3882)","v":6500},5,"2018-02-11",1826,1300,108.33333333333333,3.5596933187294635,0,0,6499,0,6499,0,1,5,9,11,2110,"NO",null,null,null,null,null,null,null,null,null,null,null,null,null,null,null,20,null,null,null,null,null,null,null,null,null,null,null,null,null,null,null,null,null,null,null,null,null,null,"07","01","10",null,null,null,"5 ปี  9 เดือน  11 วัน  ",4844]
[{"$f":"A3886+1","v":4849},null,"2013-02-15",56,null,null,null,null,"เครื่องพิมพ์เลเซอร์ 1 ค.",1,18000,"01.72.861",{"$f":"IF(BV3887=\"จำหน่าย\",0,SUM(J3887*K3887))","v":18000},{"$f":"IF(K3887<5000,0,M3887)","v":18000},3,"2016-02-15",1095,6000,500,16.438356164383563,0,0,17999,0,17999,0,1,5,9,7,2106,"NO",null,null,null,null,null,null,null,null,null,null,null,null,null,null,null,33.333333333333336,null,null,null,null,null,null,null,null,null,null,null,null,null,null,null,null,null,null,null,null,null,null,"01","72","861",null,null,null,"5 ปี  9 เดือน  7 วัน  ",4849]
[{"$f":"A3901+1","v":4864},null,"2013-03-03",56,null,null,null,null,"กล้องถ่ายภาพดิจิตอล 1 ตัว",1,79000,"06.01.258",{"$f":"IF(BV3902=\"จำหน่าย\",0,SUM(J3902*K3902))","v":79000},{"$f":"IF(K3902<5000,0,M3902)","v":79000},5,"2018-03-03",1826,15800,1316.6666666666667,43.263964950711937,0,0,78999,0,78999,0,1,5,8,19,2090,"NO",null,null,null,null,null,null,null,null,null,null,null,null,null,null,null,20,null,null,null,null,null,null,null,null,null,null,null,null,null,null,null,null,null,null,null,null,null,null,"06","01","258",null,null,null,"5 ปี  8 เดือน  19 วัน  ",4864]
[{"$f":"A3912+1","v":4875},null,"2013-03-22",56,null,null,null,null,"ตู้สำหรับจัดเก็บเครื่องบันทึกข้อมูล 1 ใบ",1,8560,"01.58.622",{"$f":"IF(BV3913=\"จำหน่าย\",0,SUM(J3913*K3913))","v":8560},{"$f":"IF(K3913<5000,0,M3913)","v":8560},8,"2021-03-22",2922,1070,89.166666666666671,2.9295003422313486,1,89.166666666666671,5974.166666666667,2.9295003422313486,6066.9952087611227,87.885010266940455,2493.0047912388773,5,7,31,2071,"YES",null,null,null,null,null,null,null,null,null,null,null,null,null,null,null,12.5,null,null,null,null,null,null,null,null,null,null,null,null,null,null,null,null,null,null,null,null,null,null,"01","58","622",null,null,null,"5 ปี  7 เดือน  31 วัน  ",4875]
[{"$f":"A3917+1","v":4880},null,"2013-03-27",56,null,null,null,null,"ม่านปรับแสง 353x280 ซม. 1 ชุด",1,7116,"01.19.1054",{"$f":"IF(BV3918=\"จำหน่าย\",0,SUM(J3918*K3918))","v":7116},{"$f":"IF(K3918<5000,0,M3918)","v":7116},8,"2021-03-27",2922,889.5,74.125,2.4353182751540041,1,74.125,4966.375,2.4353182751540041,5031.3675564681726,73.059548254620125,2084.6324435318274,5,7,26,2066,"YES",null,null,null,null,null,null,null,null,null,null,null,null,null,null,null,12.5,null,null,null,null,null,null,null,null,null,null,null,null,null,null,null,null,null,null,null,null,null,null,"01","19","1054",null,null,null,"5 ปี  7 เดือน  26 วัน  ",4880]
[{"$f":"A3933+1","v":4896},null,"2013-03-29",56,null,null,null,null,"กล้องวงจรปิด 1 ชุด ",1,789660,"06.17.296",{"$f":"IF(BV3934=\"จำหน่าย\",0,SUM(J3934*K3934))","v":789660},{"$f":"IF(K3934<5000,0,M3934)","v":789660},5,"2018-03-29",1826,157932,13161,432.45345016429354,0,0,789659,0,789659,0,1,5,7,24,2064,"NO",null,null,null,null,null,null,null,null,null,null,null,null,null,null,null,20,null,null,null,null,null,null,null,null,null,null,null,null,null,null,null,null,null,null,null,null,null,null,"06","17","296",null,null,null,"5 ปี  7 เดือน  24 วัน  ",4896]
[{"$f":"A3934+1","v":4897},null,"2013-04-02",56,null,null,null,null,"ฉากกั้นปฐมพยาบาล 4 ชุด",4,5800,"01.19.1047-1050",{"$f":"IF(BV3935=\"จำหน่าย\",0,SUM(J3935*K3935))","v":23200},{"$f":"IF(K3935<5000,0,M3935)","v":23200},8,"2021-04-02",2922,2900,241.66666666666666,7.9397672826830936,1,241.66666666666666,16191.666666666666,7.9397672826830936,16355.920602327173,238.19301848049281,6844.0793976728273,5,7,20,2060,"YES",null,null,null,null,null,null,null,null,null,null,null,null,null,null,null,12.5,null,null,null,null,null,null,null,null,null,null,null,null,null,null,null,null,null,null,null,null,null,null,"01","19","1047-1050",null,null,null,"5 ปี  7 เดือน  20 วัน  ",4897]
[{"$f":"A3949+1","v":4912},null,"2013-04-18",56,null,null,null,null,"เครื่องทำน้ำอุ่น74 ค.",74,6512,"08.33.383-456",{"$f":"IF(BV3950=\"จำหน่าย\",0,SUM(J3950*K3950))","v":481888},{"$f":"IF(K3950<5000,0,M3950)","v":481888},5,"2018-04-18",1826,96377.600000000006,8031.4666666666672,263.90361445783134,0,0,481814,0,481814,0,74,5,7,4,2044,"NO",null,null,null,null,null,null,null,null,null,null,null,null,null,null,null,20,null,null,null,null,null,null,null,null,null,null,null,null,null,null,null,null,null,null,null,null,null,null,"08","33","383-456",null,null,null,"5 ปี  7 เดือน  4 วัน  ",4912]
[{"$f":"A3960+1","v":4923},null,"2013-05-09",56,null,null,null,null,"STARER&CONTROL 2 ชุด",2,32000,"01.58.671-672",{"$f":"IF(BV3961=\"จำหน่าย\",0,SUM(J3961*K3961))","v":64000},{"$f":"IF(K3961<5000,0,M3961)","v":64000},8,"2021-05-09",2922,8000,666.66666666666663,21.902806297056809,1,666.66666666666663,44000,21.902806297056809,44309.377138945929,657.08418891170425,19690.622861054071,5,6,13,2023,"YES",null,null,null,null,null,null,null,null,null,null,null,null,null,null,null,12.5,null,null,null,null,null,null,null,null,null,null,null,null,null,null,null,null,null,null,null,null,null,null,"01","58","671-672",null,null,null,"5 ปี  6 เดือน  13 วัน  ",4923]
[{"$f":"A3965+1","v":4928},null,"2013-05-09",56,null,null,null,null,"หม้อแปลงไฟฟ้า 1 ชุด",1,516000,"05.02.32",{"$f":"IF(BV3966=\"จำหน่าย\",0,SUM(J3966*K3966))","v":516000},{"$f":"IF(K3966<5000,0,M3966)","v":516000},15,"2028-05-09",5479,34400,2866.6666666666665,94.177769665997445,1,2866.6666666666665,189200,94.177769665997445,190521.62803431283,2825.3330899799234,325478.37196568714,5,6,13,2023,"YES",null,null,null,null,null,null,null,null,null,null,null,null,null,null,null,6.666666666666667,null,null,null,null,null,null,null,null,null,null,null,null,null,null,null,null,null,null,null,null,null,null,"05","02","32",null,null,null,"5 ปี  6 เดือน  13 วัน  ",4928]
[{"$f":"A3976+1","v":4939},null,"2013-05-18",56,null,null,null,null,"เครื่องขัดสีรถยนต์",1,5136,"02.06.16",{"$f":"IF(BV3977=\"จำหน่าย\",0,SUM(J3977*K3977))","v":5136},{"$f":"IF(K3977<5000,0,M3977)","v":5136},3,"2016-05-18",1096,1712,142.66666666666666,4.6861313868613141,0,0,5135,0,5135,0,1,5,6,4,2014,"NO",null,null,null,null,null,null,null,null,null,null,null,null,null,null,null,33.333333333333336,null,null,null,null,null,null,null,null,null,null,null,null,null,null,null,null,null,null,null,null,null,null,"02","06","16",null,null,null,"5 ปี  6 เดือน  4 วัน  ",4939]
[{"$f":"A3991+1","v":4954},null,"2013-05-31",56,null,null,null,null,"เครื่องพิมพ์เลเซอร์สี 1 ค.",1,13900,"01.72.868",{"$f":"IF(BV3992=\"จำหน่าย\",0,SUM(J3992*K3992))","v":13900},{"$f":"IF(K3992<5000,0,M3992)","v":13900},3,"2016-05-31",1096,4633.333333333333,386.11111111111109,12.682481751824817,0,0,13899,0,13899,0,1,5,5,22,2001,"NO",null,null,null,null,null,null,null,null,null,null,null,null,null,null,null,33.333333333333336,null,null,null,null,null,null,null,null,null,null,null,null,null,null,null,null,null,null,null,null,null,null,"01","72","868",null,null,null,"5 ปี  5 เดือน  22 วัน  ",4954]
[{"$f":"A3996+1","v":4959},null,"2013-06-04",56,null,null,null,null,"ตู้เหล็กเก็บเอกสาร 5 ใบ",5,5200,"01.06.2468-2472",{"$f":"IF(BV3997=\"จำหน่าย\",0,SUM(J3997*K3997))","v":26000},{"$f":"IF(K3997<5000,0,M3997)","v":26000},8,"2021-06-04",2922,3250,270.83333333333331,8.8980150581793289,1,270.83333333333331,17604.166666666668,8.8980150581793289,17769.33607118412,266.94045174537985,8230.6639288158804,5,5,18,1997,"YES",null,null,null,null,null,null,null,null,null,null,null,null,null,null,null,12.5,null,null,null,null,null,null,null,null,null,null,null,null,null,null,null,null,null,null,null,null,null,null,"01","06","2468-2472",null,null,null,"5 ปี  5 เดือน  18 วัน  ",4959]
[{"$f":"A4008+1","v":4971},null,"2013-06-14",56,null,null,null,null,"ม่านปรับแสง 2.94x2.05 ม. 1 ชุด",1,6868,"01.19.1068",{"$f":"IF(BV4009=\"จำหน่าย\",0,SUM(J4009*K4009))","v":6868},{"$f":"IF(K4009<5000,0,M4009)","v":6868},8,"2021-06-14",2922,858.5,71.541666666666671,2.3504449007529091,1,71.541666666666671,4650.208333333333,2.3504449007529091,4670.3340177960308,70.513347022587268,2197.6659822039692,5,5,8,1987,"YES",null,null,null,null,null,null,null,null,null,null,null,null,null,null,null,12.5,null,null,null,null,null,null,null,null,null,null,null,null,null,null,null,null,null,null,null,null,null,null,"01","19","1068",null,null,null,"5 ปี  5 เดือน  8 วัน  ",4971]
[{"$f":"A4023+1","v":4986},null,"2013-06-20",56,null,null,null,null,"เครื่องพิมพ์ 1 ค.",1,5340,"01.72.869",{"$f":"IF(BV4024=\"จำหน่าย\",0,SUM(J4024*K4024))","v":5340},{"$f":"IF(K4024<5000,0,M4024)","v":5340},3,{"$f":"DATE(YEAR(C4024)+O4024,MONTH(C4024),DAY(C4024))","v":"2016-06-20"},{"$f":"IF(NOT(OR(ISBLANK(P4024),ISBLANK(C4024))),P4024-C4024,\"\")","v":1096},{"$f":"SLN(N4024,,O4024)","v":1780},{"$f":"SLN(R4024,,12)","v":148.33333333333334},{"$f":"SLN(N4024,,Q4024)","v":4.8722627737226274},{"$f":"IF(N4024=0,0,IF(AE4024<=Q4024,1,0))","v":0},0,5339,0,5339,0,1,{"$f":"DATEDIF(C4024,TODAY(),\"Y\")","v":5},{"$f":"DATEDIF(C4024,TODAY(),\"YM\")","v":5},{"$f":"DATEDIF(C4024,TODAY(),\"md\")+1","v":2},{"$f":"DATEDIF(C4024,TODAY(),\"d\")+1","v":1981},{"$f":"IF(N4024=0,\"No\",IF(AE4024>Q4024,\"NO\",\"YES\"))","v":"NO"},null,null,null,null,null,null,null,null,null,null,null,null,null,null,null,{"$f":"100/O4024","v":33.333333333333336},null,null,null,null,null,null,null,null,null,null,null,null,null,null,null,null,null,null,null,null,null,null,"01","72","869",null,null,null,{"$f":"CONCATENATE(AB4024,\" ปี  \",AC4024,\" เดือน  \",AD4024,\" วัน  \")","v":"5 ปี  5 เดือน  2 วัน  "},{"$f":"A4024","v":4986}]
[{"$f":"A4028+1","v":4991},null,"2013-06-20",56,null,null,null,null,"เครื่องบันทึกเสียง 1 ค.",1,7169,"05.27.128",{"$f":"IF(BV4029=\"จำหน่าย\",0,SUM(J4029*K4029))","v":7169},{"$f":"IF(K4029<5000,0,M4029)","v":7169},5,"2018-06-20",1826,1433.8,119.48333333333333,3.9260679079956189,0,0,7168,0,7168,0,1,5,5,2,1981,"NO",null,null,null,null,null,null,null,null,null,null,null,null,null,null,null,20,null,null,null,null,null,null,null,null,null,null,null,null,null,null,null,null,null,null,null,null,null,null,"05","27","128",null,null,null,"5 ปี  5 เดือน  2 วัน  ",4991]
[{"$f":"A4039+1","v":5002},null,"2013-07-02",56,null,null,null,null,"เครื่องปรับอากาศ 36,637.37 BTU 2 ค.",2,43500,"01.29.1547-1548",{"$f":"IF(BV4040=\"จำหน่าย\",0,SUM(J4040*K4040))","v":87000},{"$f":"IF(K4040<5000,0,M4040)","v":87000},8,"2021-07-02",2922,10875,906.25,29.774127310061601,1,906.25,58000,29.774127310061601,58625.256673511292,893.22381930184804,28374.743326488708,5,4,20,1969,"YES",null,null,null,null,null,null,null,null,null,null,null,null,null,null,null,12.5,null,null,null,null,null,null,null,null,null,null,null,null,null,null,null,null,null,null,null,null,null,null,"01","29","1547-1548",null,null,null,"5 ปี  4 เดือน  20 วัน  ",5002]
[{"$f":"A4054+1","v":5017},null,"2013-07-11",56,null,null,null,null,"เครื่องคอมพิวเตอร์ All in one 41 ค.",41,23903.800000000003,"01.53.4740-4780",{"$f":"IF(BV4055=\"จำหน่าย\",0,SUM(J4055*K4055))","v":980055.80000000016},{"$f":"IF(K4055<5000,0,M4055)","v":980055.80000000016},5,"2018-07-11",1826,196011.16000000003,16334.263333333336,536.72278203723999,0,0,980014.80000000016,0,980014.80000000016,0,41,5,4,11,1960,"NO",null,null,null,null,null,null,null,null,null,null,null,null,null,null,null,20,null,null,null,null,null,null,null,null,null,null,null,null,null,null,null,null,null,null,null,null,null,null,"01","53","4740-4780",null,null,null,"5 ปี  4 เดือน  11 วัน  ",5017]
[{"$f":"A4055+1","v":5018},null,"2013-07-11",56,null,null,null,null,"เครื่องพิมพ์เลเซอร์ 1 ค.",1,46010,"01.72.873",{"$f":"IF(BV4056=\"จำหน่าย\",0,SUM(J4056*K4056))","v":46010},{"$f":"IF(K4056<5000,0,M4056)","v":46010},3,"2016-07-11",1096,15336.666666666666,1278.0555555555554,41.979927007299267,0,0,46009,0,46009,0,1,5,4,11,1960,"NO",null,null,null,null,null,null,null,null,null,null,null,null,null,null,null,33.333333333333336,null,null,null,null,null,null,null,null,null,null,null,null,null,null,null,null,null,null,null,null,null,null,"01","72","873",null,null,null,"5 ปี  4 เดือน  11 วัน  ",5018]
[{"$f":"A4070+1","v":5033},null,"2013-07-15",56,null,null,null,null,"ท่อสูบน้ำ 1 ตัว",1,96300,"03.09.43",{"$f":"IF(BV4071=\"จำหน่าย\",0,SUM(J4071*K4071))","v":96300},{"$f":"IF(K4071<5000,0,M4071)","v":96300},5,"2018-07-15",1826,19260,1605,52.738225629791891,0,0,96299,0,96299,0,1,5,4,7,1956,"NO",null,null,null,null,null,null,null,null,null,null,null,null,null,null,null,20,null,null,null,null,null,null,null,null,null,null,null,null,null,null,null,null,null,null,null,null,null,null,"03","09","43",null,null,null,"5 ปี  4 เดือน  7 วัน  ",5033]
[{"$f":"A4085+1","v":5048},null,"2013-07-24",56,null,null,null,null,"โต๊ะทำงาน 8 ชุด",8,10000,"01.02.12217-12224",{"$f":"IF(BV4086=\"จำหน่าย\",0,SUM(J4086*K4086))","v":80000},{"$f":"IF(K4086<5000,0,M4086)","v":80000},8,{"$f":"DATE(YEAR(C4086)+O4086,MONTH(C4086),DAY(C4086))","v":"2021-07-24"},{"$f":"IF(NOT(OR(ISBLANK(P4086),ISBLANK(C4086))),P4086-C4086,\"\")","v":2922},{"$f":"SLN(N4086,,O4086)","v":10000},{"$f":"SLN(R4086,,12)","v":833.33333333333337},{"$f":"SLN(N4086,,Q4086)","v":27.378507871321013},{"$f":"IF(N4086=0,0,IF(AE4086<=Q4086,1,0))","v":1},833.33333333333337,52500,27.378507871321013,53305.954825462009,821.35523613963039,26694.045174537991,{"$f":"DATEDIF(C4086,TODAY(),\"Y\")","v":5},{"$f":"DATEDIF(C4086,TODAY(),\"YM\")","v":3},{"$f":"DATEDIF(C4086,TODAY(),\"md\")+1","v":29},{"$f":"DATEDIF(C4086,TODAY(),\"d\")+1","v":1947},{"$f":"IF(N4086=0,\"No\",IF(AE4086>Q4086,\"NO\",\"YES\"))","v":"YES"},null,null,null,null,null,null,null,null,null,null,null,null,null,null,null,{"$f":"100/O4086","v":12.5},null,null,null,null,null,null,null,null,null,null,null,null,null,null,null,null,null,null,null,null,null,null,"01","02","12217-12224",null,null,null,{"$f":"CONCATENATE(AB4086,\" ปี  \",AC4086,\" เดือน  \",AD4086,\" วัน  \")","v":"5 ปี  3 เดือน  29 วัน  "},{"$f":"A4086","v":5048}]
[{"$f":"A4087+1","v":5050},null,"2013-07-24",56,null,null,null,null,"ตู้เสื้อผ้า 8 ชุด",8,9000,"01.04.1127-1134",{"$f":"IF(BV4088=\"จำหน่าย\",0,SUM(J4088*K4088))","v":72000},{"$f":"IF(K4088<5000,0,M4088)","v":72000},8,"2021-07-24",2922,9000,750,24.640657084188913,1,750,47250,24.640657084188913,47975.359342915814,739.21971252566743,24024.640657084186,5,3,29,1947,"YES",null,null,null,null,null,null,null,null,null,null,null,null,null,null,null,12.5,null,null,null,null,null,null,null,null,null,null,null,null,null,null,null,null,null,null,null,null,null,null,"01","04","1127-1134",null,null,null,"5 ปี  3 เดือน  29 วัน  ",5050]
[{"$f":"A4102+1","v":5065},null,"2013-07-24",56,null,null,null,null,"ถังบำบัดน้ำเสีย 4 ชุด",4,910000,"08.04.137-140",{"$f":"IF(BV4103=\"จำหน่าย\",0,SUM(J4103*K4103))","v":3640000},{"$f":"IF(K4103<5000,0,M4103)","v":3640000},5,"2018-07-24",1826,728000,60666.666666666664,1993.4282584884995,0,0,3639996,0,3639996,0,4,5,3,29,1947,"NO",null,null,null,null,null,null,null,null,null,null,null,null,null,null,null,20,null,null,null,null,null,null,null,null,null,null,null,null,null,null,null,null,null,null,null,null,null,null,"08","04","137-140",null,null,null,"5 ปี  3 เดือน  29 วัน  ",5065]
[{"$f":"A4107+1","v":5070},null,"2013-07-31",56,null,null,null,null,"เครื่องมัลติมีเดียโปรเจคเตอร์ 2 ค.",2,16000,"06.19.409-410",{"$f":"IF(BV4108=\"จำหน่าย\",0,SUM(J4108*K4108))","v":32000},{"$f":"IF(K4108<5000,0,M4108)","v":32000},3,"2016-07-31",1096,10666.666666666666,888.8888888888888,29.197080291970803,0,0,31998,0,31998,0,2,5,3,22,1940,"NO",null,null,null,null,null,null,null,null,null,null,null,null,null,null,null,33.333333333333336,null,null,null,null,null,null,null,null,null,null,null,null,null,null,null,null,null,null,null,null,null,null,"06","19","409-410",null,null,null,"5 ปี  3 เดือน  22 วัน  ",5070]
[{"$f":"A4118+1","v":5081},null,"2013-08-14",56,null,null,null,null,"เครื่องสำรองไฟฟ้า 1 ค.",1,16822.43,"05.46.840",{"$f":"IF(BV4119=\"จำหน่าย\",0,SUM(J4119*K4119))","v":16822.43},{"$f":"IF(K4119<5000,0,M4119)","v":16822.43},3,"2016-08-14",1096,5607.4766666666665,467.28972222222222,15.348932481751826,0,0,16821.43,0,16821.43,0,1,5,3,8,1926,"NO",null,null,null,null,null,null,null,null,null,null,null,null,null,null,null,33.333333333333336,null,null,null,null,null,null,null,null,null,null,null,null,null,null,null,null,null,null,null,null,null,null,"05","46","840",null,null,null,"5 ปี  3 เดือน  8 วัน  ",5081]
[{"$f":"A4133+1","v":5096},null,"2013-08-30",56,null,null,null,null,"เครื่องทดสอบความล้าของวัสดุ 1 ค.",1,250000,"09.64.05",{"$f":"IF(BV4134=\"จำหน่าย\",0,SUM(J4134*K4134))","v":250000},{"$f":"IF(K4134<5000,0,M4134)","v":250000},4,"2017-08-30",1461,62500,5208.333333333333,171.11567419575633,0,0,249999,0,249999,0,1,5,2,23,1910,"NO",null,null,null,null,null,null,null,null,null,null,null,null,null,null,null,25,null,null,null,null,null,null,null,null,null,null,null,null,null,null,null,null,null,null,null,null,null,null,"09","64","05",null,null,null,"5 ปี  2 เดือน  23 วัน  ",5096]
[{"$f":"A4144+1","v":5107},null,"2013-09-02",56,null,null,null,null,"จานบันทึกข้อมูล (Harddisk External) 3.5 TB 1 อัน",1,5243,"01.78.96",{"$f":"IF(BV4145=\"จำหน่าย\",0,SUM(J4145*K4145))","v":5243},{"$f":"IF(K4145<5000,0,M4145)","v":5243},3,"2016-09-02",1096,1747.6666666666667,145.63888888888889,4.7837591240875916,0,0,5242,0,5242,0,1,5,2,20,1907,"NO",null,null,null,null,null,null,null,null,null,null,null,null,null,null,null,33.333333333333336,null,null,null,null,null,null,null,null,null,null,null,null,null,null,null,null,null,null,null,null,null,null,"01","78","96",null,null,null,"5 ปี  2 เดือน  20 วัน  ",5107]
[{"$f":"A4149+1","v":5112},null,"2013-09-03",56,null,null,null,null,"โต๊ะทำงานเข้ามุม 1 ตัว",1,6313,"01.02.12107",{"$f":"IF(BV4150=\"จำหน่าย\",0,SUM(J4150*K4150))","v":6313},{"$f":"IF(K4150<5000,0,M4150)","v":6313},8,"2021-09-03",2922,789.125,65.760416666666671,2.1605065023956196,1,65.760416666666671,4077.1458333333335,2.1605065023956196,4117.9253935660508,64.815195071868587,2195.0746064339492,5,2,19,1906,"YES",null,null,null,null,null,null,null,null,null,null,null,null,null,null,null,12.5,null,null,null,null,null,null,null,null,null,null,null,null,null,null,null,null,null,null,null,null,null,null,"01","02","12107",null,null,null,"5 ปี  2 เดือน  19 วัน  ",5112]
[{"$f":"A4160+1","v":5123},null,"2013-09-03",56,null,null,null,null,"เครื่องกลึงโลหะยันศูนย์ 1 ค.",1,1712000,"09.10.14",{"$f":"IF(BV4161=\"จำหน่าย\",0,SUM(J4161*K4161))","v":1712000},{"$f":"IF(K4161<5000,0,M4161)","v":1712000},5,"2018-09-03",1826,342400,28533.333333333332,937.56845564074479,0,0,1711999,0,1711999,0,1,5,2,19,1906,"NO",null,null,null,null,null,null,null,null,null,null,null,null,null,null,null,20,null,null,null,null,null,null,null,null,null,null,null,null,null,null,null,null,null,null,null,null,null,null,"09","10","14",null,null,null,"5 ปี  2 เดือน  19 วัน  ",5123]
[{"$f":"A4176+1","v":5139},null,"2013-09-10",56,null,null,null,null,"เครื่องคอมพิวเตอร์แบบพกพา 1 ค.",1,17976,"01.53.4815",{"$f":"IF(BV4177=\"จำหน่าย\",0,SUM(J4177*K4177))","v":17976},{"$f":"IF(K4177<5000,0,M4177)","v":17976},5,"2018-09-10",1826,3595.2,299.59999999999997,9.8444687842278196,0,0,17975,0,17975,0,1,5,2,12,1899,"NO",null,null,null,null,null,null,null,null,null,null,null,null,null,null,null,20,null,null,null,null,null,null,null,null,null,null,null,null,null,null,null,null,null,null,null,null,null,null,"01","53","4815",null,null,null,"5 ปี  2 เดือน  12 วัน  ",5139]
[{"$f":"A4181+1","v":5144},null,"2013-09-14",56,null,null,null,null,"เครื่องคอมพิวเตอร์ All In One 1 ค.",1,27990,"01.53.4824",{"$f":"IF(BV4182=\"จำหน่าย\",0,SUM(J4182*K4182))","v":27990},{"$f":"IF(K4182<5000,0,M4182)","v":27990},5,"2018-09-14",1826,5598,466.5,15.328587075575028,0,{"$f":"SUM(R4182*U4182/12)","v":0},{"$f":"IF(N4182=0,0,IF((R4182*AB4182)+(R4182*AC4182/12)>=N4182,N4182-J4182,((R4182*AB4182)+(R4182*AC4182/12))))","v":27989},{"$f":"SUM(T4182*U4182)","v":0},{"$f":"IF(N4182=0,0,IF((DATEDIF(C4182,TODAY(),\"d\")+1)*T4182>=N4182,N4182-J4182,(DATEDIF(C4182,TODAY(),\"d\")+1)*T4182))","v":27989},{"$f":"IF(U4182=0,0,IF(OR(DAY(C4182)=1,MONTH(C4182)<>MONTH(TODAY()),YEAR(C4182)<>YEAR(TODAY())),T4182*((DAY(DATE(YEAR(TODAY()),MONTH(TODAY())+1,1)-1))),T4182*((DAY(DATE(YEAR(TODAY()),MONTH(TODAY())+1,1)-1)-DAY(C4182)+1))))","v":0},{"$f":"IF(N4182=0,0,IF(X4182>=N4182,(J4182),(N4182-Y4182)))","v":1},5,2,8,1895,"NO",null,null,null,null,null,null,null,null,null,null,null,null,null,null,null,20,null,null,null,null,null,null,null,null,null,null,null,null,null,null,null,null,null,null,null,null,null,null,"01","53","4824",null,null,null,"5 ปี  2 เดือน  8 วัน  ",5144]
[{"$f":"A4192+1","v":5155},null,"2013-10-17",57,null,null,null,null,"เครื่องพิมพ์เลเซอร์ 1 ค.",1,22470,"01.72.914",{"$f":"IF(BV4193=\"จำหน่าย\",0,SUM(J4193*K4193))","v":22470},{"$f":"IF(K4193<5000,0,M4193)","v":22470},3,"2016-10-17",1096,7490,624.16666666666663,20.501824817518248,0,0,22469,0,22469,0,1,5,1,5,1862,"NO",null,null,null,null,null,null,null,null,null,null,null,null,null,null,null,33.333333333333336,null,null,null,null,null,null,null,null,null,null,null,null,null,null,null,null,null,null,null,null,null,null,"01","72","914",null,null,null,"5 ปี  1 เดือน  5 วัน  ",5155]
[{"$f":"A4197+1","v":5160},null,"2013-10-23",57,null,null,null,null,"เครื่องปรับอากาศ 60,900 BTU 1 ค.",1,53000,"01.29.1556",{"$f":"IF(BV4198=\"จำหน่าย\",0,SUM(J4198*K4198))","v":53000},{"$f":"IF(K4198<5000,0,M4198)","v":53000},8,"2021-10-23",2922,6625,552.08333333333337,18.138261464750173,1,552.08333333333337,33125,18.138261464750173,33664.613278576318,544.14784394250523,19335.386721423682,5,0,30,1856,"YES",null,null,null,null,null,null,null,null,null,null,null,null,null,null,null,12.5,null,null,null,null,null,null,null,null,null,null,null,null,null,null,null,null,null,null,null,null,null,null,"01","29","1556",null,null,null,"5 ปี  0 เดือน  30 วัน  ",5160]
[{"$f":"A4212+1","v":5175},null,"2013-12-19",57,null,null,null,null,"เครื่องมัลติมีเดียโปรเจคเตอร์ 1 ค.",1,23900,"06.19.460",{"$f":"IF(BV4213=\"จำหน่าย\",0,SUM(J4213*K4213))","v":23900},{"$f":"IF(K4213<5000,0,M4213)","v":23900},3,"2016-12-19",1096,7966.666666666667,663.88888888888891,21.806569343065693,0,0,23899,0,23899,0,1,4,11,3,1799,"NO",null,null,null,null,null,null,null,null,null,null,null,null,null,null,null,33.333333333333336,null,null,null,null,null,null,null,null,null,null,null,null,null,null,null,null,null,null,null,null,null,null,"06","19","460",null,null,null,"4 ปี  11 เดือน  3 วัน  ",5175]
[{"$f":"A4223+1","v":5186},null,"2014-01-20",57,null,null,null,null,"เวทีไม้อัด 2 หลัง",2,15000,"01.58.638-639",{"$f":"IF(BV4224=\"จำหน่าย\",0,SUM(J4224*K4224))","v":30000},{"$f":"IF(K4224<5000,0,M4224)","v":30000},8,"2022-01-20",2922,3750,312.5,10.266940451745381,1,312.5,18125,10.266940451745381,18141.683778234088,308.00821355236144,11858.316221765912,4,10,2,1767,"YES",null,null,null,null,null,null,null,null,null,null,null,null,null,null,null,12.5,null,null,null,null,null,null,null,null,null,null,null,null,null,null,null,null,null,null,null,null,null,null,"01","58","638-639",null,null,null,"4 ปี  10 เดือน  2 วัน  ",5186]
[{"$f":"A4228+1","v":5191},null,"2014-01-28",57,null,null,null,null,"เครื่องมัลติมีเดียโปรเจคเตอร์ 3 ค.",3,13000,"06.19.425-427",{"$f":"IF(BV4229=\"จำหน่าย\",0,SUM(J4229*K4229))","v":39000},{"$f":"IF(K4229<5000,0,M4229)","v":39000},3,"2017-01-28",1096,13000,1083.3333333333333,35.583941605839414,0,0,38997,0,38997,0,3,4,9,25,1759,"NO",null,null,null,null,null,null,null,null,null,null,null,null,null,null,null,33.333333333333336,null,null,null,null,null,null,null,null,null,null,null,null,null,null,null,null,null,null,null,null,null,null,"06","19","425-427",null,null,null,"4 ปี  9 เดือน  25 วัน  ",5191]
[{"$f":"A4246+1","v":5209},null,"2014-03-13",57,null,null,null,null,"เครื่องพิมพ์เลเซอร์ 1 ค.",1,23000,"01.72.927",{"$f":"IF(BV4247=\"จำหน่าย\",0,SUM(J4247*K4247))","v":23000},{"$f":"IF(K4247<5000,0,M4247)","v":23000},3,"2017-03-13",1096,7666.666666666667,638.88888888888891,20.985401459854014,0,0,22999,0,22999,0,1,4,8,9,1715,"NO",null,null,null,null,null,null,null,null,null,null,null,null,null,null,null,33.333333333333336,null,null,null,null,null,null,null,null,null,null,null,null,null,null,null,null,null,null,null,null,null,null,"01","72","927",null,null,null,"4 ปี  8 เดือน  9 วัน  ",5209]
[{"$f":"A4255+1","v":5218},null,"2014-04-25",57,null,null,null,null,"เครื่องพิมพ์เลเซอร์ 1 ค.",1,35845,"01.72.931",{"$f":"IF(BV4256=\"จำหน่าย\",0,SUM(J4256*K4256))","v":35845},{"$f":"IF(K4256<5000,0,M4256)","v":35845},3,"2017-04-25",1096,11948.333333333334,995.69444444444446,32.705291970802918,0,0,35844,0,35844,0,1,4,6,28,1672,"NO",null,null,null,null,null,null,null,null,null,null,null,null,null,null,null,33.333333333333336,null,null,null,null,null,null,null,null,null,null,null,null,null,null,null,null,null,null,null,null,null,null,"01","72","931",null,null,null,"4 ปี  6 เดือน  28 วัน  ",5218]
[{"$f":"A4260+1","v":5223},null,"2014-05-26",57,null,null,null,null,"ตู้คอนโทรลปั๊ม 1 ตู้",1,9095,"01.58.646",{"$f":"IF(BV4261=\"จำหน่าย\",0,SUM(J4261*K4261))","v":9095},{"$f":"IF(K4261<5000,0,M4261)","v":9095},8,"2022-05-26",2922,1136.875,94.739583333333329,3.1125941136208075,1,94.739583333333329,5021.197916666667,3.1125941136208075,5107.7669404517455,93.377823408624224,3987.2330595482545,4,5,27,1641,"YES",null,null,null,null,null,null,null,null,null,null,null,null,null,null,null,12.5,null,null,null,null,null,null,null,null,null,null,null,null,null,null,null,null,null,null,null,null,null,null,"01","58","646",null,null,null,"4 ปี  5 เดือน  27 วัน  ",5223]
[{"$f":"A4271+1","v":5234},null,"2014-06-09",57,null,null,null,null,"เครื่องคอมพิวเตอร์ 5 ค.",5,13500,"01.53.4912-4916",{"$f":"IF(BV4272=\"จำหน่าย\",0,SUM(J4272*K4272))","v":67500},{"$f":"IF(K4272<5000,0,M4272)","v":67500},5,"2019-06-09",1826,13500,1125,36.966046002190581,1,1125,59625,36.966046002190581,60143.756845564072,1108.9813800657175,7356.2431544359279,4,5,13,1627,"YES",null,null,null,null,null,null,null,null,null,null,null,null,null,null,null,20,null,null,null,null,null,null,null,null,null,null,null,null,null,null,null,null,null,null,null,null,null,null,"01","53","4912-4916",null,null,null,"4 ปี  5 เดือน  13 วัน  ",5234]
[{"$f":"A4286+1","v":5249},null,"2014-06-25",57,null,null,null,null,"เครื่องสแกนเนอร์ 4 ค.",4,19955.5,"01.65.149-152",{"$f":"IF(BV4287=\"จำหน่าย\",0,SUM(J4287*K4287))","v":79822},{"$f":"IF(K4287<5000,0,M4287)","v":79822},3,"2017-06-25",1096,26607.333333333332,2217.2777777777778,72.830291970802918,0,0,79818,0,79818,0,4,4,4,28,1611,"NO",null,null,null,null,null,null,null,null,null,null,null,null,null,null,null,33.333333333333336,null,null,null,null,null,null,null,null,null,null,null,null,null,null,null,null,null,null,null,null,null,null,"01","65","149-152",null,null,null,"4 ปี  4 เดือน  28 วัน  ",5249]
[{"$f":"A4291+1","v":5254},null,"2014-06-26",57,null,null,null,null,"เก้าอี้เหล็กชนิด 3 ที่นั่ง 4 ตัว",4,7383,"01.01.52382-52385",{"$f":"IF(BV4292=\"จำหน่าย\",0,SUM(J4292*K4292))","v":29532},{"$f":"IF(K4292<5000,0,M4292)","v":29532},8,"2022-06-26",2922,3691.5,307.625,10.106776180698152,1,307.625,15996.5,10.106776180698152,16271.909650924024,303.20328542094455,13260.090349075976,4,4,27,1610,"YES",null,null,null,null,null,null,null,null,null,null,null,null,null,null,null,12.5,null,null,null,null,null,null,null,null,null,null,null,null,null,null,null,null,null,null,null,null,null,null,"01","01","52382-52385",null,null,null,"4 ปี  4 เดือน  27 วัน  ",5254]
[{"$f":"A4302+1","v":5265},null,"2014-07-10",57,null,null,null,null,"เครื่องคอมพิวเตอร์ 1 ค.",1,30800,"01.53.4921",{"$f":"IF(BV4303=\"จำหน่าย\",0,SUM(J4303*K4303))","v":30800},{"$f":"IF(K4303<5000,0,M4303)","v":30800},5,"2019-07-10",1826,6160,513.33333333333337,16.867469879518072,1,513.33333333333337,26693.333333333332,16.867469879518072,26920.481927710844,506.02409638554218,3879.5180722891564,4,4,12,1596,"YES",null,null,null,null,null,null,null,null,null,null,null,null,null,null,null,20,null,null,null,null,null,null,null,null,null,null,null,null,null,null,null,null,null,null,null,null,null,null,"01","53","4921",null,null,null,"4 ปี  4 เดือน  12 วัน  ",5265]
[{"$f":"A4316+1","v":5279},null,"2014-08-04",57,null,null,null,null,"เครื่องตัดหญ้าแบบสะพาย 1 ค.",1,9630,"08.03.110",{"$f":"IF(BV4317=\"จำหน่าย\",0,SUM(J4317*K4317))","v":9630},{"$f":"IF(K4317<5000,0,M4317)","v":9630},5,"2019-08-04",1826,1926,160.5,5.2738225629791895,1,160.5,8185.5,5.2738225629791895,8285.1752464403071,158.21467688937568,1344.8247535596929,4,3,18,1571,"YES",null,null,null,null,null,null,null,null,null,null,null,null,null,null,null,20,null,null,null,null,null,null,null,null,null,null,null,null,null,null,null,null,null,null,null,null,null,null,"08","03","110",null,null,null,"4 ปี  3 เดือน  18 วัน  ",5279]
[{"$f":"A4319+1","v":5282},null,"2014-08-06",57,null,null,null,null,"เครื่องเจาะกระดาษและเข้าเล่มกระดูกงู 1 ค.",1,9630,"01.12.34",{"$f":"IF(BV4320=\"จำหน่าย\",0,SUM(J4320*K4320))","v":9630},{"$f":"IF(K4320<5000,0,M4320)","v":9630},8,"2022-08-06",2922,1203.75,100.3125,3.2956878850102669,1,100.3125,5115.9375,3.2956878850102669,5170.9342915811085,98.870636550308006,4459.0657084188915,4,3,16,1569,"YES",null,null,null,null,null,null,null,null,null,null,null,null,null,null,null,12.5,null,null,null,null,null,null,null,null,null,null,null,null,null,null,null,null,null,null,null,null,null,null,"01","12","34",null,null,null,"4 ปี  3 เดือน  16 วัน  ",5282]
[{"$f":"A4334+1","v":5297},null,"2014-08-19",57,null,null,null,null,"ตู้หนังสือ 2 หน้า 3 ใบ",3,13500,"01.06.2631-2633",{"$f":"IF(BV4335=\"จำหน่าย\",0,SUM(J4335*K4335))","v":40500},{"$f":"IF(K4335<5000,0,M4335)","v":40500},8,"2022-08-19",2922,5062.5,421.875,13.860369609856264,1,421.875,21515.625,13.860369609856264,21566.735112936345,415.81108829568791,18933.264887063655,4,3,3,1556,"YES",null,null,null,null,null,null,null,null,null,null,null,null,null,null,null,12.5,null,null,null,null,null,null,null,null,null,null,null,null,null,null,null,null,null,null,null,null,null,null,"01","06","2631-2633",null,null,null,"4 ปี  3 เดือน  3 วัน  ",5297]
[{"$f":"A4339+1","v":5302},null,"2014-08-22",57,null,null,null,null,"เคาน์เตอร์ 1 ตัว  ",1,12519,"01.36.90",{"$f":"IF(BV4340=\"จำหน่าย\",0,SUM(J4340*K4340))","v":12519},{"$f":"IF(K4340<5000,0,M4340)","v":12519},8,"2022-08-22",2922,1564.875,130.40625,4.2843942505133468,1,130.40625,6520.3125,4.2843942505133468,6653.6642710472279,128.53182751540041,5865.3357289527721,4,2,31,1553,"YES",null,null,null,null,null,null,null,null,null,null,null,null,null,null,null,12.5,null,null,null,null,null,null,null,null,null,null,null,null,null,null,null,null,null,null,null,null,null,null,"01","36","90",null,null,null,"4 ปี  2 เดือน  31 วัน  ",5302]
[{"$f":"A4350+1","v":5313},null,"2014-08-29",57,null,null,null,null,"โต๊ะทำงาน ขนาด 5 ฟุต 8 ตัว",8,5500,"01.02.12467-12474",{"$f":"IF(BV4351=\"จำหน่าย\",0,SUM(J4351*K4351))","v":44000},{"$f":"IF(K4351<5000,0,M4351)","v":44000},8,"2022-08-29",2922,5500,458.33333333333331,15.058179329226558,1,458.33333333333331,22916.666666666668,15.058179329226558,23279.94524298426,451.74537987679673,20720.05475701574,4,2,24,1546,"YES",null,null,null,null,null,null,null,null,null,null,null,null,null,null,null,12.5,null,null,null,null,null,null,null,null,null,null,null,null,null,null,null,null,null,null,null,null,null,null,"01","02","12467-12474",null,null,null,"4 ปี  2 เดือน  24 วัน  ",5313]
[{"$f":"A4365+1","v":5328},null,"2014-11-07",58,null,null,null,null,"เครืองปรับอากาศ 25,309.87 BTU 2 ค.",2,33000,"01.29.1917-1918",{"$f":"IF(BV4366=\"จำหน่าย\",0,SUM(J4366*K4366))","v":66000},{"$f":"IF(K4366<5000,0,M4366)","v":66000},8,"2022-11-07",2922,8250,687.5,22.587268993839835,1,687.5,33000,22.587268993839835,33338.809034907594,677.6180698151951,32661.190965092406,4,0,15,1476,"YES",null,null,null,null,null,null,null,null,null,null,null,null,null,null,null,12.5,null,null,null,null,null,null,null,null,null,null,null,null,null,null,null,null,null,null,null,null,null,null,"01","29","1917-1918",null,null,null,"4 ปี  0 เดือน  15 วัน  ",5328]
[{"$f":"A4370+1","v":5333},null,"2014-11-14",58,null,null,null,null,"เครื่องปรับอากาศ 60,900 BTU 1 ค.",1,58000,"01.29.1913",{"$f":"IF(BV4371=\"จำหน่าย\",0,SUM(J4371*K4371))","v":58000},{"$f":"IF(K4371<5000,0,M4371)","v":58000},8,"2022-11-14",2922,7250,604.16666666666663,19.849418206707735,1,604.16666666666663,29000,19.849418206707735,29158.795345653663,595.48254620123203,28841.204654346337,4,0,8,1469,"YES",null,null,null,null,null,null,null,null,null,null,null,null,null,null,null,12.5,null,null,null,null,null,null,null,null,null,null,null,null,null,null,null,null,null,null,null,null,null,null,"01","29","1913",null,null,null,"4 ปี  0 เดือน  8 วัน  ",5333]
[{"$f":"A4381+1","v":5344},null,"2014-12-04",58,null,null,null,null,"กระดานไวท์บอร์ด 4.80x1.20 ซม. 6 อัน",6,7800,"01.14.960-965",{"$f":"IF(BV4382=\"จำหน่าย\",0,SUM(J4382*K4382))","v":46800},{"$f":"IF(K4382<5000,0,M4382)","v":46800},8,"2022-12-04",2922,5850,487.5,16.016427104722794,1,487.5,22912.5,16.016427104722794,23207.802874743327,480.49281314168383,23592.197125256673,3,11,18,1449,"YES",null,null,null,null,null,null,null,null,null,null,null,null,null,null,null,12.5,null,null,null,null,null,null,null,null,null,null,null,null,null,null,null,null,null,null,null,null,null,null,"01","14","960-965",null,null,null,"3 ปี  11 เดือน  18 วัน  ",5344]
[{"$f":"A4391+1","v":5354},null,"2014-12-11",58,null,null,null,null,"เครื่องคอมพิวเตอร์ 1 ค.",1,30000,"01.53.5084",{"$f":"IF(BV4392=\"จำหน่าย\",0,SUM(J4392*K4392))","v":30000},{"$f":"IF(K4392<5000,0,M4392)","v":30000},5,"2019-12-11",1826,6000,500,16.42935377875137,1,500,23500,16.42935377875137,23691.128148959477,492.88061336254111,6308.8718510405233,3,11,11,1442,"YES",null,null,null,null,null,null,null,null,null,null,null,null,null,null,null,20,null,null,null,null,null,null,null,null,null,null,null,null,null,null,null,null,null,null,null,null,null,null,"01","53","5084",null,null,null,"3 ปี  11 เดือน  11 วัน  ",5354]
[{"$f":"A4408+1","v":5371},null,"2015-01-29",58,null,null,null,null,"เครื่องสแกนเนอร์ 1 ค.",1,17500,"01.65.155",{"$f":"IF(BV4409=\"จำหน่าย\",0,SUM(J4409*K4409))","v":17500},{"$f":"IF(K4409<5000,0,M4409)","v":17500},3,"2018-01-29",1096,5833.333333333333,486.11111111111109,15.967153284671532,0,0,17499,0,17499,0,1,3,9,24,1393,"NO",null,null,null,null,null,null,null,null,null,null,null,null,null,null,null,33.333333333333336,null,null,null,null,null,null,null,null,null,null,null,null,null,null,null,null,null,null,null,null,null,null,"01","65","155",null,null,null,"3 ปี  9 เดือน  24 วัน  ",5371]
[{"$f":"A4413+1","v":5376},null,"2015-02-04",58,null,null,null,null,"พรม 134 ตารางหลา ",1,67000,"01.49.27",{"$f":"IF(BV4414=\"จำหน่าย\",0,SUM(J4414*K4414))","v":67000},{"$f":"IF(K4414<5000,0,M4414)","v":67000},8,"2023-02-04",2922,8375,697.91666666666663,22.92950034223135,1,697.91666666666663,31406.25,22.92950034223135,31803.216974674884,687.88501026694053,35196.783025325116,3,9,18,1387,"YES",null,null,null,null,null,null,null,null,null,null,null,null,null,null,null,12.5,null,null,null,null,null,null,null,null,null,null,null,null,null,null,null,null,null,null,null,null,null,null,"01","49","27",null,null,null,"3 ปี  9 เดือน  18 วัน  ",5376]
[{"$f":"A4428+1","v":5391},null,"2015-03-02",58,null,null,null,null,"เครื่องพิมพ์เลเซอร์ 1 ค.",1,11984,"01.72.1001",{"$f":"IF(BV4429=\"จำหน่าย\",0,SUM(J4429*K4429))","v":11984},{"$f":"IF(K4429<5000,0,M4429)","v":11984},3,"2018-03-02",1096,3994.6666666666665,332.88888888888886,10.934306569343066,0,0,11983,0,11983,0,1,3,8,20,1361,"NO",null,null,null,null,null,null,null,null,null,null,null,null,null,null,null,33.333333333333336,null,null,null,null,null,null,null,null,null,null,null,null,null,null,null,null,null,null,null,null,null,null,"01","72","1001",null,null,null,"3 ปี  8 เดือน  20 วัน  ",5391]
[{"$f":"A4439+1","v":5402},null,"2015-03-26",58,null,null,null,null,"ตู้เชื่อมอินเวอร์เตอร์ 1 ค.",1,5992,"09.39.07",{"$f":"IF(BV4440=\"จำหน่าย\",0,SUM(J4440*K4440))","v":5992},{"$f":"IF(K4440<5000,0,M4440)","v":5992},4,"2019-03-26",1461,1498,124.83333333333333,4.1013004791238874,1,124.83333333333333,5367.833333333333,4.1013004791238874,5483.4387405886373,123.03901437371663,508.5612594113627,3,7,27,1337,"YES",null,null,null,null,null,null,null,null,null,null,null,null,null,null,null,25,null,null,null,null,null,null,null,null,null,null,null,null,null,null,null,null,null,null,null,null,null,null,"09","39","07",null,null,null,"3 ปี  7 เดือน  27 วัน  ",5402]
[{"$f":"A4444+1","v":5407},null,"2015-03-31",58,null,null,null,null,"เครื่องปรับอากาศ 25,000 BTU 3 ค.",3,32000,"01.29.2065-2067",{"$f":"IF(BV4445=\"จำหน่าย\",0,SUM(J4445*K4445))","v":96000},{"$f":"IF(K4445<5000,0,M4445)","v":96000},8,"2023-03-31",2922,12000,1000,32.854209445585212,1,1000,43000,32.854209445585212,43761.806981519505,985.62628336755643,52238.193018480495,3,7,22,1332,"YES",null,null,null,null,null,null,null,null,null,null,null,null,null,null,null,12.5,null,null,null,null,null,null,null,null,null,null,null,null,null,null,null,null,null,null,null,null,null,null,"01","29","2065-2067",null,null,null,"3 ปี  7 เดือน  22 วัน  ",5407]
[{"$f":"A4459+1","v":5422},null,"2015-05-22",58,null,null,null,null,"ผ้าม่านปรับแสง ขนาด 3.52x1.60 ม. 1 ชุด",1,6080,"01.19.1126",{"$f":"IF(BV4460=\"จำหน่าย\",0,SUM(J4460*K4460))","v":6080},{"$f":"IF(K4460<5000,0,M4460)","v":6080},8,"2023-05-22",2922,760,63.333333333333336,2.0807665982203969,1,63.333333333333336,2596.6666666666665,2.0807665982203969,2663.3812457221079,62.422997946611908,3416.6187542778921,3,5,31,1280,"YES",null,null,null,null,null,null,null,null,null,null,null,null,null,null,null,12.5,null,null,null,null,null,null,null,null,null,null,null,null,null,null,null,null,null,null,null,null,null,null,"01","19","1126",null,null,null,"3 ปี  5 เดือน  31 วัน  ",5422]
[{"$f":"A4460+1","v":5423},null,"2015-05-22",58,null,null,null,null,"ผ้าม่านปรับแสง ขนาด 3.55x1.60 ม. 1 ชุด",1,6130,"01.19.1127",{"$f":"IF(BV4461=\"จำหน่าย\",0,SUM(J4461*K4461))","v":6130},{"$f":"IF(K4461<5000,0,M4461)","v":6130},8,"2023-05-22",2922,766.25,63.854166666666664,2.0978781656399725,1,63.854166666666664,2618.0208333333335,2.0978781656399725,2685.2840520191648,62.936344969199176,3444.7159479808352,3,5,31,1280,"YES",null,null,null,null,null,null,null,null,null,null,null,null,null,null,null,12.5,null,null,null,null,null,null,null,null,null,null,null,null,null,null,null,null,null,null,null,null,null,null,"01","19","1127",null,null,null,"3 ปี  5 เดือน  31 วัน  ",5423]
[{"$f":"A4477+1","v":5440},null,"2015-06-22",58,null,null,null,null,"โต๊ะทำงาน 2 ตัว",2,5500,"01.02.13030-13031",{"$f":"IF(BV4478=\"จำหน่าย\",0,SUM(J4478*K4478))","v":11000},{"$f":"IF(K4478<5000,0,M4478)","v":11000},8,"2023-06-22",2922,1375,114.58333333333333,3.7645448323066395,1,114.58333333333333,4583.333333333333,3.7645448323066395,4701.9164955509923,112.93634496919918,6298.0835044490077,3,4,31,1249,"YES",null,null,null,null,null,null,null,null,null,null,null,null,null,null,null,12.5,null,null,null,null,null,null,null,null,null,null,null,null,null,null,null,null,null,null,null,null,null,null,"01","02","13030-13031",null,null,null,"3 ปี  4 เดือน  31 วัน  ",5440]
[{"$f":"A4487+1","v":5450},null,"2015-06-29",58,null,null,null,null,"โต๊ะประชุม 1 ชุด",1,12840,"01.02.13009",{"$f":"IF(BV4488=\"จำหน่าย\",0,SUM(J4488*K4488))","v":12840},{"$f":"IF(K4488<5000,0,M4488)","v":12840},8,"2023-06-29",2922,1605,133.75,4.3942505133470222,1,133.75,5350,4.3942505133470222,5457.6591375770013,131.82751540041068,7382.3408624229987,3,4,24,1242,"YES",null,null,null,null,null,null,null,null,null,null,null,null,null,null,null,12.5,null,null,null,null,null,null,null,null,null,null,null,null,null,null,null,null,null,null,null,null,null,null,"01","02","13009",null,null,null,"3 ปี  4 เดือน  24 วัน  ",5450]
[{"$f":"A4492+1","v":5455},null,"2015-07-09",58,null,null,null,null,"ชุดรับแขกพร้อมโต๊ะกลาง 1 ชุด",1,7900,"01.01.54458",{"$f":"IF(BV4493=\"จำหน่าย\",0,SUM(J4493*K4493))","v":7900},{"$f":"IF(K4493<5000,0,M4493)","v":7900},8,"2023-07-09",2922,987.5,82.291666666666671,2.7036276522929499,1,82.291666666666671,3291.6666666666665,2.7036276522929499,3330.8692676249143,81.108829568788494,4569.1307323750862,3,4,13,1232,"YES",null,null,null,null,null,null,null,null,null,null,null,null,null,null,null,12.5,null,null,null,null,null,null,null,null,null,null,null,null,null,null,null,null,null,null,null,null,null,null,"01","01","54458",null,null,null,"3 ปี  4 เดือน  13 วัน  ",5455]
[{"$f":"A4507+1","v":5470},null,"2015-07-16",58,null,null,null,null,"ไมโครโฟนไร้สาย 1 ชุด",1,5800,"05.13.886",{"$f":"IF(BV4508=\"จำหน่าย\",0,SUM(J4508*K4508))","v":5800},{"$f":"IF(K4508<5000,0,M4508)","v":5800},5,"2020-07-16",1827,1160,96.666666666666671,3.1746031746031744,1,96.666666666666671,3866.6666666666665,3.1746031746031744,3888.8888888888887,95.238095238095227,1911.1111111111113,3,4,6,1225,"YES",null,null,null,null,null,null,null,null,null,null,null,null,null,null,null,20,null,null,null,null,null,null,null,null,null,null,null,null,null,null,null,null,null,null,null,null,null,null,"05","13","886",null,null,null,"3 ปี  4 เดือน  6 วัน  ",5470]
[{"$f":"A4518+1","v":5481},null,"2015-08-18",58,null,null,null,null,"ปั๊มน้ำ 2 ค.",2,26215,"08.06.161-162",{"$f":"IF(BV4519=\"จำหน่าย\",0,SUM(J4519*K4519))","v":52430},{"$f":"IF(K4519<5000,0,M4519)","v":52430},5,"2020-08-18",1827,10486,873.83333333333337,28.697318007662837,1,873.83333333333337,34079.5,28.697318007662837,34207.203065134105,860.91954022988511,18222.796934865895,3,3,4,1192,"YES",null,null,null,null,null,null,null,null,null,null,null,null,null,null,null,20,null,null,null,null,null,null,null,null,null,null,null,null,null,null,null,null,null,null,null,null,null,null,"08","06","161-162",null,null,null,"3 ปี  3 เดือน  4 วัน  ",5481]
[{"$f":"A4523+1","v":5486},null,"2015-08-26",58,null,null,null,null,"เครื่องพิมพ์เลเซอร์ 2 ค.",2,46900,"01.72.1036-1037",{"$f":"IF(BV4524=\"จำหน่าย\",0,SUM(J4524*K4524))","v":93800},{"$f":"IF(K4524<5000,0,M4524)","v":93800},3,"2018-08-26",1096,31266.666666666668,2605.5555555555557,85.583941605839414,0,0,93798,0,93798,0,2,3,2,27,1184,"NO",null,null,null,null,null,null,null,null,null,null,null,null,null,null,null,33.333333333333336,null,null,null,null,null,null,null,null,null,null,null,null,null,null,null,null,null,null,null,null,null,null,"01","72","1036-1037",null,null,null,"3 ปี  2 เดือน  27 วัน  ",5486]
[{"$f":"A4534+1","v":5497},null,"2015-08-28",58,null,null,null,null,"ปั๊มน้ำ 1 ค.",1,5564,"08.06.160",{"$f":"IF(BV4535=\"จำหน่าย\",0,SUM(J4535*K4535))","v":5564},{"$f":"IF(K4535<5000,0,M4535)","v":5564},5,"2020-08-28",1827,1112.8,92.733333333333334,3.0454296661193214,1,92.733333333333334,3523.8666666666663,3.0454296661193214,3599.6978653530377,91.362889983579649,1964.3021346469623,3,2,25,1182,"YES",null,null,null,null,null,null,null,null,null,null,null,null,null,null,null,20,null,null,null,null,null,null,null,null,null,null,null,null,null,null,null,null,null,null,null,null,null,null,"08","06","160",null,null,null,"3 ปี  2 เดือน  25 วัน  ",5497]
[{"$f":"A4547+1","v":5510},"03-00011/59","2015-09-14",59,"ประกวดราคา","งบแผ่นดิน","02-02-15-005","บริษัท อินแอนด์ไอ จำกัด","เครื่องปรับอากาศ 49,500 BTU 12 ค.",12,40500,"01.29.2077-2088",{"$f":"IF(BV4548=\"จำหน่าย\",0,SUM(J4548*K4548))","v":486000},{"$f":"IF(K4548<5000,0,M4548)","v":486000},8,"2023-09-14",2922,60750,5062.5,166.32443531827516,1,5062.5,192375,166.32443531827516,193767.96714579058,4989.7330595482545,292232.03285420942,3,2,8,1165,"YES","10","206","สนง.อธิการบดี มรร.บางคล้า",null,"นายกิจจา พุฒตาล","เครื่องปรับอากาศ",null,"เครื่องส่งลมเย็นแบบฝังฝ้า 4 ทิศทาง","ยี่ห้อ ไดกิ้น รุ่น Fxfq125lv2s ขนาด 49,500 บีทียู","เลขที่ 69/33 ม.6 ต.บึงคำพร้อย อ.ลำลูกกา จ.ปทุมธานี ",null,"-","-","34/2558 ลว.28 ก.ค 58","008/2559",12.5,null,null,null,null,null,null,null,null,null,null,null,null,null,null,null,null,null,null,null,null,null,null,"01","29","2077-2088",null,null,null,"3 ปี  2 เดือน  8 วัน  ",5510]
[{"$f":"A4555+1","v":5518},"02-00010/59","2015-11-04",59,"ตกลงราคา","รายได้","02-02-01-006","บริษัท เบสท์มอล จำกัด","เครื่องปรับอากาศ 36,000 BTU 1 ค.",1,43990,"01.29.2075",{"$f":"IF(BV4556=\"จำหน่าย\",0,SUM(J4556*K4556))","v":43990},{"$f":"IF(K4556<5000,0,M4556)","v":43990},8,"2023-11-04",2922,5498.75,458.22916666666669,15.054757015742641,1,458.22916666666669,16496.25,15.054757015742641,16770.999315537301,451.64271047227925,27219.000684462699,3,0,18,1114,"YES","10","206","ศูนย์ภาษา","-","นางสาวพรนภา พุทธรักษา","เครื่องปรับอากาศ","-","เครื่องปรับอากาศ","ยี่ห้อ ไดเซนโก๊ะ รุ่น Dcf36m+dcu36m ขนาด 36,000 บีทียู","เลขที่ 672/4 ถ.ฉะเชิงเทรา-บางปะกง ต.หน้าเมือง อ.เมือง จ.ฉะเชิงเทรา เลขผู้เสียภาษี 0245548000011","ใบส่งสินค้า/ใบกำกับภาษี","-","CD5800179","-","005/2559",12.5,null,null,null,null,null,null,null,null,null,null,null,null,null,null,null,null,null,null,null,null,null,null,"01","29","2075",null,null,null,"3 ปี  0 เดือน  18 วัน  ",5518]
[{"$f":"A4566+1","v":5529},"02-00033/59","2015-11-17",59,"ตกลงราคา","รายได้","02-02-0-015","ร้าน สตาร์ เฟอร์นิเจอร์","ปาติชั่น 1 ชุด",1,50000,"01.19.1133",{"$f":"IF(BV4567=\"จำหน่าย\",0,SUM(J4567*K4567))","v":50000},{"$f":"IF(K4567<5000,0,M4567)","v":50000},8,"2023-11-17",2922,6250,520.83333333333337,17.111567419575632,1,520.83333333333337,18750,17.111567419575632,18839.83572895277,513.34702258726895,31160.16427104723,3,0,5,1101,"YES","11","163","คณะมนุษยศาสตร์และสังคมศาสตร์","-","นายอธิพัฒน์ สินทรโก","ปาติชั่น","-","แผงกั้นห้องปาติชั่น","ขนาด 120*160 ซม.","เลขที่ 138 ม.1 ต.ตลองเปรง อ.เมือง จ.ฉะเชิงเทรา เลขผู้เสียภาษี 3240100379462","ใบส่งของ","001","0049","-","036/2559",12.5,"ประกอบด้วย. 1.ฉากครึ่งทึบกระจกใส ขนาด 120*160 ซม. จำนวน 14 แผ่น เสาสูง 160 ซม. 4 ต้น ",null,null,null,null,null,null,null,null,null,null,null,null,null,null,null,null,null,null,null,null,null,"01","19","1133",null,null,null,"3 ปี  0 เดือน  5 วัน  ",5529]
[{"$f":"A4581+1","v":5544},"02-00053/59","2015-12-01",59,"ตกลงราคา","รายได้","02-01-01-066","บริษัท เอ.เอส.เทคโนโลยี แอนด์ คอมมูนิเคชั่น จำกัด ","ตู้จัดเก็บคอมพิวเตอร์และอุปกรณ์ 1 ตู้",1,8560,"01.58.699",{"$f":"IF(BV4582=\"จำหน่าย\",0,SUM(J4582*K4582))","v":8560},{"$f":"IF(K4582<5000,0,M4582)","v":8560},8,"2023-12-01",2922,1070,89.166666666666671,2.9295003422313486,1,89.166666666666671,3120.8333333333335,2.9295003422313486,3184.3668720054761,87.885010266940455,5375.6331279945243,2,11,21,1087,"YES","11","31","คณะเทคโนโลยีอุตสาหกรรม",null,"นางสาวจันทนา ประยูรพงษ์","ตู้จัดเก็บเครื่องคอมพิวเตอร์และอุปกรณ์",null,"ตู้จัดเก็บเครื่องคอมพิวเตอร์และอุปกรณ์",null,"เลขที่ 139/17 ซ.คู้บอน27 แยก25 แขวงท่าแร้ง เขตบางเขน กรุงเทพฯ เลขที่ผู้เสียภาษี 0105537018089","ใบกำกับภาษี/ใบส่งสินค้า/ใบแจ้งหนี้",null,"IV0027676",null,"029/2559",12.5,null,null,null,null,null,null,null,null,null,null,null,null,null,null,null,null,null,null,null,null,null,null,"01","58","699",null,null,null,"2 ปี  11 เดือน  21 วัน  ",5544]
[{"$f":"A4586+1","v":5549},"-","2015-12-01",59,"ประกวดราคา","รายได้","-","บริษัท โฮโดร โปรดักส์ เอ็กเซลเล้นท์ จำกัด","เครื่องสูบจ่าย C/2 2 ค.",2,16500,"07.52.06-07",{"$f":"IF(BV4587=\"จำหน่าย\",0,SUM(J4587*K4587))","v":33000},{"$f":"IF(K4587<5000,0,M4587)","v":33000},5,"2020-12-01",1827,6600,550,18.0623973727422,1,550,19250,18.0623973727422,19633.825944170771,541.87192118226596,13366.174055829229,2,11,21,1087,"YES","9","226","งานอาคารสถานที่ฯ บางคล้า","-","นายกาษญจน์ ทีประติ้ว","เครืองสูบจ่าย C/2 ",null,"เครืองสูบจ่าย C/2 ","ขนาด 3.5 ลิตร","เลขที่ 13 ซ.เจริญพัฒนา15 แขวงบางชัน เขตคลองสามวา กทม 10510 เลขผู้เสียภาษี -","ใบส่งมอบงาน","-","-","29/2559","029/2559",20,null,null,null,null,null,null,null,null,null,null,null,null,null,null,null,null,null,null,null,null,null,null,"07","52","06-07",null,null,null,"2 ปี  11 เดือน  21 วัน  ",5549]
[{"$f":"A4597+1","v":5560},"02-00077/59","2016-01-11",59,"สอบราคา","งบแผ่นดิน","02-01-03-002-Sci","บริษัท ไซแอนติฟิค โปรโมชั่น จำกัด","เครื่องวัดคว่ามหนืด 1 ค.",1,248668,"07.124.01",{"$f":"IF(BV4598=\"จำหน่าย\",0,SUM(J4598*K4598))","v":248668},{"$f":"IF(K4598<5000,0,M4598)","v":248668},5,"2021-01-11",1827,49733.599999999999,4144.4666666666662,136.10727969348659,1,4144.4666666666662,140911.86666666667,136.10727969348659,142368.21455938698,4083.2183908045977,106299.78544061302,2,10,11,1046,"YES","7","263","คณะวิทยาศาสตร์และเทคโนโลยี","เคมี","นางสาวสุวิมล ขวัญศิริวงศ์","เครื่องวัดความหนืด","-","เครื่องวัดความหนืด","ยี่ห้อ Brookicld ","เลขที่ 1759 ซ.วชิรธรรมสาธิต57 ถ.สุขุมวิท101/1 แขวงบางจาก เขตพระโขนง กรุงเทพฯ 10260 เลขผู้เสียภาษี 0105526033308","ใบกำกับภาษี/ใบส่งสินค้า/ใบแจ้งหนี้","-","spcisg 16010023","4/2559 ลว.14 ธ.ค 59","057/2559",20,null,null,null,null,null,null,null,null,null,null,null,null,null,null,null,null,null,null,null,null,null,null,"07","124","01",null,null,null,"2 ปี  10 เดือน  11 วัน  ",5560]
[{"$f":"A4602+1","v":5565},"06-01-02-083","2016-01-27",59,"ตกลงราคา","รายได้","06-01-02-083","บริษัท เทลเน็ต เทคโนโลยี จำกัด","เครื่องคอมพิวเตอร์ 2 ค.",2,30000,"01.53.5566-5567",{"$f":"IF(BV4603=\"จำหน่าย\",0,SUM(J4603*K4603))","v":60000},{"$f":"IF(K4603<5000,0,M4603)","v":60000},5,"2021-01-27",1827,12000,1000,32.840722495894909,1,1000,33000,32.840722495894909,33825.944170771756,985.22167487684726,26174.055829228244,2,9,26,1030,"YES","10","45","หน่วยงานคลัง","-","นางการดา รสทอง","เครื่องคอมพิวเตอร์","-","เครื่องคอมพิวเตอร์","ยี่ห้อ Dell Optiplex 3020","เลขที่ 210/2-3 ถ.บางแสนสาย 2 ต.แสนสุข อ.เมือง จ.ชลบุรี ","ใบแจ้งหนี้","-","6941","-","049/2559",20,null,null,null,null,null,null,null,null,null,null,null,null,null,null,null,null,null,null,null,null,null,null,"01","53","5566-5567",null,null,null,"2 ปี  9 เดือน  26 วัน  ",5565]
[{"$f":"A4613+1","v":5576},"03-00618/59","2016-03-17",59,"ตกลงราคา","รายได้","06-01-10-010","ร้านโอริษา เต๋งจงดี","ผ้าม่านพร้อมอุปกรณ์ 8 ชุด",8,8000,"01.19.1139-1146",{"$f":"IF(BV4614=\"จำหน่าย\",0,SUM(J4614*K4614))","v":64000},{"$f":"IF(K4614<5000,0,M4614)","v":64000},8,"2024-03-17",2922,8000,666.66666666666663,21.902806297056809,1,666.66666666666663,21333.333333333332,21.902806297056809,21464.750171115673,657.08418891170425,42535.249828884327,2,8,5,980,"YES","11","164","สำนักวิทยบริการฯ","-","นางสาวสมพร มานะวะ","ม่านปรับแสง","-","ม่านปรับแสง","ขนาด 3.10*2.15 เมตร","เลขที่ 55 ม.6 ต.บางทราย อ.เมือง จ.ชลบุรี ","ใบส่งของ","-","-","-","077/2559",12.5,null,null,null,null,null,null,null,null,null,null,null,null,null,null,null,null,null,null,null,null,null,null,"01","19","1139-1146",null,null,null,"2 ปี  8 เดือน  5 วัน  ",5576]
[{"$f":"A4622+1","v":5585},"02-00090/59","2016-03-01",59,"ตกลงราคา","รายได้","02-02-02-025","ร้านไอที เซอร์วิส แอนด์ คอมพ์ ชอป","เครื่องคอมพิวเตอร์ 2 ค.",2,24000,"01.53.5575-5576",{"$f":"IF(BV4623=\"จำหน่าย\",0,SUM(J4623*K4623))","v":48000},{"$f":"IF(K4623<5000,0,M4623)","v":48000},5,"2021-03-01",1826,9600,800,26.286966046002192,1,800,25600,26.286966046002192,26181.818181818184,788.60898138006576,21818.181818181816,2,8,21,996,"YES","10","45","คณะมนุษยศาสตร์และสังคมศาสตร์","-","นางวิไล อนุสรณ์นรการ","เครื่องคอมพิวเตอร์","-","เครื่องคอมพิวเตอร์","ยี่ห้อ Emaster รุ่น G-13Hs พร้อม จอภาพ ยี่ห้อ Acer Led ขนาด 21.5 นิ้ว","เลขที่ 131/43-44 ถ.ชุมพล ต.หน้าเมือง อ.เมือง จ.ฉะเชิงเทรา เลขผู้เสียภาษี 3249900001659","ใบส่งสินค้า/ใบแจ้งหนี้","-","so-590068","-","098/2559",20,null,null,null,null,null,null,null,null,null,null,null,null,null,null,null,null,null,null,null,null,null,null,null,null,null,null,null,null,"2 ปี  8 เดือน  21 วัน  ",5585]
[{"$f":"A4634+1","v":5597},"02-00104/59","2016-03-17",59,"สอบราคา","งบแผ่นดิน","02-01-03-002","บริษัท เน็กซ์ไบโอ (ประเทศไทย) จำกัด(สำนักงานใหญ่)","เครื่องปั้นเหวี่ยงตกตะกรความเร็วสูงขนาดเล็ก 1 ค.",1,210000,"01.126.01",{"$f":"IF(BV4635=\"จำหน่าย\",0,SUM(J4635*K4635))","v":210000},{"$f":"IF(K4635<5000,0,M4635)","v":210000},5,"2021-03-17",1826,42000,3500,115.00547645125958,1,3500,112000,115.00547645125958,112705.36692223439,3450.1642935377877,97294.633077765611,2,8,5,980,"YES","9","231","คณะวิทยาศาสตร์และเทคโนโลยี","วิชาชีววิทยา","นางสาวนภกานต์ หน่ายคอน","เครื่องปั้นเหวี่ยงตกตะกอน","-","เครื่องปั้นเหวี่ยงตกตะกอนความเร็วสูงขนาดเล็กแบบควบคุมอุณหภูมิ","ยี่ห้อ Cryste รุ่น Purispin 17 r","เลขที่ 600/15 บี-สแควร์ พระราม9 เหม่งจ๋าย ซ.รามคำแหง39(เทพลีลา) แขวงวังทองหลาง เขตวังทองหลาง กรุงเทพ เลขผู้เสียภาษี 01255558004494","ใบกำกับภาษี/ใบส่งของ/ใบแจ้งหนี้","-","INV201603016","3/2559 ลว.2 ธ.ค 58","099/2559",20,"สัญญาเรื่อง ซื้อเครื่องปั้นเหวี่ยงตกตะกอนความเร็วสูงขนาดเล็กแบบควบคุมอุณหภูมิ จำนวน 1 เครื่อง",null,null,null,null,null,null,null,null,null,null,null,null,null,null,null,null,null,null,null,null,null,null,null,null,null,null,null,"2 ปี  8 เดือน  5 วัน  ",5597]
[{"$f":"A4645+1","v":5608},"02-00126/59","2016-04-26",59,"ตกลงราคา","รายได้","06-01-02-042","ร้านเจริญพานิช","ปั๊มน้ำ 1 ค.",1,6420,"08.06.165",{"$f":"IF(BV4646=\"จำหน่าย\",0,SUM(J4646*K4646))","v":6420},{"$f":"IF(K4646<5000,0,M4646)","v":6420},5,"2021-04-26",1826,1284,107,3.5158817086527931,1,107,3210,3.5158817086527931,3304.9288061336256,105.4764512595838,3115.0711938663744,2,6,27,940,"YES","7","241","มรร.บางคล้า",null,"นายอุดร พิมแก้ว","ปั๊มหอยโข่ง","-","ปั๊มหอยโข่งแบบมอเตอร์ในตัว","ขนาด 1 นิ้ว 1 แรงม้า","เลขที่ 710-712 ม.1 ต.พนมสารคาม อ.พนมสารคาม จ.ฉะเชิงเทรา เลขผู้เสียภาษี 3240600026984","ต้นฉบับ ใบส่งของ/ใบกำกับภาษี","015","0706","-","101/2559",20,null,null,null,null,null,null,null,null,null,null,null,null,null,null,null,null,null,null,null,null,null,null,null,null,null,null,null,null,"2 ปี  6 เดือน  27 วัน  ",5608]
[{"$f":"A4660+1","v":5623},"02-00140/59","2016-06-21",59,"ตกลงราคา","รายได้","06-01-10-012","บริษัท เอ.เอส.เทคโนโลยี แอนด์ คอมมูนิเคชั่น จำกัด ","อุปกรณ์เชื่อมต่อเครือข่าย 2 ชุด",2,17120,"05.55.272-273",{"$f":"IF(BV4661=\"จำหน่าย\",0,SUM(J4661*K4661))","v":34240},{"$f":"IF(K4661<5000,0,M4661)","v":34240},3,"2019-06-21",1095,11413.333333333334,951.1111111111112,31.269406392694062,1,951.1111111111112,27582.222222222223,31.269406392694062,27642.15525114155,938.08219178082186,6597.8447488584497,2,5,1,884,"YES","10","54","สำนักวิทยบริการฯ","-","นายบุญญา วาสี","อุปกรณ์เชื่อมต่อเครือข่าย","-","อุปกรณ์เชื่อมต่อเครือข่าย","ยี่ห้อ Ubiquiti รุ่น Pbe-5ac-620","เลขที่ 139/17 ซ.คู้บอน27 แยก25 แขวงท่าแร้ง เขตบางเขน กรุงเทพฯ เลขที่ผู้เสียภาษี 0105537018089","ใบกำกับภาษี/ใบส่งสินค้า/ใบแจ้งหนี้","-","IV0028429","-","128/2559",33.333333333333336,null,null,null,null,null,null,null,null,null,null,null,null,null,null,null,null,null,null,null,null,null,null,null,null,null,null,null,null,"2 ปี  5 เดือน  1 วัน  ",5623]
[{"$f":"A4665+1","v":5628},"02-00148/59","2016-06-23",59,"ตกลงราคา","รายได้","02-02-02-054","บริษัท เอส.วาย. คอมพิวเตอร์ จำกัด","กล้อง Handycame 1 ตัว",1,20223,"06.01.275",{"$f":"IF(BV4666=\"จำหน่าย\",0,SUM(J4666*K4666))","v":20223},{"$f":"IF(K4666<5000,0,M4666)","v":20223},5,"2021-06-23",1826,4044.6,337.05,11.075027382256298,1,337.05,9437.4,11.075027382256298,9768.174151150055,332.25082146768892,10454.825848849945,2,4,30,882,"YES","7","169","คณะครุศาสตร์","-","นางสาวพรทิพย์ อ้นเกษม","กล้อง Handycame",null,"กล้อง Handycame","รุ่น PJ 440","เลขที่ 20/68 ซ.รามคำแหง 172 ถ.รามคำแหง แขวงมีนบุรี กรุงเทพฯ เลขผู้เสียภาษี 0105535084734","ต้นฉบับใบกำกับภาษี/ต้นฉบับใบส่งสินค้า","-","0103/5111","-","141/2559",20,null,null,null,null,null,null,null,null,null,null,null,null,null,null,null,null,null,null,null,null,null,null,null,null,null,null,null,null,"2 ปี  4 เดือน  30 วัน  ",5628]
[{"$f":"A4676+1","v":5639},"02-00129/59","2016-07-25",59,"ตกลงราคา","รายได้","06-01-02-096","ร้านอักษร เฟอร์นิเจอร์","โต๊ะทำงาน 1 ตัว",1,5243,"01.02.13306",{"$f":"IF(BV4677=\"จำหน่าย\",0,SUM(J4677*K4677))","v":5243},{"$f":"IF(K4677<5000,0,M4677)","v":5243},8,"2024-07-25",2922,655.375,54.614583333333336,1.7943189596167008,1,54.614583333333336,1474.59375,1.7943189596167008,1525.1711156741958,53.829568788501028,3717.8288843258042,2,3,28,850,"YES","5","197","ศูนย์บริหารงานทรัพย์สิน","-","นายสราวุธ อิศรานุวัฒน์","โต๊ะ","-","โต๊ะทำงานเหล็ก","ขนาด 4 ฟุต","เลขที่ 200/52 ม.7 ต.ท่าไข่ อ.เมือง จ.ฉะเชิงเทรา ","ใบส่งขิง","2","07","-","181/2559",12.5,null,null,null,null,null,null,null,null,null,null,null,null,null,null,null,null,null,null,null,null,null,null,null,null,null,null,null,null,"2 ปี  3 เดือน  28 วัน  ",5639]
[{"$f":"A4691+1","v":5654},"02-00179/59","2016-07-12",59,"ตกลงราคา","รายได้","02-02-01-027","ร้านแอดวานซ์ ดีไซด์","โต๊ะ",20,3500,"01.02.13230-13249",{"$f":"IF(BV4692=\"จำหน่าย\",0,SUM(J4692*K4692))","v":70000},{"$f":"IF(K4692<5000,0,M4692)","v":0},8,"2024-07-12",2922,0,0,0,0,0,0,0,0,0,0,2,4,10,863,"No","5","196","โรงเรียนสาธิต","-","นางสาวอรวรรณ อ้นเกษม","โต๊ะ","-","โต๊ะอาหาร","1.50*0.75*0.53","เลขที่ 16 ถ. วรรณยิ่ง ต.หน้าเมือง อ.เมือง จ.ฉะเชิงเทรา","ใบส่งของ","008","0366","-","164/2559",12.5,"-",null,null,null,null,null,null,null,null,null,null,null,null,null,null,null,null,null,null,null,null,null,null,null,null,null,null,null,"2 ปี  4 เดือน  10 วัน  ",5654]
[{"$f":"A4702+1","v":5665},"02-000172/2559","2016-07-21",59,"ตกลงราคา","รายได้","02-02-13-021","บริษัท แปดริ้วเฟอร์นิเจอร์ จำกัด","เก้าอี้นั่งทำงาน",8,4900,"01.01.54910-54917",{"$f":"IF(BV4703=\"จำหน่าย\",0,SUM(J4703*K4703))","v":39200},{"$f":"IF(K4703<5000,0,M4703)","v":0},8,"2024-07-21",2922,0,0,0,0,0,0,0,0,0,0,2,4,1,854,"No","5","256","คณะครุศาสตร์",null,"นายสุพัฒน์  เศรษฐคมกุล","เก้าอี้นั่งทำงาน","-","เก้าอี้นั่งทำงาน","-","เลขที่ 191/72-73 ถ.มหาจักรพรรดิ์ ต.หน้าเมือง อ.เมือง จ.ฉะเชิงเทรา เลขผู้เสียภาษี 0245534000749","(ต้นฉบับ)ใบส่งของ/ใบกำกับภาษี","027","1304","-","168/2559",12.5,null," "," "," "," "," "," "," "," "," "," "," "," "," "," "," "," "," "," "," "," "," ","01","01","54910-54917",null,null,null,"2 ปี  4 เดือน  1 วัน  ",5665]
[{"$f":"A4708+1","v":5671},"02-00188/2559","2016-08-26",59,"ตกลงราคา","รายได้","02-01-02-012","บางคล้าเฟอร์นิเจอร์","ชุดโซฟารับแขก 1 ชุด",1,8000,"01.01.54980",{"$f":"IF(BV4709=\"จำหน่าย\",0,SUM(J4709*K4709))","v":8000},{"$f":"IF(K4709<5000,0,M4709)","v":8000},8,"2024-08-26",2922,1000,83.333333333333329,2.7378507871321012,1,83.333333333333329,2166.6666666666665,2.7378507871321012,2239.5619438740587,82.135523613963031,5760.4380561259413,2,2,27,818,"YES","5","257","คณะวิทยาศตร์และเทคโนโลยี","วิชาสาธารณสุขศาสตร์","นางสาวญาดา  เรียมริมมะดัน","ชุดโซฟารับแขก","-","ชุดโซฟารับแขก","-","เลขที่ 138 ถ.บางคล้า-แปลงยาว ต.บางคล้า อ.บางคล้า จ.ฉะเชิงเทรา ","-ใบส่งของ","14","38","-","178/2559",12.5,null," "," "," "," "," "," "," "," "," "," "," "," "," "," "," "," "," "," "," "," "," ","01","01","54980",null,null,null,"2 ปี  2 เดือน  27 วัน  ",5671]
[{"$f":"A4723+1","v":5686},"02-00066/2559","2016-01-05",59,"ตกลงราคา","รายได้","06-01-05-005","ร้านม่านทิพย์","พรมไอลิฟิน",1,78752,"01.49.28",{"$f":"IF(BV4724=\"จำหน่าย\",0,SUM(J4724*K4724))","v":78752},{"$f":"IF(K4724<5000,0,M4724)","v":78752},8,"2024-01-05",2922,9844,820.33333333333337,26.951403148528406,1,820.33333333333337,27891.333333333336,26.951403148528406,28352.876112251884,808.54209445585218,50399.123887748116,2,10,17,1052,"YES","6","252","สำนักงานคณบดี คณะวิทยาการจัดการ","-","นางสาววาริน ภารสุคนธ์","พรมไอลิน","-","พรมไอลิน","171.2 หลา","เลขที่ 81/1 ถ.วรรณยิ่ง ต.หน้าเมือง อ.เมือง จ.ฉะเชิงเทรา 24000 เลขผู้เสียภาษี 3249900167921","ใบส่งของ","001","019","-","047/2559",12.5,"-"," "," "," "," "," "," "," "," "," "," "," "," "," "," "," "," "," "," "," "," "," ","01","49","28",null,null,null,"2 ปี  10 เดือน  17 วัน  ",5686]
[{"$f":"A4724+1","v":5687},"02-00066/2559","2016-01-05",59,"ตกลงราคา","รายได้","06-01-05-005","ร้านม่านทิพย์","ผ้าม่าน",2,5640,"01.19.1135-1136",{"$f":"IF(BV4725=\"จำหน่าย\",0,SUM(J4725*K4725))","v":11280},{"$f":"IF(K4725<5000,0,M4725)","v":11280},8,"2024-01-05",2922,1410,117.5,3.8603696098562628,1,117.5,3995,3.8603696098562628,4061.1088295687882,115.81108829568788,7218.8911704312122,2,10,17,1052,"YES","11","164","สำนักงานคณบดี คณะวิทยาการจัดการ","-","นางสาววาริน ภารสุคนธ์","ผ้าม่าน","-","ผ้าม่าน","450*195 ซม.","เลขที่ 81/1 ถ.วรรณยิ่ง ต.หน้าเมือง อ.เมือง จ.ฉะเชิงเทรา 24000 เลขผู้เสียภาษี 3249900167921","ใบส่งของ","001","019","-","047/2559",12.5,"-"," "," "," "," "," "," "," "," "," "," "," "," "," "," "," "," "," "," "," "," "," ","01","19","1135-1136",null,null,null,"2 ปี  10 เดือน  17 วัน  ",5687]
[{"$f":"A4739+1","v":5702},"02-00081/2559","2016-02-02",59,"ตกลงราคา","รายได้","06-01-10-010","บริษัท เมเจอร์ เฟอร์นิเจอร์ มอลล์(ฉะเชิงเทรา) จำกัด","ตู้กระจกบานเลื่อน ",1,4708,"01.06.2842",{"$f":"IF(BV4740=\"จำหน่าย\",0,SUM(J4740*K4740))","v":4708},{"$f":"IF(K4740<5000,0,M4740)","v":0},8,"2024-02-02",2922,0,0,0,0,0,0,0,0,0,0,2,9,20,1024,"No","5","97","สำนักวิทยบริการและเทคโนโลยีสารสนเทศ","-","นางสาวอัญชลี วัฒนะกุล","ตู้กระจกบานเลื่อน ","-","ตู้กระจกบานเลื่อน ","5 ฟุต","เลขที่ 672/6 ถ.ฉะเชิงเทรา-บางปะกง ต.หน้าเมือง อ.เมือง จ.ฉะเชิงเทรา เลขที่ผ๔เสียภาษี 0245556000164","ใบแจ้งหนี้/ใบกำกับภาษี","-","IV590202001","-","051/2559",12.5,null," "," "," "," "," "," "," "," "," "," "," "," "," "," "," "," "," "," "," "," "," ","01","06","2842",null,null,null,"2 ปี  9 เดือน  20 วัน  ",5702]
[{"$f":"A4750+1","v":5713},"02-00028/2559","2016-02-04",59,"ตกลงราคา","รายได้","06-01-02-095","บริษัท เมเจอร์ เฟอร์นิเจอร์มอลล์(ฉะเชิงเทรา) จำกัด","ตู้เก็บเอกสาร 15 ลิ้นชัก",1,4280,"01.05.1059",{"$f":"IF(BV4751=\"จำหน่าย\",0,SUM(J4751*K4751))","v":4280},{"$f":"IF(K4751<5000,0,M4751)","v":0},8,"2024-02-04",2922,0,0,0,0,0,0,0,0,0,0,2,9,18,1022,"No","5","217","สมาคมศิษย์เก่ามหาลัยฯ","-","นางพงศกร สวัสดิ์มาก","ตู้เก็บเอกสาร 15 ลิ้นชัก","-","ตู้เก็บเอกสาร 15 ลิ้นชัก","-","เลขที่ 672/6 ถ.ฉะเชิงเทรา-บางปะกง ต.หน้าเมือง อ.เมือง จ.ฉะเชิงเทรา เลขที่ผ๔เสียภาษี 0245556000164","ใบแจ้งหนี้/ใบกำกับภาษี","-","IV590104001","-","065/2559",12.5,null," "," "," "," "," "," "," "," "," "," "," "," "," "," "," "," "," "," "," "," "," ","01","05","1059",null,null,null,"2 ปี  9 เดือน  18 วัน  ",5713]
[{"$f":"A4755+1","v":5718},"02-00089/2559","2016-02-23",59,"ตกลงราคา","รายได้","02-02-02-007","บริษัท ศรีเจริญอินเตอร์เนชั่นแนล จำกัด","ตู้ล็อคเกอร์เหล็ก 18 ประตู",1,6080,"01.06.2849",{"$f":"IF(BV4756=\"จำหน่าย\",0,SUM(J4756*K4756))","v":6080},{"$f":"IF(K4756<5000,0,M4756)","v":6080},8,"2024-02-23",2922,760,63.333333333333336,2.0807665982203969,1,63.333333333333336,2026.6666666666667,2.0807665982203969,2087.0088980150581,62.422997946611908,3992.9911019849419,2,8,30,1003,"YES","5","97","คณะมนุษยศาสตร์และสังคมศาสตร์","หลักสูตรนิติศาสตร์บัณฑิต","นางสาวมธุริน พงศกรพาณิช","ตู้ล็อคเกอร์เหล็ก 18 ประตู","-","ตู้ล็อคเกอร์เหล็ก 18 ประตู","-","เลขที่ 64 ม.18 ถ.ปู่เจ้าสมิงพราย ต.บางหญ้าแพรก อ.พระประแดง จ.สมุทรปราการ เลขผู้เสียภาษี 0105539057391","ต้นฉบับใบกำกับภาษี/สำเนาใบกำกับภาษี","-","04-05900017","-","069/2559",12.5,null," "," "," "," "," "," "," "," "," "," "," "," "," "," "," "," "," "," "," "," "," ","01","06","2849",null,null,null,"2 ปี  8 เดือน  30 วัน  ",5718]
[{"$f":"A4770+1","v":5733},"01-01161/59","2016-06-30",59,"ตกลงราคา","รายได้","02-02-01-012","ร้านไอที เซอร์วิส แอนด์ คอมพ์ ชอป","ไมโครโฟนชนิดสาย",10,1890,"05.12.664-773",{"$f":"IF(BV4771=\"จำหน่าย\",0,SUM(J4771*K4771))","v":18900},{"$f":"IF(K4771<5000,0,M4771)","v":0},5,"2021-06-30",1826,0,0,0,0,0,0,0,0,0,0,2,4,23,875,"No","6","223","คณะมนุษยศาสตร์และสังคมศาสตร์","-","นายสราวุธ โรจนศิริ","ไมโครโฟน","-","ไมโครโฟนชนิดสายพร้อมสายยาว 4.5 เมตร","ยี่ห้อ Shure sv100 Original","เลขที่ 121/43-44 ถ.ชุมพล ต.หน้าเมือง อ.เมือง จ.ฉะเชิงเทรา เลขที่ผู้เสียภาษี 3249900001659","ใบส่งสินค้า/ใบแจ้งหนี้","-","so-590787","-","135/2559",20,null," "," "," "," "," "," "," "," "," "," "," "," "," "," "," "," "," "," "," "," "," ","05","12","664-773",null,null,null,"2 ปี  4 เดือน  23 วัน  ",5733]
[{"$f":"A4781+1","v":5744},"01-01363/59","2016-07-28",59,"ตกลงราคา","รายได้","02-02-01-012","ร้านไอที เซอร์วิส แอนด์ คอมพ์ ชอป","พัดลม 2 ค.",2,3500,"01.48.3838-3839",{"$f":"IF(BV4782=\"จำหน่าย\",0,SUM(J4782*K4782))","v":7000},{"$f":"IF(K4782<5000,0,M4782)","v":0},8,"2024-07-28",2922,0,0,0,0,0,0,0,0,0,0,2,3,25,847,"No","6","282","คณะมนุษยศาสตร์และสังคมศาตร์","-","นายสราวุธ โรจนศิริ","พัดลม","-","พัดลมติดผนัง","ยี่ห้อ Mitsubishi รุ่น w18-ru ขนาด 18 นิ้ว","เลขที่ 131/43-44 ถ.ชุมพล ต.หน้าเมือง อ.เมือง จ.ฉะเชิงเทรา เลขผู้เสียภาษี 3249900001659","ใบส่งสินค้า/ใบกำกับภาษี","-","so-590329",null,"183/2559",12.5,null," "," "," "," "," "," "," "," "," "," "," "," "," "," "," "," "," "," "," "," "," ","01","48","3838-3839",null,null,null,"2 ปี  3 เดือน  25 วัน  ",5744]
[{"$f":"A4794+1","v":5757},"01-010/59","2016-02-17",59,"ตกลงราคา","รายได้","-","ร้าน ไอที เซอร์วิส แอนด์ คอมพ์ ชอป","เครื่องบันทึกเสียง",1,4990,"05.27.171",{"$f":"IF(BV4795=\"จำหน่าย\",0,SUM(J4795*K4795))","v":4990},{"$f":"IF(K4795<5000,0,M4795)","v":0},5,"2021-02-17",1827,0,0,0,0,0,0,0,0,0,0,2,9,5,1009,"No","8","99","หอพักนักศึกษา แฝดคู่","-","นางจีรนันท์ สันธนาการ","เครื่องบันทึกเสียง","-","เครื่องบันทึกเสียง","ยี่ห้อ sony icd รุ่น idc-ux560/bc","เลขที่ 136/43-44 ถ.ชุมพล ต.หน้าเมือง อ.เมือง จ.ฉะเชิงเทรา เลขผู้เสียภษี 3249900001659","ใบส่งสินค้า/ใบแจ้งหนี้","-","SO-590062","-","157/2559",20,null," "," "," "," "," "," "," "," "," "," "," "," "," "," "," "," "," "," "," "," "," ","05","27","171",null,null,null,"2 ปี  9 เดือน  5 วัน  ",5757]
[{"$f":"A4802+1","v":5765},"02-00132/59","2016-05-23",59,"ตกลงราคา","รายได้","06-01-02-096","บริษัท แปดริ้วเฟอร์นิเจอร์ จำกัด","ชุดปาติชั่น 1 ชุด",1,20600,"01.14.993",{"$f":"IF(BV4803=\"จำหน่าย\",0,SUM(J4803*K4803))","v":20600},{"$f":"IF(K4803<5000,0,M4803)","v":20600},8,"2024-05-23",2922,2575,214.58333333333334,7.0499657768651609,1,214.58333333333334,6222.916666666667,7.0499657768651609,6436.6187542778916,211.49897330595482,14163.381245722108,2,5,30,913,"YES","11","11","สำนักงานอธิการบดี","-","นางสาวสุมาลี ธนวุฒิคติวรกุล","แผงปาติชั่น","-","แผงปาติชั่นครึ่งกระจกขัดลาย","สูง 180 ซม.","เลขที่ 191/72-73 ถ.มหาจักรพพรดิ์ ต.หน้าเมือง อ.เมือง จ.ฉะเชิงเทรา เลขผู้เสียภาษี 0245534000749","(ต้น) ใบส่งของ/ใบกำกับภาษี","025","1249","-","119/2559",12.5,"ประกอบด้วย 1.แผงครึ่งกรจกขัดลาย ขนาด 90*180 ซม. จำนวน 5 แผง ราคาแผงละ 3,700 บาท รวมเป็นเงิน 18,500 บาท 2.เสาจบสูง 180 ซม. จำนวน 1 ต้น ราคาต้นละ 900 บาท 3.ขาตัวที จำนวน 6 อัน ราคาอันละ 200 บาท รวมเป็นเงิน 1,200 บาท"," "," "," "," "," "," "," "," "," "," "," "," "," "," "," "," "," "," "," "," "," ","01","14","993",null,null,null,"2 ปี  5 เดือน  30 วัน  ",5765]
[{"$f":"A4813+1","v":5776},"02-00097/59","2016-03-11",59,"สอบราคา","รายได้","06-01-10-011","บริษัท แจ๊กเฟอร์นิเจอร์ จำกัด","เก้าอี้สำนักงาน 100 ตัว",100,823.9,"01.01.54679-54778",{"$f":"IF(BV4814=\"จำหน่าย\",0,SUM(J4814*K4814))","v":82390},{"$f":"IF(K4814<5000,0,M4814)","v":0},8,"2024-03-11",2922,0,0,0,0,0,0,0,0,0,0,2,8,11,986,"No","5","256","สำนักวิทยบริการฯ","ใช้ที่อาคารบรรณราช","นายไพรสิทธิ์ ศรีสุทธิเกิดพร","เก้าอี้สำนักงาน ","-","เก้าอี้สำนักงาน ","ยี่ห้อ Jack รุ่น Jk-35","เลขที่ 72 ม.5 ต.ดอนกระเบื้อง อ.โพธาราม จ.ราชบุรี เลขผู้เสียภาษี 0705543000310","ใบกำกับภาษี/ใบส่งสินค้า","-","IV5903-0011","16/2559 ลว.16 ก.พ 59","097/2559",12.5,"สัญญาเรื่อง ซื้อครุภัณฑ์โต๊ะวางคอมพิวเตอร์และเก้าอี้สำนักงาน มรร.บางคล้า จำนวน 100 ชุด"," "," "," "," "," "," "," "," "," "," "," "," "," "," "," "," "," "," "," "," "," ","01","01","54679-54778",null,null,null,"2 ปี  8 เดือน  11 วัน  ",5776]
[{"$f":"A4818+1","v":5781},"02-00122/59","2016-04-08",59,"ตกลงราคา","รายได้","06-01-10-012","บริษัท เมเจอร์ เฟอร์นิเจอร์ มอลล์(ฉะเชิงเทรา) จำกัด","เก้าอี้ทำงาน 1 ตัว",1,4900,"01.01.54677",{"$f":"IF(BV4819=\"จำหน่าย\",0,SUM(J4819*K4819))","v":4900},{"$f":"IF(K4819<5000,0,M4819)","v":0},8,"2024-04-08",2922,0,0,0,0,0,0,0,0,0,0,2,7,14,958,"No","5","257","สำนักวิทยบริการฯ","-","นางสาวจันจิรา ยุทธหาญ","เก้าอี้ทำงาน","-","เก้าอี้ทำงาน","แบบทรงสูง","เลขที่ 672/6 ถ.ฉะเชิงเทรา-บางประกง ต.หน้าเมือง อ.เมือง จ.ฉะเชิงเทรา เลขผู้เสียภาษี 0245556000164","ใบแจ้งหนี้/ใบส่งของ/ใบกำกับภาษี","-","IV590406001","-","095/2559",12.5,null," "," "," "," "," "," "," "," "," "," "," "," "," "," "," "," "," "," "," "," "," ","01","01","54677",null,null,null,"2 ปี  7 เดือน  14 วัน  ",5781]
[{"$f":"A4829+1","v":5792},"02-00045/59","2015-12-14",59,"ตกลงราคา","รายได้","02-02-14-012","ร้านเม็ดยาเฮ้าส์","รถเข็นชนิดนั่ง 1 คัน",1,6900,"01.52.182",{"$f":"IF(BV4830=\"จำหน่าย\",0,SUM(J4830*K4830))","v":6900},{"$f":"IF(K4830<5000,0,M4830)","v":6900},8,"2023-12-14",2922,862.5,71.875,2.3613963039014374,1,71.875,2515.625,2.3613963039014374,2536.1396303901438,70.841889117043124,4363.8603696098562,2,11,8,1074,"YES","6","239","กองพัฒนานักศึกษา บางคล้า","-","นางสาวรุจี มานะสะสม","รถเข็นชนิดนั่ง ",null,"รถเข็นชนิดนั่ง (วิวแชร์)","ชนิดนั่งเหล็กชุบโครเมียม ที่วางแขน 2 ข้าง ที่วางเท้า เป็นอลูมิเนียม","ถ.ศรีโสธรตัดใหม่ อ.เมือง จ.ฉะเชิงเทรา ","ใบส่งของ","-","-","-","185/2559",12.5,"เอกสารตกหล่น"," "," "," "," "," "," "," "," "," "," "," "," "," "," "," "," "," "," "," "," "," ","01","52","182",null,null,null,"2 ปี  11 เดือน  8 วัน  ",5792]
[{"$f":"A4844+1","v":5807},"02-00060/60","2017-01-24",60,"ตกลงราคา","รายได้","02-02-05-001","บริษัท โทเทิ่ล แอคเซส เทคโนโลยี จำกัด (สำนักงานใหญ่)","เครื่องคอมพิวเตอร์แบบพกพา 1 ค.",1,19998.3,"01.53.5589",{"$f":"IF(BV4845=\"จำหน่าย\",0,SUM(J4845*K4845))","v":19998.3},{"$f":"IF(K4845<5000,0,M4845)","v":19998.3},5,"2022-01-24",1826,3999.66,333.30500000000001,10.95197152245345,1,333.30500000000001,6999.4050000000007,10.95197152245345,7304.9650054764506,328.5591456736035,12693.33499452355,1,9,29,667,"YES","10","46","คณะวิทยาการจัดการ","หลักสูตรบริหารธุรกิจมหาบัณฑิต (MBA)","นายณัฐพล บัวเปลี่ยนสี","เครื่องคอมพิวเตอร์แบบพกพา ",null,"เครื่องคอมพิวเตอร์แบบพกพา ","ยี่ห้อ Lenovo ","เลขที่ 30 ม.5 ต.บางทราย อ.เมือง จ.ชลบุรี เลขผู้เสียภาษี 0205548022197","ใบกำกับภาษี/ใบส่งสินค้า","-","R2017/02004","-","009/2560",20,null," "," "," "," "," "," "," "," "," "," "," "," "," "," "," "," "," "," "," "," "," ","01","53","5589",null,null,null,"1 ปี  9 เดือน  29 วัน  ",5807]
[{"$f":"A4849+1","v":5812},"02-00050/60","2017-01-13",60,"ตกลงราคา","รายได้","06-01-05-005","ร้านโชคชัยพานิช","รถเข็น2 ล้อ 2 คัน",2,1605,"01.52.178-179",{"$f":"IF(BV4850=\"จำหน่าย\",0,SUM(J4850*K4850))","v":3210},{"$f":"IF(K4850<5000,0,M4850)","v":0},8,"2025-01-13",2922,0,0,0,0,0,0,0,0,0,0,1,10,9,678,"No","6","239","งานอาคารสถานที่ ฯ","-","นายสมศักดิ์ ล้ำเลิศ","รถเข็น","-","รถเข็น 2 ล้อ ","ขนาด 8 นิ้ว สูง 52 นิ้ว","เลขที่ 97/18 ถ.ชุมพล อ.เมือง จ.ฉะเชิงเทรา เลขผู้เสียภาษี 1242006027","ใบส่งของ/ใบกำกับภาษี","077","3820","-","013/2560",12.5,null," "," "," "," "," "," "," "," "," "," "," "," "," "," "," "," "," "," "," "," "," ","01","52","178-179",null,null,null,"1 ปี  10 เดือน  9 วัน  ",5812]
[{"$f":"A4864+1","v":5827},"02-00009/60","2016-12-29",60,"ตกลงราคา","รายได้","06-01-02-076","บริษัท เอ.เอส.เทคโนโลยี แอนด์ คอมมูนิเคชั่น จำกัด สำนักงานใหญ่","เครื่องโทรสาร 1 ค.",1,18083,"01.54.69",{"$f":"IF(BV4865=\"จำหน่าย\",0,SUM(J4865*K4865))","v":18083},{"$f":"IF(K4865<5000,0,M4865)","v":18083},8,"2024-12-29",2922,2260.375,188.36458333333334,6.1885694729637235,1,188.36458333333334,4144.020833333333,6.1885694729637235,4288.6786447638606,185.65708418891171,13794.321355236139,1,10,24,693,"YES","6","279","ธุรการ","-","นางอารีย์ กุลศรี","เครื่องโทรสาร ",null,"เครื่องโทรสาร ","ยี่ห้อ Panasonic รุ่น Uf-4600","เลขที่ 139/17 ซ.คู้บอน27 แยก 25 แขวงท่าแร้ง เขตบางเขน กรุงเทพฯ เลขผู้เสียภาษี 0105537018089","ใบกำกับภษี/ใบส่งสินค้า/ใบแจ้งหนี้","-","IV0029246",null,"025/2560",12.5,"รายละเอียด -ความเร็วดมเต็ม 33.6 kbps -ความเร็วในการสแกน 4.3 วินาที/แผ่น -ชุดป้อนกระดาษอัติโนมัติ 30 แผ่น -ความเร็วในการพิมพ์ 24แผ่น/นาที -ความเร็วในการส่งเอกสาร 3 วินาที/แผ่น"," "," "," "," "," "," "," "," "," "," "," "," "," "," "," "," "," "," "," "," "," ","01","54","69",null,null,null,"1 ปี  10 เดือน  24 วัน  ",5827]
[{"$f":"A4866+1","v":5829},"02-00033/60","2016-12-18",60,"ตกลงราคา","รายได้","06-014-02-001","บริษัท สิรดนัย มาร์เก็ตติ้ง จำกัด","เครื่องบันทึกเสียง 1 ค.",1,5000,"05.27.175",{"$f":"IF(BV4867=\"จำหน่าย\",0,SUM(J4867*K4867))","v":5000},{"$f":"IF(K4867<5000,0,M4867)","v":5000},5,"2021-12-18",1826,1000,83.333333333333329,2.738225629791895,1,83.333333333333329,1916.6666666666665,2.738225629791895,1927.7108433734941,82.146768893756843,3072.2891566265062,1,11,4,704,"YES","8","100","ศูนย์ศิลปะวัฒนธรรม","-","นายวชิรพงศ์ มณีนันทิวัฒน์","เครื่องบันทึกเสียง ",null,"เครื่องบันทึกเสียง ","ยี่ห้อ Remax voice recorder รุ่น rp1","เลขที่ 99/242 ม.6 ต.เทพารักษ์ ต.บางเมือง อ.เมือง จ.สมุทรปราการ เลขผู้เสียภาษี 0115548008462","ใบกำกับภษี/ใบส่งสินค้า/ใบแจ้งหนี้","-","2805/59","-","027/2560",20,"รายละเอียด -ความจุในตัวหน่วงยความจำแฟลช 32 GB เก็บข้อมูลภายนอก -เวลาในการบันทึก ประมาณ 32 ชั่วโมง "," "," "," "," "," "," "," "," "," "," "," "," "," "," "," "," "," "," "," "," "," ","05","27","175",null,null,null,"1 ปี  11 เดือน  4 วัน  ",5829]
[{"$f":"A4877+1","v":5840},"02-00071/60","2017-02-08",60,"ตกลงราคา","รายได้","06-01-02-016","บริษัท กิมไทย จำกัด","เครื่องพิมพ์ 1 ค.",1,3295.6,"01.72.1084",{"$f":"IF(BV4878=\"จำหน่าย\",0,SUM(J4878*K4878))","v":3295.6},{"$f":"IF(K4878<5000,0,M4878)","v":0},3,"2020-02-08",1095,0,0,0,0,0,0,0,0,0,0,1,9,14,652,"No","10","165","เลขาสภามหาวิทยาลัยฯ","-","นางสาวจิตติมา ศรีวรรณโสภณ","เครื่องพิมพ์ ",null,"เครื่องพิมพ์เลเซอร์ ขาวดำ","ยี่ห้อ Hp laserjet รุ่น Pro M12w","เลขที่ 67 ซ.พัฒนาการ 52 ถ.พัฒนาการ แขวงสานหลวง กรุงเทพฯ เลขผู้เสียภาษี -","ใบส่งสินค้า/ต้นฉบับ","-","008-60","-","034/2560",33.333333333333336,"ความละเอียดในการพิมพ์ 1200*600 dpi ความละเอียดในการพิมพ์ 18 แผ่น/นาที หน่วยความจำ 8 BMB"," "," "," "," "," "," "," "," "," "," "," "," "," "," "," "," "," "," "," "," "," ","01","72","1084",null,null,null,"1 ปี  9 เดือน  14 วัน  ",5840]
[{"$f":"A4892+1","v":5855},"02-00069/60","2017-01-13",60,"ตกลงราคา","รายได้","02-01-01-008","บริษัท ก.ประเสริฐเฟอร์นิเจอร์ จำกัด (สำนักงานใหญ่)","เก้าอี้ทำงาน 1 ตัว",1,3500,"01.01.55002",{"$f":"IF(BV4893=\"จำหน่าย\",0,SUM(J4893*K4893))","v":3500},{"$f":"IF(K4893<5000,0,M4893)","v":0},8,"2025-01-13",2922,0,0,0,0,0,0,0,0,0,0,1,10,9,678,"No","5","257","สำนักวิทยบริการฯ","-","นางสาวลัคณา น้อยสว่าง","เก้าอี้ทำงาน ",null,"เก้าอี้ทำงาน ผู้บริหาร","มีล้อเลื่อน","เลขที่ 299/2-3 ถ.มหาจักรพรรดิ์ ต.หน้าเมือง อ.เมือง จ.ฉะเชิงเทรา เลขผู้เสียภาษี 0245553000066","ใบกำกับภาษี/ใบส่งสินค้า/ใบแจ้งหนี้","-","IV600113002","-","043/2560",12.5,null," "," "," "," "," "," "," "," "," "," "," "," "," "," "," "," "," "," "," "," "," ","01","01","55002",null,null,null,"1 ปี  10 เดือน  9 วัน  ",5855]
[{"$f":"A4897+1","v":5860},"01-00542/60","2017-02-07",60,"ตกลงราคา","รายได้","08-01-05-027","บริษัท ก.ประเสริฐเฟอร์นิเจอร์ จำกัด (สำนักงานใหญ่)","โต๊ะ 2 ตัว",2,1605,"01.02.13312-13313",{"$f":"IF(BV4898=\"จำหน่าย\",0,SUM(J4898*K4898))","v":3210},{"$f":"IF(K4898<5000,0,M4898)","v":0},8,"2025-02-07",2922,0,0,0,0,0,0,0,0,0,0,1,9,15,653,"No","5","197","คณะมนุษยศาสตร์และสังคมศาสตร์","-","นายสราวุธ โรจนศิริ","โต๊ะ ",null,"โต๊ะเอนกประสงค์ ","-","เลขที่ 299/2-3 ถงมหาจักรพรรดิ์ ต.หน้าเมือง อ.เมือง จ.ฉะเชิงเทรา เลขผู้เสียภษี 0245553000066","ใบกำกับภาษี/ใบส่งสินค้า/ใบแจ้งหนี้","-","IV600207001","-","046/2560",12.5,null," "," "," "," "," "," "," "," "," "," "," "," "," "," "," "," "," "," "," "," "," ","01","02","13312-13313",null,null,null,"1 ปี  9 เดือน  15 วัน  ",5860]
[{"$f":"A4908+1","v":5871},"02-00007/60","2016-11-08",60,"ตกลงราคา","รายได้","02-01-19-002","บริษัท ก.ประเสริฐเฟอร์นิเจอร์ จำกัด (สำนักงานใหญ่)","ชั้นวางหนังสือ 4 ชุด",4,1070,"01.10.1469-1472",{"$f":"IF(BV4909=\"จำหน่าย\",0,SUM(J4909*K4909))","v":4280},{"$f":"IF(K4909<5000,0,M4909)","v":0},8,"2024-11-08",2922,0,0,0,0,0,0,0,0,0,0,2,0,14,744,"No","10","179","สำนักวิทยบริการฯ","-","นางสาวประภัสสร จันทร์แก้ว","ชั้นวางหนังสือ ",null,"ชั้นวางหนังสือ ","ขนาด 90*34*90 ซม.","เลขที่ 299/2-3 ถ.มหาจักรพรรดิ์ ต.หน้าเมือง อ.เมือง จ.ฉะเชิงเทรา เลขผู้เสียภาษี 0245553000066","ใบกำกับภาษี/ใบส่งสินค้า/ใบแจ้งหนี้","-","IV591108001","-","051/2560",12.5,null," "," "," "," "," "," "," "," "," "," "," "," "," "," "," "," "," "," "," "," "," ","01","10","1469-1472",null,null,null,"2 ปี  0 เดือน  14 วัน  ",5871]
[{"$f":"A4923+1","v":5886},"-","2016-08-26",60,"รับบริจาค","บริจาค","-","Station@8bit","เครื่องคอมพิวเตอร์เซิร์ฟเวอร์ 2 ค.",2,0,"01.53.5619-5620",{"$f":"IF(BV4924=\"จำหน่าย\",0,SUM(J4924*K4924))","v":0},{"$f":"IF(K4924<5000,0,M4924)","v":0},5,"2021-08-26",1826,0,0,0,0,0,0,0,0,0,0,2,2,27,818,"No","10","47","คณะเทคโนโลยีอุตสาหกรรม","-","นายวิชาญ ตอรบรัมย์","เครื่องคอมพิวเตอร์เซิร์ฟเวอร์ ",null,"เครื่องคอมพิวเตอร์เซิร์ฟเวอร์ ","-","เลขที่ 32 ต.หน้าเมือง อ.เมือง จ.ฉะเชิงเทรา 24000","บันทึกขอบริจาคครุภัณฑ์","-","-","-","069/2560",20,null," "," "," "," "," "," "," "," "," "," "," "," "," "," "," "," "," "," "," "," "," ","01","53","5619-5620",null,null,null,"2 ปี  2 เดือน  27 วัน  ",5886]
[{"$f":"A4928+1","v":5891},"02-00037/60","2016-12-22",60,"ตกลงราคา","รายได้","02-01-01-025","บริษัท ก.ประเสริฐเฟอร์นิเจอร์ จำกัด (สำนักงานใหญ่)","แผงปาติชั่น 1 ชุด",1,70620,"01.14.1001",{"$f":"IF(BV4929=\"จำหน่าย\",0,SUM(J4929*K4929))","v":70620},{"$f":"IF(K4929<5000,0,M4929)","v":70620},8,"2024-12-22",2922,8827.5,735.625,24.168377823408623,1,735.625,16183.75,24.168377823408623,16917.864476386036,725.05133470225871,53702.135523613964,1,10,31,700,"YES","11","11","สำนักวิทยบริการฯ","-","นางสาวประภัสสร จันทร์แก้ว","แผงปาติชั่น ",null,"แผงปาติชั่น พร้อมเสาจบ ขาที","-","เลขที่ 299/2-3 ถ.มหาจักรพรรดิ์ ต.หน้าเมือง อ.เมือง จ.ฉะเชิงเทรา เลขผู้เสียภาษี 0245553000066","ใบกำกับภาษี/ใบส่งสินค้า/ใบแจ้งหนี้","-","IV591222001","-","060/2560",12.5,"ประกอบด้วย ปาติชั่น MA612N ขนาด 1.2*1.6 ม. 2 แผ่น MA610N ขนาด 1.0*1.6 ม. 8 แผ่น ปาติชั่น MA606N ขนาด 0.60*1.6 ม. 2 แผ่น เสาจบ MUPO65 ขนาด 1.60 ม. ขาที MSS01 "," "," "," "," "," "," "," "," "," "," "," "," "," "," "," "," "," "," "," "," "," ","01","14","1001",null,null,null,"1 ปี  10 เดือน  31 วัน  ",5891]
[{"$f":"A4939+1","v":5902},"02-00004/60","2016-11-17",60,"ตกลงราคา","รายได้","06-01-02-023","บริษัท แปดริ้วเฟอร์นิเจอร์ จำกัด","ผ้าม่านพร้อมราง 1 ชุด",1,4280,"01.19.1151",{"$f":"IF(BV4940=\"จำหน่าย\",0,SUM(J4940*K4940))","v":4280},{"$f":"IF(K4940<5000,0,M4940)","v":0},8,"2024-11-17",2922,0,0,0,0,0,0,0,0,0,0,2,0,5,735,"No","11","164","งานยานพาหนะ","-","นายสมศักดิ์ ล้ำเลิศ","ผ้าม่านพร้อมราง ",null,"ผ้าม่านพร้อมราง ","กว้าง 172 ซม. สูง 212 ซม.","เลขที่ 191/72-73 ถ.มหาจักรพรรดิ์ ต.หน้าเมือง อ.เมือง จ.ฉะเชิงเทรา เลขผู้เสียภาษี 0245534000749","(ต้นฉบับ) ใบส่งของ/ใบกำกับภาษี","028","1373","-","065/2560",12.5,null," "," "," "," "," "," "," "," "," "," "," "," "," "," "," "," "," "," "," "," "," ","01","19","1151",null,null,null,"2 ปี  0 เดือน  5 วัน  ",5902]
[{"$f":"A4955+1","v":5918},"02-00029/60","2017-04-03",60,"สอบราคา","รายได้","06-01-02-023","บริษัท อู่มีแสงบ้านโป่ง (1988) จำกัด","เครื่องรับสัญญาณภาพ 1 ค.",1,1500,"06.04.05",{"$f":"IF(BV4956=\"จำหน่าย\",0,SUM(J4956*K4956))","v":1500},{"$f":"IF(K4956<5000,0,M4956)","v":0},5,"2022-04-03",1826,0,0,0,0,0,0,0,0,0,0,1,7,19,598,"No","7","72","งานยานพาหนะ","-","นายประดิษฐ์ จีนภักดี","เครื่องรับสัญญาณภาพ ",null,"เครื่องรับสัญญาณภาพ ","ระบบดิจิตอล","เลขที่ 199 ม.2 ถ.เพชรเกษม ต.สระกระเทียม อ.เมือง จ.นครปฐม เลขผู้เสียภาษี 0735531000395","ใบกำกับภาษี/ใบส่งสินค้า","1","29","1/2560 ลว.10 พ.ย 59","072/2560",20,"งานจ้างปรับปรุงรถโดยสารปรับอากาศ หมายเลขทะเบียน 40-0340 ฉะเชิงเทรา "," "," "," "," "," "," "," "," "," "," "," "," "," "," "," "," "," "," "," "," "," ","06","04","05",null,null,null,"1 ปี  7 เดือน  19 วัน  ",5918]
[{"$f":"A4966+1","v":5929},"01-00658/60","2017-03-17",60,"ตกลงราคา","งบแผ่นดิน","02-01-01-009","บริษัท อิทธิคอร์ปอเรชั่น จำกัด (สำนักงานใหญ่)","ไมโครโฟนแบบไร้สาย 3 ชุด",3,9844,"05.13.939-941",{"$f":"IF(BV4967=\"จำหน่าย\",0,SUM(J4967*K4967))","v":29532},{"$f":"IF(K4967<5000,0,M4967)","v":29532},5,"2022-03-17",1826,5906.4,492.2,16.173055859802847,1,492.2,9844,16.173055859802847,9946.4293537787507,485.19167579408543,19585.570646221247,1,8,5,615,"YES","10","302","งานอาคารสถานที่ฯ","-","นายสมศักดิ์ ล้ำเลิศ","ไมโครโฟนแบบไร้สาย ",null,"ไมโครโฟนแบบไร้สาย ","ยี่ห้อ Shure รุ่น Svx24/Pg58","เลขที่ 29/77 รามอินทรา 65 แยก 2-2-2 แขวงท่าแร้ง เขตบางเขน กรุงเทพฯ เลขผู้เสียภาษี 0105556039762","ใบกำกับภาษี/ใบแจ้งหนี้/ใบส่งสินค้า","-","032/2560","-","077/2560",20,null," "," "," "," "," "," "," "," "," "," "," "," "," "," "," "," "," "," "," "," "," ","05","13","939-941",null,null,null,"1 ปี  8 เดือน  5 วัน  ",5929]
[{"$f":"A4971+1","v":5934},"01-0061/60","2017-03-15",60,"ตกลงราคา","รายได้","06-01-02-039","บริษัท แปดริ้วเฟอร์นิเจอร์ จำกัด","เก้าอี้บุนวม 200 ตัว",200,450,"01.01.55321-55520",{"$f":"IF(BV4972=\"จำหน่าย\",0,SUM(J4972*K4972))","v":90000},{"$f":"IF(K4972<5000,0,M4972)","v":0},8,"2025-03-15",2922,0,0,0,0,0,0,0,0,0,0,1,8,7,617,"No","5","257","สำนักงานอธิการบดี บางคล้า","-","นางประภาพรรณ์ ศรีอุทยาน","เก้าอี้บุนวม ",null,"เก้าอี้บุนวม ","ขนาด 432*510*900 มม.","เลขที่ 191/72-73 ถ.มหาจักรพรรดิ์ ต.หน้าเมือง อ.เมือง จ.ฉะเชิงเทรา เลขผู้เสียภาษี 0245534000749","(ต้นฉบับ) ใบส่งของ/ใบกำกับภาษี","030","1463","-","080/2560",12.5,null," "," "," "," "," "," "," "," "," "," "," "," "," "," "," "," "," "," "," "," "," ","01","01","55321-55520",null,null,null,"1 ปี  8 เดือน  7 วัน  ",5934]
[{"$f":"A4986+1","v":5949},"02-00116/60","2017-05-04",60,"ตกลงราคา","รายได้","02-01-01-008","บริษัท ก.ประเสริฐเฟอร์นิเจอร์ จำกัด","ตู้โชว์ 3 บาน 2 ตู้",2,20000,"01.06.2916-2917",{"$f":"IF(BV4987=\"จำหน่าย\",0,SUM(J4987*K4987))","v":40000},{"$f":"IF(K4987<5000,0,M4987)","v":40000},8,"2025-05-04",2922,5000,416.66666666666669,13.689253935660506,1,416.66666666666669,7500,13.689253935660506,7761.8069815195067,410.6776180698152,32238.193018480495,1,6,18,567,"YES","5","98","สำนักวิทยบริการฯ","-","นางสาวสมพร มานะวะ","ตู้โชว์ 3 บาน ",null,"ตู้โชว์ 3 บาน ","ขนาด w160.8*d48.5*h210 ซม.","เลขที่ 299/2-3 ถ.มหาจักรพรรดิ์ ต.หน้าเมือง อ.เมือง จ.ฉะเชิงเทรา เลขผู้เสียภาษี 0245553000066","ใบกำกับภาษี/ใบส่งสินค้า/ใบแจ้งหนี้","-","IV600504001","-","095/2560",12.5,null," "," "," "," "," "," "," "," "," "," "," "," "," "," "," "," "," "," "," "," "," ","01","06","2916-2917",null,null,null,"1 ปี  6 เดือน  18 วัน  ",5949]
[{"$f":"A4987+1","v":5950},"02-00116/60","2017-05-04",60,"ตกลงราคา","รายได้","02-01-01-008","บริษัท ก.ประเสริฐเฟอร์นิเจอร์ จำกัด","ตู้โชว์ 1 บาน 1 ตู้",1,10000,"01.06.2918",{"$f":"IF(BV4988=\"จำหน่าย\",0,SUM(J4988*K4988))","v":10000},{"$f":"IF(K4988<5000,0,M4988)","v":10000},8,"2025-05-04",2922,1250,104.16666666666667,3.4223134839151266,1,104.16666666666667,1875,3.4223134839151266,1940.4517453798767,102.6694045174538,8059.5482546201238,1,6,18,567,"YES","5","98","สำนักวิทยบริการฯ","-","นางสาวสมพร มานะวะ","ตู้โชว์ 1 บาน ",null,"ตู้โชว์ 1 บาน ","ขนาด w88.5*d48.5*h210 ซม.","เลขที่ 299/2-3 ถ.มหาจักรพรรดิ์ ต.หน้าเมือง อ.เมือง จ.ฉะเชิงเทรา เลขผู้เสียภาษี 0245553000066","ใบกำกับภาษี/ใบส่งสินค้า/ใบแจ้งหนี้","-","IV600504001","-","095/2560",12.5,null," "," "," "," "," "," "," "," "," "," "," "," "," "," "," "," "," "," "," "," "," ","01","06","2918",null,null,null,"1 ปี  6 เดือน  18 วัน  ",5950]
[{"$f":"A5002+1","v":5965},"02-00095/60","2017-05-09",60,"ตกลงราคา","รายได้","02-02-01-021","บริษัท ก.ประเสริฐเฟอร์นิเจอร์ จำกัด","เก้าอี้แถวเหล็ก 4 ที่นั่ง 3 ชุด",3,6313,"01.01.55535-55537",{"$f":"IF(BV5003=\"จำหน่าย\",0,SUM(J5003*K5003))","v":18939},{"$f":"IF(K5003<5000,0,M5003)","v":18939},8,"2025-05-09",2922,2367.375,197.28125,6.4815195071868583,1,197.28125,3551.0625,6.4815195071868583,3642.6139630390144,194.44558521560575,15296.386036960987,1,6,13,562,"YES","5","258","สำนักงานอธิการบดี","-","ผศ.ดร.ดวงพร ภู่ผะกา","เก้าอี้แถวเหล็ก 4 ที่นั่ง ",null,"เก้าอี้แถวเหล็ก 4 ที่นั่ง ","ขนาด 213*68*80","เลขที่ 299/2-3 ถ.มหาจักรพรรดิ์ ต.หน้าเมือง อ.เมือง จ.ฉะเชิงเทรา เลขผู้เสียภาษี 0245553000066","ใบกำกับภาษี/ใบส่งสินค้า/ใบแจ้งหนี้","-","IV600509001",null,"105/2560",12.5,null," "," "," "," "," "," "," "," "," "," "," "," "," "," "," "," "," "," "," "," "," ","01","01","55528-55529",null,null,null,"1 ปี  6 เดือน  13 วัน  ",5965]
[{"$f":"A5007+1","v":5970},"02-00128/60","2017-05-23",60,"ตกลงราคา","รายได้","02-01-01-025","บริษัท ซีโอแอล จำกัด (มหาชน) สำนักงานใหญ๋","เก้าอี้ผู้บริหาร 1 ตัว",1,3800,"01.01.55543",{"$f":"IF(BV5008=\"จำหน่าย\",0,SUM(J5008*K5008))","v":3800},{"$f":"IF(K5008<5000,0,M5008)","v":0},8,"2025-05-23",2922,0,0,0,0,0,0,0,0,0,0,1,5,30,548,"No","5","258","สำนักวิทยบริการฯ",null,"นายธีรพล ปฏิแพทย์","เก้าอี้ผู้บริหาร ",null,"เก้าอี้ผู้บริหาร ","สีดำ Modena valley","เลขที่ 24 ซ.อ่อนนุช 66/1 แขวงสวนหลวง เขตสวนหลวง กรุ งเทพ เลขที่ผู้เสียภาษี 0107551000134","ต้นฉบับ/ใบส่งสินค้า",null,"sn705087264",null,"108/2560",12.5,null," "," "," "," "," "," "," "," "," "," "," "," "," "," "," "," "," "," "," "," "," ","01","01","55543",null,null,null,"1 ปี  5 เดือน  30 วัน  ",5970]
[{"$f":"A5025+1","v":5988},"03-00880/60","2017-06-05",60,"ตกลงราคา","รายได้","02-01-01-008","ร้าน นายประยูร จันวงษา","พระบรมฉายาลักษณ์ ร.10 2 ชุด",2,5000,"01.38.60-61",{"$f":"IF(BV5026=\"จำหน่าย\",0,SUM(J5026*K5026))","v":10000},{"$f":"IF(K5026<5000,0,M5026)","v":10000},8,"2025-06-05",2922,1250,104.16666666666667,3.4223134839151266,1,104.16666666666667,1770.8333333333335,3.4223134839151266,1830.9377138945927,102.6694045174538,8169.0622861054071,1,5,17,535,"YES","6","103","สำนักวิทยบริการฯ","-","นางสาวสมพร มานะวะ","พระบรมฉายาลักษณ์ ",null,"พระบรมฉายาลักษณ์ รัชกาลที่ 10 พร้อมฐานตั้ง","ขนาด 1*2.4 ม.","เลขที่ 1009 ถ.เทพคุณากร ต.หน้าเมือง อ.เมือง จ.ฉะเชิงเทรา ","ใบส่งของ","1","4","-","117/2560",12.5,null," "," "," "," "," "," "," "," "," "," "," "," "," "," "," "," "," "," "," "," "," ","01","38","60-61",null,null,null,"1 ปี  5 เดือน  17 วัน  ",5988]
[{"$f":"A5034+1","v":5997},"02-00137/60","2017-06-26",60,"ตกลงราคา","รายได้","06-01-02-016","บริษัท แปดริ้วเฟอร์นิเจอร์ จำกัด","ตู้เหล็กบานเลื่อนทึบ 2 ตู้",2,4500,"01.06.2919-2920",{"$f":"IF(BV5035=\"จำหน่าย\",0,SUM(J5035*K5035))","v":9000},{"$f":"IF(K5035<5000,0,M5035)","v":0},8,"2025-06-26",2922,0,0,0,0,0,0,0,0,0,0,1,4,27,514,"No","5","98","เลขาสภาฯ","-","นางสาวจิตติมา ศรีวรรณโสภณ","ตู้เหล็กบานเลื่อนทึบ ",null,"ตู้เหล็กบานเลื่อนทึบ พร้อมขารอง","ขนาด 5 ฟุต","เลขที่ 191/72-73 ถ.มหาจักรพรรดิ์ ต.หน้าเมือง อ.เมือง จ.ฉะเชิงเทรา เลขผู้เสียภาษี 0245534000719","ใบส่งของ/ใบกำกับภาษี","031","1531","-","124/2560",12.5,null," "," "," "," "," "," "," "," "," "," "," "," "," "," "," "," "," "," "," "," "," ","01","06","2919-2920",null,null,null,"1 ปี  4 เดือน  27 วัน  ",5997]
[{"$f":"A5045+1","v":6008},"02-00112/60","2017-05-02",60,"ตกลงราคา","รายได้","02-01-03-004","บริษัท เอส.วาย.คอมพิวเตอร์ จำกัด","จอแขวนมือดึง 2 จอ",2,2675,"06.07.368-369",{"$f":"IF(BV5046=\"จำหน่าย\",0,SUM(J5046*K5046))","v":5350},{"$f":"IF(K5046<5000,0,M5046)","v":0},5,"2022-05-02",1826,0,0,0,0,0,0,0,0,0,0,1,6,20,569,"No","8","255","คณะเทคโนโลยีอุตสาหกรรม","วิชาวิศวกรรมการจัดการอุตสาหกรรม","นายจักรพันธ์ ปิ่นทอง","จอแขวนมือดึง ",null,"จอแขวนมือดึง ","ขนาด 70*70 นิ้ว","เลขที่ 20/68 ซ.รามคำแหง 172 ถ.รามคำแหง แขวงมีนบุรี เขตมีนบุรี กรุงเทพฯ เลขผู้เสียภาษี 0105535084737","ต้นฉบับใบกำกับภาษี/ต้นฉบับใบส่งค้า","-","0107/5333","-","120/2560",20,null," "," "," "," "," "," "," "," "," "," "," "," "," "," "," "," "," "," "," "," "," ","06","07","368-369",null,null,null,"1 ปี  6 เดือน  20 วัน  ",6008]
[{"$f":"A5050+1","v":6013},"02-00152/60","2017-07-04",60,"ตกลงราคา","รายได้","02-02-01-018","ร้าน จักรพรรดิ์","เครื่องพิมพ์ 1 ค.",1,4790,"01.72.1110",{"$f":"IF(BV5051=\"จำหน่าย\",0,SUM(J5051*K5051))","v":4790},{"$f":"IF(K5051<5000,0,M5051)","v":0},3,"2020-07-04",1096,0,0,0,0,0,0,0,0,0,0,1,4,18,506,"No","10","166","คณะครุศาสตร์","-","นางสาวพรทิพย์ อ้นเกษม","เครื่องพิมพ์ ",null,"เครื่องพิมพ์ ","ยี่ห้อ Hp laserjet pro รุ่น mfp m26a","เลขที่ 189/11 ต.หน้าเมือง อ.เมือง จ.ฉะเชิงเทรา","ใบส่งของ","005","031","-","135/2560",33.333333333333336,null," "," "," "," "," "," "," "," "," "," "," "," "," "," "," "," "," "," "," "," "," ","01","72","1110",null,null,null,"1 ปี  4 เดือน  18 วัน  ",6013]
[{"$f":"A5065+1","v":6028},"02-00155/60","2017-05-09",60,"ตกลงราคา","รายได้","02-02-02-067","ร้าน แอดวานซ์ ดีไซด์","โต๊ะทำงานเหล็ก 1 ตัว",1,5000,"01.02.13330",{"$f":"IF(BV5066=\"จำหน่าย\",0,SUM(J5066*K5066))","v":5000},{"$f":"IF(K5066<5000,0,M5066)","v":5000},8,"2025-05-09",2922,625,52.083333333333336,1.7111567419575633,1,52.083333333333336,937.5,1.7111567419575633,961.67008898015058,51.3347022587269,4038.3299110198495,1,6,13,562,"YES","5","197","โรงเรียนสาธิต","-","นางสาวอรวรรณ อ้นเกษม","โต๊ะทำงานเหล็ก ",null,"โต๊ะทำงานเหล็ก พร้อมกระจก","ขนาด 123*67*75.3 ซม.","เลขที่ 16 ถ.วรรณยิ่ง ต.หน้าเมือง อ.เมือง จ.ฉะเชิงเทรา เลขผู้เสียภาษี 3249900168405","ใบส่งของ","011","0520","-","142/2560",12.5,null," "," "," "," "," "," "," "," "," "," "," "," "," "," "," "," "," "," "," "," "," ","01","02","13330",null,null,null,"1 ปี  6 เดือน  13 วัน  ",6028]
[{"$f":"A5076+1","v":6039},"02-00142/60","2017-06-21",60,"ตกลงราคา","รายได้","02-02-02-069","บริษัท เมเจอร์ เฟอร์นิเจอร์ มอลล์(ฉะเชิงเทรา) จำกัด","เก้าอี้ 24 ตัว",24,490,"01.01.55558-55581",{"$f":"IF(BV5077=\"จำหน่าย\",0,SUM(J5077*K5077))","v":11760},{"$f":"IF(K5077<5000,0,M5077)","v":0},8,"2025-06-21",2922,0,0,0,0,0,0,0,0,0,0,1,5,1,519,"No","5","258","คณะมนุษยศาสตร์และสังคมศาสตร์",null,"นายอภิชัย วิลาวรรณ","เก้าอี้เบาะ",null,"เก้าอี้เบาะ","-","เลขที่ 672/6 ถ.ฉะเชิงเทรา-บางปะกง ต.หน้าเมือง องเมือง จงฉะเชิงเทรา เลขผู้เสียภาษี 0245556000164","ใบแจ้งหนี้/ใบส่งของ/ใบกำกับภาษี","-","IV600621001","-","150/2560",12.5,null," "," "," "," "," "," "," "," "," "," "," "," "," "," "," "," "," "," "," "," "," ","01","01","55558-55581",null,null,null,"1 ปี  5 เดือน  1 วัน  ",6039]
[{"$f":"A5081+1","v":6044},"02-00179/60","2017-08-04",60,"ตกลงราคา","รายได้","02-02-02-012","บริษัท เมเจอร์ เฟอร์นิเจอร์ มอลล์(ฉะเชิงเทรา) จำกัด","โซฟา 1 ชุด",1,18110,"01.01.55584",{"$f":"IF(BV5082=\"จำหน่าย\",0,SUM(J5082*K5082))","v":18110},{"$f":"IF(K5082<5000,0,M5082)","v":18110},8,"2025-08-04",2922,2263.75,188.64583333333334,6.1978097193702943,1,188.64583333333334,2829.6875,6.1978097193702943,2943.9596167008899,185.93429158110882,15166.040383299111,1,3,18,475,"YES","5","258","คณะเทคโนโลยีอุตสาหกรรม",null,"นางสาวจันทนา ประยูรพงษ์","โซฟา",null,"โซฟา","ยี่ห้อ มาตินี่","เลขที่ 672/6 ถ.ฉะเชิงเทรา-บางปะกง ต.หน้าเมือง องเมือง จงฉะเชิงเทรา เลขผู้เสียภาษี 0245556000164","ใบแจ้งหนี้/ใบส่งของ/ใบกำกับภาษี","-","IV600804001","-","151/2560",12.5,null," "," "," "," "," "," "," "," "," "," "," "," "," "," "," "," "," "," "," "," "," ","01","01","55584",null,null,null,"1 ปี  3 เดือน  18 วัน  ",6044]
[{"$f":"A5095+1","v":6058},"-","2016-11-08",60,"ประกวดราคา","รายได้","-","บริษัท ป.เกษตรพัฒนา(2545) จำกัด","เตียงนอน 19 ชุด",19,5000,"01.39.3147-3165",{"$f":"IF(BV5096=\"จำหน่าย\",0,SUM(J5096*K5096))","v":95000},{"$f":"IF(K5096<5000,0,M5096)","v":95000},8,"2024-11-08",2922,11875,989.58333333333337,32.511978097193705,1,989.58333333333337,23750,32.511978097193705,24188.911704312115,975.35934291581111,70811.088295687892,2,0,14,744,"YES","5","156","โรงแรมบางปะกงปาร์ค","-","นายฤทธิกร สรศักดิ์เกษม","เตียงนอน ",null,"เตียงนอน ","ขนาด 6 ฟุต","-","-","-","-","-","157/2560",12.5,"ได้รับเอกสารเมื่อวันที่  21 สิงหาคม 2560"," "," "," "," "," "," "," "," "," "," "," "," "," "," "," "," "," "," "," "," "," ","01","39","3147-3165",null,null,null,"2 ปี  0 เดือน  14 วัน  ",6058]
[{"$f":"A5108+1","v":6071},"02-00190/2560","2017-08-18",60,"ตกลงราคา","รายได้","02-02-02-054","บริษัทเอส.วาย คอมพิวเตอร์ จำกัด","เครื่องคอมพิวเตอร์ Macintosh",1,49900,"01.53.5654",{"$f":"IF(BV5109=\"จำหน่าย\",0,SUM(J5109*K5109))","v":49900},{"$f":"IF(K5109<5000,0,M5109)","v":49900},5,"2022-08-18",1826,9980,831.66666666666663,27.327491785323112,1,831.66666666666663,12475,27.327491785323112,12597.973713033954,819.82475355969336,37302.026286966044,1,3,4,461,"YES","10","47","คณะครุศาสตร์","-","นายดรัณภพ เพียรจัด","เครื่องคอมพิวเตอร์ Macintosh",null,"เครื่องคอมพิวเตอร์ Macintosh","รุ่น Imac จอภาพ เรตินา 4k 21.5 นิ้ว","เลขที่ 26/68 ซ.รามคำแหง 172 ถ.รามคำแหง แขวงมีนบุรี กรุงเทพฯ เลขผู้เสียภาษี 0105535084734","ต้นฉบับใบกำกับภาษี/ต้นฉบับใบส่งสินค้า","-","0109/5424","-","164/2560",20,null," "," "," "," "," "," "," "," "," "," "," "," "," "," "," "," "," "," "," "," "," ","01","53","5654",null,null,null,"1 ปี  3 เดือน  4 วัน  ",6071]
[{"$f":"A5113+1","v":6076},"02-00187/2560","2017-08-17",60,"ตกลงราคา","รายได้","06-01-02-068","ร้าน ศิริโรจน์ครุภัณฑ์ (สำนักงานใหญ่)","เครื่องทำน้ำเย็น 3 ค.",3,4865,"08.17.380-382",{"$f":"IF(BV5114=\"จำหน่าย\",0,SUM(J5114*K5114))","v":14595},{"$f":"IF(K5114<5000,0,M5114)","v":0},5,"2022-08-17",1826,0,0,0,0,0,0,0,0,0,0,1,3,5,462,"No","5","42","คณะครุศาสตร์","-","นาวสาวพรทิพย์","เครื่องทำน้ำเย็น ",null,"เครื่องทำน้ำเย็น ","-","เลขที่ 131/49-50 ถ.ชุมพล อ.เมือง จงฉะเชิงเทรา เลขผู้เสียภษี 3249900081849","ใบกำกับภาษี/ใบส่งสินค้า","100","4957","-","169/2560",20,null," "," "," "," "," "," "," "," "," "," "," "," "," "," "," "," "," "," "," "," "," ","08","17","880-882",null,null,null,"1 ปี  3 เดือน  5 วัน  ",6076]
[{"$f":"A5124+1","v":6087},"02-00144/2560","2017-08-09",60,"สอบราคา","รายได้","02-02-01-025","ห้างหุ้นส่วนจำกัด เอสพี 999","เครื่องปรับอากาศ 8 ค.",8,20865,"01.29.2324-2331",{"$f":"IF(BV5125=\"จำหน่าย\",0,SUM(J5125*K5125))","v":166920},{"$f":"IF(K5125<5000,0,M5125)","v":166920},8,"2025-08-09",2922,20865,1738.75,57.125256673511295,1,1738.75,26081.25,57.125256673511295,26848.870636550309,1713.7577002053388,140071.1293634497,1,3,13,470,"YES","10","208","มรร.บางค้า","-","นายกิจจา พุฒตาล","เครื่องปรับอากาศ ",null,"เครื่องปรับอากาศ ","ยี่ห้อ kind cool รุ่น kifv18ikicr18 ขนาด 18042 บีทียู","เลขที่ 639 ม.1 ต.เทพารักษ์ อ.เมือง จ.สมุทรปราการ เลขผู้เสียภาษี 0113539002919","ต้นฉบับใบกำกับภาษี/ใบส่งสินค้า","007","0336","-","179/2560",12.5,"-"," "," "," "," "," "," "," "," "," "," "," "," "," "," "," "," "," "," "," "," "," ","01","29","2324-2331",null,null,null,"1 ปี  3 เดือน  13 วัน  ",6087]
[{"$f":"A5129+1","v":6092},"03-01113/2560","2017-08-22",60,"ตกลงราคา","รายได้","06-01-02-039","ร้าน เหรียญทอง อิงค์เจ็ท","ป้ายบอกทาง 2 ป้าย",2,9000,"01.14.1034-1035",{"$f":"IF(BV5130=\"จำหน่าย\",0,SUM(J5130*K5130))","v":18000},{"$f":"IF(K5130<5000,0,M5130)","v":18000},8,"2025-08-22",2922,2250,187.5,6.1601642710472282,1,187.5,2625,6.1601642710472282,2815.1950718685835,184.80492813141686,15184.804928131416,1,2,31,457,"YES","11","12","มรร.บางคล้า","-","นางสาวกวีกนก อุดมศีล","ป้ายบอกทาง ",null,"ป้ายบอกทาง ","ขนาด 1*1.140 ม.","เลขที่ 28/18 ถ.จารุวร ตงพนัสนิคม อ.พนัสนิคม จ.ชลบุรี ","ใบส่งของ","-","-","-","180/2560",12.5,null," "," "," "," "," "," "," "," "," "," "," "," "," "," "," "," "," "," "," "," "," ","01","14","1034-1035",null,null,null,"1 ปี  2 เดือน  31 วัน  ",6092]
[{"$f":"A5144+1","v":6107},"-","2017-06-22",61,"ตกลงราคา","รายได้จากเงินทำบุญเทศน์มหาชาติ","-","แสงคำโต๊ะมุก","โต๊ะหมู่บูชา หมู่ 9 หน้า 10 1 ชุด",1,22000,"01.34.32",{"$f":"IF(BV5145=\"จำหน่าย\",0,SUM(J5145*K5145))","v":22000},{"$f":"IF(K5145<5000,0,M5145)","v":22000},8,"2025-06-22",2922,2750,229.16666666666666,7.529089664613279,1,229.16666666666666,3666.6666666666665,7.529089664613279,3900.0684462696786,225.87268993839837,18099.931553730323,1,4,31,518,"YES","6/2","1","กองพัฒนานักศึกษา","-","นายกิติพงษ์ ย้ายพยุง","โต๊ะหมู่บูชา หมู่ 9 หน้า 10 ",null,"โต๊ะหมู่บูชา หมู่ 9 หน้า 10 ",null,"เบอร์โทร 087.0780573","ใบเสร็จ","-","-","-","009/2561",12.5,"ได้รับเอกสารเมื่อวันที่ 13 พ.ย 60"," "," "," "," "," "," "," "," "," "," "," "," "," "," "," "," "," "," "," "," "," ","01","34","32",null,null,null,"1 ปี  4 เดือน  31 วัน  ",6107]
[{"$f":"A5155+1","v":6118},"02-00011/61","2017-10-23",61,"ตกลงราคา","รายได้","02-02-01-023","ร้านธนภัทรการดนตรี","กลองมาลายู 1 คู่",1,18000,"12.02.23",{"$f":"IF(BV5156=\"จำหน่าย\",0,SUM(J5156*K5156))","v":18000},{"$f":"IF(K5156<5000,0,M5156)","v":18000},5,"2022-10-23",1826,3600,300,9.857612267250822,1,300,3600,9.857612267250822,3893.7568455640749,295.72836801752464,14106.243154435924,1,0,30,395,"YES","9","141","คณะมนุษยศาสตร์และสังคมศาสตร์",null,"นายธีระวุฒิ กลิ่นด้วง","กลองมาลายู ",null,"กลองมาลายู ",null,"111 หมู่ 1 ต.คลองเขื่อน อ.คลองเขื่อน จ.ฉะเชิงเทรา เลขผู้เสียภาษี 3240200088672","ใบเสร็จรับเงิน","19","4","-","013/2561",20,"มีลักษณะเดียวกับกลองแขก แต่สั้นและอ้วนกว่า หน้าหนึ่งใหญ่ อีกหน้าเล็กขึ้นหนังสองหน้า"," "," "," "," "," "," "," "," "," "," "," "," "," "," "," "," "," "," "," "," "," ","12","02","23",null,null,null,"1 ปี  0 เดือน  30 วัน  ",6118]
[{"$f":"A5160+1","v":6123},"02-00006/2561","2017-09-27",61,"สอบราคา","รายได้(กันดหลื่อมปี)","06-01-02-014","บริษัท มหาจักรดีเวลอปเมนท์ จำกัด","เครื่องขยายสัญญาณเสียง 2 ค.",2,24299.7,"05.06.1085-1086",{"$f":"IF(BV5161=\"จำหน่าย\",0,SUM(J5161*K5161))","v":48599.4},{"$f":"IF(K5161<5000,0,M5161)","v":48599.4},5,"2022-09-27",1826,9719.880000000001,809.99000000000012,26.615224534501642,1,809.99000000000012,10529.87,26.615224534501642,11205.009529025192,798.45673603504929,37394.390470974809,1,1,26,421,"YES","8","277","หอประชุม มรร.บางคล้า","-","นายบัญชา บีซัน","เครื่องขยายสัญญาณเสียง ",null,"เครื่องขยายสัญญาณเสียง ","แบบ 2 ช่อง","เลขที่ 225 ถ.รามคำแหง แขวงสะพานสูง เขตสะพานสูง กรุงเทพฯ ","ใบส่งของ","-","-","29/2560","015/2561",20,"สัญญาเรื่อง ซื้อพร้อมติดตั้งเครื่องเสียงหอประชุมมหาวิทยาลัยราชภัฏราชนครินทร์ *ได้รับเอกสารลงทะเบียนครุภัณฑ์ เมื่อวันที่ 15 ธ.ค.2560"," "," "," "," "," "," "," "," "," "," "," "," "," "," "," "," "," "," "," "," "," ","05","06","1085",null,null,null,"1 ปี  1 เดือน  26 วัน  ",6123]
[{"$f":"A5170+1","v":6133},"02-00022/2561","2018-01-09",61,"ตกลงราคา","รานได้","06-01-02-081","บริษัท แปดริ้วเฟอร์นิเจอร์ จำกัด","ตู้ทำน้ำร้อน-น้ำเย็น",2,6500,"08.17.390-391",{"$f":"IF(BV5171=\"จำหน่าย\",0,SUM(J5171*K5171))","v":13000},{"$f":"IF(K5171<5000,0,M5171)","v":13000},5,"2023-01-09",1826,2600,216.66666666666666,7.119386637458927,1,216.66666666666666,2166.6666666666665,7.119386637458927,2256.8455640744796,213.5815991237678,10743.15443592552,0,10,13,317,"YES","5","42","คณะครุศาสตร์","-","นางสาวทัศนีย์ พรเพิ่มทรัพย์","ตู้ทำน้ำร้อน-น้ำเย็น",null,"ตู้ทำน้ำร้อน-น้ำเย็น","แบบ สแตนเลส รุ่น ST15HC","เลขที่ 191/72-731/73 ถ.มหาจักรพรรดิ์ ต.หน้าเมือง อ.เมือง จ.ฉะเชิงเทรา เลขผู้เสียภาษี 099400025549","ใบส่งของ/ใบกำกับภาษี","034","1654","-","020/2561",20,null," "," "," "," "," "," "," "," "," "," "," "," "," "," "," "," "," "," "," "," "," ","08","17","390-391",null,null,null,"0 ปี  10 เดือน  13 วัน  ",6133]
[{"$f":"A5187+1","v":6150},"02-00044/2561","2018-02-13",61,"ตกลงราคา","รายได้","06-01-02-101","บริษัท แปดริ้วเฟอร์นิเจอร์ จำกัด","ตู้เหล็ก 4 ลิ้นชัก 2 ตู้",2,7900,"01.05.1064-1065",{"$f":"IF(BV5188=\"จำหน่าย\",0,SUM(J5188*K5188))","v":15800},{"$f":"IF(K5188<5000,0,M5188)","v":15800},8,"2026-02-13",2922,1975,164.58333333333334,5.4072553045858998,1,164.58333333333334,1481.25,5.4072553045858998,1524.8459958932237,162.21765913757699,14275.154004106776,0,9,9,282,"YES","5","217","งานบริหารงานบุคคล","-","นางสาวรัศมี มั่นคง","ตู้เหล็ก 4 ลิ้นชัก ",null,"ตู้เหล็ก 4 ลิ้นชัก ","-","เลขที่ 191/72-191/73 ถ.มหาจักรพรรดิ์ ต.หน้าเมือง อ.เมือง จ.ฉะเชิงเทรา เลขผู้เสียภาษี 0245534000749","ใบส่งของ/ใบกำกับภาษี","034","1682","-","032/2561",12.5,null," "," "," "," "," "," "," "," "," "," "," "," "," "," "," "," "," "," "," "," "," ","01","05","1064-1065",null,null,null,"0 ปี  9 เดือน  9 วัน  ",6150]
[{"$f":"A5192+1","v":6155},"02-00038/2561","2018-01-31",61,"ตกลงราคา","รายได้","06-01-05-003","นายวีระพงศ์ ชูทอง","พัดลมโคจรติดเพดาน 2 ตัว",2,1200,"01.48.3847-3848",{"$f":"IF(BV5193=\"จำหน่าย\",0,SUM(J5193*K5193))","v":2400},{"$f":"IF(K5193<5000,0,M5193)","v":0},8,"2026-01-31",2922,0,0,0,0,0,0,0,0,0,0,0,9,22,295,"No","6","285","หอพัก นศ.จีน","-","นายสมศักดิ์ ล้ำเลิศ","พัดลมโคจรติดเพดาน ",null,"พัดลมโคจรติดเพดาน ","ขนาด 16 นิ้ว","เลขที่ 203 ม.1 ต.ทะเลน้อย อ.ควนขนุน จ.พัทลุง เลขบัตรประชาชน 1930500023514","ใบส่งมอบงาน","-","-","-","034/2561",12.5,"ติดตั้งใช้งานในห้อง ครัว หอพัก นศ. จีน"," "," "," "," "," "," "," "," "," "," "," "," "," "," "," "," "," "," "," "," "," ","01","48","3847-3848",null,null,null,"0 ปี  9 เดือน  22 วัน  ",6155]
[{"$f":"A5203+1","v":6166},"02-00047/2561","2018-02-01",61,"ตกลงราคา","รายได้","06-01-02-072","ร้าน มายคอม","เตรื่องมัลติมีเดียโปรเจคเตอร์ 1 ค.",1,13500,"06.19.649",{"$f":"IF(BV5204=\"จำหน่าย\",0,SUM(J5204*K5204))","v":13500},{"$f":"IF(K5204<5000,0,M5204)","v":13500},3,"2021-02-01",1096,4500,375,12.317518248175183,1,375,3375,12.317518248175183,3621.350364963504,369.52554744525548,9878.649635036496,0,9,21,294,"YES","11","124","บัฯณฑิตวิทยาลัย",null,"นางสาวปณิตา คล้ายนิล","เครื่องมัลติมีเดียโปรเจคเตอร์ ",null,"เตรื่องมัลติมีเดียโปรเจคเตอร์ ","ยี่ห้อ Epson รุ่น Eb-s05 ความสว่าง 3200 Ansi ","เลขที่ 1108/9 ถ.เทพคุณากร ต.หน้าเมือง อ.เมือง จ.ฉะเชิงเทรา เลขผู้เสียภาษี 3240100104773","ต้นฉบับใบส่งสินค้า/ใบกำกับภาษี",null,"My61-s019","-","041/2561",33.333333333333336,null," "," "," "," "," "," "," "," "," "," "," "," "," "," "," "," "," "," "," "," "," ","06","19","649",null,null,null,"0 ปี  9 เดือน  21 วัน  ",6166]
[{"$f":"A5218+1","v":6181},"02-00050/2561","2018-03-02",61,"ตกลงราคา","รายได้","06-01-02-101","บริษัท เทลเน็ต เทคโนโลยี จำกัด","เครื่องฉายภาพ 3 มิติ 1 ค.",1,14900,"06.39.114",{"$f":"IF(BV5219=\"จำหน่าย\",0,SUM(J5219*K5219))","v":14900},{"$f":"IF(K5219<5000,0,M5219)","v":14900},3,"2021-03-02",1096,4966.666666666667,413.88888888888891,13.594890510948906,1,413.88888888888891,3311.1111111111113,13.594890510948906,3602.6459854014602,407.84671532846716,11297.354014598539,0,8,20,265,"YES","7","183","งานอาคารสถานที่",null,"นายไกรสินชัย ภาชณวรรณ","เครื่องฉายภาพ 3 มิติ ",null,"เครื่องฉายภาพ 3 มิติ ","ยี่ห้อ Razr  รุ่น Ev-560","เลขที่ 210/2-3 ถ.บางแสนสาย 2 ต.แสนสุข อ.เมือง จ.ชลบุรี เลขผู้เสียภาษี 0205539006796","ใบกำกับภาษี/ใบส่งสินค้า","-","610305",null,"050/2561",33.333333333333336,"รายละเอียด หัวกล้องชนิด Cmos -ความละเอียด 5 ล้าน พิกเซล -หมุนหัวกล้อง 350 องศาแนวตั้ง"," "," "," "," "," "," "," "," "," "," "," "," "," "," "," "," "," "," "," "," "," ","06","39","114",null,null,null,"0 ปี  8 เดือน  20 วัน  ",6181]
[{"$f":"A5223+1","v":6186},"02-00056/2561","2018-03-09",61,"ตกลงราคา","รายได้","06-01-02-117","ร้านโชคชัยพานิช","เครื่องปั๊มน้ำอัตโนมัติ 1 ค.",1,14873,"08.06.178",{"$f":"IF(BV5224=\"จำหน่าย\",0,SUM(J5224*K5224))","v":14873},{"$f":"IF(K5224<5000,0,M5224)","v":14873},5,"2023-03-09",1826,2974.6,247.88333333333333,8.145125958378971,1,247.88333333333333,1983.0666666666666,8.145125958378971,2101.4424972617744,244.35377875136913,12771.557502738226,0,8,13,258,"YES","7","242","หอพัก นศ.จีน","-","นายสุจินต์ อรัณยกานนท์","เครื่องปั๊มน้ำอัตโนมัติ ",null,"เครื่องปั๊มน้ำอัตโนมัติ ","ยี่ห้อ Mitsubishi รุ่น Ep 405 qs ขนาด 400 วัตต์","เลขที่ 97/18 ถ.ชุมพล อ.เมือง จ.ฉะเชิงเทรา เลขผู้เสียภาษี 1242006027","ใบส่งของ/ใบกำกับภาษี","082","4051","-","053/2561",20,null," "," "," "," "," "," "," "," "," "," "," "," "," "," "," "," "," "," "," "," "," ","08","06","178",null,null,null,"0 ปี  8 เดือน  13 วัน  ",6186]
[{"$f":"A5234+1","v":6197},"02-00020/2561","2018-02-26",61,"เฉพาะเจาะจง","งบประมาณ","02-01-03-006","ห้างหุ้นส่วนจำกัด เอส พี ซายด์ (สำนักงานใหญ่)","ตู้อบลมร้อนไฟฟ้า Oven 1 ตู้",1,149911,"07.47.09",{"$f":"IF(BV5235=\"จำหน่าย\",0,SUM(J5235*K5235))","v":149911},{"$f":"IF(K5235<5000,0,M5235)","v":149911},5,"2023-02-26",1826,29982.2,2498.5166666666669,82.098028477546549,1,2498.5166666666669,19988.133333333335,82.098028477546549,22084.369660460023,2462.9408543263967,127826.63033953997,0,8,27,269,"YES","8","221","คณะวิทยาศาสตร์ฯ","-","นางสาวสถาพร ดียิ่ง","ตู้อบลมร้อนไฟฟ้า Oven ",null,"ตู้อบลมร้อนไฟฟ้า Oven ","ยี่ห้อ Menmert รุ่น Uf260","เลขที่ 25/159 ซ.หทัยราษฎร์ 34/1 หมู่บ้าน เค.ซี.พาร์ควิลล์ 3 ถ.หทัยราษฏร์ แขวงสามวาตะวันตก เขตคลองสามวา กรุงเทพ เลขผู้เสียภาษี 01035490006691","ต้นฉบับใบกำกับภาษี/ใบส่งของ","-","IV6102022","8/2561 ก.พ 61","060/2561",20,null," "," "," "," "," "," "," "," "," "," "," "," "," "," "," "," "," "," "," "," "," ","07","47","09",null,null,null,"0 ปี  8 เดือน  27 วัน  ",6197]
[{"$f":"A5249+1","v":6212},"61011013","2018-05-18",61,"เฉพาะเจาะจง","งบแผ่นดิน","102101140131","บริษัท ชอท เทล จำกัด","เครื่องวิเคราะห์ก๊าซชีวภาพ",1,576000,"07.120.04",{"$f":"IF(BV5250=\"จำหน่าย\",0,SUM(J5250*K5250))","v":576000},{"$f":"IF(K5250<5000,0,M5250)","v":576000},5,"2023-05-18",1826,115200,9600,315.4435925520263,1,9600,57600,315.4435925520263,59303.395399780944,9463.3077765607886,516696.60460021906,0,6,4,188,"YES","9","241","คณะเทคโนโลยีอุตสาหกรรม","-","นายนรินทร์ กุลนรินทร์","เครื่องวิเคราะห์ก๊าซชีวภาพ",null,"เครื่องวิเคราะห์ก๊าซชีวภาพ","ยี่ห้อ Geotech รุ่น Biogas 5000","เลขที่ 167/3 ม.8 ต.บางเขน อ.เมือง จ.นนทบุรี เลขผู้เสียภาษี 0125543006381","ใบแจ้งหนี้(ใบส่งของ)/ต้นฉบับใบกำกับภาษี","-","IT 2018/005","29/2561 ลว.29 มี.ค 61","073/2561",20,null," "," "," "," "," "," "," "," "," "," "," "," "," "," "," "," "," "," "," "," "," ","07","120","04",null,null,null,"0 ปี  6 เดือน  4 วัน  ",6212]
[{"$f":"A5256+1","v":6219},"61011446","2018-06-04",61,"เฉพาะเจาะจง","รายได้","206201029231","บริษัท เวิลด์แอร์โปรดักส์กรุ๊ป จำกัด ","เครื่องปรับอากาศ 8 ค.",8,35845,"01.29.2361-2368",{"$f":"IF(BV5257=\"จำหน่าย\",0,SUM(J5257*K5257))","v":286760},{"$f":"IF(K5257<5000,0,M5257)","v":286760},8,"2026-06-04",2922,{"$f":"SLN(N5257,,O5257)","v":35845},{"$f":"SLN(R5257,,12)","v":2987.0833333333335},{"$f":"SLN(N5257,,Q5257)","v":98.138261464750173},{"$f":"IF(N5257=0,0,IF(AE5257<=Q5257,1,0))","v":1},{"$f":"SUM(R5257*U5257/12)","v":2987.0833333333335},{"$f":"IF(N5257=0,0,IF((R5257*AB5257)+(R5257*AC5257/12)>=N5257,N5257-J5257,((R5257*AB5257)+(R5257*AC5257/12))))","v":14935.416666666666},{"$f":"SUM(T5257*U5257)","v":98.138261464750173},{"$f":"IF(N5257=0,0,IF((DATEDIF(C5257,TODAY(),\"d\")+1)*T5257>=N5257,N5257-J5257,(DATEDIF(C5257,TODAY(),\"d\")+1)*T5257))","v":16781.642710472279},{"$f":"IF(U5257=0,0,IF(OR(DAY(C5257)=1,MONTH(C5257)<>MONTH(TODAY()),YEAR(C5257)<>YEAR(TODAY())),T5257*((DAY(DATE(YEAR(TODAY()),MONTH(TODAY())+1,1)-1))),T5257*((DAY(DATE(YEAR(TODAY()),MONTH(TODAY())+1,1)-1)-DAY(C5257)+1))))","v":2944.147843942505},{"$f":"IF(N5257=0,0,IF(X5257>=N5257,(J5257),(N5257-Y5257)))","v":269978.35728952772},{"$f":"DATEDIF(C5257,TODAY(),\"Y\")","v":0},{"$f":"DATEDIF(C5257,TODAY(),\"YM\")","v":5},{"$f":"DATEDIF(C5257,TODAY(),\"md\")+1","v":18},{"$f":"DATEDIF(C5257,TODAY(),\"d\")+1","v":171},{"$f":"IF(N5257=0,\"No\",IF(AE5257>Q5257,\"NO\",\"YES\"))","v":"YES"},"10","209","คณะวิทยาการจัดการ",null,"นายอำนวย ปาอ้าย","เครื่องปรับอากาศ ",null,"เครื่องปรับอากาศ ","ยี่ห้อ Trane รุ่น mcx530hb5+ttk530kb5สัญญา","เลขที่ 131/29 ม.9 ถ.สุขุมวิท ต.หนองปรือ อ.บางละมุง จ.ชลบุรี เลขผู้เสียภาษี 0205534000986","ต้นฉบับ ใบกำกับภาษี/ใบส่งของ","123","6105","36/61 ลว.4/6/61","078/2561",12.5,"สัญญาที่ 36/2561 เรื่อง ซื้อเครื่องปรับอากาศ ขนาด 26000 บีทียู 10 ค. และ เครื่องอากาศขนาด 20000 บีทียู 1 ค.  เลขครุภัณฑ์ 01.29.2361-2362 ติดที่ห้อง 131 เลข 01.29.2363-2364 ติดที่ห้อง 132  เลข 01.29.2365-2366 ติดตั้งที่ 133 เลข 01.29.2367-2368 ติดตั้งที่ห้อง 134 "," "," "," "," "," "," "," "," "," "," "," "," "," "," "," "," "," "," "," "," "," ","01","29","2361-2368",null,null,null,"0 ปี  5 เดือน  18 วัน  ",6219]
[{"$f":"A5266+1","v":6229},"-","2017-01-23",61,"-","งบแผ่นดิน","-","บริษัท เซีย คอนสตรั๊คชั่น แอนด์ แมเนจเมนท์ จำกัด","ระบบปั๊มน้ำ 2 ชุด",2,101750,"08.06.181-182",{"$f":"IF(BV5267=\"จำหน่าย\",0,SUM(J5267*K5267))","v":203500},{"$f":"IF(K5267<5000,0,M5267)","v":203500},5,"2022-01-23",1826,40700,3391.6666666666665,111.44578313253012,1,3391.6666666666665,71225,111.44578313253012,74445.783132530123,3343.3734939759038,129054.21686746988,1,9,30,668,"YES","7","242","อาคารเรียนบูรณการวิชาการ มรร.บางคล้า",null,"นายเฉลิมพล พ้นภัย","ระบบปั๊มน้ำ ",null,"ระบบปั๊มน้ำ ",null,"เลขที่ 267 ม.9 ต.สำโรงเหนือ องเมือง สมุทรปราการ จ.สมุทรปราการ",null,null,null,"20/2558 ลว.13 มี.ค 61","082/2561",20,"ได้รับเอการลงทะเบียนครุภัณฑ์เมื่อวันที่ 1 พ.ค 2561 "," "," "," "," "," "," "," "," "," "," "," "," "," "," "," "," "," "," "," "," "," ","08","06","181-182",null,null,null,"1 ปี  9 เดือน  30 วัน  ",6229]
[{"$f":"A5271+1","v":6234},"-","2017-01-23",61,"-","งบแผ่นดิน","-","บริษัท เซีย คอนสตรั๊คชั่น แอนด์ แมเนจเมนท์ จำกัด","ลิฟท์โดยสาร ",1,1800000,"09.63.27",{"$f":"IF(BV5272=\"จำหน่าย\",0,SUM(J5272*K5272))","v":1800000},{"$f":"IF(K5272<5000,0,M5272)","v":1800000},5,"2022-01-23",1826,360000,30000,985.76122672508211,1,30000,630000,985.76122672508211,658488.49945235485,29572.836801752463,1141511.5005476451,1,9,30,668,"YES","9","238","อาคารเรียนบูรณการวิชาการ มรร.บางคล้า",null,"นายเฉลิมพล พ้นภัย","ลิฟท์โดยสาร ",null,"ลิฟท์โดยสาร ","ขนาด 1000 กก.","เลขที่ 267 ม.9 ต.สำโรงเหนือ องเมือง สมุทรปราการ จ.สมุทรปราการ",null,null,null,"20/2558 ลว.13 มี.ค 61","082/2561",20,"ได้รับเอการลงทะเบียนครุภัณฑ์เมื่อวันที่ 1 พ.ค 2561 "," "," "," "," "," "," "," "," "," "," "," "," "," "," "," "," "," "," "," "," "," ","09","63","27",null,null,null,"1 ปี  9 เดือน  30 วัน  ",6234]
[{"$f":"A5282+1","v":6245},"61011525","2018-05-17",61,"ประกวดราคาอิเล็กทรอนิกส์","งบแผ่นดิน","102202150131","บริษัท มหาจักรดีเวลอปเมนท์ จำกัด","จอ Led 2 ค.",2,60812,"06.07.375-376",{"$f":"IF(BV5283=\"จำหน่าย\",0,SUM(J5283*K5283))","v":121624},{"$f":"IF(K5283<5000,0,M5283)","v":121624},5,"2023-05-17",1826,24324.799999999999,2027.0666666666666,66.606790799561878,1,2027.0666666666666,12162.4,66.606790799561878,12588.683461117194,1998.2037239868564,109035.31653888281,0,6,5,189,"YES","8","295","ห้องประชุมศูนย์ภาษาและคอมพิวเตอร์ มรร.บางคล้า",null,"นายบัญชา บีซัน","จอ Led ",null,"จอ Led ","ยี่ห้อ Sumsung  รุ่น ua65mu6100kxxxt","เลขที่ 225 ถ.รามคำแหง แขวงสะพานสูง เขตสะพานสูง กรุงเทพฯ เลขผู้เสียภาษี 0105526025402","ใบกำกับภาษี/ใบส่งสินค้า","-","S13002","31/2561 ลว.30 มี.ค 61","083/2561",20,null," "," "," "," "," "," "," "," "," "," "," "," "," "," "," "," "," "," "," "," "," ","06","07","375-376",null,null,null,"0 ปี  6 เดือน  5 วัน  ",6245]
[{"$f":"A5297+1","v":6260},"61011261","2018-06-14",61,"ตกลงราคา","รายได้","206201029231","บริษัท เมเจอร์ เฟอร์นิเจอร์ มอลล์ (ฉะเชิงเทรา) จำกัด","ปาติชั่น แบบครึ่งทึบ",3,12200,"01.14.1039-1041",{"$f":"IF(BV5298=\"จำหน่าย\",0,SUM(J5298*K5298))","v":36600},{"$f":"IF(K5298<5000,0,M5298)","v":36600},8,"2026-06-14",2922,4575,381.25,12.525667351129364,1,381.25,1906.25,12.525667351129364,2016.6324435318277,375.77002053388094,34583.367556468169,0,5,8,161,"YES","11","12","นิติกร",null,"นายปิยะ นุชพงษ์","ปาติชั่น แบบครึ่งทึบ",null,"ปาติชั่น แบบครึ่งทึบ","ขนาด 60*150 ซม.","เลขที่ 672/2 ฉะเชิงเทรา-บางปะกง ต.หน้าเมือง อ.เมือง จ.ฉะเชิงเทรา เลขผู้เสียภาษี 0245556000164","ใบแจ้งหนี้/ใบส่งของ/ใบกำกับภาษี","-","IV610616001","-","086/61",12.5,null," "," "," "," "," "," "," "," "," "," "," "," "," "," "," "," "," "," "," "," "," ","01","14","1039-1041",null,null,null,"0 ปี  5 เดือน  8 วัน  ",6260]
[{"$f":"A5308+1","v":6271},"61011530","2018-05-25",61,"เฉพาะเจาะจง","งบแผ่นดิน","102101020231","บริษัท เอ.เอส.เทคโนโลยี แอนด์ คอมมูนิเคชั่น จำกัด","เครื่องควบคุมชุดไมโครโฟน 1 ค.",1,13910,"05.06.1105",{"$f":"IF(BV5309=\"จำหน่าย\",0,SUM(J5309*K5309))","v":13910},{"$f":"IF(K5309<5000,0,M5309)","v":13910},5,"2023-05-25",1826,2782,231.83333333333334,7.6177437020810519,1,231.83333333333334,1159.1666666666667,7.6177437020810519,1378.8116100766704,228.53231106243155,12531.188389923329,0,5,28,181,"YES","8","278","คณะเทคโนโลยีอุตสาหกรรม","-","นางสาวจันทนา ประยูรพงษ์","เครื่องควบคุมชุดไมโครโฟน ",null,"เครื่องควบคุมชุดไมโครโฟน ","ยี่ห้อ Soundvisos รุ่น Dcs-900m ","เลขที่ 139/17 ซ.คู้บอน 27 แยก 25 แขวงท่าแร้ง เขตบางเขน กรุงเทพฯ เลขผู้เสียภาษี 0105537018089","ใบกำกับภาษี/ใบส่งสินค้า/ใบแจ้งหนี้","-","-","25/2561 ลว.28 มี.ค 2561","092/2561",20,null," "," "," "," "," "," "," "," "," "," "," "," "," "," "," "," "," "," "," "," "," ","05","06","1105",null,null,null,"0 ปี  5 เดือน  28 วัน  ",6271]
[{"$f":"A5313+1","v":6276},"61011530","2018-05-25",61,"เฉพาะเจาะจง","งบแผ่นดิน","102101020231","บริษัท เอ.เอส.เทคโนโลยี แอนด์ คอมมูนิเคชั่น จำกัด","เก้าอี้ประธาน 1 ตัว",1,3691.5,"01.01.55684",{"$f":"IF(BV5314=\"จำหน่าย\",0,SUM(J5314*K5314))","v":3691.5},{"$f":"IF(K5314<5000,0,M5314)","v":0},8,"2026-05-25",2922,0,0,0,0,0,0,0,0,0,0,0,5,28,181,"No","5","259","คณะเทคโนโลยีอุตสาหกรรม","-","นางสาวจันทนา ประยูรพงษ์","เก้าอี้ประธาน ",null,"เก้าอี้ประธาน ",null,"เลขที่ 139/17 ซ.คู้บอน 27 แยก 25 แขวงท่าแร้ง เขตบางเขน กรุงเทพฯ เลขผู้เสียภาษี 0105537018089","ใบกำกับภาษี/ใบส่งสินค้า/ใบแจ้งหนี้","-","-","25/2561 ลว.28 มี.ค 2561","092/2561",12.5,null," "," "," "," "," "," "," "," "," "," "," "," "," "," "," "," "," "," "," "," "," ","01","01","55684",null,null,null,"0 ปี  5 เดือน  28 วัน  ",6276]
[{"$f":"A5322+1","v":6285},"61012184","2018-05-28",61,"ประกวดราคาอิเล็กทรอนิกส์","งบแผ่นดิน","102101020231","บริษัท เอ.เอส.เทคโนโลยี แอนด์ คอมมูนิเคชั่น จำกัด","เครื่องสำรองไฟ 2 ค.",2,34600,"05.46.1013-1014",{"$f":"IF(BV5323=\"จำหน่าย\",0,SUM(J5323*K5323))","v":69200},{"$f":"IF(K5323<5000,0,M5323)","v":69200},3,"2021-05-28",1096,23066.666666666668,1922.2222222222224,63.138686131386862,1,1922.2222222222224,9611.1111111111113,63.138686131386862,11238.686131386861,1894.1605839416059,57961.313868613142,0,5,25,178,"YES","7","259","คณะเทคโนโลยีอุตสาหกรรม","ห้องปฏิบัติการคอมพิวเตอร์","นางสาวจันทนา ประยูรพงษ์","เครื่องสำรองไฟ ",null,"เครื่องสำรองไฟ ","ยี่ห้อ Syndome รุ่น Hee-3000 ขนาด 3 Kva","เลขที่ 139/17 ซ.คู้บอน 27 แยก 25 แขวงท่าแร้ง เขตบางเขน กรุงเทพ เลขผู้เสียภาษี 0105537018089","ใบกำกับภาษี/ใบส่งสินค้า/ใบแจ้งหนี้",null,"IV0031236","30/2561 ลว.29 มี.ค 61","094/2561",33.333333333333336,null," "," "," "," "," "," "," "," "," "," "," "," "," "," "," "," "," "," "," "," "," ","05","46","1013-1014",null,null,null,"0 ปี  5 เดือน  25 วัน  ",6285]
[{"$f":"A5340+1","v":6303},"61012441","2018-07-06",61,"เฉพาะเจาะจง","รายได้","206201028931","ร้านเจริญพานิช (สำนักงานใหญ่)","พัดลมเพดาน 11 ค.",11,1498,"01.48.3849-3859",{"$f":"IF(BV5341=\"จำหน่าย\",0,SUM(J5341*K5341))","v":16478},{"$f":"IF(K5341<5000,0,M5341)","v":0},8,"2026-07-06",2922,0,0,0,0,0,0,0,0,0,0,0,4,16,139,"No","6","285","สนง.อธิการบดี มรร.บางคล้า","-","นางประภาพรรณ์ ศรีอุทยาน","พัดลมเพดาน ",null,"พัดลมเพดาน ","ขนาด 48 นิ้ว","เลขที่ 710-712 ม.1 ต.พนมสารคาม อ.พนมสารคาม จ.ฉะเชิงเทรา เลขผู้เสียภาษี 3240600026968","(ต้นฉบับ)ใบส่งสินค้า/ใบกำกับภาษี","012","0562","-","102/2561",12.5,null," "," "," "," "," "," "," "," "," "," "," "," "," "," "," "," "," "," "," "," "," ","01","48","3849-3859",null,null,null,"0 ปี  4 เดือน  16 วัน  ",6303]
[{"$f":"A5345+1","v":6308},"61012778","2018-07-09",61,"เฉพาะเจาะจง","งบแผ่นดิน","206201028931","บริษัท พอช เอ็นเตอร์ไพร์ส จำกัด ","เครื่องกัดแนวระนาบ 1 ค.",1,498500,"09.98.03",{"$f":"IF(BV5346=\"จำหน่าย\",0,SUM(J5346*K5346))","v":498500},{"$f":"IF(K5346<5000,0,M5346)","v":498500},5,"2023-07-09",1826,99700,8308.3333333333339,273.0010952902519,1,8308.3333333333339,33233.333333333336,273.0010952902519,37128.14895947426,8190.0328587075564,461371.85104052571,0,4,13,136,"YES","9","46","คณะเทคโนโลยีอุตสาหกรรม","วิชาออกแบบผลิตภัณฑ์","นายวิชาญ ตอรบรัมย์","เครื่องกัดแนวระนาบ ",null,"เครื่องกัดแนวระนาบ ","ขนาด 120*250 ซม.","เลขที่ 29 ซ.ประวิทย์และเพื่อน 10 ถ.สุขุมวิท 101/1 แขวงบางจาก เขตพระโขนง กรุงเทพฯ เลขผู้เสียภาษี 0105544042551","ต้นฉบับใบกำกับภาษี/ใบเสร็จรับเงิน","-","61.0431","13/2561 ลว.9 มี.ค 61","107/2561",20,null," "," "," "," "," "," "," "," "," "," "," "," "," "," "," "," "," "," "," "," "," ","09","98","03",null,null,null,"0 ปี  4 เดือน  13 วัน  ",6308]
[{"$f":"A5360+1","v":6323},"61011628","2018-07-03",61,"เฉพาะเจาะจง","รายได้","206201029231","บริษัท แปดริ้วเฟอร์นิเจอร์ จำกัด สำนักงานใหญ่","ตู้เหล็ก 2 บานเปิด 2 ใบ",2,5243,"01.07.1030-1031",{"$f":"IF(BV5361=\"จำหน่าย\",0,SUM(J5361*K5361))","v":10486},{"$f":"IF(K5361<5000,0,M5361)","v":10486},8,"2026-07-03",2922,1310.75,109.22916666666667,3.5886379192334017,1,109.22916666666667,436.91666666666669,3.5886379192334017,509.58658453114305,107.65913757700206,9976.4134154688563,0,4,19,142,"YES","5","251","พัสดุ","-","นางสาวปัญญารัตน์ สมศักดิ์","ตู้เหล็ก 2 บานเปิด ",null,"ตู้เหล็ก 2 บานเปิด ","ยี่ห้อ Star ขนาด 91.4*95.7*182.9 ซม.","เลขที่ 191/72-191/73 ถ.มหาจักรพรรดิ์ ต.หน้าเมือง อ.เมือง จ.ฉะเชิงเทรา เลขผู้เสียภาษี 0245534000749","ใบส่งของ/ใบกำกับภาษี","036","1773","-","118/2561",12.5,null," "," "," "," "," "," "," "," "," "," "," "," "," "," "," "," "," "," "," "," "," ","01","07","1030-1031",null,null,null,"0 ปี  4 เดือน  19 วัน  ",6323]
[{"$f":"A5371+1","v":6334},null,"2003-03-06",46,null,null,null,null,"อุปกรณ์ทวนสัญญาณ 1 ชุด",1,42000,"05.55.20",{"$f":"IF(BV5372=\"จำหน่าย\",0,SUM(J5372*K5372))","v":42000},{"$f":"IF(K5372<5000,0,M5372)","v":42000},3,"2006-03-06",1096,14000,1166.6666666666667,38.321167883211679,0,0,41999,0,41999,0,1,15,8,16,5740,"NO",null,null,null,null,null,null,null,null,null,null,null,null,null,null,null,33.333333333333336,null,null,null,null,null,null,null,null,null,null,null,null,null,null,null,null,null,null,null,null,null,null,"05","55","20",null,null,null,"15 ปี  8 เดือน  16 วัน  ",6334]
[{"$f":"A5376+1","v":6339},null,"2003-09-03",46,null,null,null,null,"15 U with Accessories Rack 1 set.",1,18939,"05.55.29",{"$f":"IF(BV5377=\"จำหน่าย\",0,SUM(J5377*K5377))","v":18939},{"$f":"IF(K5377<5000,0,M5377)","v":18939},3,"2006-09-03",1096,6313,526.08333333333337,17.280109489051096,0,0,18938,0,18938,0,1,15,2,19,5559,"NO",null,null,null,null,null,null,null,null,null,null,null,null,null,null,null,33.333333333333336,null,null,null,null,null,null,null,null,null,null,null,null,null,null,null,null,null,null,null,null,null,null,"05","55","29",null,null,null,"15 ปี  2 เดือน  19 วัน  ",6339]
[{"$f":"A5387+1","v":6350},null,"2004-11-10",48,null,null,null,null,"อุปกรณ์ทวนและสลับสัญญาณรอง 1 ชุด",1,22800,"05.55.39",{"$f":"IF(BV5388=\"จำหน่าย\",0,SUM(J5388*K5388))","v":22800},{"$f":"IF(K5388<5000,0,M5388)","v":22800},3,"2007-11-10",1095,7600,633.33333333333337,20.82191780821918,0,0,22799,0,22799,0,1,14,0,12,5125,"NO",null,null,null,null,null,null,null,null,null,null,null,null,null,null,null,33.333333333333336,null,null,null,null,null,null,null,null,null,null,null,null,null,null,null,null,null,null,null,null,null,null,"05","55","39",null,null,null,"14 ปี  0 เดือน  12 วัน  ",6350]
[{"$f":"A5392+1","v":6355},null,"2005-06-22",48,null,null,null,null,"Office Connect Wireless 11 g Access Point 1 ชุด",1,8292.5,"05.55.46",{"$f":"IF(BV5393=\"จำหน่าย\",0,SUM(J5393*K5393))","v":8292.5},{"$f":"IF(K5393<5000,0,M5393)","v":8292.5},3,"2008-06-22",1096,2764.1666666666665,230.3472222222222,7.5661496350364965,0,0,8291.5,0,8291.5,0,1,13,4,31,4901,"NO",null,null,null,null,null,null,null,null,null,null,null,null,null,null,null,{"$f":"100/O5393","v":33.333333333333336},null,null,null,null,null,null,null,null,null,null,null,null,null,null,null,null,null,null,null,null,null,null,"05","55","46",null,null,null,"13 ปี  4 เดือน  31 วัน  ",6355]
[{"$f":"A5408+1","v":6371},null,"2008-02-26",51,null,null,null,null,"เครื่องขยายสัญญาณคอมพิวเตอร์ 1 ค.",1,12519,"05.55.89",{"$f":"IF(BV5409=\"จำหน่าย\",0,SUM(J5409*K5409))","v":12519},{"$f":"IF(K5409<5000,0,M5409)","v":12519},3,"2011-02-26",1096,4173,347.75,11.422445255474452,0,0,12518,0,12518,0,1,10,8,27,3922,"NO",null,null,null,null,null,null,null,null,null,null,null,null,null,null,null,33.333333333333336,null,null,null,null,null,null,null,null,null,null,null,null,null,null,null,null,null,null,null,null,null,null,"05","55","89",null,null,null,"10 ปี  8 เดือน  27 วัน  ",6371]
[{"$f":"A5419+1","v":6382},null,"2009-08-10",52,null,null,null,null,"อุปกรณ์กระจายสัญญาณเครือข่าย 24 พอร์ต 2 ชุด",2,15943,"05.55.126-127",{"$f":"IF(BV5420=\"จำหน่าย\",0,SUM(J5420*K5420))","v":31886},{"$f":"IF(K5420<5000,0,M5420)","v":31886},3,"2012-08-10",1096,10628.666666666666,885.72222222222217,29.093065693430656,0,0,31884,0,31884,0,2,9,3,12,3391,"NO",null,null,null,null,null,null,null,null,null,null,null,null,null,null,null,33.333333333333336,null,null,null,null,null,null,null,null,null,null,null,null,null,null,null,null,null,null,null,null,null,null,"05","55","126-127",null,null,null,"9 ปี  3 เดือน  12 วัน  ",6382]
[{"$f":"A5424+1","v":6387},null,"2009-09-24",52,null,null,null,null,"อุปกรณ์สลับสัญญาณกระจาย 5 ชุด",5,128400,"05.55.137-141",{"$f":"IF(BV5425=\"จำหน่าย\",0,SUM(J5425*K5425))","v":642000},{"$f":"IF(K5425<5000,0,M5425)","v":642000},3,"2012-09-24",1096,214000,17833.333333333332,585.76642335766428,0,0,641995,0,641995,0,5,9,1,29,3346,"NO",null,null,null,null,null,null,null,null,null,null,null,null,null,null,null,33.333333333333336,null,null,null,null,null,null,null,null,null,null,null,null,null,null,null,null,null,null,null,null,null,null,"05","55","137-141",null,null,null,"9 ปี  1 เดือน  29 วัน  ",6387]
[{"$f":"A5435+1","v":6398},null,"2011-12-09",55,null,null,null,null,"อุปกรณ์กระจายสัณญาณ 1 ตัว",1,11770,"05.55.169",{"$f":"IF(BV5436=\"จำหน่าย\",0,SUM(J5436*K5436))","v":11770},{"$f":"IF(K5436<5000,0,M5436)","v":11770},3,"2014-12-09",1096,3923.3333333333335,326.94444444444446,10.739051094890511,0,0,11769,0,11769,0,1,6,11,13,2540,"NO",null,null,null,null,null,null,null,null,null,null,null,null,null,null,null,33.333333333333336,null,null,null,null,null,null,null,null,null,null,null,null,null,null,null,null,null,null,null,null,null,null,"05","55","169",null,null,null,"6 ปี  11 เดือน  13 วัน  ",6398]
[{"$f":"A5450+1","v":6413},null,"2013-08-22",56,null,null,null,null,"อุปกรณ์สลับสัญญาณ 4 ชุด",4,17655,"05.55.217-220",{"$f":"IF(BV5451=\"จำหน่าย\",0,SUM(J5451*K5451))","v":70620},{"$f":"IF(K5451<5000,0,M5451)","v":70620},3,"2016-08-22",1096,23540,1961.6666666666667,64.434306569343065,0,0,70616,0,70616,0,4,5,2,31,1918,"NO",null,null,null,null,null,null,null,null,null,null,null,null,null,null,null,33.333333333333336,null,null,null,null,null,null,null,null,null,null,null,null,null,null,null,null,null,null,null,null,null,null,"05","55","217-220",null,null,null,"5 ปี  2 เดือน  31 วัน  ",6413]
[{"$f":"A5455+1","v":6418},null,"2015-08-04",58,null,null,null,null,"อุปกรณ์กระจายสัญญาณ 1 ชุด",1,14445,"05.55.265",{"$f":"IF(BV5456=\"จำหน่าย\",0,SUM(J5456*K5456))","v":14445},{"$f":"IF(K5456<5000,0,M5456)","v":14445},3,"2018-08-04",{"$f":"IF(NOT(OR(ISBLANK(P5456),ISBLANK(C5456))),P5456-C5456,\"\")","v":1096},4815,401.25,13.179744525547445,0,0,14444,0,14444,0,1,3,3,18,1206,"NO",null,null,null,null,null,null,null,null,null,null,null,null,null,null,null,33.333333333333336,null,null,null,null,null,null,null,null,null,null,null,null,null,null,null,null,null,null,null,null,null,null,"05","55","265",null,null,null,"3 ปี  3 เดือน  18 วัน  ",6418]
[{"$f":"A5466+1","v":6429},"02-00150/60","2017-07-04",60,"ตกลงราคา","รายได้","02-01--01-008","บริษัท เทลเน็ต เทคโนโลยี จำกัด","อุปกรณ์ขยายพอร์ท 2 หน่วย",2,9095,"05.55.284-285",{"$f":"IF(BV5467=\"จำหน่าย\",0,SUM(J5467*K5467))","v":18190},{"$f":"IF(K5467<5000,0,M5467)","v":18190},3,"2020-07-04",1096,6063.333333333333,505.27777777777777,16.596715328467152,1,505.27777777777777,8084.4444444444443,16.596715328467152,8397.9379562043796,497.90145985401455,9792.0620437956204,1,4,18,506,"YES","10","54","สำนักวิทยบริการฯ","-","นายบุญญา วาสี","อุปกรณ์ขยายพอร์ท ",null,"อุปกรณ์ขยายพอร์ท ","Cisco DG300-10 8 Port","เลขที่ 210/2-3 ถงบางแสนสาย 2 ต.แสนสุข อ.เมือง จ.ชลบุรี  เลขประจำตัวผู้เสียภาษี 0205539006796","ใบกำกับภาษี/ใบส่งสินค้า","-","600805","-","130/2560",33.333333333333336,null," "," "," "," "," "," "," "," "," "," "," "," "," "," "," "," "," "," "," "," "," ","05","55","284-285",null,null,null,"1 ปี  4 เดือน  18 วัน  ",6429]
[{"$f":"A5481+1","v":6444},"61012184","2018-05-28",61,"ประกวดราคาอิเล็กทรอนิกส์","งบแผ่นดิน","102101020231","บริษัท เอ.เอส.เทคโนโลยี แอนด์ คอมมูนิเคชั่น จำกัด","อุปกรณ์กระจายสัญญาณไร้สาย 4 ตัว",4,23000,"05.55.321-324",{"$f":"IF(BV5482=\"จำหน่าย\",0,SUM(J5482*K5482))","v":92000},{"$f":"IF(K5482<5000,0,M5482)","v":92000},3,"2021-05-28",1096,30666.666666666668,2555.5555555555557,83.941605839416056,1,2555.5555555555557,12777.777777777779,83.941605839416056,14941.605839416057,2518.2481751824816,77058.394160583935,0,5,25,178,"YES","10","55","คณะเทคโนโลยีอุตสาหกรรม","ห้องปฏิบัติการคอมพิวเตอร์","นางสาวจันทนา ประยูรพงษ์","อุปกรณ์กระจายสัญญาณไร้สาย ",null,"อุปกรณ์กระจายสัญญาณไร้สาย ","ยี่ห้อ Cisco รุ่น Aironet 1852i","เลขที่ 139/17 ซ.คู้บอน 27 แยก 25 แขวงท่าแร้ง เขตบางเขน กรุงเทพ เลขผู้เสียภาษี 0105537018089","ใบกำกับภาษี/ใบส่งสินค้า/ใบแจ้งหนี้",null,"IV0031236","30/2561 ลว.29 มี.ค 61","094/2561",33.333333333333336,null," "," "," "," "," "," "," "," "," "," "," "," "," "," "," "," "," "," "," "," "," ","05","55","321-324",null,null,null,"0 ปี  5 เดือน  25 วัน  ",6444]
[{"$f":"A5483+1","v":6446},"61012632","2018-07-13",61,"ตกลงราคา","รายได้","202202012131","บริษัท ก.ประเสริฐเฟอร์นิเจอร์ จำกัด","ชั้นเก็บอุปกรณ์เด็ก 1 ชุด",1,3210,"01.10.1486",{"$f":"IF(BV5484=\"จำหน่าย\",0,SUM(J5484*K5484))","v":3210},{"$f":"IF(K5484<5000,0,M5484)","v":0},8,{"$f":"DATE(YEAR(C5484)+O5484,MONTH(C5484),DAY(C5484))","v":"2026-07-13"},{"$f":"IF(NOT(OR(ISBLANK(P5484),ISBLANK(C5484))),P5484-C5484,\"\")","v":2922},{"$f":"SLN(N5484,,O5484)","v":0},{"$f":"SLN(R5484,,12)","v":0},{"$f":"SLN(N5484,,Q5484)","v":0},{"$f":"IF(N5484=0,0,IF(AE5484<=Q5484,1,0))","v":0},{"$f":"SUM(R5484*U5484/12)","v":0},{"$f":"IF(N5484=0,0,IF((R5484*AB5484)+(R5484*AC5484/12)>=N5484,N5484-J5484,((R5484*AB5484)+(R5484*AC5484/12))))","v":0},{"$f":"SUM(T5484*U5484)","v":0},{"$f":"IF(N5484=0,0,IF((DATEDIF(C5484,TODAY(),\"d\")+1)*T5484>=N5484,N5484-J5484,(DATEDIF(C5484,TODAY(),\"d\")+1)*T5484))","v":0},{"$f":"IF(U5484=0,0,IF(OR(DAY(C5484)=1,MONTH(C5484)<>MONTH(TODAY()),YEAR(C5484)<>YEAR(TODAY())),T5484*((DAY(DATE(YEAR(TODAY()),MONTH(TODAY())+1,1)-1))),T5484*((DAY(DATE(YEAR(TODAY()),MONTH(TODAY())+1,1)-1)-DAY(C5484)+1))))","v":0},{"$f":"IF(N5484=0,0,IF(X5484>=N5484,(J5484),(N5484-Y5484)))","v":0},{"$f":"DATEDIF(C5484,TODAY(),\"Y\")","v":0},{"$f":"DATEDIF(C5484,TODAY(),\"YM\")","v":4},{"$f":"DATEDIF(C5484,TODAY(),\"md\")+1","v":9},{"$f":"DATEDIF(C5484,TODAY(),\"d\")+1","v":132},{"$f":"IF(N5484=0,\"No\",IF(AE5484>Q5484,\"NO\",\"YES\"))","v":"No"},"10","179","ศูนย์ภาษา","-","นางสาวอาภา ปาสาณพงศ์","ชั้นเก็บอุปกรณ์เด็ก ",null,"ชั้นเก็บอุปกรณ์เด็ก ","ขนาด 1.50*090 ม.","เลขที่ 299/2-3 ถ.มหาจักรพรรดิ์ ต.หน้าเมือง อ.เมือง จ.เชิงเทรา เลขผู้เสียภาษี 0245553000066","ใบกำกับภาษี/ใบส่งสินค้า/ใบแจ้งหนี้","-","IV610713001",null,"123/2561",{"$f":"100/O5484","v":12.5},null," "," "," "," "," "," "," "," "," "," "," "," "," ",null," "," "," "," "," "," "," ","01","10","1486"," ",null,"8/31/2018",{"$f":"CONCATENATE(AB5484,\" ปี  \",AC5484,\" เดือน  \",AD5484,\" วัน  \")","v":"0 ปี  4 เดือน  9 วัน  "},{"$f":"A5484","v":6446}]
[{"$f":"A5498+1","v":6461},"61064688","2018-09-06",61,"ตกลงราคา","รายได้","202101130231","บริษัท เมเจอร์ เฟอร์นิเจอร์ มอลล์ (ฉะเชิงเทรา) จำกัด ","ตู้อเนกประสงค์บานเปิด 2 ใบ",2,2500,"01.06.1042-1043",{"$f":"IF(BV5499=\"จำหน่าย\",0,SUM(J5499*K5499))","v":5000},{"$f":"IF(K5499<5000,0,M5499)","v":0},8,{"$f":"DATE(YEAR(C5499)+O5499,MONTH(C5499),DAY(C5499))","v":"2026-09-06"},{"$f":"IF(NOT(OR(ISBLANK(P5499),ISBLANK(C5499))),P5499-C5499,\"\")","v":2922},{"$f":"SLN(N5499,,O5499)","v":0},{"$f":"SLN(R5499,,12)","v":0},{"$f":"SLN(N5499,,Q5499)","v":0},{"$f":"IF(N5499=0,0,IF(AE5499<=Q5499,1,0))","v":0},{"$f":"SUM(R5499*U5499/12)","v":0},{"$f":"IF(N5499=0,0,IF((R5499*AB5499)+(R5499*AC5499/12)>=N5499,N5499-J5499,((R5499*AB5499)+(R5499*AC5499/12))))","v":0},{"$f":"SUM(T5499*U5499)","v":0},{"$f":"IF(N5499=0,0,IF((DATEDIF(C5499,TODAY(),\"d\")+1)*T5499>=N5499,N5499-J5499,(DATEDIF(C5499,TODAY(),\"d\")+1)*T5499))","v":0},{"$f":"IF(U5499=0,0,IF(OR(DAY(C5499)=1,MONTH(C5499)<>MONTH(TODAY()),YEAR(C5499)<>YEAR(TODAY())),T5499*((DAY(DATE(YEAR(TODAY()),MONTH(TODAY())+1,1)-1))),T5499*((DAY(DATE(YEAR(TODAY()),MONTH(TODAY())+1,1)-1)-DAY(C5499)+1))))","v":0},{"$f":"IF(N5499=0,0,IF(X5499>=N5499,(J5499),(N5499-Y5499)))","v":0},{"$f":"DATEDIF(C5499,TODAY(),\"Y\")","v":0},{"$f":"DATEDIF(C5499,TODAY(),\"YM\")","v":2},{"$f":"DATEDIF(C5499,TODAY(),\"md\")+1","v":16},{"$f":"DATEDIF(C5499,TODAY(),\"d\")+1","v":77},{"$f":"IF(N5499=0,\"No\",IF(AE5499>Q5499,\"NO\",\"YES\"))","v":"No"},"5","100","คณะวิทยาศาสตร์และเทคโนโลยี","-","นายวิฑูรย์ พูลสวัสดิ์","ตู้อเนกประสงค์บานเปิด ",null,"ตู้อเนกประสงค์บานเปิด ",null,"เลขที่ 672/6 ถ.ฉะเชิงเทรา-บางปะกง ต.หน้าเมือง อ.เมือง จ.ฉะเชิงเทรา เลขผู้เสียภาษี 0245556000164","ใบแจ้งหนี้/ใบส่งของ/ใบกำกับภษี","-","IV610906001",null,"173/61",{"$f":"100/O5499","v":12.5},null," "," "," "," "," "," "," "," "," "," "," "," "," ",null," "," "," "," "," "," "," ","01","06","1042-1043"," ",null,"9/12/2018",{"$f":"CONCATENATE(AB5499,\" ปี  \",AC5499,\" เดือน  \",AD5499,\" วัน  \")","v":"0 ปี  2 เดือน  16 วัน  "},{"$f":"A5499","v":6461}]
[{"$f":"A5513+1","v":6476},"61014318","2018-08-22",61,"ตกลงราคา","งบแผ่นดิน","102202150131","บริษัท เอ็นทีเอส มาสเตอร์ คอม จำกัด","ไมโครโฟนประชุมดิจิตอล 27 ตัว",27,17655,"05.12.883-909",{"$f":"IF(BV5514=\"จำหน่าย\",0,SUM(J5514*K5514))","v":476685},{"$f":"IF(K5514<5000,0,M5514)","v":476685},5,{"$f":"DATE(YEAR(C5514)+O5514,MONTH(C5514),DAY(C5514))","v":"2023-08-22"},{"$f":"IF(NOT(OR(ISBLANK(P5514),ISBLANK(C5514))),P5514-C5514,\"\")","v":1826},{"$f":"SLN(N5514,,O5514)","v":95337},{"$f":"SLN(R5514,,12)","v":7944.75},{"$f":"SLN(N5514,,Q5514)","v":261.0542168674699},{"$f":"IF(N5514=0,0,IF(AE5514<=Q5514,1,0))","v":1},{"$f":"SUM(R5514*U5514/12)","v":7944.75},{"$f":"IF(N5514=0,0,IF((R5514*AB5514)+(R5514*AC5514/12)>=N5514,N5514-J5514,((R5514*AB5514)+(R5514*AC5514/12))))","v":15889.5},{"$f":"SUM(T5514*U5514)","v":261.0542168674699},{"$f":"IF(N5514=0,0,IF((DATEDIF(C5514,TODAY(),\"d\")+1)*T5514>=N5514,N5514-J5514,(DATEDIF(C5514,TODAY(),\"d\")+1)*T5514))","v":24016.98795180723},{"$f":"IF(U5514=0,0,IF(OR(DAY(C5514)=1,MONTH(C5514)<>MONTH(TODAY()),YEAR(C5514)<>YEAR(TODAY())),T5514*((DAY(DATE(YEAR(TODAY()),MONTH(TODAY())+1,1)-1))),T5514*((DAY(DATE(YEAR(TODAY()),MONTH(TODAY())+1,1)-1)-DAY(C5514)+1))))","v":7831.6265060240967},{"$f":"IF(N5514=0,0,IF(X5514>=N5514,(J5514),(N5514-Y5514)))","v":452668.01204819279},{"$f":"DATEDIF(C5514,TODAY(),\"Y\")","v":0},{"$f":"DATEDIF(C5514,TODAY(),\"YM\")","v":2},{"$f":"DATEDIF(C5514,TODAY(),\"md\")+1","v":31},{"$f":"DATEDIF(C5514,TODAY(),\"d\")+1","v":92},{"$f":"IF(N5514=0,\"No\",IF(AE5514>Q5514,\"NO\",\"YES\"))","v":"YES"},"6","224","งานอาคารสถานที่ฯ",null,"นายสมศักดิ์ ล้ำเลิศ","ไมโครโฟนประชุมดิจิตอล ",null,"ไมโครโฟนประชุมดิจิตอล ","ยี่ห้อ Shuer ","เลขที่ 179/102 ม.7 ถ.บ้านกล้วย-ไทรน้อย ต.พิมลราช อ.บางบัวทอง จ.นนทบุรี เลขผู้เสียภาษี 0125561015922","ใบส่งของ","-","D610822001",null,"165/61",{"$f":"100/O5514","v":20},null," "," "," "," "," "," "," "," "," "," "," "," "," ",null," "," "," "," "," "," "," ","05","12","883-909"," ",null,"9/12/2018",{"$f":"CONCATENATE(AB5514,\" ปี  \",AC5514,\" เดือน  \",AD5514,\" วัน  \")","v":"0 ปี  2 เดือน  31 วัน  "},{"$f":"A5514","v":6476}]
[{"$f":"A5514+1","v":6477},"61014316","2018-08-31",61,"ตกลงราคา","งบแผ่นดิน","102202150131","บริษัท เปเปอร์ แอนด์ เคมีภัณฑ์ จำกัด","เครื่องดูดฝุ่น-น้ำ 2 ค.",2,13910,"01.59.64-65",{"$f":"IF(BV5515=\"จำหน่าย\",0,SUM(J5515*K5515))","v":27820},{"$f":"IF(K5515<5000,0,M5515)","v":27820},8,{"$f":"DATE(YEAR(C5515)+O5515,MONTH(C5515),DAY(C5515))","v":"2026-08-31"},{"$f":"IF(NOT(OR(ISBLANK(P5515),ISBLANK(C5515))),P5515-C5515,\"\")","v":2922},{"$f":"SLN(N5515,,O5515)","v":3477.5},{"$f":"SLN(R5515,,12)","v":289.79166666666669},{"$f":"SLN(N5515,,Q5515)","v":9.5208761122518819},{"$f":"IF(N5515=0,0,IF(AE5515<=Q5515,1,0))","v":1},{"$f":"SUM(R5515*U5515/12)","v":289.79166666666669},{"$f":"IF(N5515=0,0,IF((R5515*AB5515)+(R5515*AC5515/12)>=N5515,N5515-J5515,((R5515*AB5515)+(R5515*AC5515/12))))","v":579.58333333333337},{"$f":"SUM(T5515*U5515)","v":9.5208761122518819},{"$f":"IF(N5515=0,0,IF((DATEDIF(C5515,TODAY(),\"d\")+1)*T5515>=N5515,N5515-J5515,(DATEDIF(C5515,TODAY(),\"d\")+1)*T5515))","v":790.23271731690625},{"$f":"IF(U5515=0,0,IF(OR(DAY(C5515)=1,MONTH(C5515)<>MONTH(TODAY()),YEAR(C5515)<>YEAR(TODAY())),T5515*((DAY(DATE(YEAR(TODAY()),MONTH(TODAY())+1,1)-1))),T5515*((DAY(DATE(YEAR(TODAY()),MONTH(TODAY())+1,1)-1)-DAY(C5515)+1))))","v":285.62628336755648},{"$f":"IF(N5515=0,0,IF(X5515>=N5515,(J5515),(N5515-Y5515)))","v":27029.767282683093},{"$f":"DATEDIF(C5515,TODAY(),\"Y\")","v":0},{"$f":"DATEDIF(C5515,TODAY(),\"YM\")","v":2},{"$f":"DATEDIF(C5515,TODAY(),\"md\")+1","v":22},{"$f":"DATEDIF(C5515,TODAY(),\"d\")+1","v":83},{"$f":"IF(N5515=0,\"No\",IF(AE5515>Q5515,\"NO\",\"YES\"))","v":"YES"},"6","300","สนง.อธิการบดี มรร.บางคล้า",null,"นางประภาพรรณ์ ศรีอุทยาน","เครื่องดูดฝุ่น-น้ำ ",null,"เครื่องดูดฝุ่น-น้ำ ","ยี่ห้อ Karcher รุ่น nt-/1","เลขที่ 108/14 ม.6 ต.บางรักพัฒนา อ.บางบัวทอง จ.นนทบุรี เลขผู้เสียภาษี 0125547009945","ต้นฉบับใบกำกับภาษี/ต้นฉบับใบส่งสินค้า","-","iv611323",null,"164/61",{"$f":"100/O5515","v":12.5},null," "," "," "," "," "," "," "," "," "," "," "," "," ",null," "," "," "," "," "," "," ","01","59","64-65"," ",null,"9/12/2018",{"$f":"CONCATENATE(AB5515,\" ปี  \",AC5515,\" เดือน  \",AD5515,\" วัน  \")","v":"0 ปี  2 เดือน  22 วัน  "},{"$f":"A5515","v":6477}]
[{"$f":"A5529+1","v":6492},"61014354","2018-08-31",61,"เฉพาะเจาะจง","งบแผ่นดิน","10220215031","บริษัท เอ.เอส. เทคโนโลยี แอนด์ คอมมูนิเคชั่น จำกัด","เครื่องคอมพิวเตอร์ All in one 1 ค.",1,22470,"01.53.5845",{"$f":"IF(BV5530=\"จำหน่าย\",0,SUM(J5530*K5530))","v":22470},{"$f":"IF(K5530<5000,0,M5530)","v":22470},5,{"$f":"DATE(YEAR(C5530)+O5530,MONTH(C5530),DAY(C5530))","v":"2023-08-31"},{"$f":"IF(NOT(OR(ISBLANK(P5530),ISBLANK(C5530))),P5530-C5530,\"\")","v":1826},{"$f":"SLN(N5530,,O5530)","v":4494},{"$f":"SLN(R5530,,12)","v":374.5},{"$f":"SLN(N5530,,Q5530)","v":12.305585980284775},{"$f":"IF(N5530=0,0,IF(AE5530<=Q5530,1,0))","v":1},{"$f":"SUM(R5530*U5530/12)","v":374.5},{"$f":"IF(N5530=0,0,IF((R5530*AB5530)+(R5530*AC5530/12)>=N5530,N5530-J5530,((R5530*AB5530)+(R5530*AC5530/12))))","v":749},{"$f":"SUM(T5530*U5530)","v":12.305585980284775},{"$f":"IF(N5530=0,0,IF((DATEDIF(C5530,TODAY(),\"d\")+1)*T5530>=N5530,N5530-J5530,(DATEDIF(C5530,TODAY(),\"d\")+1)*T5530))","v":1021.3636363636363},{"$f":"IF(U5530=0,0,IF(OR(DAY(C5530)=1,MONTH(C5530)<>MONTH(TODAY()),YEAR(C5530)<>YEAR(TODAY())),T5530*((DAY(DATE(YEAR(TODAY()),MONTH(TODAY())+1,1)-1))),T5530*((DAY(DATE(YEAR(TODAY()),MONTH(TODAY())+1,1)-1)-DAY(C5530)+1))))","v":369.16757940854325},{"$f":"IF(N5530=0,0,IF(X5530>=N5530,(J5530),(N5530-Y5530)))","v":21448.636363636364},{"$f":"DATEDIF(C5530,TODAY(),\"Y\")","v":0},{"$f":"DATEDIF(C5530,TODAY(),\"YM\")","v":2},{"$f":"DATEDIF(C5530,TODAY(),\"md\")+1","v":22},{"$f":"DATEDIF(C5530,TODAY(),\"d\")+1","v":83},{"$f":"IF(N5530=0,\"No\",IF(AE5530>Q5530,\"NO\",\"YES\"))","v":"YES"},"10","167","พัสดุ",null,"นางสาวนลินี หนูมาน้อย","เครื่องคอมพิวเตอร์ All in one ",null,"เครื่องคอมพิวเตอร์ All in one ","ยี่ห้อ Hp รุ่น 22-c0041d","เลขที่ 139/17 ซ.คู้บอน 27 แยก 25 แขวงท่าแร้ง เขตบางเขน กรุงเทพ เลขผู้เสียภาษี 0994000255349","ใบกำกับภาษี/ใบส่งสินค้า/ใบแจ้งหนี้","-","IV0031699",null,"162/61",{"$f":"100/O5530","v":20},null," "," "," "," "," "," "," "," "," "," "," "," "," ",null," "," "," "," "," "," "," ","01","53","5845"," ",null,"9/12/2018",{"$f":"CONCATENATE(AB5530,\" ปี  \",AC5530,\" เดือน  \",AD5530,\" วัน  \")","v":"0 ปี  2 เดือน  22 วัน  "},{"$f":"A5530","v":6492}]
[{"$f":"A5534+1","v":6497},"61014354","2018-08-31",61,"เฉพาะเจาะจง","งบแผ่นดิน","10220215031","บริษัท เอ.เอส. เทคโนโลยี แอนด์ คอมมูนิเคชั่น จำกัด","เครื่องสแกนเนอร์ 1 ค.",1,26750,"01.65.177",{"$f":"IF(BV5535=\"จำหน่าย\",0,SUM(J5535*K5535))","v":26750},{"$f":"IF(K5535<5000,0,M5535)","v":26750},3,{"$f":"DATE(YEAR(C5535)+O5535,MONTH(C5535),DAY(C5535))","v":"2021-08-31"},{"$f":"IF(NOT(OR(ISBLANK(P5535),ISBLANK(C5535))),P5535-C5535,\"\")","v":1096},{"$f":"SLN(N5535,,O5535)","v":8916.6666666666661},{"$f":"SLN(R5535,,12)","v":743.05555555555554},{"$f":"SLN(N5535,,Q5535)","v":24.406934306569344},{"$f":"IF(N5535=0,0,IF(AE5535<=Q5535,1,0))","v":1},{"$f":"SUM(R5535*U5535/12)","v":743.05555555555554},{"$f":"IF(N5535=0,0,IF((R5535*AB5535)+(R5535*AC5535/12)>=N5535,N5535-J5535,((R5535*AB5535)+(R5535*AC5535/12))))","v":1486.1111111111111},{"$f":"SUM(T5535*U5535)","v":24.406934306569344},{"$f":"IF(N5535=0,0,IF((DATEDIF(C5535,TODAY(),\"d\")+1)*T5535>=N5535,N5535-J5535,(DATEDIF(C5535,TODAY(),\"d\")+1)*T5535))","v":2025.7755474452556},{"$f":"IF(U5535=0,0,IF(OR(DAY(C5535)=1,MONTH(C5535)<>MONTH(TODAY()),YEAR(C5535)<>YEAR(TODAY())),T5535*((DAY(DATE(YEAR(TODAY()),MONTH(TODAY())+1,1)-1))),T5535*((DAY(DATE(YEAR(TODAY()),MONTH(TODAY())+1,1)-1)-DAY(C5535)+1))))","v":732.20802919708035},{"$f":"IF(N5535=0,0,IF(X5535>=N5535,(J5535),(N5535-Y5535)))","v":24724.224452554743},{"$f":"DATEDIF(C5535,TODAY(),\"Y\")","v":0},{"$f":"DATEDIF(C5535,TODAY(),\"YM\")","v":2},{"$f":"DATEDIF(C5535,TODAY(),\"md\")+1","v":22},{"$f":"DATEDIF(C5535,TODAY(),\"d\")+1","v":83},{"$f":"IF(N5535=0,\"No\",IF(AE5535>Q5535,\"NO\",\"YES\"))","v":"YES"},"7/2","1","งานยานพาหนะ",null,"นางสาวมัธรินทร์ บางสมบูรณ์","เครื่องสแกนเนอร์ ",null,"เครื่องสแกนเนอร์ ","ยี่ห้อ Fujitsu รุ่น Fi-7160","เลขที่ 139/17 ซ.คู้บอน 27 แยก 25 แขวงท่าแร้ง เขตบางเขน กรุงเทพ เลขผู้เสียภาษี 0994000255349","ใบกำกับภาษี/ใบส่งสินค้า/ใบแจ้งหนี้","-","IV0031699",null,"162/61",{"$f":"100/O5535","v":33.333333333333336},null," "," "," "," "," "," "," "," "," "," "," "," "," ",null," "," "," "," "," "," "," ","01","65","177"," ",null,"9/12/2018",{"$f":"CONCATENATE(AB5535,\" ปี  \",AC5535,\" เดือน  \",AD5535,\" วัน  \")","v":"0 ปี  2 เดือน  22 วัน  "},{"$f":"A5535","v":6497}]
[{"$f":"A5545+1","v":6508},"61012713","2018-07-04",61,"เฉพาะเจาะจง","รายได้","60220202173","ร้าน สตาร์ เฟอร์นิเจอร์","โต๊ะทำงานเหล็ก 9 ตัว",9,5000,"01.02.45000",{"$f":"IF(BV5546=\"จำหน่าย\",0,SUM(J5546*K5546))","v":45000},{"$f":"IF(K5546<5000,0,M5546)","v":45000},8,{"$f":"DATE(YEAR(C5546)+O5546,MONTH(C5546),DAY(C5546))","v":"2026-07-04"},{"$f":"IF(NOT(OR(ISBLANK(P5546),ISBLANK(C5546))),P5546-C5546,\"\")","v":2922},{"$f":"SLN(N5546,,O5546)","v":5625},{"$f":"SLN(R5546,,12)","v":468.75},{"$f":"SLN(N5546,,Q5546)","v":15.400410677618069},{"$f":"IF(N5546=0,0,IF(AE5546<=Q5546,1,0))","v":1},{"$f":"SUM(R5546*U5546/12)","v":468.75},{"$f":"IF(N5546=0,0,IF((R5546*AB5546)+(R5546*AC5546/12)>=N5546,N5546-J5546,((R5546*AB5546)+(R5546*AC5546/12))))","v":1875},{"$f":"SUM(T5546*U5546)","v":15.400410677618069},{"$f":"IF(N5546=0,0,IF((DATEDIF(C5546,TODAY(),\"d\")+1)*T5546>=N5546,N5546-J5546,(DATEDIF(C5546,TODAY(),\"d\")+1)*T5546))","v":2171.4579055441477},{"$f":"IF(U5546=0,0,IF(OR(DAY(C5546)=1,MONTH(C5546)<>MONTH(TODAY()),YEAR(C5546)<>YEAR(TODAY())),T5546*((DAY(DATE(YEAR(TODAY()),MONTH(TODAY())+1,1)-1))),T5546*((DAY(DATE(YEAR(TODAY()),MONTH(TODAY())+1,1)-1)-DAY(C5546)+1))))","v":462.01232032854205},{"$f":"IF(N5546=0,0,IF(X5546>=N5546,(J5546),(N5546-Y5546)))","v":42828.54209445585},{"$f":"DATEDIF(C5546,TODAY(),\"Y\")","v":0},{"$f":"DATEDIF(C5546,TODAY(),\"YM\")","v":4},{"$f":"DATEDIF(C5546,TODAY(),\"md\")+1","v":18},{"$f":"DATEDIF(C5546,TODAY(),\"d\")+1","v":141},{"$f":"IF(N5546=0,\"No\",IF(AE5546>Q5546,\"NO\",\"YES\"))","v":"YES"},"5","199","โรงเรียนสาธิต",null,"นางสาวศิริเพ็ญ มูเนาวาเราะ","โต๊ะทำงานเหล็ก ",null,"โต๊ะทำงานเหล็ก ","ขนาด 4 ฟุต","เลขที่ 138 ม.1 ต.คลองเปรง อ.เมือง จ.ฉะเชิงเทรา เลขผู้เสียภาษี 3240100379462","ใบส่งของ","006","0283",null,"153/61",{"$f":"100/O5546","v":12.5},null," "," "," "," "," "," "," "," "," "," "," "," "," ",null," "," "," "," "," "," "," ","01","02","45000"," ",null,"9/12/2018",{"$f":"CONCATENATE(AB5546,\" ปี  \",AC5546,\" เดือน  \",AD5546,\" วัน  \")","v":"0 ปี  4 เดือน  18 วัน  "},{"$f":"A5546","v":6508}]
[{"$f":"A5564+1","v":6527},"61013705","2018-08-23",61,"เฉพาะเจาะง","รายได้","20620107061","บริษัท เอ.เอส.เทคโนโลยี แอนด์ คอมมูนิเคชั่น จำกัด","กล้องถ่ายภาพ 1 ตัว",1,3745,"06.01.281",{"$f":"IF(BV5565=\"จำหน่าย\",0,SUM(J5565*K5565))","v":3745},{"$f":"IF(K5565<5000,0,M5565)","v":0},5,{"$f":"DATE(YEAR(C5565)+O5565,MONTH(C5565),DAY(C5565))","v":"2023-08-23"},{"$f":"IF(NOT(OR(ISBLANK(P5565),ISBLANK(C5565))),P5565-C5565,\"\")","v":1826},{"$f":"SLN(N5565,,O5565)","v":0},{"$f":"SLN(R5565,,12)","v":0},{"$f":"SLN(N5565,,Q5565)","v":0},{"$f":"IF(N5565=0,0,IF(AE5565<=Q5565,1,0))","v":0},{"$f":"SUM(R5565*U5565/12)","v":0},{"$f":"IF(N5565=0,0,IF((R5565*AB5565)+(R5565*AC5565/12)>=N5565,N5565-J5565,((R5565*AB5565)+(R5565*AC5565/12))))","v":0},{"$f":"SUM(T5565*U5565)","v":0},{"$f":"IF(N5565=0,0,IF((DATEDIF(C5565,TODAY(),\"d\")+1)*T5565>=N5565,N5565-J5565,(DATEDIF(C5565,TODAY(),\"d\")+1)*T5565))","v":0},{"$f":"IF(U5565=0,0,IF(OR(DAY(C5565)=1,MONTH(C5565)<>MONTH(TODAY()),YEAR(C5565)<>YEAR(TODAY())),T5565*((DAY(DATE(YEAR(TODAY()),MONTH(TODAY())+1,1)-1))),T5565*((DAY(DATE(YEAR(TODAY()),MONTH(TODAY())+1,1)-1)-DAY(C5565)+1))))","v":0},{"$f":"IF(N5565=0,0,IF(X5565>=N5565,(J5565),(N5565-Y5565)))","v":0},{"$f":"DATEDIF(C5565,TODAY(),\"Y\")","v":0},{"$f":"DATEDIF(C5565,TODAY(),\"YM\")","v":2},{"$f":"DATEDIF(C5565,TODAY(),\"md\")+1","v":30},{"$f":"DATEDIF(C5565,TODAY(),\"d\")+1","v":91},{"$f":"IF(N5565=0,\"No\",IF(AE5565>Q5565,\"NO\",\"YES\"))","v":"No"},"7","170","สำนักวิทยบริการฯ","-","นางสาววัชรี ปั้นนิยม","กล้องถ่ายภาพ ",null,"กล้องถ่ายภาพ ","ยี่ห้อ Canon รุ่น Ixus 185","เลขที่ 139/17 ซ.คู้บอน 27 แยก 25 แขวงท่าแร้ง เขบางเขน กรุงเทพ เลขผู้เสียภาษี 015537018089","ใบกำกับภาษี/ใสสินค้า/ใบแจ้งหนี้","-","Iv0031653",null,"140/61",{"$f":"100/O5565","v":20},null," "," "," "," "," "," "," "," "," "," "," "," "," ",null," "," "," "," "," "," "," ","06","01","281"," ",null,"9/13/2018",{"$f":"CONCATENATE(AB5565,\" ปี  \",AC5565,\" เดือน  \",AD5565,\" วัน  \")","v":"0 ปี  2 เดือน  30 วัน  "},{"$f":"A5565","v":6527}]
[{"$f":"A5565+1","v":6528},"61013787","2018-08-15",61,"เฉพาะเจาะจง","รายได้","206201029231","บริษัท เอ.เอส.เทคโนโลยีแอนด์ คอมมูนิเคชั่น จำกัด","เครื่องฉายภาพ 3 มิติ 1 ค.",2,18725,"06.39.115-116",{"$f":"IF(BV5566=\"จำหน่าย\",0,SUM(J5566*K5566))","v":37450},{"$f":"IF(K5566<5000,0,M5566)","v":37450},3,{"$f":"DATE(YEAR(C5566)+O5566,MONTH(C5566),DAY(C5566))","v":"2021-08-15"},{"$f":"IF(NOT(OR(ISBLANK(P5566),ISBLANK(C5566))),P5566-C5566,\"\")","v":1096},{"$f":"SLN(N5566,,O5566)","v":12483.333333333334},{"$f":"SLN(R5566,,12)","v":1040.2777777777778},{"$f":"SLN(N5566,,Q5566)","v":34.169708029197082},{"$f":"IF(N5566=0,0,IF(AE5566<=Q5566,1,0))","v":1},{"$f":"SUM(R5566*U5566/12)","v":1040.2777777777778},{"$f":"IF(N5566=0,0,IF((R5566*AB5566)+(R5566*AC5566/12)>=N5566,N5566-J5566,((R5566*AB5566)+(R5566*AC5566/12))))","v":3120.8333333333335},{"$f":"SUM(T5566*U5566)","v":34.169708029197082},{"$f":"IF(N5566=0,0,IF((DATEDIF(C5566,TODAY(),\"d\")+1)*T5566>=N5566,N5566-J5566,(DATEDIF(C5566,TODAY(),\"d\")+1)*T5566))","v":3382.8010948905112},{"$f":"IF(U5566=0,0,IF(OR(DAY(C5566)=1,MONTH(C5566)<>MONTH(TODAY()),YEAR(C5566)<>YEAR(TODAY())),T5566*((DAY(DATE(YEAR(TODAY()),MONTH(TODAY())+1,1)-1))),T5566*((DAY(DATE(YEAR(TODAY()),MONTH(TODAY())+1,1)-1)-DAY(C5566)+1))))","v":1025.0912408759125},{"$f":"IF(N5566=0,0,IF(X5566>=N5566,(J5566),(N5566-Y5566)))","v":34067.198905109486},{"$f":"DATEDIF(C5566,TODAY(),\"Y\")","v":0},{"$f":"DATEDIF(C5566,TODAY(),\"YM\")","v":3},{"$f":"DATEDIF(C5566,TODAY(),\"md\")+1","v":7},{"$f":"DATEDIF(C5566,TODAY(),\"d\")+1","v":99},{"$f":"IF(N5566=0,\"No\",IF(AE5566>Q5566,\"NO\",\"YES\"))","v":"YES"},"7","183"," งานอาคารสถานที่",null,"นายสมศักดิ์ ล้ำเลิศ","เครื่องฉายภาพ 3 มิติ ",null,"เครื่องฉายภาพ 3 มิติ ","ยี่ห้อ azr รุ่น Ev-580","เลขที่ 139/17 ซ.คู้บอน 27 แยก 25 แขวงท่าแ เขตบางเขน กรุงเทพ เลขผู้เสียภาษาษี 0105537018089","ใบกำกับภาษี/ใบส่งสินค้า/ใบแจ้งหนี้","-","IV0031620",null,"139/61",{"$f":"100/O5566","v":33.333333333333336},null," "," "," "," "," "," "," "," "," "," "," "," "," ",null," "," "," "," "," "," "," ","06","39","115-116"," ",null,"9/13/2018",{"$f":"CONCATENATE(AB5566,\" ปี  \",AC5566,\" เดือน  \",AD5566,\" วัน  \")","v":"0 ปี  3 เดือน  7 วัน  "},{"$f":"A5566","v":6528}]
[{"$f":"A5566+1","v":6529},"61013787","2018-08-15",61,"เฉพาะเจาะจง","รายได้","206201029231","บริษัท เอ.เอส.เทคโนโลยีแอนด์ คอมมูนิเคชั่น จำกัด","เครื่องมัลติมีเดียโปรเจคเตอร์ 1 ค.",1,38520,"06.19.655",{"$f":"IF(BV5567=\"จำหน่าย\",0,SUM(J5567*K5567))","v":38520},{"$f":"IF(K5567<5000,0,M5567)","v":38520},3,{"$f":"DATE(YEAR(C5567)+O5567,MONTH(C5567),DAY(C5567))","v":"2021-08-15"},{"$f":"IF(NOT(OR(ISBLANK(P5567),ISBLANK(C5567))),P5567-C5567,\"\")","v":1096},{"$f":"SLN(N5567,,O5567)","v":12840},{"$f":"SLN(R5567,,12)","v":1070},{"$f":"SLN(N5567,,Q5567)","v":35.145985401459853},{"$f":"IF(N5567=0,0,IF(AE5567<=Q5567,1,0))","v":1},{"$f":"SUM(R5567*U5567/12)","v":1070},{"$f":"IF(N5567=0,0,IF((R5567*AB5567)+(R5567*AC5567/12)>=N5567,N5567-J5567,((R5567*AB5567)+(R5567*AC5567/12))))","v":3210},{"$f":"SUM(T5567*U5567)","v":35.145985401459853},{"$f":"IF(N5567=0,0,IF((DATEDIF(C5567,TODAY(),\"d\")+1)*T5567>=N5567,N5567-J5567,(DATEDIF(C5567,TODAY(),\"d\")+1)*T5567))","v":3479.4525547445255},{"$f":"IF(U5567=0,0,IF(OR(DAY(C5567)=1,MONTH(C5567)<>MONTH(TODAY()),YEAR(C5567)<>YEAR(TODAY())),T5567*((DAY(DATE(YEAR(TODAY()),MONTH(TODAY())+1,1)-1))),T5567*((DAY(DATE(YEAR(TODAY()),MONTH(TODAY())+1,1)-1)-DAY(C5567)+1))))","v":1054.3795620437957},{"$f":"IF(N5567=0,0,IF(X5567>=N5567,(J5567),(N5567-Y5567)))","v":35040.547445255477},{"$f":"DATEDIF(C5567,TODAY(),\"Y\")","v":0},{"$f":"DATEDIF(C5567,TODAY(),\"YM\")","v":3},{"$f":"DATEDIF(C5567,TODAY(),\"md\")+1","v":7},{"$f":"DATEDIF(C5567,TODAY(),\"d\")+1","v":99},{"$f":"IF(N5567=0,\"No\",IF(AE5567>Q5567,\"NO\",\"YES\"))","v":"YES"},"11","124"," งานอาคารสถานที่",null,"นายสมศักดิ์ ล้ำเลิศ","เครื่องมัลติมีเดียโปรเจคเตอร์ ",null,"เครื่องมัลติมีเดียโปรเจคเตอร์ ","ยี่ห้อ Panasnic รุ่น Pt-lb423","เลขที่ 139/17 ซ.คู้บอน 27 แยก 25 แขวงท่าแ เขตบางเขน กรุงเทพ เลขผู้เสียภาษาษี 0105537018089","ใบกำกับภาษี/ใบส่งสินค้า/ใบแจ้งหนี้","-","IV0031620",null,"139/61",{"$f":"100/O5567","v":33.333333333333336},null," "," "," "," "," "," "," "," "," "," "," "," "," ",null," "," "," "," "," "," "," ","06","19","655"," ",null,"9/13/2018",{"$f":"CONCATENATE(AB5567,\" ปี  \",AC5567,\" เดือน  \",AD5567,\" วัน  \")","v":"0 ปี  3 เดือน  7 วัน  "},{"$f":"A5567","v":6529}]
[{"$f":"A5567+1","v":6530},"61013787","2018-08-15",61,"เฉพาะเจาะจง","รายได้","206201029231","บริษัท เอ.เอส.เทคโนโลยีแอนด์ คอมมูนิเคชั่น จำกัด","เครื่องพิมพ์แบบฉีดหมึก 1 ค.",1,14980,"01.72.113-1133",{"$f":"IF(BV5568=\"จำหน่าย\",0,SUM(J5568*K5568))","v":14980},{"$f":"IF(K5568<5000,0,M5568)","v":14980},3,{"$f":"DATE(YEAR(C5568)+O5568,MONTH(C5568),DAY(C5568))","v":"2021-08-15"},{"$f":"IF(NOT(OR(ISBLANK(P5568),ISBLANK(C5568))),P5568-C5568,\"\")","v":1096},{"$f":"SLN(N5568,,O5568)","v":4993.333333333333},{"$f":"SLN(R5568,,12)","v":416.11111111111109},{"$f":"SLN(N5568,,Q5568)","v":13.667883211678832},{"$f":"IF(N5568=0,0,IF(AE5568<=Q5568,1,0))","v":1},{"$f":"SUM(R5568*U5568/12)","v":416.11111111111109},{"$f":"IF(N5568=0,0,IF((R5568*AB5568)+(R5568*AC5568/12)>=N5568,N5568-J5568,((R5568*AB5568)+(R5568*AC5568/12))))","v":1248.3333333333333},{"$f":"SUM(T5568*U5568)","v":13.667883211678832},{"$f":"IF(N5568=0,0,IF((DATEDIF(C5568,TODAY(),\"d\")+1)*T5568>=N5568,N5568-J5568,(DATEDIF(C5568,TODAY(),\"d\")+1)*T5568))","v":1353.1204379562043},{"$f":"IF(U5568=0,0,IF(OR(DAY(C5568)=1,MONTH(C5568)<>MONTH(TODAY()),YEAR(C5568)<>YEAR(TODAY())),T5568*((DAY(DATE(YEAR(TODAY()),MONTH(TODAY())+1,1)-1))),T5568*((DAY(DATE(YEAR(TODAY()),MONTH(TODAY())+1,1)-1)-DAY(C5568)+1))))","v":410.03649635036498},{"$f":"IF(N5568=0,0,IF(X5568>=N5568,(J5568),(N5568-Y5568)))","v":13626.879562043796},{"$f":"DATEDIF(C5568,TODAY(),\"Y\")","v":0},{"$f":"DATEDIF(C5568,TODAY(),\"YM\")","v":3},{"$f":"DATEDIF(C5568,TODAY(),\"md\")+1","v":7},{"$f":"DATEDIF(C5568,TODAY(),\"d\")+1","v":99},{"$f":"IF(N5568=0,\"No\",IF(AE5568>Q5568,\"NO\",\"YES\"))","v":"YES"},"1","167"," งานอาคารสถานที่",null,"นายสมศักดิ์ ล้ำเลิศ","เครื่องพิมพ์แบบฉีดหมึก ",null,"เครื่องพิมพ์แบบฉีดหมึก ","ยี่ห้อ Epson รุ่น L1300","เลขที่ 139/17 ซ.คู้บอน 27 แยก 25 แขวงท่าแ เขตบางเขน กรุงเทพ เลขผู้เสียภาษาษี 0105537018089","ใบกำกับภาษี/ใบส่งสินค้า/ใบแจ้งหนี้","-","IV0031620",null,"139/61",{"$f":"100/O5568","v":33.333333333333336},null," "," "," "," "," "," "," "," "," "," "," "," "," ",null," "," "," "," "," "," "," ","01","72","113-1133"," ",null,"9/13/2018",{"$f":"CONCATENATE(AB5568,\" ปี  \",AC5568,\" เดือน  \",AD5568,\" วัน  \")","v":"0 ปี  3 เดือน  7 วัน  "},{"$f":"A5568","v":6530}]
[{"$f":"A5568+1","v":6531},"03-00907/2560","2017-07-13",61,"เฉพาะเจาะจง","รายได้","02-02-01-021","บริษัท ๙ สุวรรณรุ่งเรือง จำกัด","เครื่องปรับอากาศแบบติดผนัง 1 ค.",1,27000,"01.29.2552",{"$f":"IF(BV5569=\"จำหน่าย\",0,SUM(J5569*K5569))","v":27000},{"$f":"IF(K5569<5000,0,M5569)","v":27000},8,{"$f":"DATE(YEAR(C5569)+O5569,MONTH(C5569),DAY(C5569))","v":"2025-07-13"},{"$f":"IF(NOT(OR(ISBLANK(P5569),ISBLANK(C5569))),P5569-C5569,\"\")","v":2922},{"$f":"SLN(N5569,,O5569)","v":3375},{"$f":"SLN(R5569,,12)","v":281.25},{"$f":"SLN(N5569,,Q5569)","v":9.2402464065708418},{"$f":"IF(N5569=0,0,IF(AE5569<=Q5569,1,0))","v":1},{"$f":"SUM(R5569*U5569/12)","v":281.25},{"$f":"IF(N5569=0,0,IF((R5569*AB5569)+(R5569*AC5569/12)>=N5569,N5569-J5569,((R5569*AB5569)+(R5569*AC5569/12))))","v":4500},{"$f":"SUM(T5569*U5569)","v":9.2402464065708418},{"$f":"IF(N5569=0,0,IF((DATEDIF(C5569,TODAY(),\"d\")+1)*T5569>=N5569,N5569-J5569,(DATEDIF(C5569,TODAY(),\"d\")+1)*T5569))","v":4592.402464065708},{"$f":"IF(U5569=0,0,IF(OR(DAY(C5569)=1,MONTH(C5569)<>MONTH(TODAY()),YEAR(C5569)<>YEAR(TODAY())),T5569*((DAY(DATE(YEAR(TODAY()),MONTH(TODAY())+1,1)-1))),T5569*((DAY(DATE(YEAR(TODAY()),MONTH(TODAY())+1,1)-1)-DAY(C5569)+1))))","v":277.20739219712527},{"$f":"IF(N5569=0,0,IF(X5569>=N5569,(J5569),(N5569-Y5569)))","v":22407.597535934292},{"$f":"DATEDIF(C5569,TODAY(),\"Y\")","v":1},{"$f":"DATEDIF(C5569,TODAY(),\"YM\")","v":4},{"$f":"DATEDIF(C5569,TODAY(),\"md\")+1","v":9},{"$f":"DATEDIF(C5569,TODAY(),\"d\")+1","v":497},{"$f":"IF(N5569=0,\"No\",IF(AE5569>Q5569,\"NO\",\"YES\"))","v":"YES"},"10","210","ห้องศาลจำลอง",null,"นายอภิชัย วิสาวรรณ","เครื่องปรับอากาศแบบติดผนัง ",null,"เครื่องปรับอากาศแบบติดผนัง ","ขนาด 18000 บีทียู","เลขที่ 3 ม. 12 ต.นรเนื่องเขต อ.เมือ  จ.ฉะเชิงเทรา เลขผู้เสียภาษี 0245553000490","ต้นฉบบัใบเสร็จ/ต้นฉบบัใบกำกับภาษี","-","08/2560",null,"138/61",{"$f":"100/O5569","v":12.5},null," "," "," "," "," "," "," "," "," "," "," "," "," ",null," "," "," "," "," "," "," ","01","29","2552"," ",null,"9/13/2018",{"$f":"CONCATENATE(AB5569,\" ปี  \",AC5569,\" เดือน  \",AD5569,\" วัน  \")","v":"1 ปี  4 เดือน  9 วัน  "},{"$f":"A5569","v":6531}]
[{"$f":"A5569+1","v":6532},"61013494","2018-08-08",61,"เฉพาะเจาะจง","รายได้","20620102D432","นายนฤนาท พร้อมมูล","เครื่องปรับอากาศ ชนิดติดผนัง 1ค.",1,15510,"01.29.2551",{"$f":"IF(BV5570=\"จำหน่าย\",0,SUM(J5570*K5570))","v":15510},{"$f":"IF(K5570<5000,0,M5570)","v":15510},8,{"$f":"DATE(YEAR(C5570)+O5570,MONTH(C5570),DAY(C5570))","v":"2026-08-08"},{"$f":"IF(NOT(OR(ISBLANK(P5570),ISBLANK(C5570))),P5570-C5570,\"\")","v":2922},{"$f":"SLN(N5570,,O5570)","v":1938.75},{"$f":"SLN(R5570,,12)","v":161.5625},{"$f":"SLN(N5570,,Q5570)","v":5.3080082135523616},{"$f":"IF(N5570=0,0,IF(AE5570<=Q5570,1,0))","v":1},{"$f":"SUM(R5570*U5570/12)","v":161.5625},{"$f":"IF(N5570=0,0,IF((R5570*AB5570)+(R5570*AC5570/12)>=N5570,N5570-J5570,((R5570*AB5570)+(R5570*AC5570/12))))","v":484.6875},{"$f":"SUM(T5570*U5570)","v":5.3080082135523616},{"$f":"IF(N5570=0,0,IF((DATEDIF(C5570,TODAY(),\"d\")+1)*T5570>=N5570,N5570-J5570,(DATEDIF(C5570,TODAY(),\"d\")+1)*T5570))","v":562.64887063655033},{"$f":"IF(U5570=0,0,IF(OR(DAY(C5570)=1,MONTH(C5570)<>MONTH(TODAY()),YEAR(C5570)<>YEAR(TODAY())),T5570*((DAY(DATE(YEAR(TODAY()),MONTH(TODAY())+1,1)-1))),T5570*((DAY(DATE(YEAR(TODAY()),MONTH(TODAY())+1,1)-1)-DAY(C5570)+1))))","v":159.24024640657086},{"$f":"IF(N5570=0,0,IF(X5570>=N5570,(J5570),(N5570-Y5570)))","v":14947.351129363449},{"$f":"DATEDIF(C5570,TODAY(),\"Y\")","v":0},{"$f":"DATEDIF(C5570,TODAY(),\"YM\")","v":3},{"$f":"DATEDIF(C5570,TODAY(),\"md\")+1","v":14},{"$f":"DATEDIF(C5570,TODAY(),\"d\")+1","v":106},{"$f":"IF(N5570=0,\"No\",IF(AE5570>Q5570,\"NO\",\"YES\"))","v":"YES"},"140","210","งานประชาสัมพันธ์",null,"นายสุพจฯ สกุลธรรม","เครื่องปรับอากาศ ชนิดติดผนัง ",null,"เครื่องปรับอากาศ ชนิดติดผนัง ","นาด 12000 บีทียู","เลขที่ 74 ซ.บางพรม 37 แขวงบางพรม เขตตลิ่งชัน กรุงเทพฯ เลขบัตรประชาชน 3950100539170 ","ใบส่งมอบงาน","-","-","-","137/61",{"$f":"100/O5570","v":12.5},null," "," "," "," "," "," "," "," "," "," "," "," "," ",null," "," "," "," "," "," "," ","01","29","2551"," ",null,"9/13/2018",{"$f":"CONCATENATE(AB5570,\" ปี  \",AC5570,\" เดือน  \",AD5570,\" วัน  \")","v":"0 ปี  3 เดือน  14 วัน  "},{"$f":"A5570","v":6532}]
[{"$f":"A5570+1","v":6533},"61013769","2018-07-17",61,"เฉพาะเจาะจง","รายได้","202202150231","บริษัท เอ.เอส.เทคโนโลยี แอนด์ คอมมูนิเคชั่น จำกัด","เครื่องรับสัญญาณภาพไร้สาย 1 ค.",1,37450,"06.04.05",{"$f":"IF(BV5571=\"จำหน่าย\",0,SUM(J5571*K5571))","v":37450},{"$f":"IF(K5571<5000,0,M5571)","v":37450},5,{"$f":"DATE(YEAR(C5571)+O5571,MONTH(C5571),DAY(C5571))","v":"2023-07-17"},{"$f":"IF(NOT(OR(ISBLANK(P5571),ISBLANK(C5571))),P5571-C5571,\"\")","v":1826},{"$f":"SLN(N5571,,O5571)","v":7490},{"$f":"SLN(R5571,,12)","v":624.16666666666663},{"$f":"SLN(N5571,,Q5571)","v":20.509309967141292},{"$f":"IF(N5571=0,0,IF(AE5571<=Q5571,1,0))","v":1},{"$f":"SUM(R5571*U5571/12)","v":624.16666666666663},{"$f":"IF(N5571=0,0,IF((R5571*AB5571)+(R5571*AC5571/12)>=N5571,N5571-J5571,((R5571*AB5571)+(R5571*AC5571/12))))","v":2496.6666666666665},{"$f":"SUM(T5571*U5571)","v":20.509309967141292},{"$f":"IF(N5571=0,0,IF((DATEDIF(C5571,TODAY(),\"d\")+1)*T5571>=N5571,N5571-J5571,(DATEDIF(C5571,TODAY(),\"d\")+1)*T5571))","v":2625.1916757940853},{"$f":"IF(U5571=0,0,IF(OR(DAY(C5571)=1,MONTH(C5571)<>MONTH(TODAY()),YEAR(C5571)<>YEAR(TODAY())),T5571*((DAY(DATE(YEAR(TODAY()),MONTH(TODAY())+1,1)-1))),T5571*((DAY(DATE(YEAR(TODAY()),MONTH(TODAY())+1,1)-1)-DAY(C5571)+1))))","v":615.27929901423875},{"$f":"IF(N5571=0,0,IF(X5571>=N5571,(J5571),(N5571-Y5571)))","v":34824.808324205915},{"$f":"DATEDIF(C5571,TODAY(),\"Y\")","v":0},{"$f":"DATEDIF(C5571,TODAY(),\"YM\")","v":4},{"$f":"DATEDIF(C5571,TODAY(),\"md\")+1","v":5},{"$f":"DATEDIF(C5571,TODAY(),\"d\")+1","v":128},{"$f":"IF(N5571=0,\"No\",IF(AE5571>Q5571,\"NO\",\"YES\"))","v":"YES"},"7","72","สำนักงานอธิการบดี","ติดตั้งห้องเจ้าเสวย","นางนฤชล เรือนงาม","เครื่องรับสัญญาณภาพไร้สาย ",null,"เครื่องรับสัญญาณภาพไร้สาย ","ยี่ห้อ Wepresen รุ่น wipg-1600w","เลขที่ 139/17 ซ.คู้บอน 27 แยก 25 แขวงท่าแร้ง เขตบางเขน กรุงเทพ เลขผู้เสียภาษี 0105537018089","ใบกำกับภาษี/ใบส่งสินค้า/ใบแจ้งหนี้","-","IV0031491",null,"136/61",{"$f":"100/O5571","v":20},"สัญญาเลขที่ 47/2561  ลว. 22 มิ.ย 61 เรื่องซื้อครุภัณฑ์พร้อมติดตั้งห้องประชุมเจ้าเสวย "," "," "," "," "," "," "," "," "," "," "," "," "," ",null," "," "," "," "," "," "," ","06","04","05"," ",null,"9/13/2018",{"$f":"CONCATENATE(AB5571,\" ปี  \",AC5571,\" เดือน  \",AD5571,\" วัน  \")","v":"0 ปี  4 เดือน  5 วัน  "},{"$f":"A5571","v":6533}]
[{"$f":"A5571+1","v":6534},"61013769","2018-07-17",61,"เฉพาะเจาะจง","รายได้","202202150231","บริษัท เอ.เอส.เทคโนโลยี แอนด์ คอมมูนิเคชั่น จำกัด","เครื่องรับสัญญาณวีดีโอ 1 ค.",1,21400,"06.49.03",{"$f":"IF(BV5572=\"จำหน่าย\",0,SUM(J5572*K5572))","v":21400},{"$f":"IF(K5572<5000,0,M5572)","v":21400},5,{"$f":"DATE(YEAR(C5572)+O5572,MONTH(C5572),DAY(C5572))","v":"2023-07-17"},{"$f":"IF(NOT(OR(ISBLANK(P5572),ISBLANK(C5572))),P5572-C5572,\"\")","v":1826},{"$f":"SLN(N5572,,O5572)","v":4280},{"$f":"SLN(R5572,,12)","v":356.66666666666669},{"$f":"SLN(N5572,,Q5572)","v":11.71960569550931},{"$f":"IF(N5572=0,0,IF(AE5572<=Q5572,1,0))","v":1},{"$f":"SUM(R5572*U5572/12)","v":356.66666666666669},{"$f":"IF(N5572=0,0,IF((R5572*AB5572)+(R5572*AC5572/12)>=N5572,N5572-J5572,((R5572*AB5572)+(R5572*AC5572/12))))","v":1426.6666666666667},{"$f":"SUM(T5572*U5572)","v":11.71960569550931},{"$f":"IF(N5572=0,0,IF((DATEDIF(C5572,TODAY(),\"d\")+1)*T5572>=N5572,N5572-J5572,(DATEDIF(C5572,TODAY(),\"d\")+1)*T5572))","v":1500.1095290251917},{"$f":"IF(U5572=0,0,IF(OR(DAY(C5572)=1,MONTH(C5572)<>MONTH(TODAY()),YEAR(C5572)<>YEAR(TODAY())),T5572*((DAY(DATE(YEAR(TODAY()),MONTH(TODAY())+1,1)-1))),T5572*((DAY(DATE(YEAR(TODAY()),MONTH(TODAY())+1,1)-1)-DAY(C5572)+1))))","v":351.58817086527932},{"$f":"IF(N5572=0,0,IF(X5572>=N5572,(J5572),(N5572-Y5572)))","v":19899.890470974809},{"$f":"DATEDIF(C5572,TODAY(),\"Y\")","v":0},{"$f":"DATEDIF(C5572,TODAY(),\"YM\")","v":4},{"$f":"DATEDIF(C5572,TODAY(),\"md\")+1","v":5},{"$f":"DATEDIF(C5572,TODAY(),\"d\")+1","v":128},{"$f":"IF(N5572=0,\"No\",IF(AE5572>Q5572,\"NO\",\"YES\"))","v":"YES"},"8","284","สำนักงานอธิการบดี","ติดตั้งห้องเจ้าเสวย","นางนฤชล เรือนงาม","เครื่องรับสัญญาณวีดีโอ ",null,"เครื่องรับสัญญาณวีดีโอ ","ยี่ห้อ Cypress รุ่น csc-5500","เลขที่ 139/17 ซ.คู้บอน 27 แยก 25 แขวงท่าแร้ง เขตบางเขน กรุงเทพ เลขผู้เสียภาษี 0105537018089","ใบกำกับภาษี/ใบส่งสินค้า/ใบแจ้งหนี้","-","IV0031491",null,"136/61",{"$f":"100/O5572","v":20},"สัญญาเลขที่ 47/2561  ลว. 22 มิ.ย 61 เรื่องซื้อครุภัณฑ์พร้อมติดตั้งห้องประชุมเจ้าเสวย "," "," "," "," "," "," "," "," "," "," "," "," "," ",null," "," "," "," "," "," "," ","06","49","03"," ",null,"9/13/2018",{"$f":"CONCATENATE(AB5572,\" ปี  \",AC5572,\" เดือน  \",AD5572,\" วัน  \")","v":"0 ปี  4 เดือน  5 วัน  "},{"$f":"A5572","v":6534}]
[{"$f":"A5572+1","v":6535},"61013769","2018-07-17",61,"เฉพาะเจาะจง","รายได้","202202150231","บริษัท เอ.เอส.เทคโนโลยี แอนด์ คอมมูนิเคชั่น จำกัด","เครื่องส่งสัญญาณ HDMI  2 ค.",2,7383,"05.55.330-331",{"$f":"IF(BV5573=\"จำหน่าย\",0,SUM(J5573*K5573))","v":14766},{"$f":"IF(K5573<5000,0,M5573)","v":14766},3,{"$f":"DATE(YEAR(C5573)+O5573,MONTH(C5573),DAY(C5573))","v":"2021-07-17"},{"$f":"IF(NOT(OR(ISBLANK(P5573),ISBLANK(C5573))),P5573-C5573,\"\")","v":1096},{"$f":"SLN(N5573,,O5573)","v":4922},{"$f":"SLN(R5573,,12)","v":410.16666666666669},{"$f":"SLN(N5573,,Q5573)","v":13.472627737226277},{"$f":"IF(N5573=0,0,IF(AE5573<=Q5573,1,0))","v":1},{"$f":"SUM(R5573*U5573/12)","v":410.16666666666669},{"$f":"IF(N5573=0,0,IF((R5573*AB5573)+(R5573*AC5573/12)>=N5573,N5573-J5573,((R5573*AB5573)+(R5573*AC5573/12))))","v":1640.6666666666667},{"$f":"SUM(T5573*U5573)","v":13.472627737226277},{"$f":"IF(N5573=0,0,IF((DATEDIF(C5573,TODAY(),\"d\")+1)*T5573>=N5573,N5573-J5573,(DATEDIF(C5573,TODAY(),\"d\")+1)*T5573))","v":1724.4963503649635},{"$f":"IF(U5573=0,0,IF(OR(DAY(C5573)=1,MONTH(C5573)<>MONTH(TODAY()),YEAR(C5573)<>YEAR(TODAY())),T5573*((DAY(DATE(YEAR(TODAY()),MONTH(TODAY())+1,1)-1))),T5573*((DAY(DATE(YEAR(TODAY()),MONTH(TODAY())+1,1)-1)-DAY(C5573)+1))))","v":404.17883211678833},{"$f":"IF(N5573=0,0,IF(X5573>=N5573,(J5573),(N5573-Y5573)))","v":13041.503649635037},{"$f":"DATEDIF(C5573,TODAY(),\"Y\")","v":0},{"$f":"DATEDIF(C5573,TODAY(),\"YM\")","v":4},{"$f":"DATEDIF(C5573,TODAY(),\"md\")+1","v":5},{"$f":"DATEDIF(C5573,TODAY(),\"d\")+1","v":128},{"$f":"IF(N5573=0,\"No\",IF(AE5573>Q5573,\"NO\",\"YES\"))","v":"YES"},"8","284","สำนักงานอธิการบดี","ติดตั้งห้องเจ้าเสวย","นางนฤชล เรือนงาม","เครื่องส่งสัญญาณ HDMI  ",null,"เครื่องส่งสัญญาณ HDMI  ",null,"เลขที่ 139/17 ซ.คู้บอน 27 แยก 25 แขวงท่าแร้ง เขตบางเขน กรุงเทพ เลขผู้เสียภาษี 0105537018089","ใบกำกับภาษี/ใบส่งสินค้า/ใบแจ้งหนี้","-","IV0031491",null,"136/61",{"$f":"100/O5573","v":33.333333333333336},"สัญญาเลขที่ 47/2561  ลว. 22 มิ.ย 61 เรื่องซื้อครุภัณฑ์พร้อมติดตั้งห้องประชุมเจ้าเสวย "," "," "," "," "," "," "," "," "," "," "," "," "," ",null," "," "," "," "," "," "," ","05","55","330-331"," ",null,"9/13/2018",{"$f":"CONCATENATE(AB5573,\" ปี  \",AC5573,\" เดือน  \",AD5573,\" วัน  \")","v":"0 ปี  4 เดือน  5 วัน  "},{"$f":"A5573","v":6535}]
[{"$f":"A5573+1","v":6536},"61013769","2018-07-17",61,"เฉพาะเจาะจง","รายได้","202202150231","บริษัท เอ.เอส.เทคโนโลยี แอนด์ คอมมูนิเคชั่น จำกัด","เครื่องรับสัญญาณ HDMI+ir  24 ค.",24,8560,"05.55.332-355",{"$f":"IF(BV5574=\"จำหน่าย\",0,SUM(J5574*K5574))","v":205440},{"$f":"IF(K5574<5000,0,M5574)","v":205440},3,{"$f":"DATE(YEAR(C5574)+O5574,MONTH(C5574),DAY(C5574))","v":"2021-07-17"},{"$f":"IF(NOT(OR(ISBLANK(P5574),ISBLANK(C5574))),P5574-C5574,\"\")","v":1096},{"$f":"SLN(N5574,,O5574)","v":68480},{"$f":"SLN(R5574,,12)","v":5706.666666666667},{"$f":"SLN(N5574,,Q5574)","v":187.44525547445255},{"$f":"IF(N5574=0,0,IF(AE5574<=Q5574,1,0))","v":1},{"$f":"SUM(R5574*U5574/12)","v":5706.666666666667},{"$f":"IF(N5574=0,0,IF((R5574*AB5574)+(R5574*AC5574/12)>=N5574,N5574-J5574,((R5574*AB5574)+(R5574*AC5574/12))))","v":22826.666666666668},{"$f":"SUM(T5574*U5574)","v":187.44525547445255},{"$f":"IF(N5574=0,0,IF((DATEDIF(C5574,TODAY(),\"d\")+1)*T5574>=N5574,N5574-J5574,(DATEDIF(C5574,TODAY(),\"d\")+1)*T5574))","v":23992.992700729927},{"$f":"IF(U5574=0,0,IF(OR(DAY(C5574)=1,MONTH(C5574)<>MONTH(TODAY()),YEAR(C5574)<>YEAR(TODAY())),T5574*((DAY(DATE(YEAR(TODAY()),MONTH(TODAY())+1,1)-1))),T5574*((DAY(DATE(YEAR(TODAY()),MONTH(TODAY())+1,1)-1)-DAY(C5574)+1))))","v":5623.3576642335765},{"$f":"IF(N5574=0,0,IF(X5574>=N5574,(J5574),(N5574-Y5574)))","v":181447.00729927007},{"$f":"DATEDIF(C5574,TODAY(),\"Y\")","v":0},{"$f":"DATEDIF(C5574,TODAY(),\"YM\")","v":4},{"$f":"DATEDIF(C5574,TODAY(),\"md\")+1","v":5},{"$f":"DATEDIF(C5574,TODAY(),\"d\")+1","v":128},{"$f":"IF(N5574=0,\"No\",IF(AE5574>Q5574,\"NO\",\"YES\"))","v":"YES"},"8","284","สำนักงานอธิการบดี","ติดตั้งห้องเจ้าเสวย","นางนฤชล เรือนงาม","เครื่องรับสัญญาณ HDMI+ir  ",null,"เครื่องรับสัญญาณ HDMI+ir  ",null,"เลขที่ 139/17 ซ.คู้บอน 27 แยก 25 แขวงท่าแร้ง เขตบางเขน กรุงเทพ เลขผู้เสียภาษี 0105537018089","ใบกำกับภาษี/ใบส่งสินค้า/ใบแจ้งหนี้","-","IV0031491",null,"136/61",{"$f":"100/O5574","v":33.333333333333336},"สัญญาเลขที่ 47/2561  ลว. 22 มิ.ย 61 เรื่องซื้อครุภัณฑ์พร้อมติดตั้งห้องประชุมเจ้าเสวย "," "," "," "," "," "," "," "," "," "," "," "," "," ",null," "," "," "," "," "," "," ","05","55","332-355"," ",null,"9/13/2018",{"$f":"CONCATENATE(AB5574,\" ปี  \",AC5574,\" เดือน  \",AD5574,\" วัน  \")","v":"0 ปี  4 เดือน  5 วัน  "},{"$f":"A5574","v":6536}]
[{"$f":"A5574+1","v":6537},"61013769","2018-07-17",61,"เฉพาะเจาะจง","รายได้","202202150231","บริษัท เอ.เอส.เทคโนโลยี แอนด์ คอมมูนิเคชั่น จำกัด","จอภาพพร้อมขาตั้ง 23 ชุด",23,7918,"01.53.5802-5824",{"$f":"IF(BV5575=\"จำหน่าย\",0,SUM(J5575*K5575))","v":182114},{"$f":"IF(K5575<5000,0,M5575)","v":182114},5,{"$f":"DATE(YEAR(C5575)+O5575,MONTH(C5575),DAY(C5575))","v":"2023-07-17"},{"$f":"IF(NOT(OR(ISBLANK(P5575),ISBLANK(C5575))),P5575-C5575,\"\")","v":1826},{"$f":"SLN(N5575,,O5575)","v":36422.800000000003},{"$f":"SLN(R5575,,12)","v":3035.2333333333336},{"$f":"SLN(N5575,,Q5575)","v":99.733844468784227},{"$f":"IF(N5575=0,0,IF(AE5575<=Q5575,1,0))","v":1},{"$f":"SUM(R5575*U5575/12)","v":3035.2333333333336},{"$f":"IF(N5575=0,0,IF((R5575*AB5575)+(R5575*AC5575/12)>=N5575,N5575-J5575,((R5575*AB5575)+(R5575*AC5575/12))))","v":12140.933333333334},{"$f":"SUM(T5575*U5575)","v":99.733844468784227},{"$f":"IF(N5575=0,0,IF((DATEDIF(C5575,TODAY(),\"d\")+1)*T5575>=N5575,N5575-J5575,(DATEDIF(C5575,TODAY(),\"d\")+1)*T5575))","v":12765.932092004381},{"$f":"IF(U5575=0,0,IF(OR(DAY(C5575)=1,MONTH(C5575)<>MONTH(TODAY()),YEAR(C5575)<>YEAR(TODAY())),T5575*((DAY(DATE(YEAR(TODAY()),MONTH(TODAY())+1,1)-1))),T5575*((DAY(DATE(YEAR(TODAY()),MONTH(TODAY())+1,1)-1)-DAY(C5575)+1))))","v":2992.015334063527},{"$f":"IF(N5575=0,0,IF(X5575>=N5575,(J5575),(N5575-Y5575)))","v":169348.06790799563},{"$f":"DATEDIF(C5575,TODAY(),\"Y\")","v":0},{"$f":"DATEDIF(C5575,TODAY(),\"YM\")","v":4},{"$f":"DATEDIF(C5575,TODAY(),\"md\")+1","v":5},{"$f":"DATEDIF(C5575,TODAY(),\"d\")+1","v":128},{"$f":"IF(N5575=0,\"No\",IF(AE5575>Q5575,\"NO\",\"YES\"))","v":"YES"},"10","49","สำนักงานอธิการบดี","ติดตั้งห้องเจ้าเสวย","นางนฤชล เรือนงาม","จอภาพพร้อมขาตั้ง ",null,"จอภาพพร้อมขาตั้ง ","ยี่ห้อ philips รุ่น Phl-26lh","เลขที่ 139/17 ซ.คู้บอน 27 แยก 25 แขวงท่าแร้ง เขตบางเขน กรุงเทพ เลขผู้เสียภาษี 0105537018089","ใบกำกับภาษี/ใบส่งสินค้า/ใบแจ้งหนี้","-","IV0031491",null,"136/61",{"$f":"100/O5575","v":20},"สัญญาเลขที่ 47/2561  ลว. 22 มิ.ย 61 เรื่องซื้อครุภัณฑ์พร้อมติดตั้งห้องประชุมเจ้าเสวย "," "," "," "," "," "," "," "," "," "," "," "," "," ",null," "," "," "," "," "," "," ","01","53","5802-5824"," ",null,"9/13/2018",{"$f":"CONCATENATE(AB5575,\" ปี  \",AC5575,\" เดือน  \",AD5575,\" วัน  \")","v":"0 ปี  4 เดือน  5 วัน  "},{"$f":"A5575","v":6537}]
[{"$f":"A5575+1","v":6538},"61013077","2018-08-06",61,"เฉพาะเจาะจง","รายได้","202202012031","บริษัท เอ.เอส.เทคโนโลยี แอนด์ คอมมูนิเคชั่นน จำกัด","เครื่องคอมพิวเตอร์แมข่าย 1 ค.",1,139100,"01.53.5829",{"$f":"IF(BV5576=\"จำหน่าย\",0,SUM(J5576*K5576))","v":139100},{"$f":"IF(K5576<5000,0,M5576)","v":139100},5,{"$f":"DATE(YEAR(C5576)+O5576,MONTH(C5576),DAY(C5576))","v":"2023-08-06"},{"$f":"IF(NOT(OR(ISBLANK(P5576),ISBLANK(C5576))),P5576-C5576,\"\")","v":1826},{"$f":"SLN(N5576,,O5576)","v":27820},{"$f":"SLN(R5576,,12)","v":2318.3333333333335},{"$f":"SLN(N5576,,Q5576)","v":76.177437020810515},{"$f":"IF(N5576=0,0,IF(AE5576<=Q5576,1,0))","v":1},{"$f":"SUM(R5576*U5576/12)","v":2318.3333333333335},{"$f":"IF(N5576=0,0,IF((R5576*AB5576)+(R5576*AC5576/12)>=N5576,N5576-J5576,((R5576*AB5576)+(R5576*AC5576/12))))","v":6955},{"$f":"SUM(T5576*U5576)","v":76.177437020810515},{"$f":"IF(N5576=0,0,IF((DATEDIF(C5576,TODAY(),\"d\")+1)*T5576>=N5576,N5576-J5576,(DATEDIF(C5576,TODAY(),\"d\")+1)*T5576))","v":8227.1631982475355},{"$f":"IF(U5576=0,0,IF(OR(DAY(C5576)=1,MONTH(C5576)<>MONTH(TODAY()),YEAR(C5576)<>YEAR(TODAY())),T5576*((DAY(DATE(YEAR(TODAY()),MONTH(TODAY())+1,1)-1))),T5576*((DAY(DATE(YEAR(TODAY()),MONTH(TODAY())+1,1)-1)-DAY(C5576)+1))))","v":2285.3231106243156},{"$f":"IF(N5576=0,0,IF(X5576>=N5576,(J5576),(N5576-Y5576)))","v":130872.83680175246},{"$f":"DATEDIF(C5576,TODAY(),\"Y\")","v":0},{"$f":"DATEDIF(C5576,TODAY(),\"YM\")","v":3},{"$f":"DATEDIF(C5576,TODAY(),\"md\")+1","v":16},{"$f":"DATEDIF(C5576,TODAY(),\"d\")+1","v":108},{"$f":"IF(N5576=0,\"No\",IF(AE5576>Q5576,\"NO\",\"YES\"))","v":"YES"},"10","49","สำนักวิทยบริการฯ",null,"นายณรงศักดิ์ พุดเผือก","เครื่องคอมพิวเตอร์แมข่าย ",null,"เครื่องคอมพิวเตอร์แมข่าย ","ยี่ห้อ HPรุ่น Pro liant Dl360 gen 10","เลขที่ 1/17 ซ.คู้บอน 27 แยก 25 แขวงท่าแร้ง เขตบางเขน กรุงเทพ เลขผเสียภาษี 015537018089","ใบกำกับภาษี/ใบส่งของ/ใบแจ้งหนี้","-","IV0031601","-","135/61",{"$f":"100/O5576","v":20},null," "," "," "," "," "," "," "," "," "," "," "," "," ",null," "," "," "," "," "," "," ","01","53","5829"," ",null,"9/13/2018",{"$f":"CONCATENATE(AB5576,\" ปี  \",AC5576,\" เดือน  \",AD5576,\" วัน  \")","v":"0 ปี  3 เดือน  16 วัน  "},{"$f":"A5576","v":6538}]
[{"$f":"A5576+1","v":6539},"61013351","2018-08-06",61,"เฉพาะเจาะจง","รายได้","202202012031","บริษัท เอ.เอส.เทคโนโลยี แอนด์ คอมมูนิเคชั่นน จำกัด","เครื่องพิมพ์ เลเซอร์สี 1 ค.",1,16585,"01.72.1130",{"$f":"IF(BV5577=\"จำหน่าย\",0,SUM(J5577*K5577))","v":16585},{"$f":"IF(K5577<5000,0,M5577)","v":16585},3,{"$f":"DATE(YEAR(C5577)+O5577,MONTH(C5577),DAY(C5577))","v":"2021-08-06"},{"$f":"IF(NOT(OR(ISBLANK(P5577),ISBLANK(C5577))),P5577-C5577,\"\")","v":1096},{"$f":"SLN(N5577,,O5577)","v":5528.333333333333},{"$f":"SLN(R5577,,12)","v":460.6944444444444},{"$f":"SLN(N5577,,Q5577)","v":15.132299270072993},{"$f":"IF(N5577=0,0,IF(AE5577<=Q5577,1,0))","v":1},{"$f":"SUM(R5577*U5577/12)","v":460.6944444444444},{"$f":"IF(N5577=0,0,IF((R5577*AB5577)+(R5577*AC5577/12)>=N5577,N5577-J5577,((R5577*AB5577)+(R5577*AC5577/12))))","v":1382.0833333333333},{"$f":"SUM(T5577*U5577)","v":15.132299270072993},{"$f":"IF(N5577=0,0,IF((DATEDIF(C5577,TODAY(),\"d\")+1)*T5577>=N5577,N5577-J5577,(DATEDIF(C5577,TODAY(),\"d\")+1)*T5577))","v":1634.2883211678832},{"$f":"IF(U5577=0,0,IF(OR(DAY(C5577)=1,MONTH(C5577)<>MONTH(TODAY()),YEAR(C5577)<>YEAR(TODAY())),T5577*((DAY(DATE(YEAR(TODAY()),MONTH(TODAY())+1,1)-1))),T5577*((DAY(DATE(YEAR(TODAY()),MONTH(TODAY())+1,1)-1)-DAY(C5577)+1))))","v":453.96897810218979},{"$f":"IF(N5577=0,0,IF(X5577>=N5577,(J5577),(N5577-Y5577)))","v":14950.711678832116},{"$f":"DATEDIF(C5577,TODAY(),\"Y\")","v":0},{"$f":"DATEDIF(C5577,TODAY(),\"YM\")","v":3},{"$f":"DATEDIF(C5577,TODAY(),\"md\")+1","v":16},{"$f":"DATEDIF(C5577,TODAY(),\"d\")+1","v":108},{"$f":"IF(N5577=0,\"No\",IF(AE5577>Q5577,\"NO\",\"YES\"))","v":"YES"},"10","17","ศูนย์บริการและประสานงานสหกิจศึกษา",null,"นางสาวสุดาพร สมภาพสิงห์","เครื่องพิมพ์ เลเซอร์สี ",null,"เครื่องพิมพ์ เลเซอร์สี ","ยี่ห้อ Oki รุ่น mc363dn","เลขที่ 1/17 ซ.คู้บอน 27 แยก 25 แขวงท่าแร้ง เขตบางเขน กรุงเทพ เลขผเสียภาษี 015537018089","ใบกำกับภาษี/ใบส่งของ/ใบแจ้งหนี้","-","IV0031580","-","134/61",{"$f":"100/O5577","v":33.333333333333336},null," "," "," "," "," "," "," "," "," "," "," "," "," ",null," "," "," "," "," "," "," ","01","72","1130"," ",null,"9/13/2018",{"$f":"CONCATENATE(AB5577,\" ปี  \",AC5577,\" เดือน  \",AD5577,\" วัน  \")","v":"0 ปี  3 เดือน  16 วัน  "},{"$f":"A5577","v":6539}]
[{"$f":"A5577+1","v":6540},"61013351","2018-08-06",61,"เฉพาะเจาะจง","รายได้","202202012031","บริษัท เอ.เอส.เทคโนโลยี แอนด์ คอมมูนิเคชั่นน จำกัด","เครื่องพิมพ์ เลเซอร์-ขาวดำ 1 ค.",1,7896.6,"01.72.1131",{"$f":"IF(BV5578=\"จำหน่าย\",0,SUM(J5578*K5578))","v":7896.6},{"$f":"IF(K5578<5000,0,M5578)","v":7896.6},3,{"$f":"DATE(YEAR(C5578)+O5578,MONTH(C5578),DAY(C5578))","v":"2021-08-06"},{"$f":"IF(NOT(OR(ISBLANK(P5578),ISBLANK(C5578))),P5578-C5578,\"\")","v":1096},{"$f":"SLN(N5578,,O5578)","v":2632.2000000000003},{"$f":"SLN(R5578,,12)","v":219.35000000000002},{"$f":"SLN(N5578,,Q5578)","v":7.2049270072992702},{"$f":"IF(N5578=0,0,IF(AE5578<=Q5578,1,0))","v":1},{"$f":"SUM(R5578*U5578/12)","v":219.35000000000002},{"$f":"IF(N5578=0,0,IF((R5578*AB5578)+(R5578*AC5578/12)>=N5578,N5578-J5578,((R5578*AB5578)+(R5578*AC5578/12))))","v":658.05000000000007},{"$f":"SUM(T5578*U5578)","v":7.2049270072992702},{"$f":"IF(N5578=0,0,IF((DATEDIF(C5578,TODAY(),\"d\")+1)*T5578>=N5578,N5578-J5578,(DATEDIF(C5578,TODAY(),\"d\")+1)*T5578))","v":778.13211678832113},{"$f":"IF(U5578=0,0,IF(OR(DAY(C5578)=1,MONTH(C5578)<>MONTH(TODAY()),YEAR(C5578)<>YEAR(TODAY())),T5578*((DAY(DATE(YEAR(TODAY()),MONTH(TODAY())+1,1)-1))),T5578*((DAY(DATE(YEAR(TODAY()),MONTH(TODAY())+1,1)-1)-DAY(C5578)+1))))","v":216.14781021897809},{"$f":"IF(N5578=0,0,IF(X5578>=N5578,(J5578),(N5578-Y5578)))","v":7118.4678832116788},{"$f":"DATEDIF(C5578,TODAY(),\"Y\")","v":0},{"$f":"DATEDIF(C5578,TODAY(),\"YM\")","v":3},{"$f":"DATEDIF(C5578,TODAY(),\"md\")+1","v":16},{"$f":"DATEDIF(C5578,TODAY(),\"d\")+1","v":108},{"$f":"IF(N5578=0,\"No\",IF(AE5578>Q5578,\"NO\",\"YES\"))","v":"YES"},"10","17","ศูนย์บริการและประสานงานสหกิจศึกษา",null,"นางสาวสุดาพร สมภาพสิงห์","เครื่องพิมพ์ เลเซอร์สี ",null,"เครื่องพิมพ์ เลเซอร์สี ","รุ่น B412bn","เลขที่ 1/17 ซ.คู้บอน 27 แยก 25 แขวงท่าแร้ง เขตบางเขน กรุงเทพ เลขผเสียภาษี 015537018089","ใบกำกับภาษี/ใบส่งของ/ใบแจ้งหนี้","-","IV0031580","-","134/61",{"$f":"100/O5578","v":33.333333333333336},null," "," "," "," "," "," "," "," "," "," "," "," "," ",null," "," "," "," "," "," "," ","01","72","1131"," ",null,"9/13/2018",{"$f":"CONCATENATE(AB5578,\" ปี  \",AC5578,\" เดือน  \",AD5578,\" วัน  \")","v":"0 ปี  3 เดือน  16 วัน  "},{"$f":"A5578","v":6540}]
[{"$f":"A5578+1","v":6541},"61013450","2018-08-06",61,"เฉพาะเจาะจง","รายได้","206201028931","นางสาวพรสวรรค์ เขียวจันทร์","อ่างล้างภาชนะสแตนเลส 4 ชุด",4,9500,"08.18.38-41",{"$f":"IF(BV5579=\"จำหน่าย\",0,SUM(J5579*K5579))","v":38000},{"$f":"IF(K5579<5000,0,M5579)","v":38000},8,{"$f":"DATE(YEAR(C5579)+O5579,MONTH(C5579),DAY(C5579))","v":"2026-08-06"},{"$f":"IF(NOT(OR(ISBLANK(P5579),ISBLANK(C5579))),P5579-C5579,\"\")","v":2922},{"$f":"SLN(N5579,,O5579)","v":4750},{"$f":"SLN(R5579,,12)","v":395.83333333333331},{"$f":"SLN(N5579,,Q5579)","v":13.00479123887748},{"$f":"IF(N5579=0,0,IF(AE5579<=Q5579,1,0))","v":1},{"$f":"SUM(R5579*U5579/12)","v":395.83333333333331},{"$f":"IF(N5579=0,0,IF((R5579*AB5579)+(R5579*AC5579/12)>=N5579,N5579-J5579,((R5579*AB5579)+(R5579*AC5579/12))))","v":1187.5},{"$f":"SUM(T5579*U5579)","v":13.00479123887748},{"$f":"IF(N5579=0,0,IF((DATEDIF(C5579,TODAY(),\"d\")+1)*T5579>=N5579,N5579-J5579,(DATEDIF(C5579,TODAY(),\"d\")+1)*T5579))","v":1404.517453798768},{"$f":"IF(U5579=0,0,IF(OR(DAY(C5579)=1,MONTH(C5579)<>MONTH(TODAY()),YEAR(C5579)<>YEAR(TODAY())),T5579*((DAY(DATE(YEAR(TODAY()),MONTH(TODAY())+1,1)-1))),T5579*((DAY(DATE(YEAR(TODAY()),MONTH(TODAY())+1,1)-1)-DAY(C5579)+1))))","v":390.1437371663244},{"$f":"IF(N5579=0,0,IF(X5579>=N5579,(J5579),(N5579-Y5579)))","v":36595.48254620123},{"$f":"DATEDIF(C5579,TODAY(),\"Y\")","v":0},{"$f":"DATEDIF(C5579,TODAY(),\"YM\")","v":3},{"$f":"DATEDIF(C5579,TODAY(),\"md\")+1","v":16},{"$f":"DATEDIF(C5579,TODAY(),\"d\")+1","v":108},{"$f":"IF(N5579=0,\"No\",IF(AE5579>Q5579,\"NO\",\"YES\"))","v":"YES"},"7","93","สนง.อธิการบดี มรร.บางคล้า",null,"นายนัทวุธ เงินถา","อ่างล้างภาชนะสแตนเลส ",null,"อ่างล้างภาชนะสแตนเลส พร้อมขาตั้ง","ขนาด 0.50*1.20 ม. ","เลขที่ 79 ม.4 ต.ศรีสุข องสีชมพู จ.ขอนแก่น ","บิลส่งของ","1","1",null,"132/61",{"$f":"100/O5579","v":12.5},null," "," "," "," "," "," "," "," "," "," "," "," "," ",null," "," "," "," "," "," "," ","08","18","38-41"," ",null,"9/13/2018",{"$f":"CONCATENATE(AB5579,\" ปี  \",AC5579,\" เดือน  \",AD5579,\" วัน  \")","v":"0 ปี  3 เดือน  16 วัน  "},{"$f":"A5579","v":6541}]
[{"$f":"A5579+1","v":6542},"6101.3443","2018-08-06",61,"เฉพาะเจาะจง","รายได้","306201028931","ร้านเจริญพานิช ","ตู้เหล็กกันน้ำ 2 ชั้น 1 ชุด",1,6741,"01.06.1039",{"$f":"IF(BV5580=\"จำหน่าย\",0,SUM(J5580*K5580))","v":6741},{"$f":"IF(K5580<5000,0,M5580)","v":6741},8,{"$f":"DATE(YEAR(C5580)+O5580,MONTH(C5580),DAY(C5580))","v":"2026-08-06"},{"$f":"IF(NOT(OR(ISBLANK(P5580),ISBLANK(C5580))),P5580-C5580,\"\")","v":2922},{"$f":"SLN(N5580,,O5580)","v":842.625},{"$f":"SLN(R5580,,12)","v":70.21875},{"$f":"SLN(N5580,,Q5580)","v":2.306981519507187},{"$f":"IF(N5580=0,0,IF(AE5580<=Q5580,1,0))","v":1},{"$f":"SUM(R5580*U5580/12)","v":70.21875},{"$f":"IF(N5580=0,0,IF((R5580*AB5580)+(R5580*AC5580/12)>=N5580,N5580-J5580,((R5580*AB5580)+(R5580*AC5580/12))))","v":210.65625},{"$f":"SUM(T5580*U5580)","v":2.306981519507187},{"$f":"IF(N5580=0,0,IF((DATEDIF(C5580,TODAY(),\"d\")+1)*T5580>=N5580,N5580-J5580,(DATEDIF(C5580,TODAY(),\"d\")+1)*T5580))","v":249.1540041067762},{"$f":"IF(U5580=0,0,IF(OR(DAY(C5580)=1,MONTH(C5580)<>MONTH(TODAY()),YEAR(C5580)<>YEAR(TODAY())),T5580*((DAY(DATE(YEAR(TODAY()),MONTH(TODAY())+1,1)-1))),T5580*((DAY(DATE(YEAR(TODAY()),MONTH(TODAY())+1,1)-1)-DAY(C5580)+1))))","v":69.209445585215605},{"$f":"IF(N5580=0,0,IF(X5580>=N5580,(J5580),(N5580-Y5580)))","v":6491.8459958932235},{"$f":"DATEDIF(C5580,TODAY(),\"Y\")","v":0},{"$f":"DATEDIF(C5580,TODAY(),\"YM\")","v":3},{"$f":"DATEDIF(C5580,TODAY(),\"md\")+1","v":16},{"$f":"DATEDIF(C5580,TODAY(),\"d\")+1","v":108},{"$f":"IF(N5580=0,\"No\",IF(AE5580>Q5580,\"NO\",\"YES\"))","v":"YES"},"5","100","สนง.อธิการบดี บางคล้า",null,null,"ตู้เหล็กกันน้ำ 2 ชั้น ",null,"ตู้เหล็กกันน้ำ 2 ชั้น หน้ากระจก","ขนาด 600*760*250 มม.","เลขที่ 710-712 ม.1 ต.พนมสารคาม อ.พนมสารคาม จ.ฉะเชิงเทรา เลขผู้เสียภาษี 3240600026968","(ต้นฉบับ) ใบส่งของ/ใบกำกับภาษี","012","0591",null,"131/61",{"$f":"100/O5580","v":12.5},null," "," "," "," "," "," "," "," "," "," "," "," "," ",null," "," "," "," "," "," "," ","01","06","1039"," ",null,"9/13/2018",{"$f":"CONCATENATE(AB5580,\" ปี  \",AC5580,\" เดือน  \",AD5580,\" วัน  \")","v":"0 ปี  3 เดือน  16 วัน  "},{"$f":"A5580","v":6542}]
[{"$f":"A5580+1","v":6543},"61013228","2018-08-01",61,"เฉพาะเจาะจง","รายได้","306201028931","ร้านเจริญพานิช ","ตู้เหล็กกันน้ำ 2 ชั้น 1 ชุด",1,3798.5,"01.06.1038",{"$f":"IF(BV5581=\"จำหน่าย\",0,SUM(J5581*K5581))","v":3798.5},{"$f":"IF(K5581<5000,0,M5581)","v":0},8,{"$f":"DATE(YEAR(C5581)+O5581,MONTH(C5581),DAY(C5581))","v":"2026-08-01"},{"$f":"IF(NOT(OR(ISBLANK(P5581),ISBLANK(C5581))),P5581-C5581,\"\")","v":2922},{"$f":"SLN(N5581,,O5581)","v":0},{"$f":"SLN(R5581,,12)","v":0},{"$f":"SLN(N5581,,Q5581)","v":0},{"$f":"IF(N5581=0,0,IF(AE5581<=Q5581,1,0))","v":0},{"$f":"SUM(R5581*U5581/12)","v":0},{"$f":"IF(N5581=0,0,IF((R5581*AB5581)+(R5581*AC5581/12)>=N5581,N5581-J5581,((R5581*AB5581)+(R5581*AC5581/12))))","v":0},{"$f":"SUM(T5581*U5581)","v":0},{"$f":"IF(N5581=0,0,IF((DATEDIF(C5581,TODAY(),\"d\")+1)*T5581>=N5581,N5581-J5581,(DATEDIF(C5581,TODAY(),\"d\")+1)*T5581))","v":0},{"$f":"IF(U5581=0,0,IF(OR(DAY(C5581)=1,MONTH(C5581)<>MONTH(TODAY()),YEAR(C5581)<>YEAR(TODAY())),T5581*((DAY(DATE(YEAR(TODAY()),MONTH(TODAY())+1,1)-1))),T5581*((DAY(DATE(YEAR(TODAY()),MONTH(TODAY())+1,1)-1)-DAY(C5581)+1))))","v":0},{"$f":"IF(N5581=0,0,IF(X5581>=N5581,(J5581),(N5581-Y5581)))","v":0},{"$f":"DATEDIF(C5581,TODAY(),\"Y\")","v":0},{"$f":"DATEDIF(C5581,TODAY(),\"YM\")","v":3},{"$f":"DATEDIF(C5581,TODAY(),\"md\")+1","v":21},{"$f":"DATEDIF(C5581,TODAY(),\"d\")+1","v":113},{"$f":"IF(N5581=0,\"No\",IF(AE5581>Q5581,\"NO\",\"YES\"))","v":"No"},"5","100","สนง.อธิการบดี บางคล้า",null,null,"ตู้เหล็กกันน้ำ 2 ชั้น ",null,"ตู้เหล็กกันน้ำ 2 ชั้น หน้ากระจก","ขนาด ","เลขที่ 710-712 ม.1 ต.พนมสารคาม อ.พนมสารคาม จ.ฉะเชิงเทรา เลขผู้เสียภาษี 3240600026968","(ต้นฉบับ) ใบส่งของ/ใบกำกับภาษี","012","0577",null,"130/61",{"$f":"100/O5581","v":12.5},null," "," "," "," "," "," "," "," "," "," "," "," "," ",null," "," "," "," "," "," "," ","01","06","1038"," ",null,"9/13/2018",{"$f":"CONCATENATE(AB5581,\" ปี  \",AC5581,\" เดือน  \",AD5581,\" วัน  \")","v":"0 ปี  3 เดือน  21 วัน  "},{"$f":"A5581","v":6543}]
[{"$f":"A5581+1","v":6544},"61013097","2018-07-31",61,"เฉพาะเจาะจง","รายได้","206201026931","บริษัท อินเตอร์เกท ซิสเท็ม จำกัด","เครื่องควบคุมไมโครโฟนประชุม 1 ชุด",1,17120,"05.06.1110",{"$f":"IF(BV5582=\"จำหน่าย\",0,SUM(J5582*K5582))","v":17120},{"$f":"IF(K5582<5000,0,M5582)","v":17120},5,{"$f":"DATE(YEAR(C5582)+O5582,MONTH(C5582),DAY(C5582))","v":"2023-07-31"},{"$f":"IF(NOT(OR(ISBLANK(P5582),ISBLANK(C5582))),P5582-C5582,\"\")","v":1826},{"$f":"SLN(N5582,,O5582)","v":3424},{"$f":"SLN(R5582,,12)","v":285.33333333333331},{"$f":"SLN(N5582,,Q5582)","v":9.3756845564074478},{"$f":"IF(N5582=0,0,IF(AE5582<=Q5582,1,0))","v":1},{"$f":"SUM(R5582*U5582/12)","v":285.33333333333331},{"$f":"IF(N5582=0,0,IF((R5582*AB5582)+(R5582*AC5582/12)>=N5582,N5582-J5582,((R5582*AB5582)+(R5582*AC5582/12))))","v":856},{"$f":"SUM(T5582*U5582)","v":9.3756845564074478},{"$f":"IF(N5582=0,0,IF((DATEDIF(C5582,TODAY(),\"d\")+1)*T5582>=N5582,N5582-J5582,(DATEDIF(C5582,TODAY(),\"d\")+1)*T5582))","v":1068.8280394304491},{"$f":"IF(U5582=0,0,IF(OR(DAY(C5582)=1,MONTH(C5582)<>MONTH(TODAY()),YEAR(C5582)<>YEAR(TODAY())),T5582*((DAY(DATE(YEAR(TODAY()),MONTH(TODAY())+1,1)-1))),T5582*((DAY(DATE(YEAR(TODAY()),MONTH(TODAY())+1,1)-1)-DAY(C5582)+1))))","v":281.27053669222346},{"$f":"IF(N5582=0,0,IF(X5582>=N5582,(J5582),(N5582-Y5582)))","v":16051.171960569551},{"$f":"DATEDIF(C5582,TODAY(),\"Y\")","v":0},{"$f":"DATEDIF(C5582,TODAY(),\"YM\")","v":3},{"$f":"DATEDIF(C5582,TODAY(),\"md\")+1","v":22},{"$f":"DATEDIF(C5582,TODAY(),\"d\")+1","v":114},{"$f":"IF(N5582=0,\"No\",IF(AE5582>Q5582,\"NO\",\"YES\"))","v":"YES"},"8","278","งานสภาคณาจารย์และข้าราชการ",null,"นายนพพร ขุนค้า","เครื่องควบคุมไมโครโฟนประชุม ",null,"เครื่องควบคุมไมโครโฟนประชุม ","ยี่ห้อ Razr","เลขที่ 39 ซ.ลาดพร้าว 101 คลองจั่น บางกะปิ กรุงเทพ เลขผู้เสียภาษี 0105551124991","ใบงของ/ใบแจ้งหนี้/กับภาษี","บา","งกะปิ",null,null,{"$f":"100/O5582","v":20},null," "," "," "," "," "," "," "," "," "," "," "," "," ",null," "," "," "," "," "," "," ","05","06","1110"," ",null,"9/13/2018",{"$f":"CONCATENATE(AB5582,\" ปี  \",AC5582,\" เดือน  \",AD5582,\" วัน  \")","v":"0 ปี  3 เดือน  22 วัน  "},{"$f":"A5582","v":6544}]
[{"$f":"A5582+1","v":6545},"61013097","2018-07-31",61,"เฉพาะเจาะจง","รายได้","206201026931","บริษัท อินเตอร์เกท ซิสเท็ม จำกัด","ไมโครโฟนประชุมประธาน  1 ชุด",1,6313,"05.12.842",{"$f":"IF(BV5583=\"จำหน่าย\",0,SUM(J5583*K5583))","v":6313},{"$f":"IF(K5583<5000,0,M5583)","v":6313},5,{"$f":"DATE(YEAR(C5583)+O5583,MONTH(C5583),DAY(C5583))","v":"2023-07-31"},{"$f":"IF(NOT(OR(ISBLANK(P5583),ISBLANK(C5583))),P5583-C5583,\"\")","v":1826},{"$f":"SLN(N5583,,O5583)","v":1262.5999999999999},{"$f":"SLN(R5583,,12)","v":105.21666666666665},{"$f":"SLN(N5583,,Q5583)","v":3.4572836801752462},{"$f":"IF(N5583=0,0,IF(AE5583<=Q5583,1,0))","v":1},{"$f":"SUM(R5583*U5583/12)","v":105.21666666666665},{"$f":"IF(N5583=0,0,IF((R5583*AB5583)+(R5583*AC5583/12)>=N5583,N5583-J5583,((R5583*AB5583)+(R5583*AC5583/12))))","v":315.64999999999998},{"$f":"SUM(T5583*U5583)","v":3.4572836801752462},{"$f":"IF(N5583=0,0,IF((DATEDIF(C5583,TODAY(),\"d\")+1)*T5583>=N5583,N5583-J5583,(DATEDIF(C5583,TODAY(),\"d\")+1)*T5583))","v":394.13033953997808},{"$f":"IF(U5583=0,0,IF(OR(DAY(C5583)=1,MONTH(C5583)<>MONTH(TODAY()),YEAR(C5583)<>YEAR(TODAY())),T5583*((DAY(DATE(YEAR(TODAY()),MONTH(TODAY())+1,1)-1))),T5583*((DAY(DATE(YEAR(TODAY()),MONTH(TODAY())+1,1)-1)-DAY(C5583)+1))))","v":103.71851040525739},{"$f":"IF(N5583=0,0,IF(X5583>=N5583,(J5583),(N5583-Y5583)))","v":5918.8696604600218},{"$f":"DATEDIF(C5583,TODAY(),\"Y\")","v":0},{"$f":"DATEDIF(C5583,TODAY(),\"YM\")","v":3},{"$f":"DATEDIF(C5583,TODAY(),\"md\")+1","v":22},{"$f":"DATEDIF(C5583,TODAY(),\"d\")+1","v":114},{"$f":"IF(N5583=0,\"No\",IF(AE5583>Q5583,\"NO\",\"YES\"))","v":"YES"},"6","227","งานสภาคณาจารย์และข้าราชการ",null,"นายนพพร ขุนค้า","เครื่องควบคุมไมโครโฟนประชุม ",null,"ไมโครโฟนประชุมประธาน  ","ยี่ห้อ Razr","เลขที่ 39 ซ.ลาดพร้าว 101 คลองจั่น บางกะปิ กรุงเทพ เลขผู้เสียภาษี 0105551124991","ใบงของ/ใบแจ้งหนี้/กับภาษี","-","I201807011","-","129/61",{"$f":"100/O5583","v":20},null," "," "," "," "," "," "," "," "," "," "," "," "," ",null," "," "," "," "," "," "," ","05","12","842"," ",null,"9/13/2018",{"$f":"CONCATENATE(AB5583,\" ปี  \",AC5583,\" เดือน  \",AD5583,\" วัน  \")","v":"0 ปี  3 เดือน  22 วัน  "},{"$f":"A5583","v":6545}]
[{"$f":"A5583+1","v":6546},"61013097","2018-07-31",61,"เฉพาะเจาะจง","รายได้","206201026931","บริษัท อินเตอร์เกท ซิสเท็ม จำกัด","ไมโครโฟนผู้ร่วมประชุม 20 ชุด",20,5243,"05.12.843-862",{"$f":"IF(BV5584=\"จำหน่าย\",0,SUM(J5584*K5584))","v":104860},{"$f":"IF(K5584<5000,0,M5584)","v":104860},5,{"$f":"DATE(YEAR(C5584)+O5584,MONTH(C5584),DAY(C5584))","v":"2023-07-31"},{"$f":"IF(NOT(OR(ISBLANK(P5584),ISBLANK(C5584))),P5584-C5584,\"\")","v":1826},{"$f":"SLN(N5584,,O5584)","v":20972},{"$f":"SLN(R5584,,12)","v":1747.6666666666667},{"$f":"SLN(N5584,,Q5584)","v":57.426067907995616},{"$f":"IF(N5584=0,0,IF(AE5584<=Q5584,1,0))","v":1},{"$f":"SUM(R5584*U5584/12)","v":1747.6666666666667},{"$f":"IF(N5584=0,0,IF((R5584*AB5584)+(R5584*AC5584/12)>=N5584,N5584-J5584,((R5584*AB5584)+(R5584*AC5584/12))))","v":5243},{"$f":"SUM(T5584*U5584)","v":57.426067907995616},{"$f":"IF(N5584=0,0,IF((DATEDIF(C5584,TODAY(),\"d\")+1)*T5584>=N5584,N5584-J5584,(DATEDIF(C5584,TODAY(),\"d\")+1)*T5584))","v":6546.5717415115005},{"$f":"IF(U5584=0,0,IF(OR(DAY(C5584)=1,MONTH(C5584)<>MONTH(TODAY()),YEAR(C5584)<>YEAR(TODAY())),T5584*((DAY(DATE(YEAR(TODAY()),MONTH(TODAY())+1,1)-1))),T5584*((DAY(DATE(YEAR(TODAY()),MONTH(TODAY())+1,1)-1)-DAY(C5584)+1))))","v":1722.7820372398685},{"$f":"IF(N5584=0,0,IF(X5584>=N5584,(J5584),(N5584-Y5584)))","v":98313.428258488493},{"$f":"DATEDIF(C5584,TODAY(),\"Y\")","v":0},{"$f":"DATEDIF(C5584,TODAY(),\"YM\")","v":3},{"$f":"DATEDIF(C5584,TODAY(),\"md\")+1","v":22},{"$f":"DATEDIF(C5584,TODAY(),\"d\")+1","v":114},{"$f":"IF(N5584=0,\"No\",IF(AE5584>Q5584,\"NO\",\"YES\"))","v":"YES"},"6","227","งานสภาคณาจารย์และข้าราชการ",null,"นายนพพร ขุนค้า","ไมโครโฟนผู้ร่วมประชุม ",null,"ไมโครโฟนผู้ร่วมประชุม ","ยี่ห้อ Razr","เลขที่ 39 ซ.ลาดพร้าว 101 คลองจั่น บางกะปิ กรุงเทพ เลขผู้เสียภาษี 0105551124991","ใบงของ/ใบแจ้งหนี้/กับภาษี","-","I201807011","-","129/61",{"$f":"100/O5584","v":20},null," "," "," "," "," "," "," "," "," "," "," "," "," ",null," "," "," "," "," "," "," ","05","12","843-862"," ",null,"9/13/2018",{"$f":"CONCATENATE(AB5584,\" ปี  \",AC5584,\" เดือน  \",AD5584,\" วัน  \")","v":"0 ปี  3 เดือน  22 วัน  "},{"$f":"A5584","v":6546}]
[{"$f":"A5584+1","v":6547},"61013097","2018-07-31",61,"เฉพาะเจาะจง","รายได้","206201026931","บริษัท อินเตอร์เกท ซิสเท็ม จำกัด","เครื่องขยายเสียงและผสานเสียง 1 ค.",1,23433,"05.06.1111",{"$f":"IF(BV5585=\"จำหน่าย\",0,SUM(J5585*K5585))","v":23433},{"$f":"IF(K5585<5000,0,M5585)","v":23433},5,{"$f":"DATE(YEAR(C5585)+O5585,MONTH(C5585),DAY(C5585))","v":"2023-07-31"},{"$f":"IF(NOT(OR(ISBLANK(P5585),ISBLANK(C5585))),P5585-C5585,\"\")","v":1826},{"$f":"SLN(N5585,,O5585)","v":4686.6000000000004},{"$f":"SLN(R5585,,12)","v":390.55},{"$f":"SLN(N5585,,Q5585)","v":12.832968236582694},{"$f":"IF(N5585=0,0,IF(AE5585<=Q5585,1,0))","v":1},{"$f":"SUM(R5585*U5585/12)","v":390.55},{"$f":"IF(N5585=0,0,IF((R5585*AB5585)+(R5585*AC5585/12)>=N5585,N5585-J5585,((R5585*AB5585)+(R5585*AC5585/12))))","v":1171.6500000000001},{"$f":"SUM(T5585*U5585)","v":12.832968236582694},{"$f":"IF(N5585=0,0,IF((DATEDIF(C5585,TODAY(),\"d\")+1)*T5585>=N5585,N5585-J5585,(DATEDIF(C5585,TODAY(),\"d\")+1)*T5585))","v":1462.958378970427},{"$f":"IF(U5585=0,0,IF(OR(DAY(C5585)=1,MONTH(C5585)<>MONTH(TODAY()),YEAR(C5585)<>YEAR(TODAY())),T5585*((DAY(DATE(YEAR(TODAY()),MONTH(TODAY())+1,1)-1))),T5585*((DAY(DATE(YEAR(TODAY()),MONTH(TODAY())+1,1)-1)-DAY(C5585)+1))))","v":384.98904709748081},{"$f":"IF(N5585=0,0,IF(X5585>=N5585,(J5585),(N5585-Y5585)))","v":21970.041621029573},{"$f":"DATEDIF(C5585,TODAY(),\"Y\")","v":0},{"$f":"DATEDIF(C5585,TODAY(),\"YM\")","v":3},{"$f":"DATEDIF(C5585,TODAY(),\"md\")+1","v":22},{"$f":"DATEDIF(C5585,TODAY(),\"d\")+1","v":114},{"$f":"IF(N5585=0,\"No\",IF(AE5585>Q5585,\"NO\",\"YES\"))","v":"YES"},"8","278","งานสภาคณาจารย์และข้าราชการ",null,"นายนพพร ขุนค้า","เครื่องขยายเสียงและผสานเสียง ",null,"เครื่องขยายเสียงและผสานเสียง ","ยี่ห้อ Rlbgruppen","เลขที่ 39 ซ.ลาดพร้าว 101 คลองจั่น บางกะปิ กรุงเทพ เลขผู้เสียภาษี 0105551124991","ใบงของ/ใบแจ้งหนี้/กับภาษี","-","I201807011","-","129/61",{"$f":"100/O5585","v":20},null," "," "," "," "," "," "," "," "," "," "," "," "," ",null," "," "," "," "," "," "," ","05","06","1111"," ",null,"9/13/2018",{"$f":"CONCATENATE(AB5585,\" ปี  \",AC5585,\" เดือน  \",AD5585,\" วัน  \")","v":"0 ปี  3 เดือน  22 วัน  "},{"$f":"A5585","v":6547}]
[{"$f":"A5585+1","v":6548},"61013097","2018-07-31",61,"เฉพาะเจาะจง","รายได้","206201026931","บริษัท อินเตอร์เกท ซิสเท็ม จำกัด","ลำโพงติดตั้ง 2 ทาง 4 ชุด",4,6955,"05.13.974-977",{"$f":"IF(BV5586=\"จำหน่าย\",0,SUM(J5586*K5586))","v":27820},{"$f":"IF(K5586<5000,0,M5586)","v":27820},5,{"$f":"DATE(YEAR(C5586)+O5586,MONTH(C5586),DAY(C5586))","v":"2023-07-31"},{"$f":"IF(NOT(OR(ISBLANK(P5586),ISBLANK(C5586))),P5586-C5586,\"\")","v":1826},{"$f":"SLN(N5586,,O5586)","v":5564},{"$f":"SLN(R5586,,12)","v":463.66666666666669},{"$f":"SLN(N5586,,Q5586)","v":15.235487404162104},{"$f":"IF(N5586=0,0,IF(AE5586<=Q5586,1,0))","v":1},{"$f":"SUM(R5586*U5586/12)","v":463.66666666666669},{"$f":"IF(N5586=0,0,IF((R5586*AB5586)+(R5586*AC5586/12)>=N5586,N5586-J5586,((R5586*AB5586)+(R5586*AC5586/12))))","v":1391},{"$f":"SUM(T5586*U5586)","v":15.235487404162104},{"$f":"IF(N5586=0,0,IF((DATEDIF(C5586,TODAY(),\"d\")+1)*T5586>=N5586,N5586-J5586,(DATEDIF(C5586,TODAY(),\"d\")+1)*T5586))","v":1736.8455640744799},{"$f":"IF(U5586=0,0,IF(OR(DAY(C5586)=1,MONTH(C5586)<>MONTH(TODAY()),YEAR(C5586)<>YEAR(TODAY())),T5586*((DAY(DATE(YEAR(TODAY()),MONTH(TODAY())+1,1)-1))),T5586*((DAY(DATE(YEAR(TODAY()),MONTH(TODAY())+1,1)-1)-DAY(C5586)+1))))","v":457.06462212486309},{"$f":"IF(N5586=0,0,IF(X5586>=N5586,(J5586),(N5586-Y5586)))","v":26083.15443592552},{"$f":"DATEDIF(C5586,TODAY(),\"Y\")","v":0},{"$f":"DATEDIF(C5586,TODAY(),\"YM\")","v":3},{"$f":"DATEDIF(C5586,TODAY(),\"md\")+1","v":22},{"$f":"DATEDIF(C5586,TODAY(),\"d\")+1","v":114},{"$f":"IF(N5586=0,\"No\",IF(AE5586>Q5586,\"NO\",\"YES\"))","v":"YES"},"8","278","งานสภาคณาจารย์และข้าราชการ",null,"นายนพพร ขุนค้า","ลำโพงติดตั้ง 2 ทาง ",null,"ลำโพงติดตั้ง 2 ทาง ","ยี่ห้อ Tannoy","เลขที่ 39 ซ.ลาดพร้าว 101 คลองจั่น บางกะปิ กรุงเทพ เลขผู้เสียภาษี 0105551124991","ใบงของ/ใบแจ้งหนี้/กับภาษี","-","I201807011","-","129/61",{"$f":"100/O5586","v":20},null," "," "," "," "," "," "," "," "," "," "," "," "," ",null," "," "," "," "," "," "," ","05","13","974-977"," ",null,"9/13/2018",{"$f":"CONCATENATE(AB5586,\" ปี  \",AC5586,\" เดือน  \",AD5586,\" วัน  \")","v":"0 ปี  3 เดือน  22 วัน  "},{"$f":"A5586","v":6548}]
[{"$f":"A5586+1","v":6549},"61013097","2018-07-31",61,"เฉพาะเจาะจง","รายได้","206201026931","บริษัท อินเตอร์เกท ซิสเท็ม จำกัด","ตู้ใส่อุปกรณ์ 1 ใบ",1,4815,"01.06.1034",{"$f":"IF(BV5587=\"จำหน่าย\",0,SUM(J5587*K5587))","v":4815},{"$f":"IF(K5587<5000,0,M5587)","v":0},5,{"$f":"DATE(YEAR(C5587)+O5587,MONTH(C5587),DAY(C5587))","v":"2023-07-31"},{"$f":"IF(NOT(OR(ISBLANK(P5587),ISBLANK(C5587))),P5587-C5587,\"\")","v":1826},{"$f":"SLN(N5587,,O5587)","v":0},{"$f":"SLN(R5587,,12)","v":0},{"$f":"SLN(N5587,,Q5587)","v":0},{"$f":"IF(N5587=0,0,IF(AE5587<=Q5587,1,0))","v":0},{"$f":"SUM(R5587*U5587/12)","v":0},{"$f":"IF(N5587=0,0,IF((R5587*AB5587)+(R5587*AC5587/12)>=N5587,N5587-J5587,((R5587*AB5587)+(R5587*AC5587/12))))","v":0},{"$f":"SUM(T5587*U5587)","v":0},{"$f":"IF(N5587=0,0,IF((DATEDIF(C5587,TODAY(),\"d\")+1)*T5587>=N5587,N5587-J5587,(DATEDIF(C5587,TODAY(),\"d\")+1)*T5587))","v":0},{"$f":"IF(U5587=0,0,IF(OR(DAY(C5587)=1,MONTH(C5587)<>MONTH(TODAY()),YEAR(C5587)<>YEAR(TODAY())),T5587*((DAY(DATE(YEAR(TODAY()),MONTH(TODAY())+1,1)-1))),T5587*((DAY(DATE(YEAR(TODAY()),MONTH(TODAY())+1,1)-1)-DAY(C5587)+1))))","v":0},{"$f":"IF(N5587=0,0,IF(X5587>=N5587,(J5587),(N5587-Y5587)))","v":0},{"$f":"DATEDIF(C5587,TODAY(),\"Y\")","v":0},{"$f":"DATEDIF(C5587,TODAY(),\"YM\")","v":3},{"$f":"DATEDIF(C5587,TODAY(),\"md\")+1","v":22},{"$f":"DATEDIF(C5587,TODAY(),\"d\")+1","v":114},{"$f":"IF(N5587=0,\"No\",IF(AE5587>Q5587,\"NO\",\"YES\"))","v":"No"},"5","100","งานสภาคณาจารย์และข้าราชการ",null,"นายนพพร ขุนค้า","ตู้ใส่อุปกรณ์ ",null,"ตู้ใส่อุปกรณ์ แบบติดผนัง","ขนาด 6 U","เลขที่ 39 ซ.ลาดพร้าว 101 คลองจั่น บางกะปิ กรุงเทพ เลขผู้เสียภาษี 0105551124991","ใบงของ/ใบแจ้งหนี้/กับภาษี","-","I201807011","-","129/61",{"$f":"100/O5587","v":20},null," "," "," "," "," "," "," "," "," "," "," "," "," ",null," "," "," "," "," "," "," ","01","06","1034"," ",null,"9/13/2018",{"$f":"CONCATENATE(AB5587,\" ปี  \",AC5587,\" เดือน  \",AD5587,\" วัน  \")","v":"0 ปี  3 เดือน  22 วัน  "},{"$f":"A5587","v":6549}]
[{"$f":"A5587+1","v":6550},"61013012","2018-07-26",61,"เฉพาะเจาะจง","รายได้","206201024731","บริษัท ซัม เทคโนดลยี (ไทยแลนด์) จำกัด","เครื่องถ่ายเอกสารสี 1 ค.",1,98975,"01.22.106",{"$f":"IF(BV5588=\"จำหน่าย\",0,SUM(J5588*K5588))","v":98975},{"$f":"IF(K5588<5000,0,M5588)","v":98975},8,{"$f":"DATE(YEAR(C5588)+O5588,MONTH(C5588),DAY(C5588))","v":"2026-07-26"},{"$f":"IF(NOT(OR(ISBLANK(P5588),ISBLANK(C5588))),P5588-C5588,\"\")","v":2922},{"$f":"SLN(N5588,,O5588)","v":12371.875},{"$f":"SLN(R5588,,12)","v":1030.9895833333333},{"$f":"SLN(N5588,,Q5588)","v":33.872347707049968},{"$f":"IF(N5588=0,0,IF(AE5588<=Q5588,1,0))","v":1},{"$f":"SUM(R5588*U5588/12)","v":1030.9895833333333},{"$f":"IF(N5588=0,0,IF((R5588*AB5588)+(R5588*AC5588/12)>=N5588,N5588-J5588,((R5588*AB5588)+(R5588*AC5588/12))))","v":3092.96875},{"$f":"SUM(T5588*U5588)","v":33.872347707049968},{"$f":"IF(N5588=0,0,IF((DATEDIF(C5588,TODAY(),\"d\")+1)*T5588>=N5588,N5588-J5588,(DATEDIF(C5588,TODAY(),\"d\")+1)*T5588))","v":4030.8093771389463},{"$f":"IF(U5588=0,0,IF(OR(DAY(C5588)=1,MONTH(C5588)<>MONTH(TODAY()),YEAR(C5588)<>YEAR(TODAY())),T5588*((DAY(DATE(YEAR(TODAY()),MONTH(TODAY())+1,1)-1))),T5588*((DAY(DATE(YEAR(TODAY()),MONTH(TODAY())+1,1)-1)-DAY(C5588)+1))))","v":1016.170431211499},{"$f":"IF(N5588=0,0,IF(X5588>=N5588,(J5588),(N5588-Y5588)))","v":94944.190622861061},{"$f":"DATEDIF(C5588,TODAY(),\"Y\")","v":0},{"$f":"DATEDIF(C5588,TODAY(),\"YM\")","v":3},{"$f":"DATEDIF(C5588,TODAY(),\"md\")+1","v":27},{"$f":"DATEDIF(C5588,TODAY(),\"d\")+1","v":119},{"$f":"IF(N5588=0,\"No\",IF(AE5588>Q5588,\"NO\",\"YES\"))","v":"YES"},"11","120","งานเลขาสภามหาวิทยาลัย",null,null,"เครื่องถ่ายเอกสารสี ",null,"เครื่องถ่ายเอกสารสี ","ยี่ห้อ Sharp รุ่น mx-2314n","เลขที่ 464 ,466 ถงประชาราษฎร์ ต.ตลาดขวัญ อ.เมืองนนทบุรี เลผู้เสียภาษี 125547007675","ใบกำกับภาษี/ใบส่งของ/ใบแจ้งหนี้ ","-","S 0030500",null,"128/61",{"$f":"100/O5588","v":12.5},null," "," "," "," "," "," "," "," "," "," "," "," "," ",null," "," "," "," "," "," "," ","01","22","106"," ",null,"9/13/2018",{"$f":"CONCATENATE(AB5588,\" ปี  \",AC5588,\" เดือน  \",AD5588,\" วัน  \")","v":"0 ปี  3 เดือน  27 วัน  "},{"$f":"A5588","v":6550}]
[{"$f":"A5588+1","v":6551},"61012197","2018-07-06",61,"เฉพาะเจาะจง","รายได้","202101140931","บษัท เองเอส.เทคโนโลยี แอนด์ คอมมูนิเคชั่น จำกัด","เครื่องคอมพิวเตอร์แบบพกพา 1 ค.",3,20865,"01.53.5826-5828",{"$f":"IF(BV5589=\"จำหน่าย\",0,SUM(J5589*K5589))","v":62595},{"$f":"IF(K5589<5000,0,M5589)","v":62595},5,{"$f":"DATE(YEAR(C5589)+O5589,MONTH(C5589),DAY(C5589))","v":"2023-07-06"},{"$f":"IF(NOT(OR(ISBLANK(P5589),ISBLANK(C5589))),P5589-C5589,\"\")","v":1826},{"$f":"SLN(N5589,,O5589)","v":12519},{"$f":"SLN(R5589,,12)","v":1043.25},{"$f":"SLN(N5589,,Q5589)","v":34.279846659364729},{"$f":"IF(N5589=0,0,IF(AE5589<=Q5589,1,0))","v":1},{"$f":"SUM(R5589*U5589/12)","v":1043.25},{"$f":"IF(N5589=0,0,IF((R5589*AB5589)+(R5589*AC5589/12)>=N5589,N5589-J5589,((R5589*AB5589)+(R5589*AC5589/12))))","v":4173},{"$f":"SUM(T5589*U5589)","v":34.279846659364729},{"$f":"IF(N5589=0,0,IF((DATEDIF(C5589,TODAY(),\"d\")+1)*T5589>=N5589,N5589-J5589,(DATEDIF(C5589,TODAY(),\"d\")+1)*T5589))","v":4764.8986856516976},{"$f":"IF(U5589=0,0,IF(OR(DAY(C5589)=1,MONTH(C5589)<>MONTH(TODAY()),YEAR(C5589)<>YEAR(TODAY())),T5589*((DAY(DATE(YEAR(TODAY()),MONTH(TODAY())+1,1)-1))),T5589*((DAY(DATE(YEAR(TODAY()),MONTH(TODAY())+1,1)-1)-DAY(C5589)+1))))","v":1028.3953997809419},{"$f":"IF(N5589=0,0,IF(X5589>=N5589,(J5589),(N5589-Y5589)))","v":57830.1013143483},{"$f":"DATEDIF(C5589,TODAY(),\"Y\")","v":0},{"$f":"DATEDIF(C5589,TODAY(),\"YM\")","v":4},{"$f":"DATEDIF(C5589,TODAY(),\"md\")+1","v":16},{"$f":"DATEDIF(C5589,TODAY(),\"d\")+1","v":139},{"$f":"IF(N5589=0,\"No\",IF(AE5589>Q5589,\"NO\",\"YES\"))","v":"YES"},"10","49","คณะเทคโนโลยีอุตสาหกรรม","วิชาวิศวกรรมไฟฟ้า","นายสุรพงษ์ แก่นมณี ","เครื่องคอมพิวเตอร์แบบพกพา ",null,"เครื่องคอมพิวเตอร์แบบพกพา ","ยี่ห้อ Hp รุ่น Hp 348 G4","เลขที่ 139/17 ซ.คู้บอน 27 แยก 25 แขวงท่าแร้ง เขตบางเขน กรุงเทพ เลขผู้เสียภาษี 0105537018089","ใบกำกับภาษี/ใบส่งสินค้า/ใบแจ้งหนี้","-","IV003447",null,"127/61",{"$f":"100/O5589","v":20},null," "," "," "," "," "," "," "," "," "," "," "," "," ",null," "," "," "," "," "," "," ","01","53","5826-5828"," ",null,"9/13/2018",{"$f":"CONCATENATE(AB5589,\" ปี  \",AC5589,\" เดือน  \",AD5589,\" วัน  \")","v":"0 ปี  4 เดือน  16 วัน  "},{"$f":"A5589","v":6551}]
[{"$f":"A5589+1","v":6552},"61014451","2018-09-07",61,"เฉพาะเจาะจง","รายได้","202111321","บริษัทเองเอส.เทคโนโลยี แอนด์ คอมมูนิเคชั่น จำกัด ","สายสัญญาณเครือข่ายและระบบไฟฟ้า 1 ชุด",1,291040,"05.55.361",{"$f":"IF(BV5590=\"จำหน่าย\",0,SUM(J5590*K5590))","v":291040},{"$f":"IF(K5590<5000,0,M5590)","v":291040},3,{"$f":"DATE(YEAR(C5590)+O5590,MONTH(C5590),DAY(C5590))","v":"2021-09-07"},{"$f":"IF(NOT(OR(ISBLANK(P5590),ISBLANK(C5590))),P5590-C5590,\"\")","v":1096},{"$f":"SLN(N5590,,O5590)","v":97013.333333333328},{"$f":"SLN(R5590,,12)","v":8084.4444444444443},{"$f":"SLN(N5590,,Q5590)","v":265.54744525547443},{"$f":"IF(N5590=0,0,IF(AE5590<=Q5590,1,0))","v":1},{"$f":"SUM(R5590*U5590/12)","v":8084.4444444444443},{"$f":"IF(N5590=0,0,IF((R5590*AB5590)+(R5590*AC5590/12)>=N5590,N5590-J5590,((R5590*AB5590)+(R5590*AC5590/12))))","v":16168.888888888889},{"$f":"SUM(T5590*U5590)","v":265.54744525547443},{"$f":"IF(N5590=0,0,IF((DATEDIF(C5590,TODAY(),\"d\")+1)*T5590>=N5590,N5590-J5590,(DATEDIF(C5590,TODAY(),\"d\")+1)*T5590))","v":20181.605839416057},{"$f":"IF(U5590=0,0,IF(OR(DAY(C5590)=1,MONTH(C5590)<>MONTH(TODAY()),YEAR(C5590)<>YEAR(TODAY())),T5590*((DAY(DATE(YEAR(TODAY()),MONTH(TODAY())+1,1)-1))),T5590*((DAY(DATE(YEAR(TODAY()),MONTH(TODAY())+1,1)-1)-DAY(C5590)+1))))","v":7966.4233576642328},{"$f":"IF(N5590=0,0,IF(X5590>=N5590,(J5590),(N5590-Y5590)))","v":270858.39416058396},{"$f":"DATEDIF(C5590,TODAY(),\"Y\")","v":0},{"$f":"DATEDIF(C5590,TODAY(),\"YM\")","v":2},{"$f":"DATEDIF(C5590,TODAY(),\"md\")+1","v":15},{"$f":"DATEDIF(C5590,TODAY(),\"d\")+1","v":76},{"$f":"IF(N5590=0,\"No\",IF(AE5590>Q5590,\"NO\",\"YES\"))","v":"YES"},"10","56","คณะเทคดนดลยีอุตสาหกรรม",null,"นายสราวุธ อิศรานุวัฒน์","สายสัญญาณเครือข่ายและระบบไฟฟ้า ",null,"สายสัญญาณเครือข่ายและระบบไฟฟ้า ",null,"เลขที่ 139/17 ซ.คู้บอน 27 แยก 25 แขวงท่าแร้ง เขตบางเขน กเทพฯ เลขผู้เสียภาษี 010553018089","ใบกำกับภาษี/ใบส่งสินค้า/ใบแจ้งหนี้","-","IV003174","-","178/61",{"$f":"100/O5590","v":33.333333333333336},"ติดตั้งีคณะเทคโนโลยีอุตสาหกรรมชั้น 3 ห้องปฏิบัติการคอมพิวเตอร์ 1 ห้อง 1031 และห้อง 1032 "," "," "," "," "," "," "," "," "," "," "," "," "," ",null," "," "," "," "," "," "," ","05","55","361"," ",null,"9/21/2018",{"$f":"CONCATENATE(AB5590,\" ปี  \",AC5590,\" เดือน  \",AD5590,\" วัน  \")","v":"0 ปี  2 เดือน  15 วัน  "},{"$f":"A5590","v":6552}]
[{"$f":"A5590+1","v":6553},"61014832","2018-08-30",61,"ประกวดราคาอิเล็กทรอนิกส์","งบแผ่นดิน","102202150232","บริษัท อินแอนด์ไอ จำกัด","เครื่องปรับอากาศชนิดติดผนัง 9 ค.",9,19350,"01.29.2371-2379",{"$f":"IF(BV5591=\"จำหน่าย\",0,SUM(J5591*K5591))","v":174150},{"$f":"IF(K5591<5000,0,M5591)","v":174150},8,{"$f":"DATE(YEAR(C5591)+O5591,MONTH(C5591),DAY(C5591))","v":"2026-08-30"},{"$f":"IF(NOT(OR(ISBLANK(P5591),ISBLANK(C5591))),P5591-C5591,\"\")","v":2922},{"$f":"SLN(N5591,,O5591)","v":21768.75},{"$f":"SLN(R5591,,12)","v":1814.0625},{"$f":"SLN(N5591,,Q5591)","v":59.599589322381931},{"$f":"IF(N5591=0,0,IF(AE5591<=Q5591,1,0))","v":1},{"$f":"SUM(R5591*U5591/12)","v":1814.0625},{"$f":"IF(N5591=0,0,IF((R5591*AB5591)+(R5591*AC5591/12)>=N5591,N5591-J5591,((R5591*AB5591)+(R5591*AC5591/12))))","v":3628.125},{"$f":"SUM(T5591*U5591)","v":59.599589322381931},{"$f":"IF(N5591=0,0,IF((DATEDIF(C5591,TODAY(),\"d\")+1)*T5591>=N5591,N5591-J5591,(DATEDIF(C5591,TODAY(),\"d\")+1)*T5591))","v":5006.3655030800819},{"$f":"IF(U5591=0,0,IF(OR(DAY(C5591)=1,MONTH(C5591)<>MONTH(TODAY()),YEAR(C5591)<>YEAR(TODAY())),T5591*((DAY(DATE(YEAR(TODAY()),MONTH(TODAY())+1,1)-1))),T5591*((DAY(DATE(YEAR(TODAY()),MONTH(TODAY())+1,1)-1)-DAY(C5591)+1))))","v":1787.987679671458},{"$f":"IF(N5591=0,0,IF(X5591>=N5591,(J5591),(N5591-Y5591)))","v":169143.63449691993},{"$f":"DATEDIF(C5591,TODAY(),\"Y\")","v":0},{"$f":"DATEDIF(C5591,TODAY(),\"YM\")","v":2},{"$f":"DATEDIF(C5591,TODAY(),\"md\")+1","v":23},{"$f":"DATEDIF(C5591,TODAY(),\"d\")+1","v":84},{"$f":"IF(N5591=0,\"No\",IF(AE5591>Q5591,\"NO\",\"YES\"))","v":"YES"},"10","209","อาคารเรียนบูรณาการวิชาการ มรร.บางคล้า",null,"นายบัญชา บีซัน","เครื่องปรับอากาศชนิดติดผนัง ",null,"เครื่องปรับอากาศชนิดติดผนัง Inverter","ยี่ห้อ Daikin ขนาด 9000 บีทียู","เลขที 18/9 ม.4 ตงบึงคำพร้อย อ.ลำลูกกา จ.ปทุมธานี เลขที่ผู้เสียภาษี 0135555006062","ต้นฉบับใบกำกับภาษี","-","610118","32/2561 ลว.30 มี.ค 61","179/61",{"$f":"100/O5591","v":12.5},null," "," "," "," "," "," "," "," "," "," "," "," "," ",null," "," "," "," "," "," "," ","01","29","2371-2379"," ",null,"9/21/2018",{"$f":"CONCATENATE(AB5591,\" ปี  \",AC5591,\" เดือน  \",AD5591,\" วัน  \")","v":"0 ปี  2 เดือน  23 วัน  "},{"$f":"A5591","v":6553}]
[{"$f":"A5591+1","v":6554},"61014832","2018-08-30",61,"ประกวดราคาอิเล็กทรอนิกส์","งบแผ่นดิน","102202150232","บริษัท อินแอนด์ไอ จำกัด","เครื่องปรับอากาศชนิดติดผนัง 13 ค.",13,30600,"01.29.2380-2392",{"$f":"IF(BV5592=\"จำหน่าย\",0,SUM(J5592*K5592))","v":397800},{"$f":"IF(K5592<5000,0,M5592)","v":397800},8,{"$f":"DATE(YEAR(C5592)+O5592,MONTH(C5592),DAY(C5592))","v":"2026-08-30"},{"$f":"IF(NOT(OR(ISBLANK(P5592),ISBLANK(C5592))),P5592-C5592,\"\")","v":2922},{"$f":"SLN(N5592,,O5592)","v":49725},{"$f":"SLN(R5592,,12)","v":4143.75},{"$f":"SLN(N5592,,Q5592)","v":136.13963039014374},{"$f":"IF(N5592=0,0,IF(AE5592<=Q5592,1,0))","v":1},{"$f":"SUM(R5592*U5592/12)","v":4143.75},{"$f":"IF(N5592=0,0,IF((R5592*AB5592)+(R5592*AC5592/12)>=N5592,N5592-J5592,((R5592*AB5592)+(R5592*AC5592/12))))","v":8287.5},{"$f":"SUM(T5592*U5592)","v":136.13963039014374},{"$f":"IF(N5592=0,0,IF((DATEDIF(C5592,TODAY(),\"d\")+1)*T5592>=N5592,N5592-J5592,(DATEDIF(C5592,TODAY(),\"d\")+1)*T5592))","v":11435.728952772073},{"$f":"IF(U5592=0,0,IF(OR(DAY(C5592)=1,MONTH(C5592)<>MONTH(TODAY()),YEAR(C5592)<>YEAR(TODAY())),T5592*((DAY(DATE(YEAR(TODAY()),MONTH(TODAY())+1,1)-1))),T5592*((DAY(DATE(YEAR(TODAY()),MONTH(TODAY())+1,1)-1)-DAY(C5592)+1))))","v":4084.188911704312},{"$f":"IF(N5592=0,0,IF(X5592>=N5592,(J5592),(N5592-Y5592)))","v":386364.2710472279},{"$f":"DATEDIF(C5592,TODAY(),\"Y\")","v":0},{"$f":"DATEDIF(C5592,TODAY(),\"YM\")","v":2},{"$f":"DATEDIF(C5592,TODAY(),\"md\")+1","v":23},{"$f":"DATEDIF(C5592,TODAY(),\"d\")+1","v":84},{"$f":"IF(N5592=0,\"No\",IF(AE5592>Q5592,\"NO\",\"YES\"))","v":"YES"},"10","209","อาคารเรียนบูรณาการวิชาการ มรร.บางคล้า",null,"นายบัญชา บีซัน","เครื่องปรับอากาศชนิดติดผนัง ",null,"เครื่องปรับอากาศชนิดติดผนัง Inverter","ยี่ห้อ Daikin ขนาด 13000 บีทียู","เลขที 18/9 ม.4 ตงบึงคำพร้อย อ.ลำลูกกา จ.ปทุมธานี เลขที่ผู้เสียภาษี 0135555006062","ต้นฉบับใบกำกับภาษี","-","610118","32/2561 ลว.30 มี.ค 61","179/61",{"$f":"100/O5592","v":12.5},null," "," "," "," "," "," "," "," "," "," "," "," "," ",null," "," "," "," "," "," "," ","01","29","2380-2392"," ",null,"9/21/2018",{"$f":"CONCATENATE(AB5592,\" ปี  \",AC5592,\" เดือน  \",AD5592,\" วัน  \")","v":"0 ปี  2 เดือน  23 วัน  "},{"$f":"A5592","v":6554}]
[{"$f":"A5592+1","v":6555},"61014832","2018-08-30",61,"ประกวดราคาอิเล็กทรอนิกส์","งบแผ่นดิน","102202150232","บริษัท อินแอนด์ไอ จำกัด","เครื่องปรับอากาศชนิดติดผนัง 1 ค.",1,38790,"01.29.2393",{"$f":"IF(BV5593=\"จำหน่าย\",0,SUM(J5593*K5593))","v":38790},{"$f":"IF(K5593<5000,0,M5593)","v":38790},8,{"$f":"DATE(YEAR(C5593)+O5593,MONTH(C5593),DAY(C5593))","v":"2026-08-30"},{"$f":"IF(NOT(OR(ISBLANK(P5593),ISBLANK(C5593))),P5593-C5593,\"\")","v":2922},{"$f":"SLN(N5593,,O5593)","v":4848.75},{"$f":"SLN(R5593,,12)","v":404.0625},{"$f":"SLN(N5593,,Q5593)","v":13.275154004106776},{"$f":"IF(N5593=0,0,IF(AE5593<=Q5593,1,0))","v":1},{"$f":"SUM(R5593*U5593/12)","v":404.0625},{"$f":"IF(N5593=0,0,IF((R5593*AB5593)+(R5593*AC5593/12)>=N5593,N5593-J5593,((R5593*AB5593)+(R5593*AC5593/12))))","v":808.125},{"$f":"SUM(T5593*U5593)","v":13.275154004106776},{"$f":"IF(N5593=0,0,IF((DATEDIF(C5593,TODAY(),\"d\")+1)*T5593>=N5593,N5593-J5593,(DATEDIF(C5593,TODAY(),\"d\")+1)*T5593))","v":1115.1129363449693},{"$f":"IF(U5593=0,0,IF(OR(DAY(C5593)=1,MONTH(C5593)<>MONTH(TODAY()),YEAR(C5593)<>YEAR(TODAY())),T5593*((DAY(DATE(YEAR(TODAY()),MONTH(TODAY())+1,1)-1))),T5593*((DAY(DATE(YEAR(TODAY()),MONTH(TODAY())+1,1)-1)-DAY(C5593)+1))))","v":398.25462012320327},{"$f":"IF(N5593=0,0,IF(X5593>=N5593,(J5593),(N5593-Y5593)))","v":37674.887063655027},{"$f":"DATEDIF(C5593,TODAY(),\"Y\")","v":0},{"$f":"DATEDIF(C5593,TODAY(),\"YM\")","v":2},{"$f":"DATEDIF(C5593,TODAY(),\"md\")+1","v":23},{"$f":"DATEDIF(C5593,TODAY(),\"d\")+1","v":84},{"$f":"IF(N5593=0,\"No\",IF(AE5593>Q5593,\"NO\",\"YES\"))","v":"YES"},"10","209","อาคารเรียนบูรณาการวิชาการ มรร.บางคล้า",null,"นายบัญชา บีซัน","เครื่องปรับอากาศชนิดติดผนัง ",null,"เครื่องปรับอากาศชนิดติดผนัง Inverter","ยี่ห้อ Daikin ขนาด 18000 บีทียู","เลขที 18/9 ม.4 ตงบึงคำพร้อย อ.ลำลูกกา จ.ปทุมธานี เลขที่ผู้เสียภาษี 0135555006062","ต้นฉบับใบกำกับภาษี","-","610118","32/2561 ลว.30 มี.ค 61","179/61",{"$f":"100/O5593","v":12.5},null," "," "," "," "," "," "," "," "," "," "," "," "," ",null," "," "," "," "," "," "," ","01","29","2393"," ",null,"9/21/2018",{"$f":"CONCATENATE(AB5593,\" ปี  \",AC5593,\" เดือน  \",AD5593,\" วัน  \")","v":"0 ปี  2 เดือน  23 วัน  "},{"$f":"A5593","v":6555}]
[{"$f":"A5593+1","v":6556},"61014832","2018-08-30",61,"ประกวดราคาอิเล็กทรอนิกส์","งบแผ่นดิน","102202150232","บริษัท อินแอนด์ไอ จำกัด","เครื่องปรับอากาศชนิดติดผนัง 5 ค.",5,42480,"01.29.2394-2398",{"$f":"IF(BV5594=\"จำหน่าย\",0,SUM(J5594*K5594))","v":212400},{"$f":"IF(K5594<5000,0,M5594)","v":212400},8,{"$f":"DATE(YEAR(C5594)+O5594,MONTH(C5594),DAY(C5594))","v":"2026-08-30"},{"$f":"IF(NOT(OR(ISBLANK(P5594),ISBLANK(C5594))),P5594-C5594,\"\")","v":2922},{"$f":"SLN(N5594,,O5594)","v":26550},{"$f":"SLN(R5594,,12)","v":2212.5},{"$f":"SLN(N5594,,Q5594)","v":72.689938398357285},{"$f":"IF(N5594=0,0,IF(AE5594<=Q5594,1,0))","v":1},{"$f":"SUM(R5594*U5594/12)","v":2212.5},{"$f":"IF(N5594=0,0,IF((R5594*AB5594)+(R5594*AC5594/12)>=N5594,N5594-J5594,((R5594*AB5594)+(R5594*AC5594/12))))","v":4425},{"$f":"SUM(T5594*U5594)","v":72.689938398357285},{"$f":"IF(N5594=0,0,IF((DATEDIF(C5594,TODAY(),\"d\")+1)*T5594>=N5594,N5594-J5594,(DATEDIF(C5594,TODAY(),\"d\")+1)*T5594))","v":6105.9548254620122},{"$f":"IF(U5594=0,0,IF(OR(DAY(C5594)=1,MONTH(C5594)<>MONTH(TODAY()),YEAR(C5594)<>YEAR(TODAY())),T5594*((DAY(DATE(YEAR(TODAY()),MONTH(TODAY())+1,1)-1))),T5594*((DAY(DATE(YEAR(TODAY()),MONTH(TODAY())+1,1)-1)-DAY(C5594)+1))))","v":2180.6981519507185},{"$f":"IF(N5594=0,0,IF(X5594>=N5594,(J5594),(N5594-Y5594)))","v":206294.04517453798},{"$f":"DATEDIF(C5594,TODAY(),\"Y\")","v":0},{"$f":"DATEDIF(C5594,TODAY(),\"YM\")","v":2},{"$f":"DATEDIF(C5594,TODAY(),\"md\")+1","v":23},{"$f":"DATEDIF(C5594,TODAY(),\"d\")+1","v":84},{"$f":"IF(N5594=0,\"No\",IF(AE5594>Q5594,\"NO\",\"YES\"))","v":"YES"},"10","209","อาคารเรียนบูรณาการวิชาการ มรร.บางคล้า",null,"นายบัญชา บีซัน","เครื่องปรับอากาศชนิดติดผนัง ",null,"เครื่องปรับอากาศชนิดติดผนัง Inverter","ยี่ห้อ Daikin ขนาด 24000 บีทียู","เลขที 18/9 ม.4 ตงบึงคำพร้อย อ.ลำลูกกา จ.ปทุมธานี เลขที่ผู้เสียภาษี 0135555006062","ต้นฉบับใบกำกับภาษี","-","610118","32/2561 ลว.30 มี.ค 61","179/61",{"$f":"100/O5594","v":12.5},null," "," "," "," "," "," "," "," "," "," "," "," "," ",null," "," "," "," "," "," "," ","01","29","2394-2398"," ",null,"9/21/2018",{"$f":"CONCATENATE(AB5594,\" ปี  \",AC5594,\" เดือน  \",AD5594,\" วัน  \")","v":"0 ปี  2 เดือน  23 วัน  "},{"$f":"A5594","v":6556}]
[{"$f":"A5594+1","v":6557},"61014832","2018-08-30",61,"ประกวดราคาอิเล็กทรอนิกส์","งบแผ่นดิน","102202150232","บริษัท อินแอนด์ไอ จำกัด","เครื่องปรับอากาศชนิดแขวน 2 ค.",2,32760,"01.29.2399-2400",{"$f":"IF(BV5595=\"จำหน่าย\",0,SUM(J5595*K5595))","v":65520},{"$f":"IF(K5595<5000,0,M5595)","v":65520},8,{"$f":"DATE(YEAR(C5595)+O5595,MONTH(C5595),DAY(C5595))","v":"2026-08-30"},{"$f":"IF(NOT(OR(ISBLANK(P5595),ISBLANK(C5595))),P5595-C5595,\"\")","v":2922},{"$f":"SLN(N5595,,O5595)","v":8190},{"$f":"SLN(R5595,,12)","v":682.5},{"$f":"SLN(N5595,,Q5595)","v":22.422997946611911},{"$f":"IF(N5595=0,0,IF(AE5595<=Q5595,1,0))","v":1},{"$f":"SUM(R5595*U5595/12)","v":682.5},{"$f":"IF(N5595=0,0,IF((R5595*AB5595)+(R5595*AC5595/12)>=N5595,N5595-J5595,((R5595*AB5595)+(R5595*AC5595/12))))","v":1365},{"$f":"SUM(T5595*U5595)","v":22.422997946611911},{"$f":"IF(N5595=0,0,IF((DATEDIF(C5595,TODAY(),\"d\")+1)*T5595>=N5595,N5595-J5595,(DATEDIF(C5595,TODAY(),\"d\")+1)*T5595))","v":1883.5318275154004},{"$f":"IF(U5595=0,0,IF(OR(DAY(C5595)=1,MONTH(C5595)<>MONTH(TODAY()),YEAR(C5595)<>YEAR(TODAY())),T5595*((DAY(DATE(YEAR(TODAY()),MONTH(TODAY())+1,1)-1))),T5595*((DAY(DATE(YEAR(TODAY()),MONTH(TODAY())+1,1)-1)-DAY(C5595)+1))))","v":672.6899383983573},{"$f":"IF(N5595=0,0,IF(X5595>=N5595,(J5595),(N5595-Y5595)))","v":63636.468172484601},{"$f":"DATEDIF(C5595,TODAY(),\"Y\")","v":0},{"$f":"DATEDIF(C5595,TODAY(),\"YM\")","v":2},{"$f":"DATEDIF(C5595,TODAY(),\"md\")+1","v":23},{"$f":"DATEDIF(C5595,TODAY(),\"d\")+1","v":84},{"$f":"IF(N5595=0,\"No\",IF(AE5595>Q5595,\"NO\",\"YES\"))","v":"YES"},"10","209","อาคารเรียนบูรณาการวิชาการ มรร.บางคล้า",null,"นายบัญชา บีซัน","เครื่องปรับอากาศชนิดแขวน ",null,"เครื่องปรับอากาศชนิดแขวน Inverter","ยี่ห้อ Daikin ขนาด 13000 บีทียู","เลขที 18/9 ม.4 ตงบึงคำพร้อย อ.ลำลูกกา จ.ปทุมธานี เลขที่ผู้เสียภาษี 0135555006062","ต้นฉบับใบกำกับภาษี","-","610118","32/2561 ลว.30 มี.ค 61","179/61",{"$f":"100/O5595","v":12.5},null," "," "," "," "," "," "," "," "," "," "," "," "," ",null," "," "," "," "," "," "," ","01","29","2399-2400"," ",null,"9/21/2018",{"$f":"CONCATENATE(AB5595,\" ปี  \",AC5595,\" เดือน  \",AD5595,\" วัน  \")","v":"0 ปี  2 เดือน  23 วัน  "},{"$f":"A5595","v":6557}]
[{"$f":"A5595+1","v":6558},"6104832","2018-08-30",61,"ประกวดราคาอิเล็กทรอนิกส์","งบแผ่นดิน","102202150232","บริษัท อินแอนด์ไอ จำกัด","เครื่องปรับอากาศชนิดแขวน 7 ค.",7,41220,"01.29.2401-2407",{"$f":"IF(BV5596=\"จำหน่าย\",0,SUM(J5596*K5596))","v":288540},{"$f":"IF(K5596<5000,0,M5596)","v":288540},8,{"$f":"DATE(YEAR(C5596)+O5596,MONTH(C5596),DAY(C5596))","v":"2026-08-30"},{"$f":"IF(NOT(OR(ISBLANK(P5596),ISBLANK(C5596))),P5596-C5596,\"\")","v":2922},{"$f":"SLN(N5596,,O5596)","v":36067.5},{"$f":"SLN(R5596,,12)","v":3005.625},{"$f":"SLN(N5596,,Q5596)","v":98.747433264887064},{"$f":"IF(N5596=0,0,IF(AE5596<=Q5596,1,0))","v":1},{"$f":"SUM(R5596*U5596/12)","v":3005.625},{"$f":"IF(N5596=0,0,IF((R5596*AB5596)+(R5596*AC5596/12)>=N5596,N5596-J5596,((R5596*AB5596)+(R5596*AC5596/12))))","v":6011.25},{"$f":"SUM(T5596*U5596)","v":98.747433264887064},{"$f":"IF(N5596=0,0,IF((DATEDIF(C5596,TODAY(),\"d\")+1)*T5596>=N5596,N5596-J5596,(DATEDIF(C5596,TODAY(),\"d\")+1)*T5596))","v":8294.7843942505133},{"$f":"IF(U5596=0,0,IF(OR(DAY(C5596)=1,MONTH(C5596)<>MONTH(TODAY()),YEAR(C5596)<>YEAR(TODAY())),T5596*((DAY(DATE(YEAR(TODAY()),MONTH(TODAY())+1,1)-1))),T5596*((DAY(DATE(YEAR(TODAY()),MONTH(TODAY())+1,1)-1)-DAY(C5596)+1))))","v":2962.4229979466118},{"$f":"IF(N5596=0,0,IF(X5596>=N5596,(J5596),(N5596-Y5596)))","v":280245.21560574952},{"$f":"DATEDIF(C5596,TODAY(),\"Y\")","v":0},{"$f":"DATEDIF(C5596,TODAY(),\"YM\")","v":2},{"$f":"DATEDIF(C5596,TODAY(),\"md\")+1","v":23},{"$f":"DATEDIF(C5596,TODAY(),\"d\")+1","v":84},{"$f":"IF(N5596=0,\"No\",IF(AE5596>Q5596,\"NO\",\"YES\"))","v":"YES"},"10","209","อารบูรณาการวิชาการ มรร.บางคล้า",null,"นายบัญชา บีซัน","เครื่องปรับอากาศชนิดแขวน ",null,"เครื่องปรับอากาศชนิดแขวน  Inverter","ยี่ห้อ Daikin ขนาด 18000 บีทียู","เลขที่ 18/9 ม.ที่ 4 ต.บึงคำพร้อม องลำลูกกา จ.ปทุมธานี เลขผู้เสียภาษี 0135555006062","ต้นฉบับใบกำกับภาษี",null,"610118","32/2561 ลว. 30 มี.ค 61","179/61",{"$f":"100/O5596","v":12.5},null," "," "," "," "," "," "," "," "," "," "," "," "," ",null," "," "," "," "," "," "," ","01","29","2401-2407"," ",null,"9/23/2018",{"$f":"CONCATENATE(AB5596,\" ปี  \",AC5596,\" เดือน  \",AD5596,\" วัน  \")","v":"0 ปี  2 เดือน  23 วัน  "},{"$f":"A5596","v":6558}]
[{"$f":"A5596+1","v":6559},"6104832","2018-08-31",61,"ประกวดราคาอิเล็กทรอนิกส์","งบแผ่นดิน","102202150232","บริษัท อินแอนด์ไอ จำกัด","เครื่องปรับอากาศชนิดแขวน 7 ค.",7,45450,"01.29.2408-2414",{"$f":"IF(BV5597=\"จำหน่าย\",0,SUM(J5597*K5597))","v":318150},{"$f":"IF(K5597<5000,0,M5597)","v":318150},8,{"$f":"DATE(YEAR(C5597)+O5597,MONTH(C5597),DAY(C5597))","v":"2026-08-31"},{"$f":"IF(NOT(OR(ISBLANK(P5597),ISBLANK(C5597))),P5597-C5597,\"\")","v":2922},{"$f":"SLN(N5597,,O5597)","v":39768.75},{"$f":"SLN(R5597,,12)","v":3314.0625},{"$f":"SLN(N5597,,Q5597)","v":108.88090349075975},{"$f":"IF(N5597=0,0,IF(AE5597<=Q5597,1,0))","v":1},{"$f":"SUM(R5597*U5597/12)","v":3314.0625},{"$f":"IF(N5597=0,0,IF((R5597*AB5597)+(R5597*AC5597/12)>=N5597,N5597-J5597,((R5597*AB5597)+(R5597*AC5597/12))))","v":6628.125},{"$f":"SUM(T5597*U5597)","v":108.88090349075975},{"$f":"IF(N5597=0,0,IF((DATEDIF(C5597,TODAY(),\"d\")+1)*T5597>=N5597,N5597-J5597,(DATEDIF(C5597,TODAY(),\"d\")+1)*T5597))","v":9037.1149897330597},{"$f":"IF(U5597=0,0,IF(OR(DAY(C5597)=1,MONTH(C5597)<>MONTH(TODAY()),YEAR(C5597)<>YEAR(TODAY())),T5597*((DAY(DATE(YEAR(TODAY()),MONTH(TODAY())+1,1)-1))),T5597*((DAY(DATE(YEAR(TODAY()),MONTH(TODAY())+1,1)-1)-DAY(C5597)+1))))","v":3266.4271047227926},{"$f":"IF(N5597=0,0,IF(X5597>=N5597,(J5597),(N5597-Y5597)))","v":309112.88501026697},{"$f":"DATEDIF(C5597,TODAY(),\"Y\")","v":0},{"$f":"DATEDIF(C5597,TODAY(),\"YM\")","v":2},{"$f":"DATEDIF(C5597,TODAY(),\"md\")+1","v":22},{"$f":"DATEDIF(C5597,TODAY(),\"d\")+1","v":83},{"$f":"IF(N5597=0,\"No\",IF(AE5597>Q5597,\"NO\",\"YES\"))","v":"YES"},"10","209","อารบูรณาการวิชาการ มรร.บางคล้า",null,"นายบัญชา บีซัน","เครื่องปรับอากาศชนิดแขวน ",null,"เครื่องปรับอากาศชนิดแขวน  Inverter","ยี่ห้อ Daikin ขนาด 24000 บีทียู","เลขที่ 18/9 ม.ที่ 4 ต.บึงคำพร้อม องลำลูกกา จ.ปทุมธานี เลขผู้เสียภาษี 0135555006062","ต้นฉบับใบกำกับภาษี",null,"610118","32/2561 ลว. 30 มี.ค 61","179/61",{"$f":"100/O5597","v":12.5},null," "," "," "," "," "," "," "," "," "," "," "," "," ",null," "," "," "," "," "," "," ","01","29","2408-2414"," ",null,"9/23/2018",{"$f":"CONCATENATE(AB5597,\" ปี  \",AC5597,\" เดือน  \",AD5597,\" วัน  \")","v":"0 ปี  2 เดือน  22 วัน  "},{"$f":"A5597","v":6559}]
[{"$f":"A5597+1","v":6560},"6104832","2018-09-01",61,"ประกวดราคาอิเล็กทรอนิกส์","งบแผ่นดิน","102202150232","บริษัท อินแอนด์ไอ จำกัด","เครื่องปรับอากาศชนิดแขวน 1 ค.",1,49770,"01.29.2415",{"$f":"IF(BV5598=\"จำหน่าย\",0,SUM(J5598*K5598))","v":49770},{"$f":"IF(K5598<5000,0,M5598)","v":49770},8,{"$f":"DATE(YEAR(C5598)+O5598,MONTH(C5598),DAY(C5598))","v":"2026-09-01"},{"$f":"IF(NOT(OR(ISBLANK(P5598),ISBLANK(C5598))),P5598-C5598,\"\")","v":2922},{"$f":"SLN(N5598,,O5598)","v":6221.25},{"$f":"SLN(R5598,,12)","v":518.4375},{"$f":"SLN(N5598,,Q5598)","v":17.032854209445585},{"$f":"IF(N5598=0,0,IF(AE5598<=Q5598,1,0))","v":1},{"$f":"SUM(R5598*U5598/12)","v":518.4375},{"$f":"IF(N5598=0,0,IF((R5598*AB5598)+(R5598*AC5598/12)>=N5598,N5598-J5598,((R5598*AB5598)+(R5598*AC5598/12))))","v":1036.875},{"$f":"SUM(T5598*U5598)","v":17.032854209445585},{"$f":"IF(N5598=0,0,IF((DATEDIF(C5598,TODAY(),\"d\")+1)*T5598>=N5598,N5598-J5598,(DATEDIF(C5598,TODAY(),\"d\")+1)*T5598))","v":1396.6940451745379},{"$f":"IF(U5598=0,0,IF(OR(DAY(C5598)=1,MONTH(C5598)<>MONTH(TODAY()),YEAR(C5598)<>YEAR(TODAY())),T5598*((DAY(DATE(YEAR(TODAY()),MONTH(TODAY())+1,1)-1))),T5598*((DAY(DATE(YEAR(TODAY()),MONTH(TODAY())+1,1)-1)-DAY(C5598)+1))))","v":510.98562628336754},{"$f":"IF(N5598=0,0,IF(X5598>=N5598,(J5598),(N5598-Y5598)))","v":48373.305954825461},{"$f":"DATEDIF(C5598,TODAY(),\"Y\")","v":0},{"$f":"DATEDIF(C5598,TODAY(),\"YM\")","v":2},{"$f":"DATEDIF(C5598,TODAY(),\"md\")+1","v":21},{"$f":"DATEDIF(C5598,TODAY(),\"d\")+1","v":82},{"$f":"IF(N5598=0,\"No\",IF(AE5598>Q5598,\"NO\",\"YES\"))","v":"YES"},"10","209","อารบูรณาการวิชาการ มรร.บางคล้า",null,"นายบัญชา บีซัน","เครื่องปรับอากาศชนิดแขวน ",null,"เครื่องปรับอากาศชนิดแขวน  Inverter","ยี่ห้อ Daikin ขนาด 30000 บีทียู","เลขที่ 18/9 ม.ที่ 4 ต.บึงคำพร้อม องลำลูกกา จ.ปทุมธานี เลขผู้เสียภาษี 0135555006062","ต้นฉบับใบกำกับภาษี",null,"610118","32/2561 ลว. 30 มี.ค 61","179/61",{"$f":"100/O5598","v":12.5},null," "," "," "," "," "," "," "," "," "," "," "," "," ",null," "," "," "," "," "," "," ","01","29","2415"," ",null,"9/23/2018",{"$f":"CONCATENATE(AB5598,\" ปี  \",AC5598,\" เดือน  \",AD5598,\" วัน  \")","v":"0 ปี  2 เดือน  21 วัน  "},{"$f":"A5598","v":6560}]
[{"$f":"A5598+1","v":6561},"6104832","2018-09-02",61,"ประกวดราคาอิเล็กทรอนิกส์","งบแผ่นดิน","102202150232","บริษัท อินแอนด์ไอ จำกัด","เครื่องปรับอากาศชนิดแขวน 13 ค.",13,60210,"01.29.2416-2428",{"$f":"IF(BV5599=\"จำหน่าย\",0,SUM(J5599*K5599))","v":782730},{"$f":"IF(K5599<5000,0,M5599)","v":782730},8,{"$f":"DATE(YEAR(C5599)+O5599,MONTH(C5599),DAY(C5599))","v":"2026-09-02"},{"$f":"IF(NOT(OR(ISBLANK(P5599),ISBLANK(C5599))),P5599-C5599,\"\")","v":2922},{"$f":"SLN(N5599,,O5599)","v":97841.25},{"$f":"SLN(R5599,,12)","v":8153.4375},{"$f":"SLN(N5599,,Q5599)","v":267.87474332648873},{"$f":"IF(N5599=0,0,IF(AE5599<=Q5599,1,0))","v":1},{"$f":"SUM(R5599*U5599/12)","v":8153.4375},{"$f":"IF(N5599=0,0,IF((R5599*AB5599)+(R5599*AC5599/12)>=N5599,N5599-J5599,((R5599*AB5599)+(R5599*AC5599/12))))","v":16306.875},{"$f":"SUM(T5599*U5599)","v":267.87474332648873},{"$f":"IF(N5599=0,0,IF((DATEDIF(C5599,TODAY(),\"d\")+1)*T5599>=N5599,N5599-J5599,(DATEDIF(C5599,TODAY(),\"d\")+1)*T5599))","v":21697.854209445588},{"$f":"IF(U5599=0,0,IF(OR(DAY(C5599)=1,MONTH(C5599)<>MONTH(TODAY()),YEAR(C5599)<>YEAR(TODAY())),T5599*((DAY(DATE(YEAR(TODAY()),MONTH(TODAY())+1,1)-1))),T5599*((DAY(DATE(YEAR(TODAY()),MONTH(TODAY())+1,1)-1)-DAY(C5599)+1))))","v":8036.2422997946614},{"$f":"IF(N5599=0,0,IF(X5599>=N5599,(J5599),(N5599-Y5599)))","v":761032.14579055447},{"$f":"DATEDIF(C5599,TODAY(),\"Y\")","v":0},{"$f":"DATEDIF(C5599,TODAY(),\"YM\")","v":2},{"$f":"DATEDIF(C5599,TODAY(),\"md\")+1","v":20},{"$f":"DATEDIF(C5599,TODAY(),\"d\")+1","v":81},{"$f":"IF(N5599=0,\"No\",IF(AE5599>Q5599,\"NO\",\"YES\"))","v":"YES"},"10","209","อารบูรณาการวิชาการ มรร.บางคล้า",null,"นายบัญชา บีซัน","เครื่องปรับอากาศชนิดแขวน ",null,"เครื่องปรับอากาศชนิดแขวน  Inverter","ยี่ห้อ Daikin ขนาด 36000 บีทียู","เลขที่ 18/9 ม.ที่ 4 ต.บึงคำพร้อม องลำลูกกา จ.ปทุมธานี เลขผู้เสียภาษี 0135555006062","ต้นฉบับใบกำกับภาษี",null,"610118","32/2561 ลว. 30 มี.ค 61","179/61",{"$f":"100/O5599","v":12.5},null," "," "," "," "," "," "," "," "," "," "," "," "," ",null," "," "," "," "," "," "," ","01","29","2416-2428"," ",null,"9/23/2018",{"$f":"CONCATENATE(AB5599,\" ปี  \",AC5599,\" เดือน  \",AD5599,\" วัน  \")","v":"0 ปี  2 เดือน  20 วัน  "},{"$f":"A5599","v":6561}]
[{"$f":"A5599+1","v":6562},"6104832","2018-09-03",61,"ประกวดราคาอิเล็กทรอนิกส์","งบแผ่นดิน","102202150232","บริษัท อินแอนด์ไอ จำกัด","เครื่องปรับอากาศชนิดแขวน 58 ค.",58,70470,"01.29.2429-2486",{"$f":"IF(BV5600=\"จำหน่าย\",0,SUM(J5600*K5600))","v":4087260},{"$f":"IF(K5600<5000,0,M5600)","v":4087260},8,{"$f":"DATE(YEAR(C5600)+O5600,MONTH(C5600),DAY(C5600))","v":"2026-09-03"},{"$f":"IF(NOT(OR(ISBLANK(P5600),ISBLANK(C5600))),P5600-C5600,\"\")","v":2922},{"$f":"SLN(N5600,,O5600)","v":510907.5},{"$f":"SLN(R5600,,12)","v":42575.625},{"$f":"SLN(N5600,,Q5600)","v":1398.7885010266941},{"$f":"IF(N5600=0,0,IF(AE5600<=Q5600,1,0))","v":1},{"$f":"SUM(R5600*U5600/12)","v":42575.625},{"$f":"IF(N5600=0,0,IF((R5600*AB5600)+(R5600*AC5600/12)>=N5600,N5600-J5600,((R5600*AB5600)+(R5600*AC5600/12))))","v":85151.25},{"$f":"SUM(T5600*U5600)","v":1398.7885010266941},{"$f":"IF(N5600=0,0,IF((DATEDIF(C5600,TODAY(),\"d\")+1)*T5600>=N5600,N5600-J5600,(DATEDIF(C5600,TODAY(),\"d\")+1)*T5600))","v":111903.08008213554},{"$f":"IF(U5600=0,0,IF(OR(DAY(C5600)=1,MONTH(C5600)<>MONTH(TODAY()),YEAR(C5600)<>YEAR(TODAY())),T5600*((DAY(DATE(YEAR(TODAY()),MONTH(TODAY())+1,1)-1))),T5600*((DAY(DATE(YEAR(TODAY()),MONTH(TODAY())+1,1)-1)-DAY(C5600)+1))))","v":41963.655030800823},{"$f":"IF(N5600=0,0,IF(X5600>=N5600,(J5600),(N5600-Y5600)))","v":3975356.9199178643},{"$f":"DATEDIF(C5600,TODAY(),\"Y\")","v":0},{"$f":"DATEDIF(C5600,TODAY(),\"YM\")","v":2},{"$f":"DATEDIF(C5600,TODAY(),\"md\")+1","v":19},{"$f":"DATEDIF(C5600,TODAY(),\"d\")+1","v":80},{"$f":"IF(N5600=0,\"No\",IF(AE5600>Q5600,\"NO\",\"YES\"))","v":"YES"},"10","209","อารบูรณาการวิชาการ มรร.บางคล้า",null,"นายบัญชา บีซัน","เครื่องปรับอากาศชนิดแขวน ",null,"เครื่องปรับอากาศชนิดแขวน  Inverter","ยี่ห้อ Daikin ขนาด 42000 บีทียู","เลขที่ 18/9 ม.ที่ 4 ต.บึงคำพร้อม องลำลูกกา จ.ปทุมธานี เลขผู้เสียภาษี 0135555006062","ต้นฉบับใบกำกับภาษี",null,"610118","32/2561 ลว. 30 มี.ค 61","179/61",{"$f":"100/O5600","v":12.5},null," "," "," "," "," "," "," "," "," "," "," "," "," ",null," "," "," "," "," "," "," ","01","29","2429-2486"," ",null,"9/23/2018",{"$f":"CONCATENATE(AB5600,\" ปี  \",AC5600,\" เดือน  \",AD5600,\" วัน  \")","v":"0 ปี  2 เดือน  19 วัน  "},{"$f":"A5600","v":6562}]
[{"$f":"A5600+1","v":6563},"6104832","2018-09-04",61,"ประกวดราคาอิเล็กทรอนิกส์","งบแผ่นดิน","102202150232","บริษัท อินแอนด์ไอ จำกัด","เครื่องปรับอากาศชนิดแขวน 1 ค.",1,78570,"01.29.2487",{"$f":"IF(BV5601=\"จำหน่าย\",0,SUM(J5601*K5601))","v":78570},{"$f":"IF(K5601<5000,0,M5601)","v":78570},8,{"$f":"DATE(YEAR(C5601)+O5601,MONTH(C5601),DAY(C5601))","v":"2026-09-04"},{"$f":"IF(NOT(OR(ISBLANK(P5601),ISBLANK(C5601))),P5601-C5601,\"\")","v":2922},{"$f":"SLN(N5601,,O5601)","v":9821.25},{"$f":"SLN(R5601,,12)","v":818.4375},{"$f":"SLN(N5601,,Q5601)","v":26.88911704312115},{"$f":"IF(N5601=0,0,IF(AE5601<=Q5601,1,0))","v":1},{"$f":"SUM(R5601*U5601/12)","v":818.4375},{"$f":"IF(N5601=0,0,IF((R5601*AB5601)+(R5601*AC5601/12)>=N5601,N5601-J5601,((R5601*AB5601)+(R5601*AC5601/12))))","v":1636.875},{"$f":"SUM(T5601*U5601)","v":26.88911704312115},{"$f":"IF(N5601=0,0,IF((DATEDIF(C5601,TODAY(),\"d\")+1)*T5601>=N5601,N5601-J5601,(DATEDIF(C5601,TODAY(),\"d\")+1)*T5601))","v":2124.2402464065708},{"$f":"IF(U5601=0,0,IF(OR(DAY(C5601)=1,MONTH(C5601)<>MONTH(TODAY()),YEAR(C5601)<>YEAR(TODAY())),T5601*((DAY(DATE(YEAR(TODAY()),MONTH(TODAY())+1,1)-1))),T5601*((DAY(DATE(YEAR(TODAY()),MONTH(TODAY())+1,1)-1)-DAY(C5601)+1))))","v":806.67351129363453},{"$f":"IF(N5601=0,0,IF(X5601>=N5601,(J5601),(N5601-Y5601)))","v":76445.759753593433},{"$f":"DATEDIF(C5601,TODAY(),\"Y\")","v":0},{"$f":"DATEDIF(C5601,TODAY(),\"YM\")","v":2},{"$f":"DATEDIF(C5601,TODAY(),\"md\")+1","v":18},{"$f":"DATEDIF(C5601,TODAY(),\"d\")+1","v":79},{"$f":"IF(N5601=0,\"No\",IF(AE5601>Q5601,\"NO\",\"YES\"))","v":"YES"},"10","209","อารบูรณาการวิชาการ มรร.บางคล้า",null,"นายบัญชา บีซัน","เครื่องปรับอากาศชนิดแขวน ",null,"เครื่องปรับอากาศชนิดแขวน  Inverter","ยี่ห้อ Daikin ขนาด 48000 บีทียู","เลขที่ 18/9 ม.ที่ 4 ต.บึงคำพร้อม องลำลูกกา จ.ปทุมธานี เลขผู้เสียภาษี 0135555006062","ต้นฉบับใบกำกับภาษี",null,"610118","32/2561 ลว. 30 มี.ค 61","179/61",{"$f":"100/O5601","v":12.5},null," "," "," "," "," "," "," "," "," "," "," "," "," ",null," "," "," "," "," "," "," ","01","29","2487"," ",null,"9/23/2018",{"$f":"CONCATENATE(AB5601,\" ปี  \",AC5601,\" เดือน  \",AD5601,\" วัน  \")","v":"0 ปี  2 เดือน  18 วัน  "},{"$f":"A5601","v":6563}]
[{"$f":"A5601+1","v":6564},"6104832","2018-09-05",61,"ประกวดราคาอิเล็กทรอนิกส์","งบแผ่นดิน","102202150232","บริษัท อินแอนด์ไอ จำกัด","ระบบเครื่องปรับอากาศชนิดชิดซ่อนใต้ฝ้าต่อท่อลม 1 ชุด",1,2974320,"01.29.2488",{"$f":"IF(BV5602=\"จำหน่าย\",0,SUM(J5602*K5602))","v":2974320},{"$f":"IF(K5602<5000,0,M5602)","v":2974320},8,{"$f":"DATE(YEAR(C5602)+O5602,MONTH(C5602),DAY(C5602))","v":"2026-09-05"},{"$f":"IF(NOT(OR(ISBLANK(P5602),ISBLANK(C5602))),P5602-C5602,\"\")","v":2922},{"$f":"SLN(N5602,,O5602)","v":371790},{"$f":"SLN(R5602,,12)","v":30982.5},{"$f":"SLN(N5602,,Q5602)","v":1017.9055441478439},{"$f":"IF(N5602=0,0,IF(AE5602<=Q5602,1,0))","v":1},{"$f":"SUM(R5602*U5602/12)","v":30982.5},{"$f":"IF(N5602=0,0,IF((R5602*AB5602)+(R5602*AC5602/12)>=N5602,N5602-J5602,((R5602*AB5602)+(R5602*AC5602/12))))","v":61965},{"$f":"SUM(T5602*U5602)","v":1017.9055441478439},{"$f":"IF(N5602=0,0,IF((DATEDIF(C5602,TODAY(),\"d\")+1)*T5602>=N5602,N5602-J5602,(DATEDIF(C5602,TODAY(),\"d\")+1)*T5602))","v":79396.632443531824},{"$f":"IF(U5602=0,0,IF(OR(DAY(C5602)=1,MONTH(C5602)<>MONTH(TODAY()),YEAR(C5602)<>YEAR(TODAY())),T5602*((DAY(DATE(YEAR(TODAY()),MONTH(TODAY())+1,1)-1))),T5602*((DAY(DATE(YEAR(TODAY()),MONTH(TODAY())+1,1)-1)-DAY(C5602)+1))))","v":30537.166324435319},{"$f":"IF(N5602=0,0,IF(X5602>=N5602,(J5602),(N5602-Y5602)))","v":2894923.3675564681},{"$f":"DATEDIF(C5602,TODAY(),\"Y\")","v":0},{"$f":"DATEDIF(C5602,TODAY(),\"YM\")","v":2},{"$f":"DATEDIF(C5602,TODAY(),\"md\")+1","v":17},{"$f":"DATEDIF(C5602,TODAY(),\"d\")+1","v":78},{"$f":"IF(N5602=0,\"No\",IF(AE5602>Q5602,\"NO\",\"YES\"))","v":"YES"},"10","209","อารบูรณาการวิชาการ มรร.บางคล้า",null,"นายบัญชา บีซัน","ระบบเครื่องปรับอากาศชนิดชิดซ่อนใต้ฝ้าต่อท่อลม ",null,"ระบบเครื่องปรับอากาศชนิดชิดซ่อนใต้ฝ้าต่อท่อลม Inverter","ยี่ห้อ Daikin ขนาด 18000 บีทียู","เลขที่ 18/9 ม.ที่ 4 ต.บึงคำพร้อม องลำลูกกา จ.ปทุมธานี เลขผู้เสียภาษี 0135555006062","ต้นฉบับใบกำกับภาษี",null,"610118","32/2561 ลว. 30 มี.ค 61","179/61",{"$f":"100/O5602","v":12.5},null," "," "," "," "," "," "," "," "," "," "," "," "," ",null," "," "," "," "," "," "," ","01","29","2488"," ",null,"9/23/2018",{"$f":"CONCATENATE(AB5602,\" ปี  \",AC5602,\" เดือน  \",AD5602,\" วัน  \")","v":"0 ปี  2 เดือน  17 วัน  "},{"$f":"A5602","v":6564}]
[{"$f":"A5602+1","v":6565},"6104832","2018-09-06",61,"ประกวดราคาอิเล็กทรอนิกส์","งบแผ่นดิน","102202150232","บริษัท อินแอนด์ไอ จำกัด","ระบบเครื่องปรับอากาศชนิดชิดซ่อนใต้ฝ้าต่อท่อลม 1 ชุด",1,88740,"01.29.2489",{"$f":"IF(BV5603=\"จำหน่าย\",0,SUM(J5603*K5603))","v":88740},{"$f":"IF(K5603<5000,0,M5603)","v":88740},8,{"$f":"DATE(YEAR(C5603)+O5603,MONTH(C5603),DAY(C5603))","v":"2026-09-06"},{"$f":"IF(NOT(OR(ISBLANK(P5603),ISBLANK(C5603))),P5603-C5603,\"\")","v":2922},{"$f":"SLN(N5603,,O5603)","v":11092.5},{"$f":"SLN(R5603,,12)","v":924.375},{"$f":"SLN(N5603,,Q5603)","v":30.369609856262834},{"$f":"IF(N5603=0,0,IF(AE5603<=Q5603,1,0))","v":1},{"$f":"SUM(R5603*U5603/12)","v":924.375},{"$f":"IF(N5603=0,0,IF((R5603*AB5603)+(R5603*AC5603/12)>=N5603,N5603-J5603,((R5603*AB5603)+(R5603*AC5603/12))))","v":1848.75},{"$f":"SUM(T5603*U5603)","v":30.369609856262834},{"$f":"IF(N5603=0,0,IF((DATEDIF(C5603,TODAY(),\"d\")+1)*T5603>=N5603,N5603-J5603,(DATEDIF(C5603,TODAY(),\"d\")+1)*T5603))","v":2338.4599589322384},{"$f":"IF(U5603=0,0,IF(OR(DAY(C5603)=1,MONTH(C5603)<>MONTH(TODAY()),YEAR(C5603)<>YEAR(TODAY())),T5603*((DAY(DATE(YEAR(TODAY()),MONTH(TODAY())+1,1)-1))),T5603*((DAY(DATE(YEAR(TODAY()),MONTH(TODAY())+1,1)-1)-DAY(C5603)+1))))","v":911.08829568788497},{"$f":"IF(N5603=0,0,IF(X5603>=N5603,(J5603),(N5603-Y5603)))","v":86401.540041067768},{"$f":"DATEDIF(C5603,TODAY(),\"Y\")","v":0},{"$f":"DATEDIF(C5603,TODAY(),\"YM\")","v":2},{"$f":"DATEDIF(C5603,TODAY(),\"md\")+1","v":16},{"$f":"DATEDIF(C5603,TODAY(),\"d\")+1","v":77},{"$f":"IF(N5603=0,\"No\",IF(AE5603>Q5603,\"NO\",\"YES\"))","v":"YES"},"10","209","อารบูรณาการวิชาการ มรร.บางคล้า",null,"นายบัญชา บีซัน","ระบบเครื่องปรับอากาศชนิดชิดซ่อนใต้ฝ้าต่อท่อลม ",null,"ระบบเครื่องปรับอากาศชนิดชิดซ่อนใต้ฝ้าต่อท่อลม Inverter","ยี่ห้อ Daikin ขนาด 24000 บีทียู","เลขที่ 18/9 ม.ที่ 4 ต.บึงคำพร้อม องลำลูกกา จ.ปทุมธานี เลขผู้เสียภาษี 0135555006062","ต้นฉบับใบกำกับภาษี",null,"610118","32/2561 ลว. 30 มี.ค 61","179/61",{"$f":"100/O5603","v":12.5},null," "," "," "," "," "," "," "," "," "," "," "," "," ",null," "," "," "," "," "," "," ","01","29","2489"," ",null,"9/23/2018",{"$f":"CONCATENATE(AB5603,\" ปี  \",AC5603,\" เดือน  \",AD5603,\" วัน  \")","v":"0 ปี  2 เดือน  16 วัน  "},{"$f":"A5603","v":6565}]
[{"$f":"A5603+1","v":6566},"6104832","2018-09-07",61,"ประกวดราคาอิเล็กทรอนิกส์","งบแผ่นดิน","102202150232","บริษัท อินแอนด์ไอ จำกัด","ระบบเครื่องปรับอากาศชนิดชิดซ่อนใต้ฝ้าต่อท่อลม 1 ชุด",1,375120,"01.29.2490",{"$f":"IF(BV5604=\"จำหน่าย\",0,SUM(J5604*K5604))","v":375120},{"$f":"IF(K5604<5000,0,M5604)","v":375120},8,{"$f":"DATE(YEAR(C5604)+O5604,MONTH(C5604),DAY(C5604))","v":"2026-09-07"},{"$f":"IF(NOT(OR(ISBLANK(P5604),ISBLANK(C5604))),P5604-C5604,\"\")","v":2922},{"$f":"SLN(N5604,,O5604)","v":46890},{"$f":"SLN(R5604,,12)","v":3907.5},{"$f":"SLN(N5604,,Q5604)","v":128.37782340862424},{"$f":"IF(N5604=0,0,IF(AE5604<=Q5604,1,0))","v":1},{"$f":"SUM(R5604*U5604/12)","v":3907.5},{"$f":"IF(N5604=0,0,IF((R5604*AB5604)+(R5604*AC5604/12)>=N5604,N5604-J5604,((R5604*AB5604)+(R5604*AC5604/12))))","v":7815},{"$f":"SUM(T5604*U5604)","v":128.37782340862424},{"$f":"IF(N5604=0,0,IF((DATEDIF(C5604,TODAY(),\"d\")+1)*T5604>=N5604,N5604-J5604,(DATEDIF(C5604,TODAY(),\"d\")+1)*T5604))","v":9756.7145790554423},{"$f":"IF(U5604=0,0,IF(OR(DAY(C5604)=1,MONTH(C5604)<>MONTH(TODAY()),YEAR(C5604)<>YEAR(TODAY())),T5604*((DAY(DATE(YEAR(TODAY()),MONTH(TODAY())+1,1)-1))),T5604*((DAY(DATE(YEAR(TODAY()),MONTH(TODAY())+1,1)-1)-DAY(C5604)+1))))","v":3851.3347022587272},{"$f":"IF(N5604=0,0,IF(X5604>=N5604,(J5604),(N5604-Y5604)))","v":365363.28542094456},{"$f":"DATEDIF(C5604,TODAY(),\"Y\")","v":0},{"$f":"DATEDIF(C5604,TODAY(),\"YM\")","v":2},{"$f":"DATEDIF(C5604,TODAY(),\"md\")+1","v":15},{"$f":"DATEDIF(C5604,TODAY(),\"d\")+1","v":76},{"$f":"IF(N5604=0,\"No\",IF(AE5604>Q5604,\"NO\",\"YES\"))","v":"YES"},"10","209","อารบูรณาการวิชาการ มรร.บางคล้า",null,"นายบัญชา บีซัน","ระบบเครื่องปรับอากาศชนิดชิดซ่อนใต้ฝ้าต่อท่อลม ",null,"ระบบเครื่องปรับอากาศชนิดชิดซ่อนใต้ฝ้าต่อท่อลม Inverter","ยี่ห้อ Daikin ขนาด 48000 บีทียู","เลขที่ 18/9 ม.ที่ 4 ต.บึงคำพร้อม องลำลูกกา จ.ปทุมธานี เลขผู้เสียภาษี 0135555006062","ต้นฉบับใบกำกับภาษี",null,"610118","32/2561 ลว. 30 มี.ค 61","179/61",{"$f":"100/O5604","v":12.5},null," "," "," "," "," "," "," "," "," "," "," "," "," ",null," "," "," "," "," "," "," ","01","29","2490"," ",null,"9/23/2018",{"$f":"CONCATENATE(AB5604,\" ปี  \",AC5604,\" เดือน  \",AD5604,\" วัน  \")","v":"0 ปี  2 เดือน  15 วัน  "},{"$f":"A5604","v":6566}]
[{"$f":"A5604+1","v":6567},"6104832","2018-09-08",61,"ประกวดราคาอิเล็กทรอนิกส์","งบแผ่นดิน","102202150232","บริษัท อินแอนด์ไอ จำกัด","ระบบเครื่องปรับอากาศชนิดซ่อนใต้ฝ้าต่อท่อลมแรงดันสูง 1 ชุด",1,1712250,"01.29.2491",{"$f":"IF(BV5605=\"จำหน่าย\",0,SUM(J5605*K5605))","v":1712250},{"$f":"IF(K5605<5000,0,M5605)","v":1712250},8,{"$f":"DATE(YEAR(C5605)+O5605,MONTH(C5605),DAY(C5605))","v":"2026-09-08"},{"$f":"IF(NOT(OR(ISBLANK(P5605),ISBLANK(C5605))),P5605-C5605,\"\")","v":2922},{"$f":"SLN(N5605,,O5605)","v":214031.25},{"$f":"SLN(R5605,,12)","v":17835.9375},{"$f":"SLN(N5605,,Q5605)","v":585.98562628336754},{"$f":"IF(N5605=0,0,IF(AE5605<=Q5605,1,0))","v":1},{"$f":"SUM(R5605*U5605/12)","v":17835.9375},{"$f":"IF(N5605=0,0,IF((R5605*AB5605)+(R5605*AC5605/12)>=N5605,N5605-J5605,((R5605*AB5605)+(R5605*AC5605/12))))","v":35671.875},{"$f":"SUM(T5605*U5605)","v":585.98562628336754},{"$f":"IF(N5605=0,0,IF((DATEDIF(C5605,TODAY(),\"d\")+1)*T5605>=N5605,N5605-J5605,(DATEDIF(C5605,TODAY(),\"d\")+1)*T5605))","v":43948.921971252566},{"$f":"IF(U5605=0,0,IF(OR(DAY(C5605)=1,MONTH(C5605)<>MONTH(TODAY()),YEAR(C5605)<>YEAR(TODAY())),T5605*((DAY(DATE(YEAR(TODAY()),MONTH(TODAY())+1,1)-1))),T5605*((DAY(DATE(YEAR(TODAY()),MONTH(TODAY())+1,1)-1)-DAY(C5605)+1))))","v":17579.568788501027},{"$f":"IF(N5605=0,0,IF(X5605>=N5605,(J5605),(N5605-Y5605)))","v":1668301.0780287473},{"$f":"DATEDIF(C5605,TODAY(),\"Y\")","v":0},{"$f":"DATEDIF(C5605,TODAY(),\"YM\")","v":2},{"$f":"DATEDIF(C5605,TODAY(),\"md\")+1","v":14},{"$f":"DATEDIF(C5605,TODAY(),\"d\")+1","v":75},{"$f":"IF(N5605=0,\"No\",IF(AE5605>Q5605,\"NO\",\"YES\"))","v":"YES"},"10","209","อารบูรณาการวิชาการ มรร.บางคล้า",null,"นายบัญชา บีซัน","ระบบเครื่องปรับอากาศชนิดซ่อนใต้ฝ้าต่อท่อลมแรงดันสูง ",null,"ระบบเครื่องปรับอากาศชนิดซ่อนใต้ฝ้าต่อท่อลมแรงดันสูง Inverter","ยี่ห้อ Daikin ขนาด 300000 บีทียู","เลขที่ 18/9 ม.ที่ 4 ต.บึงคำพร้อม องลำลูกกา จ.ปทุมธานี เลขผู้เสียภาษี 0135555006062","ต้นฉบับใบกำกับภาษี",null,"610118","32/2561 ลว. 30 มี.ค 61","179/61",{"$f":"100/O5605","v":12.5},null," "," "," "," "," "," "," "," "," "," "," "," "," ",null," "," "," "," "," "," "," ","01","29","2491"," ",null,"9/23/2018",{"$f":"CONCATENATE(AB5605,\" ปี  \",AC5605,\" เดือน  \",AD5605,\" วัน  \")","v":"0 ปี  2 เดือน  14 วัน  "},{"$f":"A5605","v":6567}]
[{"$f":"A5605+1","v":6568},"6104832","2018-09-09",61,"ประกวดราคาอิเล็กทรอนิกส์","งบแผ่นดิน","102202150232","บริษัท อินแอนด์ไอ จำกัด","เครื่องปรับอากาศชนิดตู้ตั้งพื้น 5 ค.",5,2043000,"01.29.2492-2496",{"$f":"IF(BV5606=\"จำหน่าย\",0,SUM(J5606*K5606))","v":10215000},{"$f":"IF(K5606<5000,0,M5606)","v":10215000},8,{"$f":"DATE(YEAR(C5606)+O5606,MONTH(C5606),DAY(C5606))","v":"2026-09-09"},{"$f":"IF(NOT(OR(ISBLANK(P5606),ISBLANK(C5606))),P5606-C5606,\"\")","v":2922},{"$f":"SLN(N5606,,O5606)","v":1276875},{"$f":"SLN(R5606,,12)","v":106406.25},{"$f":"SLN(N5606,,Q5606)","v":3495.893223819302},{"$f":"IF(N5606=0,0,IF(AE5606<=Q5606,1,0))","v":1},{"$f":"SUM(R5606*U5606/12)","v":106406.25},{"$f":"IF(N5606=0,0,IF((R5606*AB5606)+(R5606*AC5606/12)>=N5606,N5606-J5606,((R5606*AB5606)+(R5606*AC5606/12))))","v":212812.5},{"$f":"SUM(T5606*U5606)","v":3495.893223819302},{"$f":"IF(N5606=0,0,IF((DATEDIF(C5606,TODAY(),\"d\")+1)*T5606>=N5606,N5606-J5606,(DATEDIF(C5606,TODAY(),\"d\")+1)*T5606))","v":258696.09856262835},{"$f":"IF(U5606=0,0,IF(OR(DAY(C5606)=1,MONTH(C5606)<>MONTH(TODAY()),YEAR(C5606)<>YEAR(TODAY())),T5606*((DAY(DATE(YEAR(TODAY()),MONTH(TODAY())+1,1)-1))),T5606*((DAY(DATE(YEAR(TODAY()),MONTH(TODAY())+1,1)-1)-DAY(C5606)+1))))","v":104876.79671457906},{"$f":"IF(N5606=0,0,IF(X5606>=N5606,(J5606),(N5606-Y5606)))","v":9956303.901437372},{"$f":"DATEDIF(C5606,TODAY(),\"Y\")","v":0},{"$f":"DATEDIF(C5606,TODAY(),\"YM\")","v":2},{"$f":"DATEDIF(C5606,TODAY(),\"md\")+1","v":13},{"$f":"DATEDIF(C5606,TODAY(),\"d\")+1","v":74},{"$f":"IF(N5606=0,\"No\",IF(AE5606>Q5606,\"NO\",\"YES\"))","v":"YES"},"10","209","อารบูรณาการวิชาการ มรร.บางคล้า",null,"นายบัญชา บีซัน","เครื่องปรับอากาศชนิดตู้ตั้งพื้น ",null,"เครื่องปรับอากาศชนิดตู้ตั้งพื้น Inverter","ยี่ห้อ Daikin ขนาด 160000 บีทียู","เลขที่ 18/9 ม.ที่ 4 ต.บึงคำพร้อม องลำลูกกา จ.ปทุมธานี เลขผู้เสียภาษี 0135555006062","ต้นฉบับใบกำกับภาษี",null,"610118","32/2561 ลว. 30 มี.ค 61","179/61",{"$f":"100/O5606","v":12.5},null," "," "," "," "," "," "," "," "," "," "," "," "," ",null," "," "," "," "," "," "," ","01","29","2492-2496"," ",null,"9/23/2018",{"$f":"CONCATENATE(AB5606,\" ปี  \",AC5606,\" เดือน  \",AD5606,\" วัน  \")","v":"0 ปี  2 เดือน  13 วัน  "},{"$f":"A5606","v":6568}]
[{"$f":"A5606+1","v":6569},"61014770","2018-05-22",61,"เฉพาะเจาะจง","รายได้","602101020631","ร้าน ม่านทิพย์ ","ม่านปรับแสง PVC 1 ชุด",1,4990,"01.19.1196",{"$f":"IF(BV5607=\"จำหน่าย\",0,SUM(J5607*K5607))","v":4990},{"$f":"IF(K5607<5000,0,M5607)","v":0},8,{"$f":"DATE(YEAR(C5607)+O5607,MONTH(C5607),DAY(C5607))","v":"2026-05-22"},{"$f":"IF(NOT(OR(ISBLANK(P5607),ISBLANK(C5607))),P5607-C5607,\"\")","v":2922},{"$f":"SLN(N5607,,O5607)","v":0},{"$f":"SLN(R5607,,12)","v":0},{"$f":"SLN(N5607,,Q5607)","v":0},{"$f":"IF(N5607=0,0,IF(AE5607<=Q5607,1,0))","v":0},{"$f":"SUM(R5607*U5607/12)","v":0},{"$f":"IF(N5607=0,0,IF((R5607*AB5607)+(R5607*AC5607/12)>=N5607,N5607-J5607,((R5607*AB5607)+(R5607*AC5607/12))))","v":0},{"$f":"SUM(T5607*U5607)","v":0},{"$f":"IF(N5607=0,0,IF((DATEDIF(C5607,TODAY(),\"d\")+1)*T5607>=N5607,N5607-J5607,(DATEDIF(C5607,TODAY(),\"d\")+1)*T5607))","v":0},{"$f":"IF(U5607=0,0,IF(OR(DAY(C5607)=1,MONTH(C5607)<>MONTH(TODAY()),YEAR(C5607)<>YEAR(TODAY())),T5607*((DAY(DATE(YEAR(TODAY()),MONTH(TODAY())+1,1)-1))),T5607*((DAY(DATE(YEAR(TODAY()),MONTH(TODAY())+1,1)-1)-DAY(C5607)+1))))","v":0},{"$f":"IF(N5607=0,0,IF(X5607>=N5607,(J5607),(N5607-Y5607)))","v":0},{"$f":"DATEDIF(C5607,TODAY(),\"Y\")","v":0},{"$f":"DATEDIF(C5607,TODAY(),\"YM\")","v":5},{"$f":"DATEDIF(C5607,TODAY(),\"md\")+1","v":31},{"$f":"DATEDIF(C5607,TODAY(),\"d\")+1","v":184},{"$f":"IF(N5607=0,\"No\",IF(AE5607>Q5607,\"NO\",\"YES\"))","v":"No"},"11","164","คณะวิทยาศาสตร์และเทคโนโลยี",null,"นางสาวกัญชญานิศ ศรีนุกุล","ม่านปรับแสง PVC ",null,"ม่านปรับแสง PVC  ชนิดใบทึบแสง","ขนาด 290x205 ซม.","เลขที่ 81/1 ถ.วรรณยิ่ง ต.หน้าเมือง องเมือง จ.ฉะเชิงเทรา เลขผู้เสียภาษี 3249900167921","ใบส่งของ","001","045",null,"195/61",{"$f":"100/O5607","v":12.5},null," "," "," "," "," "," "," "," "," "," "," "," "," ",null," "," "," "," "," "," "," ","01","19","1196"," ",null,"9/23/2018",{"$f":"CONCATENATE(AB5607,\" ปี  \",AC5607,\" เดือน  \",AD5607,\" วัน  \")","v":"0 ปี  5 เดือน  31 วัน  "},{"$f":"A5607","v":6569}]
[{"$f":"A5607+1","v":6570},"61014770","2018-05-23",61,"เฉพาะเจาะจง","รายได้","602101020631","ร้าน ม่านทิพย์ ","ม่านปรับแสง PVC 1 ชุด",1,5160,"01.19.1197",{"$f":"IF(BV5608=\"จำหน่าย\",0,SUM(J5608*K5608))","v":5160},{"$f":"IF(K5608<5000,0,M5608)","v":5160},8,{"$f":"DATE(YEAR(C5608)+O5608,MONTH(C5608),DAY(C5608))","v":"2026-05-23"},{"$f":"IF(NOT(OR(ISBLANK(P5608),ISBLANK(C5608))),P5608-C5608,\"\")","v":2922},{"$f":"SLN(N5608,,O5608)","v":645},{"$f":"SLN(R5608,,12)","v":53.75},{"$f":"SLN(N5608,,Q5608)","v":1.7659137577002053},{"$f":"IF(N5608=0,0,IF(AE5608<=Q5608,1,0))","v":1},{"$f":"SUM(R5608*U5608/12)","v":53.75},{"$f":"IF(N5608=0,0,IF((R5608*AB5608)+(R5608*AC5608/12)>=N5608,N5608-J5608,((R5608*AB5608)+(R5608*AC5608/12))))","v":268.75},{"$f":"SUM(T5608*U5608)","v":1.7659137577002053},{"$f":"IF(N5608=0,0,IF((DATEDIF(C5608,TODAY(),\"d\")+1)*T5608>=N5608,N5608-J5608,(DATEDIF(C5608,TODAY(),\"d\")+1)*T5608))","v":323.16221765913758},{"$f":"IF(U5608=0,0,IF(OR(DAY(C5608)=1,MONTH(C5608)<>MONTH(TODAY()),YEAR(C5608)<>YEAR(TODAY())),T5608*((DAY(DATE(YEAR(TODAY()),MONTH(TODAY())+1,1)-1))),T5608*((DAY(DATE(YEAR(TODAY()),MONTH(TODAY())+1,1)-1)-DAY(C5608)+1))))","v":52.977412731006162},{"$f":"IF(N5608=0,0,IF(X5608>=N5608,(J5608),(N5608-Y5608)))","v":4836.8377823408628},{"$f":"DATEDIF(C5608,TODAY(),\"Y\")","v":0},{"$f":"DATEDIF(C5608,TODAY(),\"YM\")","v":5},{"$f":"DATEDIF(C5608,TODAY(),\"md\")+1","v":30},{"$f":"DATEDIF(C5608,TODAY(),\"d\")+1","v":183},{"$f":"IF(N5608=0,\"No\",IF(AE5608>Q5608,\"NO\",\"YES\"))","v":"YES"},"11","164","คณะวิทยาศาสตร์และเทคโนโลยี",null,"นางสาวกัญชญานิศ ศรีนุกุล","ม่านปรับแสง PVC ",null,"ม่านปรับแสง PVC  ชนิดใบทึบแสง","ขนาด 290x212 ซม.","เลขที่ 81/1 ถ.วรรณยิ่ง ต.หน้าเมือง องเมือง จ.ฉะเชิงเทรา เลขผู้เสียภาษี 3249900167921","ใบส่งของ","001","045",null,"195/61",{"$f":"100/O5608","v":12.5},null," "," "," "," "," "," "," "," "," "," "," "," "," ",null," "," "," "," "," "," "," ","01","19","1197"," ",null,"9/23/2018",{"$f":"CONCATENATE(AB5608,\" ปี  \",AC5608,\" เดือน  \",AD5608,\" วัน  \")","v":"0 ปี  5 เดือน  30 วัน  "},{"$f":"A5608","v":6570}]
[{"$f":"A5608+1","v":6571},"61014770","2018-05-24",61,"เฉพาะเจาะจง","รายได้","602101020631","ร้าน ม่านทิพย์ ","ม่านปรับแสง PVC 1 ชุด",1,2130,"01.19.1198",{"$f":"IF(BV5609=\"จำหน่าย\",0,SUM(J5609*K5609))","v":2130},{"$f":"IF(K5609<5000,0,M5609)","v":0},8,{"$f":"DATE(YEAR(C5609)+O5609,MONTH(C5609),DAY(C5609))","v":"2026-05-24"},{"$f":"IF(NOT(OR(ISBLANK(P5609),ISBLANK(C5609))),P5609-C5609,\"\")","v":2922},{"$f":"SLN(N5609,,O5609)","v":0},{"$f":"SLN(R5609,,12)","v":0},{"$f":"SLN(N5609,,Q5609)","v":0},{"$f":"IF(N5609=0,0,IF(AE5609<=Q5609,1,0))","v":0},{"$f":"SUM(R5609*U5609/12)","v":0},{"$f":"IF(N5609=0,0,IF((R5609*AB5609)+(R5609*AC5609/12)>=N5609,N5609-J5609,((R5609*AB5609)+(R5609*AC5609/12))))","v":0},{"$f":"SUM(T5609*U5609)","v":0},{"$f":"IF(N5609=0,0,IF((DATEDIF(C5609,TODAY(),\"d\")+1)*T5609>=N5609,N5609-J5609,(DATEDIF(C5609,TODAY(),\"d\")+1)*T5609))","v":0},{"$f":"IF(U5609=0,0,IF(OR(DAY(C5609)=1,MONTH(C5609)<>MONTH(TODAY()),YEAR(C5609)<>YEAR(TODAY())),T5609*((DAY(DATE(YEAR(TODAY()),MONTH(TODAY())+1,1)-1))),T5609*((DAY(DATE(YEAR(TODAY()),MONTH(TODAY())+1,1)-1)-DAY(C5609)+1))))","v":0},{"$f":"IF(N5609=0,0,IF(X5609>=N5609,(J5609),(N5609-Y5609)))","v":0},{"$f":"DATEDIF(C5609,TODAY(),\"Y\")","v":0},{"$f":"DATEDIF(C5609,TODAY(),\"YM\")","v":5},{"$f":"DATEDIF(C5609,TODAY(),\"md\")+1","v":29},{"$f":"DATEDIF(C5609,TODAY(),\"d\")+1","v":182},{"$f":"IF(N5609=0,\"No\",IF(AE5609>Q5609,\"NO\",\"YES\"))","v":"No"},"11","164","คณะวิทยาศาสตร์และเทคโนโลยี",null,"นางสาวกัญชญานิศ ศรีนุกุล","ม่านปรับแสง PVC ",null,"ม่านปรับแสง PVC  ชนิดใบทึบแสง","ขนาด 165x210 ซม.","เลขที่ 81/1 ถ.วรรณยิ่ง ต.หน้าเมือง องเมือง จ.ฉะเชิงเทรา เลขผู้เสียภาษี 3249900167921","ใบส่งของ","001","045",null,"195/61",{"$f":"100/O5609","v":12.5},null," "," "," "," "," "," "," "," "," "," "," "," "," ",null," "," "," "," "," "," "," ","01","19","1198"," ",null,"9/23/2018",{"$f":"CONCATENATE(AB5609,\" ปี  \",AC5609,\" เดือน  \",AD5609,\" วัน  \")","v":"0 ปี  5 เดือน  29 วัน  "},{"$f":"A5609","v":6571}]
[{"$f":"A5609+1","v":6572},"61014770","2018-05-25",61,"เฉพาะเจาะจง","รายได้","602101020631","ร้าน ม่านทิพย์ ","ม่านปรับแสง PVC 1 ชุด",1,2910,"01.19.1199",{"$f":"IF(BV5610=\"จำหน่าย\",0,SUM(J5610*K5610))","v":2910},{"$f":"IF(K5610<5000,0,M5610)","v":0},8,{"$f":"DATE(YEAR(C5610)+O5610,MONTH(C5610),DAY(C5610))","v":"2026-05-25"},{"$f":"IF(NOT(OR(ISBLANK(P5610),ISBLANK(C5610))),P5610-C5610,\"\")","v":2922},{"$f":"SLN(N5610,,O5610)","v":0},{"$f":"SLN(R5610,,12)","v":0},{"$f":"SLN(N5610,,Q5610)","v":0},{"$f":"IF(N5610=0,0,IF(AE5610<=Q5610,1,0))","v":0},{"$f":"SUM(R5610*U5610/12)","v":0},{"$f":"IF(N5610=0,0,IF((R5610*AB5610)+(R5610*AC5610/12)>=N5610,N5610-J5610,((R5610*AB5610)+(R5610*AC5610/12))))","v":0},{"$f":"SUM(T5610*U5610)","v":0},{"$f":"IF(N5610=0,0,IF((DATEDIF(C5610,TODAY(),\"d\")+1)*T5610>=N5610,N5610-J5610,(DATEDIF(C5610,TODAY(),\"d\")+1)*T5610))","v":0},{"$f":"IF(U5610=0,0,IF(OR(DAY(C5610)=1,MONTH(C5610)<>MONTH(TODAY()),YEAR(C5610)<>YEAR(TODAY())),T5610*((DAY(DATE(YEAR(TODAY()),MONTH(TODAY())+1,1)-1))),T5610*((DAY(DATE(YEAR(TODAY()),MONTH(TODAY())+1,1)-1)-DAY(C5610)+1))))","v":0},{"$f":"IF(N5610=0,0,IF(X5610>=N5610,(J5610),(N5610-Y5610)))","v":0},{"$f":"DATEDIF(C5610,TODAY(),\"Y\")","v":0},{"$f":"DATEDIF(C5610,TODAY(),\"YM\")","v":5},{"$f":"DATEDIF(C5610,TODAY(),\"md\")+1","v":28},{"$f":"DATEDIF(C5610,TODAY(),\"d\")+1","v":181},{"$f":"IF(N5610=0,\"No\",IF(AE5610>Q5610,\"NO\",\"YES\"))","v":"No"},"11","164","คณะวิทยาศาสตร์และเทคโนโลยี",null,"นางสาวกัญชญานิศ ศรีนุกุล","ม่านปรับแสง PVC ",null,"ม่านปรับแสง PVC  ชนิดใบทึบแสง","ขนาด 165x210 ซม.","เลขที่ 81/1 ถ.วรรณยิ่ง ต.หน้าเมือง องเมือง จ.ฉะเชิงเทรา เลขผู้เสียภาษี 3249900167921","ใบส่งของ","001","045",null,"195/61",{"$f":"100/O5610","v":12.5},null," "," "," "," "," "," "," "," "," "," "," "," "," ",null," "," "," "," "," "," "," ","01","19","1199"," ",null,"9/23/2018",{"$f":"CONCATENATE(AB5610,\" ปี  \",AC5610,\" เดือน  \",AD5610,\" วัน  \")","v":"0 ปี  5 เดือน  28 วัน  "},{"$f":"A5610","v":6572}]
[{"$f":"A5610+1","v":6573},"61014770","2018-05-26",61,"เฉพาะเจาะจง","รายได้","602101020631","ร้าน ม่านทิพย์ ","ม่านปรับแสง PVC 1 ชุด",1,1760,"01.19.1200",{"$f":"IF(BV5611=\"จำหน่าย\",0,SUM(J5611*K5611))","v":1760},{"$f":"IF(K5611<5000,0,M5611)","v":0},8,{"$f":"DATE(YEAR(C5611)+O5611,MONTH(C5611),DAY(C5611))","v":"2026-05-26"},{"$f":"IF(NOT(OR(ISBLANK(P5611),ISBLANK(C5611))),P5611-C5611,\"\")","v":2922},{"$f":"SLN(N5611,,O5611)","v":0},{"$f":"SLN(R5611,,12)","v":0},{"$f":"SLN(N5611,,Q5611)","v":0},{"$f":"IF(N5611=0,0,IF(AE5611<=Q5611,1,0))","v":0},{"$f":"SUM(R5611*U5611/12)","v":0},{"$f":"IF(N5611=0,0,IF((R5611*AB5611)+(R5611*AC5611/12)>=N5611,N5611-J5611,((R5611*AB5611)+(R5611*AC5611/12))))","v":0},{"$f":"SUM(T5611*U5611)","v":0},{"$f":"IF(N5611=0,0,IF((DATEDIF(C5611,TODAY(),\"d\")+1)*T5611>=N5611,N5611-J5611,(DATEDIF(C5611,TODAY(),\"d\")+1)*T5611))","v":0},{"$f":"IF(U5611=0,0,IF(OR(DAY(C5611)=1,MONTH(C5611)<>MONTH(TODAY()),YEAR(C5611)<>YEAR(TODAY())),T5611*((DAY(DATE(YEAR(TODAY()),MONTH(TODAY())+1,1)-1))),T5611*((DAY(DATE(YEAR(TODAY()),MONTH(TODAY())+1,1)-1)-DAY(C5611)+1))))","v":0},{"$f":"IF(N5611=0,0,IF(X5611>=N5611,(J5611),(N5611-Y5611)))","v":0},{"$f":"DATEDIF(C5611,TODAY(),\"Y\")","v":0},{"$f":"DATEDIF(C5611,TODAY(),\"YM\")","v":5},{"$f":"DATEDIF(C5611,TODAY(),\"md\")+1","v":27},{"$f":"DATEDIF(C5611,TODAY(),\"d\")+1","v":180},{"$f":"IF(N5611=0,\"No\",IF(AE5611>Q5611,\"NO\",\"YES\"))","v":"No"},"11","164","คณะวิทยาศาสตร์และเทคโนโลยี",null,"นางสาวกัญชญานิศ ศรีนุกุล","ม่านปรับแสง PVC ",null,"ม่านปรับแสง PVC  ชนิดใบทึบแสง","ขนาด 68x210 ซม.","เลขที่ 81/1 ถ.วรรณยิ่ง ต.หน้าเมือง องเมือง จ.ฉะเชิงเทรา เลขผู้เสียภาษี 3249900167921","ใบส่งของ","001","045",null,"195/61",{"$f":"100/O5611","v":12.5},null," "," "," "," "," "," "," "," "," "," "," "," "," ",null," "," "," "," "," "," "," ","01","19","1200"," ",null,"9/23/2018",{"$f":"CONCATENATE(AB5611,\" ปี  \",AC5611,\" เดือน  \",AD5611,\" วัน  \")","v":"0 ปี  5 เดือน  27 วัน  "},{"$f":"A5611","v":6573}]
[{"$f":"A5611+1","v":6574},"61014770","2018-05-27",61,"เฉพาะเจาะจง","รายได้","602101020631","ร้าน ม่านทิพย์ ","ม่านปรับแสง PVC 2 ชุด",2,1760,"01.19.1201-1202",{"$f":"IF(BV5612=\"จำหน่าย\",0,SUM(J5612*K5612))","v":3520},{"$f":"IF(K5612<5000,0,M5612)","v":0},8,{"$f":"DATE(YEAR(C5612)+O5612,MONTH(C5612),DAY(C5612))","v":"2026-05-27"},{"$f":"IF(NOT(OR(ISBLANK(P5612),ISBLANK(C5612))),P5612-C5612,\"\")","v":2922},{"$f":"SLN(N5612,,O5612)","v":0},{"$f":"SLN(R5612,,12)","v":0},{"$f":"SLN(N5612,,Q5612)","v":0},{"$f":"IF(N5612=0,0,IF(AE5612<=Q5612,1,0))","v":0},{"$f":"SUM(R5612*U5612/12)","v":0},{"$f":"IF(N5612=0,0,IF((R5612*AB5612)+(R5612*AC5612/12)>=N5612,N5612-J5612,((R5612*AB5612)+(R5612*AC5612/12))))","v":0},{"$f":"SUM(T5612*U5612)","v":0},{"$f":"IF(N5612=0,0,IF((DATEDIF(C5612,TODAY(),\"d\")+1)*T5612>=N5612,N5612-J5612,(DATEDIF(C5612,TODAY(),\"d\")+1)*T5612))","v":0},{"$f":"IF(U5612=0,0,IF(OR(DAY(C5612)=1,MONTH(C5612)<>MONTH(TODAY()),YEAR(C5612)<>YEAR(TODAY())),T5612*((DAY(DATE(YEAR(TODAY()),MONTH(TODAY())+1,1)-1))),T5612*((DAY(DATE(YEAR(TODAY()),MONTH(TODAY())+1,1)-1)-DAY(C5612)+1))))","v":0},{"$f":"IF(N5612=0,0,IF(X5612>=N5612,(J5612),(N5612-Y5612)))","v":0},{"$f":"DATEDIF(C5612,TODAY(),\"Y\")","v":0},{"$f":"DATEDIF(C5612,TODAY(),\"YM\")","v":5},{"$f":"DATEDIF(C5612,TODAY(),\"md\")+1","v":26},{"$f":"DATEDIF(C5612,TODAY(),\"d\")+1","v":179},{"$f":"IF(N5612=0,\"No\",IF(AE5612>Q5612,\"NO\",\"YES\"))","v":"No"},"11","164","คณะวิทยาศาสตร์และเทคโนโลยี",null,"นางสาวกัญชญานิศ ศรีนุกุล","ม่านปรับแสง PVC ",null,"ม่านปรับแสง PVC  ชนิดใบทึบแสง","ขนาด 50x210 ซม.","เลขที่ 81/1 ถ.วรรณยิ่ง ต.หน้าเมือง องเมือง จ.ฉะเชิงเทรา เลขผู้เสียภาษี 3249900167921","ใบส่งของ","001","045",null,"195/61",{"$f":"100/O5612","v":12.5},null," "," "," "," "," "," "," "," "," "," "," "," "," ",null," "," "," "," "," "," "," ","01","19","1201-1202"," ",null,"9/23/2018",{"$f":"CONCATENATE(AB5612,\" ปี  \",AC5612,\" เดือน  \",AD5612,\" วัน  \")","v":"0 ปี  5 เดือน  26 วัน  "},{"$f":"A5612","v":6574}]
[{"$f":"A5612+1","v":6575},"61014770","2018-05-28",61,"เฉพาะเจาะจง","รายได้","602101020631","ร้าน ม่านทิพย์ ","ม่านปรับแสง PVC 1 ชุด",1,1760,"01.19.1203",{"$f":"IF(BV5613=\"จำหน่าย\",0,SUM(J5613*K5613))","v":1760},{"$f":"IF(K5613<5000,0,M5613)","v":0},8,{"$f":"DATE(YEAR(C5613)+O5613,MONTH(C5613),DAY(C5613))","v":"2026-05-28"},{"$f":"IF(NOT(OR(ISBLANK(P5613),ISBLANK(C5613))),P5613-C5613,\"\")","v":2922},{"$f":"SLN(N5613,,O5613)","v":0},{"$f":"SLN(R5613,,12)","v":0},{"$f":"SLN(N5613,,Q5613)","v":0},{"$f":"IF(N5613=0,0,IF(AE5613<=Q5613,1,0))","v":0},{"$f":"SUM(R5613*U5613/12)","v":0},{"$f":"IF(N5613=0,0,IF((R5613*AB5613)+(R5613*AC5613/12)>=N5613,N5613-J5613,((R5613*AB5613)+(R5613*AC5613/12))))","v":0},{"$f":"SUM(T5613*U5613)","v":0},{"$f":"IF(N5613=0,0,IF((DATEDIF(C5613,TODAY(),\"d\")+1)*T5613>=N5613,N5613-J5613,(DATEDIF(C5613,TODAY(),\"d\")+1)*T5613))","v":0},{"$f":"IF(U5613=0,0,IF(OR(DAY(C5613)=1,MONTH(C5613)<>MONTH(TODAY()),YEAR(C5613)<>YEAR(TODAY())),T5613*((DAY(DATE(YEAR(TODAY()),MONTH(TODAY())+1,1)-1))),T5613*((DAY(DATE(YEAR(TODAY()),MONTH(TODAY())+1,1)-1)-DAY(C5613)+1))))","v":0},{"$f":"IF(N5613=0,0,IF(X5613>=N5613,(J5613),(N5613-Y5613)))","v":0},{"$f":"DATEDIF(C5613,TODAY(),\"Y\")","v":0},{"$f":"DATEDIF(C5613,TODAY(),\"YM\")","v":5},{"$f":"DATEDIF(C5613,TODAY(),\"md\")+1","v":25},{"$f":"DATEDIF(C5613,TODAY(),\"d\")+1","v":178},{"$f":"IF(N5613=0,\"No\",IF(AE5613>Q5613,\"NO\",\"YES\"))","v":"No"},"11","164","คณะวิทยาศาสตร์และเทคโนโลยี",null,"นางสาวกัญชญานิศ ศรีนุกุล","ม่านปรับแสง PVC ",null,"ม่านปรับแสง PVC  ชนิดใบทึบแสง","ขนาด 75x210 ซม.","เลขที่ 81/1 ถ.วรรณยิ่ง ต.หน้าเมือง องเมือง จ.ฉะเชิงเทรา เลขผู้เสียภาษี 3249900167921","ใบส่งของ","001","045",null,"195/61",{"$f":"100/O5613","v":12.5},null," "," "," "," "," "," "," "," "," "," "," "," "," ",null," "," "," "," "," "," "," ","01","19","1203"," ",null,"9/23/2018",{"$f":"CONCATENATE(AB5613,\" ปี  \",AC5613,\" เดือน  \",AD5613,\" วัน  \")","v":"0 ปี  5 เดือน  25 วัน  "},{"$f":"A5613","v":6575}]
[{"$f":"A5613+1","v":6576},"61014770","2018-05-29",61,"เฉพาะเจาะจง","รายได้","602101020631","ร้าน ม่านทิพย์ ","ม่านปรับแสง PVC 1 ชุด",1,2500,"01.19.1204",{"$f":"IF(BV5614=\"จำหน่าย\",0,SUM(J5614*K5614))","v":2500},{"$f":"IF(K5614<5000,0,M5614)","v":0},8,{"$f":"DATE(YEAR(C5614)+O5614,MONTH(C5614),DAY(C5614))","v":"2026-05-29"},{"$f":"IF(NOT(OR(ISBLANK(P5614),ISBLANK(C5614))),P5614-C5614,\"\")","v":2922},{"$f":"SLN(N5614,,O5614)","v":0},{"$f":"SLN(R5614,,12)","v":0},{"$f":"SLN(N5614,,Q5614)","v":0},{"$f":"IF(N5614=0,0,IF(AE5614<=Q5614,1,0))","v":0},{"$f":"SUM(R5614*U5614/12)","v":0},{"$f":"IF(N5614=0,0,IF((R5614*AB5614)+(R5614*AC5614/12)>=N5614,N5614-J5614,((R5614*AB5614)+(R5614*AC5614/12))))","v":0},{"$f":"SUM(T5614*U5614)","v":0},{"$f":"IF(N5614=0,0,IF((DATEDIF(C5614,TODAY(),\"d\")+1)*T5614>=N5614,N5614-J5614,(DATEDIF(C5614,TODAY(),\"d\")+1)*T5614))","v":0},{"$f":"IF(U5614=0,0,IF(OR(DAY(C5614)=1,MONTH(C5614)<>MONTH(TODAY()),YEAR(C5614)<>YEAR(TODAY())),T5614*((DAY(DATE(YEAR(TODAY()),MONTH(TODAY())+1,1)-1))),T5614*((DAY(DATE(YEAR(TODAY()),MONTH(TODAY())+1,1)-1)-DAY(C5614)+1))))","v":0},{"$f":"IF(N5614=0,0,IF(X5614>=N5614,(J5614),(N5614-Y5614)))","v":0},{"$f":"DATEDIF(C5614,TODAY(),\"Y\")","v":0},{"$f":"DATEDIF(C5614,TODAY(),\"YM\")","v":5},{"$f":"DATEDIF(C5614,TODAY(),\"md\")+1","v":24},{"$f":"DATEDIF(C5614,TODAY(),\"d\")+1","v":177},{"$f":"IF(N5614=0,\"No\",IF(AE5614>Q5614,\"NO\",\"YES\"))","v":"No"},"11","164","คณะวิทยาศาสตร์และเทคโนโลยี",null,"นางสาวกัญชญานิศ ศรีนุกุล","ม่านปรับแสง PVC ",null,"ม่านปรับแสง PVC  ชนิดใบทึบแสง","ขนาด 165x210 ซม.","เลขที่ 81/1 ถ.วรรณยิ่ง ต.หน้าเมือง องเมือง จ.ฉะเชิงเทรา เลขผู้เสียภาษี 3249900167921","ใบส่งของ","001","045",null,"195/61",{"$f":"100/O5614","v":12.5},null," "," "," "," "," "," "," "," "," "," "," "," "," ",null," "," "," "," "," "," "," ","01","19","1204"," ",null,"9/23/2018",{"$f":"CONCATENATE(AB5614,\" ปี  \",AC5614,\" เดือน  \",AD5614,\" วัน  \")","v":"0 ปี  5 เดือน  24 วัน  "},{"$f":"A5614","v":6576}]
[{"$f":"A5614+1","v":6577},"61014770","2018-05-30",61,"เฉพาะเจาะจง","รายได้","602101020631","ร้าน ม่านทิพย์ ","ม่านปรับแสง PVC 1 ชุด",1,1520,"01.19.1205",{"$f":"IF(BV5615=\"จำหน่าย\",0,SUM(J5615*K5615))","v":1520},{"$f":"IF(K5615<5000,0,M5615)","v":0},8,{"$f":"DATE(YEAR(C5615)+O5615,MONTH(C5615),DAY(C5615))","v":"2026-05-30"},{"$f":"IF(NOT(OR(ISBLANK(P5615),ISBLANK(C5615))),P5615-C5615,\"\")","v":2922},{"$f":"SLN(N5615,,O5615)","v":0},{"$f":"SLN(R5615,,12)","v":0},{"$f":"SLN(N5615,,Q5615)","v":0},{"$f":"IF(N5615=0,0,IF(AE5615<=Q5615,1,0))","v":0},{"$f":"SUM(R5615*U5615/12)","v":0},{"$f":"IF(N5615=0,0,IF((R5615*AB5615)+(R5615*AC5615/12)>=N5615,N5615-J5615,((R5615*AB5615)+(R5615*AC5615/12))))","v":0},{"$f":"SUM(T5615*U5615)","v":0},{"$f":"IF(N5615=0,0,IF((DATEDIF(C5615,TODAY(),\"d\")+1)*T5615>=N5615,N5615-J5615,(DATEDIF(C5615,TODAY(),\"d\")+1)*T5615))","v":0},{"$f":"IF(U5615=0,0,IF(OR(DAY(C5615)=1,MONTH(C5615)<>MONTH(TODAY()),YEAR(C5615)<>YEAR(TODAY())),T5615*((DAY(DATE(YEAR(TODAY()),MONTH(TODAY())+1,1)-1))),T5615*((DAY(DATE(YEAR(TODAY()),MONTH(TODAY())+1,1)-1)-DAY(C5615)+1))))","v":0},{"$f":"IF(N5615=0,0,IF(X5615>=N5615,(J5615),(N5615-Y5615)))","v":0},{"$f":"DATEDIF(C5615,TODAY(),\"Y\")","v":0},{"$f":"DATEDIF(C5615,TODAY(),\"YM\")","v":5},{"$f":"DATEDIF(C5615,TODAY(),\"md\")+1","v":23},{"$f":"DATEDIF(C5615,TODAY(),\"d\")+1","v":176},{"$f":"IF(N5615=0,\"No\",IF(AE5615>Q5615,\"NO\",\"YES\"))","v":"No"},"11","164","คณะวิทยาศาสตร์และเทคโนโลยี",null,"นางสาวกัญชญานิศ ศรีนุกุล","ม่านปรับแสง PVC ",null,"ม่านปรับแสง PVC  ชนิดใบทึบแสง","ขนาด 68x210 ซม.","เลขที่ 81/1 ถ.วรรณยิ่ง ต.หน้าเมือง องเมือง จ.ฉะเชิงเทรา เลขผู้เสียภาษี 3249900167921","ใบส่งของ","001","045",null,"195/61",{"$f":"100/O5615","v":12.5},null," "," "," "," "," "," "," "," "," "," "," "," "," ",null," "," "," "," "," "," "," ","01","19","1205"," ",null,"9/23/2018",{"$f":"CONCATENATE(AB5615,\" ปี  \",AC5615,\" เดือน  \",AD5615,\" วัน  \")","v":"0 ปี  5 เดือน  23 วัน  "},{"$f":"A5615","v":6577}]
[{"$f":"A5615+1","v":6578},"61014770","2018-05-31",61,"เฉพาะเจาะจง","รายได้","602101020631","ร้าน ม่านทิพย์ ","ม่านปรับแสง PVC 2 ชุด",2,1520,"01.19.1206-1207",{"$f":"IF(BV5616=\"จำหน่าย\",0,SUM(J5616*K5616))","v":3040},{"$f":"IF(K5616<5000,0,M5616)","v":0},8,{"$f":"DATE(YEAR(C5616)+O5616,MONTH(C5616),DAY(C5616))","v":"2026-05-31"},{"$f":"IF(NOT(OR(ISBLANK(P5616),ISBLANK(C5616))),P5616-C5616,\"\")","v":2922},{"$f":"SLN(N5616,,O5616)","v":0},{"$f":"SLN(R5616,,12)","v":0},{"$f":"SLN(N5616,,Q5616)","v":0},{"$f":"IF(N5616=0,0,IF(AE5616<=Q5616,1,0))","v":0},{"$f":"SUM(R5616*U5616/12)","v":0},{"$f":"IF(N5616=0,0,IF((R5616*AB5616)+(R5616*AC5616/12)>=N5616,N5616-J5616,((R5616*AB5616)+(R5616*AC5616/12))))","v":0},{"$f":"SUM(T5616*U5616)","v":0},{"$f":"IF(N5616=0,0,IF((DATEDIF(C5616,TODAY(),\"d\")+1)*T5616>=N5616,N5616-J5616,(DATEDIF(C5616,TODAY(),\"d\")+1)*T5616))","v":0},{"$f":"IF(U5616=0,0,IF(OR(DAY(C5616)=1,MONTH(C5616)<>MONTH(TODAY()),YEAR(C5616)<>YEAR(TODAY())),T5616*((DAY(DATE(YEAR(TODAY()),MONTH(TODAY())+1,1)-1))),T5616*((DAY(DATE(YEAR(TODAY()),MONTH(TODAY())+1,1)-1)-DAY(C5616)+1))))","v":0},{"$f":"IF(N5616=0,0,IF(X5616>=N5616,(J5616),(N5616-Y5616)))","v":0},{"$f":"DATEDIF(C5616,TODAY(),\"Y\")","v":0},{"$f":"DATEDIF(C5616,TODAY(),\"YM\")","v":5},{"$f":"DATEDIF(C5616,TODAY(),\"md\")+1","v":22},{"$f":"DATEDIF(C5616,TODAY(),\"d\")+1","v":175},{"$f":"IF(N5616=0,\"No\",IF(AE5616>Q5616,\"NO\",\"YES\"))","v":"No"},"11","164","คณะวิทยาศาสตร์และเทคโนโลยี",null,"นางสาวกัญชญานิศ ศรีนุกุล","ม่านปรับแสง PVC ",null,"ม่านปรับแสง PVC  ชนิดใบทึบแสง","ขนาด 50x210 ซม.","เลขที่ 81/1 ถ.วรรณยิ่ง ต.หน้าเมือง องเมือง จ.ฉะเชิงเทรา เลขผู้เสียภาษี 3249900167921","ใบส่งของ","001","045",null,"195/61",{"$f":"100/O5616","v":12.5},null," "," "," "," "," "," "," "," "," "," "," "," "," ",null," "," "," "," "," "," "," ","01","19","1206-1207"," ",null,"9/23/2018",{"$f":"CONCATENATE(AB5616,\" ปี  \",AC5616,\" เดือน  \",AD5616,\" วัน  \")","v":"0 ปี  5 เดือน  22 วัน  "},{"$f":"A5616","v":6578}]
[{"$f":"A5616+1","v":6579},"61014770","2018-06-01",61,"เฉพาะเจาะจง","รายได้","602101020631","ร้าน ม่านทิพย์ ","ม่านปรับแสง PVC 2 ชุด",1,1520,"01.19.1208",{"$f":"IF(BV5617=\"จำหน่าย\",0,SUM(J5617*K5617))","v":1520},{"$f":"IF(K5617<5000,0,M5617)","v":0},8,{"$f":"DATE(YEAR(C5617)+O5617,MONTH(C5617),DAY(C5617))","v":"2026-06-01"},{"$f":"IF(NOT(OR(ISBLANK(P5617),ISBLANK(C5617))),P5617-C5617,\"\")","v":2922},{"$f":"SLN(N5617,,O5617)","v":0},{"$f":"SLN(R5617,,12)","v":0},{"$f":"SLN(N5617,,Q5617)","v":0},{"$f":"IF(N5617=0,0,IF(AE5617<=Q5617,1,0))","v":0},{"$f":"SUM(R5617*U5617/12)","v":0},{"$f":"IF(N5617=0,0,IF((R5617*AB5617)+(R5617*AC5617/12)>=N5617,N5617-J5617,((R5617*AB5617)+(R5617*AC5617/12))))","v":0},{"$f":"SUM(T5617*U5617)","v":0},{"$f":"IF(N5617=0,0,IF((DATEDIF(C5617,TODAY(),\"d\")+1)*T5617>=N5617,N5617-J5617,(DATEDIF(C5617,TODAY(),\"d\")+1)*T5617))","v":0},{"$f":"IF(U5617=0,0,IF(OR(DAY(C5617)=1,MONTH(C5617)<>MONTH(TODAY()),YEAR(C5617)<>YEAR(TODAY())),T5617*((DAY(DATE(YEAR(TODAY()),MONTH(TODAY())+1,1)-1))),T5617*((DAY(DATE(YEAR(TODAY()),MONTH(TODAY())+1,1)-1)-DAY(C5617)+1))))","v":0},{"$f":"IF(N5617=0,0,IF(X5617>=N5617,(J5617),(N5617-Y5617)))","v":0},{"$f":"DATEDIF(C5617,TODAY(),\"Y\")","v":0},{"$f":"DATEDIF(C5617,TODAY(),\"YM\")","v":5},{"$f":"DATEDIF(C5617,TODAY(),\"md\")+1","v":21},{"$f":"DATEDIF(C5617,TODAY(),\"d\")+1","v":174},{"$f":"IF(N5617=0,\"No\",IF(AE5617>Q5617,\"NO\",\"YES\"))","v":"No"},"11","164","คณะวิทยาศาสตร์และเทคโนโลยี",null,"นางสาวกัญชญานิศ ศรีนุกุล","ม่านปรับแสง PVC ",null,"ม่านปรับแสง PVC  ชนิดใบทึบแสง","ขนาด 75x210 ซม.","เลขที่ 81/1 ถ.วรรณยิ่ง ต.หน้าเมือง องเมือง จ.ฉะเชิงเทรา เลขผู้เสียภาษี 3249900167921","ใบส่งของ","001","045",null,"195/61",{"$f":"100/O5617","v":12.5},null," "," "," "," "," "," "," "," "," "," "," "," "," ",null," "," "," "," "," "," "," ","01","19","1208"," ",null,"9/23/2018",{"$f":"CONCATENATE(AB5617,\" ปี  \",AC5617,\" เดือน  \",AD5617,\" วัน  \")","v":"0 ปี  5 เดือน  21 วัน  "},{"$f":"A5617","v":6579}]
[{"$f":"A5617+1","v":6580},"61014801","2018-06-02",61,"เฉพาะเจาะจง","รายได้","202101011031","ร้านไอที เซอร์วิส แอนด์ คอม ชอป","เครื่องสแกนเนอร์ 1 ค.",1,17900,"01.65.180",{"$f":"IF(BV5618=\"จำหน่าย\",0,SUM(J5618*K5618))","v":17900},{"$f":"IF(K5618<5000,0,M5618)","v":17900},3,{"$f":"DATE(YEAR(C5618)+O5618,MONTH(C5618),DAY(C5618))","v":"2021-06-02"},{"$f":"IF(NOT(OR(ISBLANK(P5618),ISBLANK(C5618))),P5618-C5618,\"\")","v":1096},{"$f":"SLN(N5618,,O5618)","v":5966.666666666667},{"$f":"SLN(R5618,,12)","v":497.22222222222223},{"$f":"SLN(N5618,,Q5618)","v":16.332116788321169},{"$f":"IF(N5618=0,0,IF(AE5618<=Q5618,1,0))","v":1},{"$f":"SUM(R5618*U5618/12)","v":497.22222222222223},{"$f":"IF(N5618=0,0,IF((R5618*AB5618)+(R5618*AC5618/12)>=N5618,N5618-J5618,((R5618*AB5618)+(R5618*AC5618/12))))","v":2486.1111111111113},{"$f":"SUM(T5618*U5618)","v":16.332116788321169},{"$f":"IF(N5618=0,0,IF((DATEDIF(C5618,TODAY(),\"d\")+1)*T5618>=N5618,N5618-J5618,(DATEDIF(C5618,TODAY(),\"d\")+1)*T5618))","v":2825.4562043795622},{"$f":"IF(U5618=0,0,IF(OR(DAY(C5618)=1,MONTH(C5618)<>MONTH(TODAY()),YEAR(C5618)<>YEAR(TODAY())),T5618*((DAY(DATE(YEAR(TODAY()),MONTH(TODAY())+1,1)-1))),T5618*((DAY(DATE(YEAR(TODAY()),MONTH(TODAY())+1,1)-1)-DAY(C5618)+1))))","v":489.96350364963507},{"$f":"IF(N5618=0,0,IF(X5618>=N5618,(J5618),(N5618-Y5618)))","v":15074.543795620437},{"$f":"DATEDIF(C5618,TODAY(),\"Y\")","v":0},{"$f":"DATEDIF(C5618,TODAY(),\"YM\")","v":5},{"$f":"DATEDIF(C5618,TODAY(),\"md\")+1","v":20},{"$f":"DATEDIF(C5618,TODAY(),\"d\")+1","v":173},{"$f":"IF(N5618=0,\"No\",IF(AE5618>Q5618,\"NO\",\"YES\"))","v":"YES"},"7/2","1","คณะวิทยาศาสตร์และเทคโนโลยี",null,"นายสมพงศ์ ฆ้องหลวง","เครื่องสแกนเนอร์ ",null,"เครื่องสแกนเนอร์ ","ยี่ห้อ Hp รุ่น Scanjet po o3000s3","เลขที่ 131/43-44 ถ.ชุมพล ต.หน้าเมือง อ.เมือง จ.ฉะเชิงเทรา เลขผู้เสียภาษี 3249900001659","ใบส่งสินค้า/ใบแจ้งหนี้","-","so-610392",null,"194/61",{"$f":"100/O5618","v":33.333333333333336},null," "," "," "," "," "," "," "," "," "," "," "," "," ",null," "," "," "," "," "," "," ","01","65","180"," ",null,"9/23/2018",{"$f":"CONCATENATE(AB5618,\" ปี  \",AC5618,\" เดือน  \",AD5618,\" วัน  \")","v":"0 ปี  5 เดือน  20 วัน  "},{"$f":"A5618","v":6580}]
[{"$f":"A5618+1","v":6581},"6101487","2018-09-07",61,"เฉพาะเจาะจง","รายได้","B02202011331","นางสาวเปมิกา ปรีดานนท์","เครื่องวิชวลไลเซอร์ 1 ค.",1,16500,"06.39.117",{"$f":"IF(BV5619=\"จำหน่าย\",0,SUM(J5619*K5619))","v":16500},{"$f":"IF(K5619<5000,0,M5619)","v":16500},3,{"$f":"DATE(YEAR(C5619)+O5619,MONTH(C5619),DAY(C5619))","v":"2021-09-07"},{"$f":"IF(NOT(OR(ISBLANK(P5619),ISBLANK(C5619))),P5619-C5619,\"\")","v":1096},{"$f":"SLN(N5619,,O5619)","v":5500},{"$f":"SLN(R5619,,12)","v":458.33333333333331},{"$f":"SLN(N5619,,Q5619)","v":15.054744525547445},{"$f":"IF(N5619=0,0,IF(AE5619<=Q5619,1,0))","v":1},{"$f":"SUM(R5619*U5619/12)","v":458.33333333333331},{"$f":"IF(N5619=0,0,IF((R5619*AB5619)+(R5619*AC5619/12)>=N5619,N5619-J5619,((R5619*AB5619)+(R5619*AC5619/12))))","v":916.66666666666663},{"$f":"SUM(T5619*U5619)","v":15.054744525547445},{"$f":"IF(N5619=0,0,IF((DATEDIF(C5619,TODAY(),\"d\")+1)*T5619>=N5619,N5619-J5619,(DATEDIF(C5619,TODAY(),\"d\")+1)*T5619))","v":1144.1605839416059},{"$f":"IF(U5619=0,0,IF(OR(DAY(C5619)=1,MONTH(C5619)<>MONTH(TODAY()),YEAR(C5619)<>YEAR(TODAY())),T5619*((DAY(DATE(YEAR(TODAY()),MONTH(TODAY())+1,1)-1))),T5619*((DAY(DATE(YEAR(TODAY()),MONTH(TODAY())+1,1)-1)-DAY(C5619)+1))))","v":451.64233576642334},{"$f":"IF(N5619=0,0,IF(X5619>=N5619,(J5619),(N5619-Y5619)))","v":15355.839416058394},{"$f":"DATEDIF(C5619,TODAY(),\"Y\")","v":0},{"$f":"DATEDIF(C5619,TODAY(),\"YM\")","v":2},{"$f":"DATEDIF(C5619,TODAY(),\"md\")+1","v":15},{"$f":"DATEDIF(C5619,TODAY(),\"d\")+1","v":76},{"$f":"IF(N5619=0,\"No\",IF(AE5619>Q5619,\"NO\",\"YES\"))","v":"YES"},"7","183","คณะครุศาสตร์",null,"นายดรัณภพ เพียรจัด","เครื่องวิชวลไลเซอร์ ",null,"เครื่องวิชวลไลเซอร์ ",null,"เลขที่ 62/2 ถ.พระยาศรีสุนทร ต.หน้าเมือง อ.เมือง จ.ฉะเชิงเทรา เลขบัตรประจำตัวประชาชน 1249900452859","บิลเงินสด","4","22","-","193/61",{"$f":"100/O5619","v":33.333333333333336},null," "," "," "," "," "," "," "," "," "," "," "," "," ",null," "," "," "," "," "," "," ","06","39","117"," ",null,"9/23/2018",{"$f":"CONCATENATE(AB5619,\" ปี  \",AC5619,\" เดือน  \",AD5619,\" วัน  \")","v":"0 ปี  2 เดือน  15 วัน  "},{"$f":"A5619","v":6581}]
[{"$f":"A5619+1","v":6582},"6101487","2018-09-07",61,"เฉพาะเจาะจง","รายได้","B02202011331","นางสาวเปมิกา ปรีดานนท์","เครื่องคอมพิวเตอร์แบบพกพา 1 ค.",1,21000,"01.53.5855",{"$f":"IF(BV5620=\"จำหน่าย\",0,SUM(J5620*K5620))","v":21000},{"$f":"IF(K5620<5000,0,M5620)","v":21000},5,{"$f":"DATE(YEAR(C5620)+O5620,MONTH(C5620),DAY(C5620))","v":"2023-09-07"},{"$f":"IF(NOT(OR(ISBLANK(P5620),ISBLANK(C5620))),P5620-C5620,\"\")","v":1826},{"$f":"SLN(N5620,,O5620)","v":4200},{"$f":"SLN(R5620,,12)","v":350},{"$f":"SLN(N5620,,Q5620)","v":11.500547645125959},{"$f":"IF(N5620=0,0,IF(AE5620<=Q5620,1,0))","v":1},{"$f":"SUM(R5620*U5620/12)","v":350},{"$f":"IF(N5620=0,0,IF((R5620*AB5620)+(R5620*AC5620/12)>=N5620,N5620-J5620,((R5620*AB5620)+(R5620*AC5620/12))))","v":700},{"$f":"SUM(T5620*U5620)","v":11.500547645125959},{"$f":"IF(N5620=0,0,IF((DATEDIF(C5620,TODAY(),\"d\")+1)*T5620>=N5620,N5620-J5620,(DATEDIF(C5620,TODAY(),\"d\")+1)*T5620))","v":874.04162102957287},{"$f":"IF(U5620=0,0,IF(OR(DAY(C5620)=1,MONTH(C5620)<>MONTH(TODAY()),YEAR(C5620)<>YEAR(TODAY())),T5620*((DAY(DATE(YEAR(TODAY()),MONTH(TODAY())+1,1)-1))),T5620*((DAY(DATE(YEAR(TODAY()),MONTH(TODAY())+1,1)-1)-DAY(C5620)+1))))","v":345.01642935377879},{"$f":"IF(N5620=0,0,IF(X5620>=N5620,(J5620),(N5620-Y5620)))","v":20125.958378970427},{"$f":"DATEDIF(C5620,TODAY(),\"Y\")","v":0},{"$f":"DATEDIF(C5620,TODAY(),\"YM\")","v":2},{"$f":"DATEDIF(C5620,TODAY(),\"md\")+1","v":15},{"$f":"DATEDIF(C5620,TODAY(),\"d\")+1","v":76},{"$f":"IF(N5620=0,\"No\",IF(AE5620>Q5620,\"NO\",\"YES\"))","v":"YES"},"10","126","คณะครุศาสตร์",null,"นายดรัณภพ เพียรจัด","เครื่องคอมพิวเตอร์แบบพกพา ",null,"เครื่องคอมพิวเตอร์แบบพกพา ","ยี่ห้อ Asus x542uf-gq279t","เลขที่ 62/2 ถ.พระยาศรีสุนทร ต.หน้าเมือง อ.เมือง จ.ฉะเชิงเทรา เลขบัตรประจำตัวประชาชน 1249900452859","บิลเงินสด","4","22","-","193/61",{"$f":"100/O5620","v":20},null," "," "," "," "," "," "," "," "," "," "," "," "," ",null," "," "," "," "," "," "," ","01","53","5855"," ",null,"9/23/2018",{"$f":"CONCATENATE(AB5620,\" ปี  \",AC5620,\" เดือน  \",AD5620,\" วัน  \")","v":"0 ปี  2 เดือน  15 วัน  "},{"$f":"A5620","v":6582}]
[{"$f":"A5620+1","v":6583},"6101487","2018-09-07",61,"เฉพาะเจาะจง","รายได้","B02202011331","นางสาวเปมิกา ปรีดานนท์","เครื่องแสกน 2 ค.",2,2800,"01.65.178-179",{"$f":"IF(BV5621=\"จำหน่าย\",0,SUM(J5621*K5621))","v":5600},{"$f":"IF(K5621<5000,0,M5621)","v":0},3,{"$f":"DATE(YEAR(C5621)+O5621,MONTH(C5621),DAY(C5621))","v":"2021-09-07"},{"$f":"IF(NOT(OR(ISBLANK(P5621),ISBLANK(C5621))),P5621-C5621,\"\")","v":1096},{"$f":"SLN(N5621,,O5621)","v":0},{"$f":"SLN(R5621,,12)","v":0},{"$f":"SLN(N5621,,Q5621)","v":0},{"$f":"IF(N5621=0,0,IF(AE5621<=Q5621,1,0))","v":0},{"$f":"SUM(R5621*U5621/12)","v":0},{"$f":"IF(N5621=0,0,IF((R5621*AB5621)+(R5621*AC5621/12)>=N5621,N5621-J5621,((R5621*AB5621)+(R5621*AC5621/12))))","v":0},{"$f":"SUM(T5621*U5621)","v":0},{"$f":"IF(N5621=0,0,IF((DATEDIF(C5621,TODAY(),\"d\")+1)*T5621>=N5621,N5621-J5621,(DATEDIF(C5621,TODAY(),\"d\")+1)*T5621))","v":0},{"$f":"IF(U5621=0,0,IF(OR(DAY(C5621)=1,MONTH(C5621)<>MONTH(TODAY()),YEAR(C5621)<>YEAR(TODAY())),T5621*((DAY(DATE(YEAR(TODAY()),MONTH(TODAY())+1,1)-1))),T5621*((DAY(DATE(YEAR(TODAY()),MONTH(TODAY())+1,1)-1)-DAY(C5621)+1))))","v":0},{"$f":"IF(N5621=0,0,IF(X5621>=N5621,(J5621),(N5621-Y5621)))","v":0},{"$f":"DATEDIF(C5621,TODAY(),\"Y\")","v":0},{"$f":"DATEDIF(C5621,TODAY(),\"YM\")","v":2},{"$f":"DATEDIF(C5621,TODAY(),\"md\")+1","v":15},{"$f":"DATEDIF(C5621,TODAY(),\"d\")+1","v":76},{"$f":"IF(N5621=0,\"No\",IF(AE5621>Q5621,\"NO\",\"YES\"))","v":"No"},"10","126","คณะครุศาสตร์",null,"นายดรัณภพ เพียรจัด","เครื่องแสกน ",null,"เครื่องแสกน ","ยี่ห้อ Canon รุ่น lide 120","เลขที่ 62/2 ถ.พระยาศรีสุนทร ต.หน้าเมือง อ.เมือง จ.ฉะเชิงเทรา เลขบัตรประจำตัวประชาชน 1249900452859","บิลเงินสด","4","22","-","193/61",{"$f":"100/O5621","v":33.333333333333336},null," "," "," "," "," "," "," "," "," "," "," "," "," ",null," "," "," "," "," "," "," ","01","65","178-179"," ",null,"9/23/2018",{"$f":"CONCATENATE(AB5621,\" ปี  \",AC5621,\" เดือน  \",AD5621,\" วัน  \")","v":"0 ปี  2 เดือน  15 วัน  "},{"$f":"A5621","v":6583}]
[{"$f":"A5621+1","v":6584},"6101487","2018-09-07",61,"เฉพาะเจาะจง","รายได้","B02202011331","นางสาวเปมิกา ปรีดานนท์","เครื่องคอมพิวเตอร์ All in one 2 ค.",2,19450,"01.53.5856-5857",{"$f":"IF(BV5622=\"จำหน่าย\",0,SUM(J5622*K5622))","v":38900},{"$f":"IF(K5622<5000,0,M5622)","v":38900},5,{"$f":"DATE(YEAR(C5622)+O5622,MONTH(C5622),DAY(C5622))","v":"2023-09-07"},{"$f":"IF(NOT(OR(ISBLANK(P5622),ISBLANK(C5622))),P5622-C5622,\"\")","v":1826},{"$f":"SLN(N5622,,O5622)","v":7780},{"$f":"SLN(R5622,,12)","v":648.33333333333337},{"$f":"SLN(N5622,,Q5622)","v":21.303395399780943},{"$f":"IF(N5622=0,0,IF(AE5622<=Q5622,1,0))","v":1},{"$f":"SUM(R5622*U5622/12)","v":648.33333333333337},{"$f":"IF(N5622=0,0,IF((R5622*AB5622)+(R5622*AC5622/12)>=N5622,N5622-J5622,((R5622*AB5622)+(R5622*AC5622/12))))","v":1296.6666666666667},{"$f":"SUM(T5622*U5622)","v":21.303395399780943},{"$f":"IF(N5622=0,0,IF((DATEDIF(C5622,TODAY(),\"d\")+1)*T5622>=N5622,N5622-J5622,(DATEDIF(C5622,TODAY(),\"d\")+1)*T5622))","v":1619.0580503833517},{"$f":"IF(U5622=0,0,IF(OR(DAY(C5622)=1,MONTH(C5622)<>MONTH(TODAY()),YEAR(C5622)<>YEAR(TODAY())),T5622*((DAY(DATE(YEAR(TODAY()),MONTH(TODAY())+1,1)-1))),T5622*((DAY(DATE(YEAR(TODAY()),MONTH(TODAY())+1,1)-1)-DAY(C5622)+1))))","v":639.10186199342832},{"$f":"IF(N5622=0,0,IF(X5622>=N5622,(J5622),(N5622-Y5622)))","v":37280.941949616652},{"$f":"DATEDIF(C5622,TODAY(),\"Y\")","v":0},{"$f":"DATEDIF(C5622,TODAY(),\"YM\")","v":2},{"$f":"DATEDIF(C5622,TODAY(),\"md\")+1","v":15},{"$f":"DATEDIF(C5622,TODAY(),\"d\")+1","v":76},{"$f":"IF(N5622=0,\"No\",IF(AE5622>Q5622,\"NO\",\"YES\"))","v":"YES"},"10","126","คณะครุศาสตร์",null,"นายดรัณภพ เพียรจัด","เครื่องคอมพิวเตอร์ All in one ",null,"เครื่องคอมพิวเตอร์ All in one ","ยี่ห้อ Hp รุ่น lide 120","เลขที่ 62/2 ถ.พระยาศรีสุนทร ต.หน้าเมือง อ.เมือง จ.ฉะเชิงเทรา เลขบัตรประจำตัวประชาชน 1249900452859","บิลเงินสด","4","22","-","193/61",{"$f":"100/O5622","v":20},null," "," "," "," "," "," "," "," "," "," "," "," "," ",null," "," "," "," "," "," "," ","01","53","5856-5857"," ",null,"9/23/2018",{"$f":"CONCATENATE(AB5622,\" ปี  \",AC5622,\" เดือน  \",AD5622,\" วัน  \")","v":"0 ปี  2 เดือน  15 วัน  "},{"$f":"A5622","v":6584}]
[{"$f":"A5622+1","v":6585},"61014805","2018-08-20",61,"เฉพาะเจาะจง","รายได้","202101011031","ร้าน ไอที แอนด์ คอมพ์ ชอป","เครื่องคอมพิวเตอร์แบบพกพา 1 ค.",1,21000,"01.53.5854",{"$f":"IF(BV5623=\"จำหน่าย\",0,SUM(J5623*K5623))","v":21000},{"$f":"IF(K5623<5000,0,M5623)","v":21000},5,{"$f":"DATE(YEAR(C5623)+O5623,MONTH(C5623),DAY(C5623))","v":"2023-08-20"},{"$f":"IF(NOT(OR(ISBLANK(P5623),ISBLANK(C5623))),P5623-C5623,\"\")","v":1826},{"$f":"SLN(N5623,,O5623)","v":4200},{"$f":"SLN(R5623,,12)","v":350},{"$f":"SLN(N5623,,Q5623)","v":11.500547645125959},{"$f":"IF(N5623=0,0,IF(AE5623<=Q5623,1,0))","v":1},{"$f":"SUM(R5623*U5623/12)","v":350},{"$f":"IF(N5623=0,0,IF((R5623*AB5623)+(R5623*AC5623/12)>=N5623,N5623-J5623,((R5623*AB5623)+(R5623*AC5623/12))))","v":1050},{"$f":"SUM(T5623*U5623)","v":11.500547645125959},{"$f":"IF(N5623=0,0,IF((DATEDIF(C5623,TODAY(),\"d\")+1)*T5623>=N5623,N5623-J5623,(DATEDIF(C5623,TODAY(),\"d\")+1)*T5623))","v":1081.05147864184},{"$f":"IF(U5623=0,0,IF(OR(DAY(C5623)=1,MONTH(C5623)<>MONTH(TODAY()),YEAR(C5623)<>YEAR(TODAY())),T5623*((DAY(DATE(YEAR(TODAY()),MONTH(TODAY())+1,1)-1))),T5623*((DAY(DATE(YEAR(TODAY()),MONTH(TODAY())+1,1)-1)-DAY(C5623)+1))))","v":345.01642935377879},{"$f":"IF(N5623=0,0,IF(X5623>=N5623,(J5623),(N5623-Y5623)))","v":19918.948521358161},{"$f":"DATEDIF(C5623,TODAY(),\"Y\")","v":0},{"$f":"DATEDIF(C5623,TODAY(),\"YM\")","v":3},{"$f":"DATEDIF(C5623,TODAY(),\"md\")+1","v":2},{"$f":"DATEDIF(C5623,TODAY(),\"d\")+1","v":94},{"$f":"IF(N5623=0,\"No\",IF(AE5623>Q5623,\"NO\",\"YES\"))","v":"YES"},"10","126","คณะวิทยาศาสตร์และเทคโนโลยี",null,"นายสมพงศ์ ฆ้องหลวง","เครื่องคอมพิวเตอร์แบบพกพา ",null,"เครื่องคอมพิวเตอร์แบบพกพา ","ยี่ห้อ Lenovo รุ่น v330 ขนาดจอ 14 นิ้ว FHD","เลขที่ 131/43-44 ถ.ชุมพล ต.หน้าเมือง อ.เมือง จ.ฉะเชิงเทรา เลขผู้เสียภาษี 3249900001659","ใบส่งค้า/ใบแจ้งหนี้","-","so-610391",null,"192/61",{"$f":"100/O5623","v":20},null," "," "," "," "," "," "," "," "," "," "," "," "," ",null," "," "," "," "," "," "," ","01","53","5854"," ",null,"9/23/2018",{"$f":"CONCATENATE(AB5623,\" ปี  \",AC5623,\" เดือน  \",AD5623,\" วัน  \")","v":"0 ปี  3 เดือน  2 วัน  "},{"$f":"A5623","v":6585}]
[{"$f":"A5623+1","v":6586},"61013892","2018-08-27",61,"เฉพาะเจาะจง","รายได้","B06201020931","บริษัท แปดริ้วเฟอร์นิเจอร์ จำกัด","ชุดรับแขก 1 ชุด",1,24000,"01.01.55879",{"$f":"IF(BV5624=\"จำหน่าย\",0,SUM(J5624*K5624))","v":24000},{"$f":"IF(K5624<5000,0,M5624)","v":24000},8,{"$f":"DATE(YEAR(C5624)+O5624,MONTH(C5624),DAY(C5624))","v":"2026-08-27"},{"$f":"IF(NOT(OR(ISBLANK(P5624),ISBLANK(C5624))),P5624-C5624,\"\")","v":2922},{"$f":"SLN(N5624,,O5624)","v":3000},{"$f":"SLN(R5624,,12)","v":250},{"$f":"SLN(N5624,,Q5624)","v":8.2135523613963031},{"$f":"IF(N5624=0,0,IF(AE5624<=Q5624,1,0))","v":1},{"$f":"SUM(R5624*U5624/12)","v":250},{"$f":"IF(N5624=0,0,IF((R5624*AB5624)+(R5624*AC5624/12)>=N5624,N5624-J5624,((R5624*AB5624)+(R5624*AC5624/12))))","v":500},{"$f":"SUM(T5624*U5624)","v":8.2135523613963031},{"$f":"IF(N5624=0,0,IF((DATEDIF(C5624,TODAY(),\"d\")+1)*T5624>=N5624,N5624-J5624,(DATEDIF(C5624,TODAY(),\"d\")+1)*T5624))","v":714.57905544147832},{"$f":"IF(U5624=0,0,IF(OR(DAY(C5624)=1,MONTH(C5624)<>MONTH(TODAY()),YEAR(C5624)<>YEAR(TODAY())),T5624*((DAY(DATE(YEAR(TODAY()),MONTH(TODAY())+1,1)-1))),T5624*((DAY(DATE(YEAR(TODAY()),MONTH(TODAY())+1,1)-1)-DAY(C5624)+1))))","v":246.40657084188911},{"$f":"IF(N5624=0,0,IF(X5624>=N5624,(J5624),(N5624-Y5624)))","v":23285.420944558522},{"$f":"DATEDIF(C5624,TODAY(),\"Y\")","v":0},{"$f":"DATEDIF(C5624,TODAY(),\"YM\")","v":2},{"$f":"DATEDIF(C5624,TODAY(),\"md\")+1","v":26},{"$f":"DATEDIF(C5624,TODAY(),\"d\")+1","v":87},{"$f":"IF(N5624=0,\"No\",IF(AE5624>Q5624,\"NO\",\"YES\"))","v":"YES"},"5","260","บัณฑิตวิทยาลัย",null,"นางพรพรรณ ดอนพนัส","ชุดรับแขก ",null,"ชุดรับแขก ","ยี่ห้อ Arrow ","เลขที่ 191/72-191/73 ถ.มหาจักรพรรดิ์ ต.หน้าเมือง อ.เมือง จ.ฉะเชิงเทรา เลขผู้เสียภาษี 0245534000749","ใบส่งของ/ใบกำกับภาษี","037","1828","-","191/61",{"$f":"100/O5624","v":12.5},"ประกอบด้วย - 3 ที่นั่ง 1 ตัว - 1 ที่นั่ง 2 ตัว"," "," "," "," "," "," "," "," "," "," "," "," "," ",null," "," "," "," "," "," "," ","01","01","55879"," ",null,"9/23/2018",{"$f":"CONCATENATE(AB5624,\" ปี  \",AC5624,\" เดือน  \",AD5624,\" วัน  \")","v":"0 ปี  2 เดือน  26 วัน  "},{"$f":"A5624","v":6586}]
[{"$f":"A5624+1","v":6587},"61014319","2018-08-29",61,"เฉพาะเจาะจง","งบแผ่นดิน","102202150131","ร้าน ศิริโรจน์ ครุภัณฑ์ (สำนักงานใหญ่)","เครื่องถ่ายเอกสาร  ค.",2,49500,"01.22.107-108",{"$f":"IF(BV5625=\"จำหน่าย\",0,SUM(J5625*K5625))","v":99000},{"$f":"IF(K5625<5000,0,M5625)","v":99000},8,{"$f":"DATE(YEAR(C5625)+O5625,MONTH(C5625),DAY(C5625))","v":"2026-08-29"},{"$f":"IF(NOT(OR(ISBLANK(P5625),ISBLANK(C5625))),P5625-C5625,\"\")","v":2922},{"$f":"SLN(N5625,,O5625)","v":12375},{"$f":"SLN(R5625,,12)","v":1031.25},{"$f":"SLN(N5625,,Q5625)","v":33.880903490759756},{"$f":"IF(N5625=0,0,IF(AE5625<=Q5625,1,0))","v":1},{"$f":"SUM(R5625*U5625/12)","v":1031.25},{"$f":"IF(N5625=0,0,IF((R5625*AB5625)+(R5625*AC5625/12)>=N5625,N5625-J5625,((R5625*AB5625)+(R5625*AC5625/12))))","v":2062.5},{"$f":"SUM(T5625*U5625)","v":33.880903490759756},{"$f":"IF(N5625=0,0,IF((DATEDIF(C5625,TODAY(),\"d\")+1)*T5625>=N5625,N5625-J5625,(DATEDIF(C5625,TODAY(),\"d\")+1)*T5625))","v":2879.8767967145791},{"$f":"IF(U5625=0,0,IF(OR(DAY(C5625)=1,MONTH(C5625)<>MONTH(TODAY()),YEAR(C5625)<>YEAR(TODAY())),T5625*((DAY(DATE(YEAR(TODAY()),MONTH(TODAY())+1,1)-1))),T5625*((DAY(DATE(YEAR(TODAY()),MONTH(TODAY())+1,1)-1)-DAY(C5625)+1))))","v":1016.4271047227927},{"$f":"IF(N5625=0,0,IF(X5625>=N5625,(J5625),(N5625-Y5625)))","v":96120.123203285417},{"$f":"DATEDIF(C5625,TODAY(),\"Y\")","v":0},{"$f":"DATEDIF(C5625,TODAY(),\"YM\")","v":2},{"$f":"DATEDIF(C5625,TODAY(),\"md\")+1","v":24},{"$f":"DATEDIF(C5625,TODAY(),\"d\")+1","v":85},{"$f":"IF(N5625=0,\"No\",IF(AE5625>Q5625,\"NO\",\"YES\"))","v":"YES"},"10","120","สนง.อธิการบดี มรร.บางคล้า",null,"นางประภาพรรณ์ ศรีอุทยาน","เครื่องถ่ายเอกสาร  ",null,"เครื่องถ่ายเอกสาร  ","ยี่ห้อ Sharp รุ่น Ar-613nv","เลขที่ 131/49-50 ถงชุมพล องเมือง จ.ฉะเชิงเทรา เลขผู้เสียภาษี 3249900081849","ใบกำกับภาษี/ใบส่งสินค้า","130","6470","-","190/61",{"$f":"100/O5625","v":12.5},null," "," "," "," "," "," "," "," "," "," "," "," "," ",null," "," "," "," "," "," "," ","01","22","107-108"," ",null,"9/23/2018",{"$f":"CONCATENATE(AB5625,\" ปี  \",AC5625,\" เดือน  \",AD5625,\" วัน  \")","v":"0 ปี  2 เดือน  24 วัน  "},{"$f":"A5625","v":6587}]
[{"$f":"A5625+1","v":6588},"61014319","2018-08-29",61,"เฉพาะเจาะจง","งบแผ่นดิน","102202150131","ร้าน ศิริโรจน์ ครุภัณฑ์ (สำนักงานใหญ่)","เครื่องถ่ายเอกสาร  1 ค.",1,49500,"01.22.109",{"$f":"IF(BV5626=\"จำหน่าย\",0,SUM(J5626*K5626))","v":49500},{"$f":"IF(K5626<5000,0,M5626)","v":49500},8,{"$f":"DATE(YEAR(C5626)+O5626,MONTH(C5626),DAY(C5626))","v":"2026-08-29"},{"$f":"IF(NOT(OR(ISBLANK(P5626),ISBLANK(C5626))),P5626-C5626,\"\")","v":2922},{"$f":"SLN(N5626,,O5626)","v":6187.5},{"$f":"SLN(R5626,,12)","v":515.625},{"$f":"SLN(N5626,,Q5626)","v":16.940451745379878},{"$f":"IF(N5626=0,0,IF(AE5626<=Q5626,1,0))","v":1},{"$f":"SUM(R5626*U5626/12)","v":515.625},{"$f":"IF(N5626=0,0,IF((R5626*AB5626)+(R5626*AC5626/12)>=N5626,N5626-J5626,((R5626*AB5626)+(R5626*AC5626/12))))","v":1031.25},{"$f":"SUM(T5626*U5626)","v":16.940451745379878},{"$f":"IF(N5626=0,0,IF((DATEDIF(C5626,TODAY(),\"d\")+1)*T5626>=N5626,N5626-J5626,(DATEDIF(C5626,TODAY(),\"d\")+1)*T5626))","v":1439.9383983572895},{"$f":"IF(U5626=0,0,IF(OR(DAY(C5626)=1,MONTH(C5626)<>MONTH(TODAY()),YEAR(C5626)<>YEAR(TODAY())),T5626*((DAY(DATE(YEAR(TODAY()),MONTH(TODAY())+1,1)-1))),T5626*((DAY(DATE(YEAR(TODAY()),MONTH(TODAY())+1,1)-1)-DAY(C5626)+1))))","v":508.21355236139635},{"$f":"IF(N5626=0,0,IF(X5626>=N5626,(J5626),(N5626-Y5626)))","v":48060.061601642708},{"$f":"DATEDIF(C5626,TODAY(),\"Y\")","v":0},{"$f":"DATEDIF(C5626,TODAY(),\"YM\")","v":2},{"$f":"DATEDIF(C5626,TODAY(),\"md\")+1","v":24},{"$f":"DATEDIF(C5626,TODAY(),\"d\")+1","v":85},{"$f":"IF(N5626=0,\"No\",IF(AE5626>Q5626,\"NO\",\"YES\"))","v":"YES"},"10","120","การเงิน",null,"นางสาววนิดา ดิษฐ์วัฒน์","เครื่องถ่ายเอกสาร  ",null,"เครื่องถ่ายเอกสาร  ","ยี่ห้อ Sharp รุ่น Ar-613nv","เลขที่ 131/49-50 ถงชุมพล องเมือง จ.ฉะเชิงเทรา เลขผู้เสียภาษี 3249900081849","ใบกำกับภาษี/ใบส่งสินค้า","130","6470","-","190/61",{"$f":"100/O5626","v":12.5},null," "," "," "," "," "," "," "," "," "," "," "," "," ",null," "," "," "," "," "," "," ","01","22","109"," ",null,"9/23/2018",{"$f":"CONCATENATE(AB5626,\" ปี  \",AC5626,\" เดือน  \",AD5626,\" วัน  \")","v":"0 ปี  2 เดือน  24 วัน  "},{"$f":"A5626","v":6588}]
[{"$f":"A5626+1","v":6589},"61014319","2018-08-29",61,"เฉพาะเจาะจง","งบแผ่นดิน","102202150131","ร้าน ศิริโรจน์ ครุภัณฑ์ (สำนักงานใหญ่)","เครื่องโทรสาร 1 ค.",1,12500,"01.54.71",{"$f":"IF(BV5627=\"จำหน่าย\",0,SUM(J5627*K5627))","v":12500},{"$f":"IF(K5627<5000,0,M5627)","v":12500},8,{"$f":"DATE(YEAR(C5627)+O5627,MONTH(C5627),DAY(C5627))","v":"2026-08-29"},{"$f":"IF(NOT(OR(ISBLANK(P5627),ISBLANK(C5627))),P5627-C5627,\"\")","v":2922},{"$f":"SLN(N5627,,O5627)","v":1562.5},{"$f":"SLN(R5627,,12)","v":130.20833333333334},{"$f":"SLN(N5627,,Q5627)","v":4.277891854893908},{"$f":"IF(N5627=0,0,IF(AE5627<=Q5627,1,0))","v":1},{"$f":"SUM(R5627*U5627/12)","v":130.20833333333334},{"$f":"IF(N5627=0,0,IF((R5627*AB5627)+(R5627*AC5627/12)>=N5627,N5627-J5627,((R5627*AB5627)+(R5627*AC5627/12))))","v":260.41666666666669},{"$f":"SUM(T5627*U5627)","v":4.277891854893908},{"$f":"IF(N5627=0,0,IF((DATEDIF(C5627,TODAY(),\"d\")+1)*T5627>=N5627,N5627-J5627,(DATEDIF(C5627,TODAY(),\"d\")+1)*T5627))","v":363.62080766598217},{"$f":"IF(U5627=0,0,IF(OR(DAY(C5627)=1,MONTH(C5627)<>MONTH(TODAY()),YEAR(C5627)<>YEAR(TODAY())),T5627*((DAY(DATE(YEAR(TODAY()),MONTH(TODAY())+1,1)-1))),T5627*((DAY(DATE(YEAR(TODAY()),MONTH(TODAY())+1,1)-1)-DAY(C5627)+1))))","v":128.33675564681724},{"$f":"IF(N5627=0,0,IF(X5627>=N5627,(J5627),(N5627-Y5627)))","v":12136.379192334018},{"$f":"DATEDIF(C5627,TODAY(),\"Y\")","v":0},{"$f":"DATEDIF(C5627,TODAY(),\"YM\")","v":2},{"$f":"DATEDIF(C5627,TODAY(),\"md\")+1","v":24},{"$f":"DATEDIF(C5627,TODAY(),\"d\")+1","v":85},{"$f":"IF(N5627=0,\"No\",IF(AE5627>Q5627,\"NO\",\"YES\"))","v":"YES"},"6","279","สนง.อธิการบดี มรร.บางคล้า",null,"นางสาววนิดา ดิษฐ์วัฒน์","เครื่องโทรสาร ",null,"เครื่องโทรสาร ","ยี่ห้อ Sบราเดอร์ รุ่น 2950","เลขที่ 131/49-50 ถงชุมพล องเมือง จ.ฉะเชิงเทรา เลขผู้เสียภาษี 3249900081849","ใบกำกับภาษี/ใบส่งสินค้า","130","6470","-","190/61",{"$f":"100/O5627","v":12.5},null," "," "," "," "," "," "," "," "," "," "," "," "," ",null," "," "," "," "," "," "," ","01","54","71"," ",null,"9/23/2018",{"$f":"CONCATENATE(AB5627,\" ปี  \",AC5627,\" เดือน  \",AD5627,\" วัน  \")","v":"0 ปี  2 เดือน  24 วัน  "},{"$f":"A5627","v":6589}]
[{"$f":"A5627+1","v":6590},"61014702","2018-08-31",61,"เฉพาะเจาะจง","งบแผ่นดิน","102202010521","นายนที เหลืองสุขเจริญ","พัดลมดูดอากาศ 2 ค.",2,1175,"01.48.3869-3870",{"$f":"IF(BV5628=\"จำหน่าย\",0,SUM(J5628*K5628))","v":2350},{"$f":"IF(K5628<5000,0,M5628)","v":0},8,{"$f":"DATE(YEAR(C5628)+O5628,MONTH(C5628),DAY(C5628))","v":"2026-08-31"},{"$f":"IF(NOT(OR(ISBLANK(P5628),ISBLANK(C5628))),P5628-C5628,\"\")","v":2922},{"$f":"SLN(N5628,,O5628)","v":0},{"$f":"SLN(R5628,,12)","v":0},{"$f":"SLN(N5628,,Q5628)","v":0},{"$f":"IF(N5628=0,0,IF(AE5628<=Q5628,1,0))","v":0},{"$f":"SUM(R5628*U5628/12)","v":0},{"$f":"IF(N5628=0,0,IF((R5628*AB5628)+(R5628*AC5628/12)>=N5628,N5628-J5628,((R5628*AB5628)+(R5628*AC5628/12))))","v":0},{"$f":"SUM(T5628*U5628)","v":0},{"$f":"IF(N5628=0,0,IF((DATEDIF(C5628,TODAY(),\"d\")+1)*T5628>=N5628,N5628-J5628,(DATEDIF(C5628,TODAY(),\"d\")+1)*T5628))","v":0},{"$f":"IF(U5628=0,0,IF(OR(DAY(C5628)=1,MONTH(C5628)<>MONTH(TODAY()),YEAR(C5628)<>YEAR(TODAY())),T5628*((DAY(DATE(YEAR(TODAY()),MONTH(TODAY())+1,1)-1))),T5628*((DAY(DATE(YEAR(TODAY()),MONTH(TODAY())+1,1)-1)-DAY(C5628)+1))))","v":0},{"$f":"IF(N5628=0,0,IF(X5628>=N5628,(J5628),(N5628-Y5628)))","v":0},{"$f":"DATEDIF(C5628,TODAY(),\"Y\")","v":0},{"$f":"DATEDIF(C5628,TODAY(),\"YM\")","v":2},{"$f":"DATEDIF(C5628,TODAY(),\"md\")+1","v":22},{"$f":"DATEDIF(C5628,TODAY(),\"d\")+1","v":83},{"$f":"IF(N5628=0,\"No\",IF(AE5628>Q5628,\"NO\",\"YES\"))","v":"No"},"6","285","งานอาคารสถานที่ ",null,"นายนพดล วารีรัตน์","พัดลมดูดอากาศ ",null,"พัดลมดูดอากาศ ","ขนาด 8 นิ้ว","-","ใบส่งมอบงาน","-","-","-","181/61",{"$f":"100/O5628","v":12.5},"งานจ้างปรับปรุงห้องน้ำอาจารย์หญิง อาคาร 9 ชั้น 2 ยอดฎีกา 10420"," "," "," "," "," "," "," "," "," "," "," "," "," ",null," "," "," "," "," "," "," ","01","48","3869-3870"," ",null,"9/23/2018",{"$f":"CONCATENATE(AB5628,\" ปี  \",AC5628,\" เดือน  \",AD5628,\" วัน  \")","v":"0 ปี  2 เดือน  22 วัน  "},{"$f":"A5628","v":6590}]
[{"$f":"A5628+1","v":6591},"61014351","2018-09-07",61,"เฉพาะเจาะจง","งบแผ่นดิน","102202010521","นายสุขุม มัธยัสถ์","เครี่องปั๊มน้ำ พร้อมอุปกรณ์ติดตั้ง 1 ค.",1,28265,"08.06.187",{"$f":"IF(BV5629=\"จำหน่าย\",0,SUM(J5629*K5629))","v":28265},{"$f":"IF(K5629<5000,0,M5629)","v":28265},5,{"$f":"DATE(YEAR(C5629)+O5629,MONTH(C5629),DAY(C5629))","v":"2023-09-07"},{"$f":"IF(NOT(OR(ISBLANK(P5629),ISBLANK(C5629))),P5629-C5629,\"\")","v":1826},{"$f":"SLN(N5629,,O5629)","v":5653},{"$f":"SLN(R5629,,12)","v":471.08333333333331},{"$f":"SLN(N5629,,Q5629)","v":15.479189485213581},{"$f":"IF(N5629=0,0,IF(AE5629<=Q5629,1,0))","v":1},{"$f":"SUM(R5629*U5629/12)","v":471.08333333333331},{"$f":"IF(N5629=0,0,IF((R5629*AB5629)+(R5629*AC5629/12)>=N5629,N5629-J5629,((R5629*AB5629)+(R5629*AC5629/12))))","v":942.16666666666663},{"$f":"SUM(T5629*U5629)","v":15.479189485213581},{"$f":"IF(N5629=0,0,IF((DATEDIF(C5629,TODAY(),\"d\")+1)*T5629>=N5629,N5629-J5629,(DATEDIF(C5629,TODAY(),\"d\")+1)*T5629))","v":1176.4184008762322},{"$f":"IF(U5629=0,0,IF(OR(DAY(C5629)=1,MONTH(C5629)<>MONTH(TODAY()),YEAR(C5629)<>YEAR(TODAY())),T5629*((DAY(DATE(YEAR(TODAY()),MONTH(TODAY())+1,1)-1))),T5629*((DAY(DATE(YEAR(TODAY()),MONTH(TODAY())+1,1)-1)-DAY(C5629)+1))))","v":464.37568455640746},{"$f":"IF(N5629=0,0,IF(X5629>=N5629,(J5629),(N5629-Y5629)))","v":27088.581599123769},{"$f":"DATEDIF(C5629,TODAY(),\"Y\")","v":0},{"$f":"DATEDIF(C5629,TODAY(),\"YM\")","v":2},{"$f":"DATEDIF(C5629,TODAY(),\"md\")+1","v":15},{"$f":"DATEDIF(C5629,TODAY(),\"d\")+1","v":76},{"$f":"IF(N5629=0,\"No\",IF(AE5629>Q5629,\"NO\",\"YES\"))","v":"YES"},"7","242","งานอาคารสถานที่ ",null,"นายนพดล วารีรัตน์","เครี่องปั๊มน้ำ ",null,"เครี่องปั๊มน้ำ พร้อมอุปกรณ์ติดตั้ง ","ยี่ห้อ Mitsubishi ขนาด 2 นิ้ว","เลขที่ 222 ถ.ประชาสรรค์ ต.หน้าเมือง อ.เมือง จ.ฉะเชิงเทรา เลขประจำตัวบัตรประชาชน 3200601016486","ใบส่งมอบงาน","-","--","-","187/61",{"$f":"100/O5629","v":20},"จ้างปรับปรุงซ่อวแซมระบบน้ำประปา อาคาร 1 "," "," "," "," "," "," "," "," "," "," "," "," "," ",null," "," "," "," "," "," "," ","08","06","187"," ",null,"9/23/2018",{"$f":"CONCATENATE(AB5629,\" ปี  \",AC5629,\" เดือน  \",AD5629,\" วัน  \")","v":"0 ปี  2 เดือน  15 วัน  "},{"$f":"A5629","v":6591}]
[{"$f":"A5629+1","v":6592},"61014901","2018-09-06",61,"เฉพาะเจาะจง","งบแผ่นดิน","102202150232","บริษัท ภพทรัพย์ วิศวกรรม (2003) จำกัด","ปั๊มน้ำอัตโนมัติ 1 ชุด",1,8200,"08.06.186",{"$f":"IF(BV5630=\"จำหน่าย\",0,SUM(J5630*K5630))","v":8200},{"$f":"IF(K5630<5000,0,M5630)","v":8200},5,{"$f":"DATE(YEAR(C5630)+O5630,MONTH(C5630),DAY(C5630))","v":"2023-09-06"},{"$f":"IF(NOT(OR(ISBLANK(P5630),ISBLANK(C5630))),P5630-C5630,\"\")","v":1826},{"$f":"SLN(N5630,,O5630)","v":1640},{"$f":"SLN(R5630,,12)","v":136.66666666666666},{"$f":"SLN(N5630,,Q5630)","v":4.4906900328587076},{"$f":"IF(N5630=0,0,IF(AE5630<=Q5630,1,0))","v":1},{"$f":"SUM(R5630*U5630/12)","v":136.66666666666666},{"$f":"IF(N5630=0,0,IF((R5630*AB5630)+(R5630*AC5630/12)>=N5630,N5630-J5630,((R5630*AB5630)+(R5630*AC5630/12))))","v":273.33333333333331},{"$f":"SUM(T5630*U5630)","v":4.4906900328587076},{"$f":"IF(N5630=0,0,IF((DATEDIF(C5630,TODAY(),\"d\")+1)*T5630>=N5630,N5630-J5630,(DATEDIF(C5630,TODAY(),\"d\")+1)*T5630))","v":345.7831325301205},{"$f":"IF(U5630=0,0,IF(OR(DAY(C5630)=1,MONTH(C5630)<>MONTH(TODAY()),YEAR(C5630)<>YEAR(TODAY())),T5630*((DAY(DATE(YEAR(TODAY()),MONTH(TODAY())+1,1)-1))),T5630*((DAY(DATE(YEAR(TODAY()),MONTH(TODAY())+1,1)-1)-DAY(C5630)+1))))","v":134.72070098576123},{"$f":"IF(N5630=0,0,IF(X5630>=N5630,(J5630),(N5630-Y5630)))","v":7854.2168674698796},{"$f":"DATEDIF(C5630,TODAY(),\"Y\")","v":0},{"$f":"DATEDIF(C5630,TODAY(),\"YM\")","v":2},{"$f":"DATEDIF(C5630,TODAY(),\"md\")+1","v":16},{"$f":"DATEDIF(C5630,TODAY(),\"d\")+1","v":77},{"$f":"IF(N5630=0,\"No\",IF(AE5630>Q5630,\"NO\",\"YES\"))","v":"YES"},"7","242","งานอาคารสถานที่","ห้องการะเกด","นายสมศักดิ์ ล้ำเลิศ","ปั๊มน้ำอัตโนมัติ ",null,"ปั๊มน้ำอัตโนมัติ  พร้อมอุปกรณ์","ขนาด 300 วัตต์","เลขที่ 12/13 ม. 13 ต.บางตีนเป็ด อ.เมือง จ.เชิงเทรา เลขผู้เสียภาษี -","ใบส่งมอบงาน","-","PSR 023/2561","37/2561 ลว. 7 พ.ค 61","180/61",{"$f":"100/O5630","v":20},"จ้างก่อสร้างปรับปรุงซ่อมแซมห้องการะเกด จำนวน 1 งาน"," "," "," "," "," "," "," "," "," "," "," "," "," ",null," "," "," "," "," "," "," ","08","06","186"," ",null,"9/23/2018",{"$f":"CONCATENATE(AB5630,\" ปี  \",AC5630,\" เดือน  \",AD5630,\" วัน  \")","v":"0 ปี  2 เดือน  16 วัน  "},{"$f":"A5630","v":6592}]
[{"$f":"A5630+1","v":6593},"61014901","2018-09-06",61,"เฉพาะเจาะจง","งบแผ่นดิน","102202150232","บริษัท ภพทรัพย์ วิศวกรรม (2003) จำกัด","ถังน้ำไฟเบอร์กลาส 1 ชุด",1,9700,"08.04.169",{"$f":"IF(BV5631=\"จำหน่าย\",0,SUM(J5631*K5631))","v":9700},{"$f":"IF(K5631<5000,0,M5631)","v":9700},5,{"$f":"DATE(YEAR(C5631)+O5631,MONTH(C5631),DAY(C5631))","v":"2023-09-06"},{"$f":"IF(NOT(OR(ISBLANK(P5631),ISBLANK(C5631))),P5631-C5631,\"\")","v":1826},{"$f":"SLN(N5631,,O5631)","v":1940},{"$f":"SLN(R5631,,12)","v":161.66666666666666},{"$f":"SLN(N5631,,Q5631)","v":5.3121577217962761},{"$f":"IF(N5631=0,0,IF(AE5631<=Q5631,1,0))","v":1},{"$f":"SUM(R5631*U5631/12)","v":161.66666666666666},{"$f":"IF(N5631=0,0,IF((R5631*AB5631)+(R5631*AC5631/12)>=N5631,N5631-J5631,((R5631*AB5631)+(R5631*AC5631/12))))","v":323.33333333333331},{"$f":"SUM(T5631*U5631)","v":5.3121577217962761},{"$f":"IF(N5631=0,0,IF((DATEDIF(C5631,TODAY(),\"d\")+1)*T5631>=N5631,N5631-J5631,(DATEDIF(C5631,TODAY(),\"d\")+1)*T5631))","v":409.03614457831327},{"$f":"IF(U5631=0,0,IF(OR(DAY(C5631)=1,MONTH(C5631)<>MONTH(TODAY()),YEAR(C5631)<>YEAR(TODAY())),T5631*((DAY(DATE(YEAR(TODAY()),MONTH(TODAY())+1,1)-1))),T5631*((DAY(DATE(YEAR(TODAY()),MONTH(TODAY())+1,1)-1)-DAY(C5631)+1))))","v":159.36473165388827},{"$f":"IF(N5631=0,0,IF(X5631>=N5631,(J5631),(N5631-Y5631)))","v":9290.9638554216872},{"$f":"DATEDIF(C5631,TODAY(),\"Y\")","v":0},{"$f":"DATEDIF(C5631,TODAY(),\"YM\")","v":2},{"$f":"DATEDIF(C5631,TODAY(),\"md\")+1","v":16},{"$f":"DATEDIF(C5631,TODAY(),\"d\")+1","v":77},{"$f":"IF(N5631=0,\"No\",IF(AE5631>Q5631,\"NO\",\"YES\"))","v":"YES"},"7","168","งานอาคารสถานที่","ห้องการะเกด","นายสมศักดิ์ ล้ำเลิศ","ถังน้ำไฟเบอร์กลาส ",null,"ถังน้ำไฟเบอร์กลาส สำเร็จรูปวางบนดิน","ขนาด 2000 ลิตร","เลขที่ 12/13 ม. 13 ต.บางตีนเป็ด อ.เมือง จ.เชิงเทรา เลขผู้เสียภาษี -","ใบส่งมอบงาน","-","PSR 023/2561","37/2561 ลว. 7 พ.ค 61","180/61",{"$f":"100/O5631","v":20},"จ้างก่อสร้างปรับปรุงซ่อมแซมห้องการะเกด จำนวน 1 งาน"," "," "," "," "," "," "," "," "," "," "," "," "," ",null," "," "," "," "," "," "," ","08","04","169"," ",null,"9/23/2018",{"$f":"CONCATENATE(AB5631,\" ปี  \",AC5631,\" เดือน  \",AD5631,\" วัน  \")","v":"0 ปี  2 เดือน  16 วัน  "},{"$f":"A5631","v":6593}]
[{"$f":"A5631+1","v":6594},"61014901","2018-09-06",61,"เฉพาะเจาะจง","งบแผ่นดิน","102202150232","บริษัท ภพทรัพย์ วิศวกรรม (2003) จำกัด","พัดลมดูดอากาศ 2 ชุด",2,1100,"01.48.3861-3862",{"$f":"IF(BV5632=\"จำหน่าย\",0,SUM(J5632*K5632))","v":2200},{"$f":"IF(K5632<5000,0,M5632)","v":0},8,{"$f":"DATE(YEAR(C5632)+O5632,MONTH(C5632),DAY(C5632))","v":"2026-09-06"},{"$f":"IF(NOT(OR(ISBLANK(P5632),ISBLANK(C5632))),P5632-C5632,\"\")","v":2922},{"$f":"SLN(N5632,,O5632)","v":0},{"$f":"SLN(R5632,,12)","v":0},{"$f":"SLN(N5632,,Q5632)","v":0},{"$f":"IF(N5632=0,0,IF(AE5632<=Q5632,1,0))","v":0},{"$f":"SUM(R5632*U5632/12)","v":0},{"$f":"IF(N5632=0,0,IF((R5632*AB5632)+(R5632*AC5632/12)>=N5632,N5632-J5632,((R5632*AB5632)+(R5632*AC5632/12))))","v":0},{"$f":"SUM(T5632*U5632)","v":0},{"$f":"IF(N5632=0,0,IF((DATEDIF(C5632,TODAY(),\"d\")+1)*T5632>=N5632,N5632-J5632,(DATEDIF(C5632,TODAY(),\"d\")+1)*T5632))","v":0},{"$f":"IF(U5632=0,0,IF(OR(DAY(C5632)=1,MONTH(C5632)<>MONTH(TODAY()),YEAR(C5632)<>YEAR(TODAY())),T5632*((DAY(DATE(YEAR(TODAY()),MONTH(TODAY())+1,1)-1))),T5632*((DAY(DATE(YEAR(TODAY()),MONTH(TODAY())+1,1)-1)-DAY(C5632)+1))))","v":0},{"$f":"IF(N5632=0,0,IF(X5632>=N5632,(J5632),(N5632-Y5632)))","v":0},{"$f":"DATEDIF(C5632,TODAY(),\"Y\")","v":0},{"$f":"DATEDIF(C5632,TODAY(),\"YM\")","v":2},{"$f":"DATEDIF(C5632,TODAY(),\"md\")+1","v":16},{"$f":"DATEDIF(C5632,TODAY(),\"d\")+1","v":77},{"$f":"IF(N5632=0,\"No\",IF(AE5632>Q5632,\"NO\",\"YES\"))","v":"No"},"6","285","งานอาคารสถานที่","ห้องการะเกด","นายสมศักดิ์ ล้ำเลิศ","พัดลมดูดอากาศ ",null,"พัดลมดูดอากาศ ","-","เลขที่ 12/13 ม. 13 ต.บางตีนเป็ด อ.เมือง จ.เชิงเทรา เลขผู้เสียภาษี -","ใบส่งมอบงาน","-","PSR 023/2561","37/2561 ลว. 7 พ.ค 61","180/61",{"$f":"100/O5632","v":12.5},"จ้างก่อสร้างปรับปรุงซ่อมแซมห้องการะเกด จำนวน 1 งาน"," "," "," "," "," "," "," "," "," "," "," "," "," ",null," "," "," "," "," "," "," ","01","48","3861-3862"," ",null,"9/23/2018",{"$f":"CONCATENATE(AB5632,\" ปี  \",AC5632,\" เดือน  \",AD5632,\" วัน  \")","v":"0 ปี  2 เดือน  16 วัน  "},{"$f":"A5632","v":6594}]
[{"$f":"A5632+1","v":6595},"61014901","2018-09-06",61,"เฉพาะเจาะจง","งบแผ่นดิน","102202150232","บริษัท ภพทรัพย์ วิศวกรรม (2003) จำกัด","ไมโครโฟนมีสาย 2 ชุด",2,7500,"05.12.877-878",{"$f":"IF(BV5633=\"จำหน่าย\",0,SUM(J5633*K5633))","v":15000},{"$f":"IF(K5633<5000,0,M5633)","v":15000},5,{"$f":"DATE(YEAR(C5633)+O5633,MONTH(C5633),DAY(C5633))","v":"2023-09-06"},{"$f":"IF(NOT(OR(ISBLANK(P5633),ISBLANK(C5633))),P5633-C5633,\"\")","v":1826},{"$f":"SLN(N5633,,O5633)","v":3000},{"$f":"SLN(R5633,,12)","v":250},{"$f":"SLN(N5633,,Q5633)","v":8.214676889375685},{"$f":"IF(N5633=0,0,IF(AE5633<=Q5633,1,0))","v":1},{"$f":"SUM(R5633*U5633/12)","v":250},{"$f":"IF(N5633=0,0,IF((R5633*AB5633)+(R5633*AC5633/12)>=N5633,N5633-J5633,((R5633*AB5633)+(R5633*AC5633/12))))","v":500},{"$f":"SUM(T5633*U5633)","v":8.214676889375685},{"$f":"IF(N5633=0,0,IF((DATEDIF(C5633,TODAY(),\"d\")+1)*T5633>=N5633,N5633-J5633,(DATEDIF(C5633,TODAY(),\"d\")+1)*T5633))","v":632.53012048192772},{"$f":"IF(U5633=0,0,IF(OR(DAY(C5633)=1,MONTH(C5633)<>MONTH(TODAY()),YEAR(C5633)<>YEAR(TODAY())),T5633*((DAY(DATE(YEAR(TODAY()),MONTH(TODAY())+1,1)-1))),T5633*((DAY(DATE(YEAR(TODAY()),MONTH(TODAY())+1,1)-1)-DAY(C5633)+1))))","v":246.44030668127056},{"$f":"IF(N5633=0,0,IF(X5633>=N5633,(J5633),(N5633-Y5633)))","v":14367.469879518072},{"$f":"DATEDIF(C5633,TODAY(),\"Y\")","v":0},{"$f":"DATEDIF(C5633,TODAY(),\"YM\")","v":2},{"$f":"DATEDIF(C5633,TODAY(),\"md\")+1","v":16},{"$f":"DATEDIF(C5633,TODAY(),\"d\")+1","v":77},{"$f":"IF(N5633=0,\"No\",IF(AE5633>Q5633,\"NO\",\"YES\"))","v":"YES"},"6","285","งานอาคารสถานที่","ห้องการะเกด","นายสมศักดิ์ ล้ำเลิศ","ไมโครโฟนมีสาย ",null,"ไมโครโฟนมีสาย ","-","เลขที่ 12/13 ม. 13 ต.บางตีนเป็ด อ.เมือง จ.เชิงเทรา เลขผู้เสียภาษี -","ใบส่งมอบงาน","-","PSR 023/2561","37/2561 ลว. 7 พ.ค 61","180/61",{"$f":"100/O5633","v":20},"จ้างก่อสร้างปรับปรุงซ่อมแซมห้องการะเกด จำนวน 1 งาน"," "," "," "," "," "," "," "," "," "," "," "," "," ",null," "," "," "," "," "," "," ","05","12","877-878"," ",null,"9/23/2018",{"$f":"CONCATENATE(AB5633,\" ปี  \",AC5633,\" เดือน  \",AD5633,\" วัน  \")","v":"0 ปี  2 เดือน  16 วัน  "},{"$f":"A5633","v":6595}]
[{"$f":"A5633+1","v":6596},"61014901","2018-09-06",61,"เฉพาะเจาะจง","งบแผ่นดิน","102202150232","บริษัท ภพทรัพย์ วิศวกรรม (2003) จำกัด","ไมโครโฟนไร้สาย 2 ชุด",2,35000,"05.13.1005-1006",{"$f":"IF(BV5634=\"จำหน่าย\",0,SUM(J5634*K5634))","v":70000},{"$f":"IF(K5634<5000,0,M5634)","v":70000},5,{"$f":"DATE(YEAR(C5634)+O5634,MONTH(C5634),DAY(C5634))","v":"2023-09-06"},{"$f":"IF(NOT(OR(ISBLANK(P5634),ISBLANK(C5634))),P5634-C5634,\"\")","v":1826},{"$f":"SLN(N5634,,O5634)","v":14000},{"$f":"SLN(R5634,,12)","v":1166.6666666666667},{"$f":"SLN(N5634,,Q5634)","v":38.33515881708653},{"$f":"IF(N5634=0,0,IF(AE5634<=Q5634,1,0))","v":1},{"$f":"SUM(R5634*U5634/12)","v":1166.6666666666667},{"$f":"IF(N5634=0,0,IF((R5634*AB5634)+(R5634*AC5634/12)>=N5634,N5634-J5634,((R5634*AB5634)+(R5634*AC5634/12))))","v":2333.3333333333335},{"$f":"SUM(T5634*U5634)","v":38.33515881708653},{"$f":"IF(N5634=0,0,IF((DATEDIF(C5634,TODAY(),\"d\")+1)*T5634>=N5634,N5634-J5634,(DATEDIF(C5634,TODAY(),\"d\")+1)*T5634))","v":2951.807228915663},{"$f":"IF(U5634=0,0,IF(OR(DAY(C5634)=1,MONTH(C5634)<>MONTH(TODAY()),YEAR(C5634)<>YEAR(TODAY())),T5634*((DAY(DATE(YEAR(TODAY()),MONTH(TODAY())+1,1)-1))),T5634*((DAY(DATE(YEAR(TODAY()),MONTH(TODAY())+1,1)-1)-DAY(C5634)+1))))","v":1150.054764512596},{"$f":"IF(N5634=0,0,IF(X5634>=N5634,(J5634),(N5634-Y5634)))","v":67048.19277108433},{"$f":"DATEDIF(C5634,TODAY(),\"Y\")","v":0},{"$f":"DATEDIF(C5634,TODAY(),\"YM\")","v":2},{"$f":"DATEDIF(C5634,TODAY(),\"md\")+1","v":16},{"$f":"DATEDIF(C5634,TODAY(),\"d\")+1","v":77},{"$f":"IF(N5634=0,\"No\",IF(AE5634>Q5634,\"NO\",\"YES\"))","v":"YES"},"10","290","งานอาคารสถานที่","ห้องการะเกด","นายสมศักดิ์ ล้ำเลิศ","ไมโครโฟนไร้สาย ",null,"ไมโครโฟนไร้สาย ","-","เลขที่ 12/13 ม. 13 ต.บางตีนเป็ด อ.เมือง จ.เชิงเทรา เลขผู้เสียภาษี -","ใบส่งมอบงาน","-","PSR 023/2561","37/2561 ลว. 7 พ.ค 61","180/61",{"$f":"100/O5634","v":20},"จ้างก่อสร้างปรับปรุงซ่อมแซมห้องการะเกด จำนวน 1 งาน"," "," "," "," "," "," "," "," "," "," "," "," "," ",null," "," "," "," "," "," "," ","05","13","1005-1006"," ",null,"9/23/2018",{"$f":"CONCATENATE(AB5634,\" ปี  \",AC5634,\" เดือน  \",AD5634,\" วัน  \")","v":"0 ปี  2 เดือน  16 วัน  "},{"$f":"A5634","v":6596}]
[{"$f":"A5634+1","v":6597},"61014901","2018-09-06",61,"เฉพาะเจาะจง","งบแผ่นดิน","102202150232","บริษัท ภพทรัพย์ วิศวกรรม (2003) จำกัด","เครื่องผสมสัญญาณเสียง 12 ช่อง 1 ชุด",1,20000,"05.06.1112",{"$f":"IF(BV5635=\"จำหน่าย\",0,SUM(J5635*K5635))","v":20000},{"$f":"IF(K5635<5000,0,M5635)","v":20000},5,{"$f":"DATE(YEAR(C5635)+O5635,MONTH(C5635),DAY(C5635))","v":"2023-09-06"},{"$f":"IF(NOT(OR(ISBLANK(P5635),ISBLANK(C5635))),P5635-C5635,\"\")","v":1826},{"$f":"SLN(N5635,,O5635)","v":4000},{"$f":"SLN(R5635,,12)","v":333.33333333333331},{"$f":"SLN(N5635,,Q5635)","v":10.95290251916758},{"$f":"IF(N5635=0,0,IF(AE5635<=Q5635,1,0))","v":1},{"$f":"SUM(R5635*U5635/12)","v":333.33333333333331},{"$f":"IF(N5635=0,0,IF((R5635*AB5635)+(R5635*AC5635/12)>=N5635,N5635-J5635,((R5635*AB5635)+(R5635*AC5635/12))))","v":666.66666666666663},{"$f":"SUM(T5635*U5635)","v":10.95290251916758},{"$f":"IF(N5635=0,0,IF((DATEDIF(C5635,TODAY(),\"d\")+1)*T5635>=N5635,N5635-J5635,(DATEDIF(C5635,TODAY(),\"d\")+1)*T5635))","v":843.37349397590367},{"$f":"IF(U5635=0,0,IF(OR(DAY(C5635)=1,MONTH(C5635)<>MONTH(TODAY()),YEAR(C5635)<>YEAR(TODAY())),T5635*((DAY(DATE(YEAR(TODAY()),MONTH(TODAY())+1,1)-1))),T5635*((DAY(DATE(YEAR(TODAY()),MONTH(TODAY())+1,1)-1)-DAY(C5635)+1))))","v":328.58707557502737},{"$f":"IF(N5635=0,0,IF(X5635>=N5635,(J5635),(N5635-Y5635)))","v":19156.626506024095},{"$f":"DATEDIF(C5635,TODAY(),\"Y\")","v":0},{"$f":"DATEDIF(C5635,TODAY(),\"YM\")","v":2},{"$f":"DATEDIF(C5635,TODAY(),\"md\")+1","v":16},{"$f":"DATEDIF(C5635,TODAY(),\"d\")+1","v":77},{"$f":"IF(N5635=0,\"No\",IF(AE5635>Q5635,\"NO\",\"YES\"))","v":"YES"},"8","278","งานอาคารสถานที่","ห้องการะเกด","นายสมศักดิ์ ล้ำเลิศ","เครื่องผสมสัญญาณเสียง 12 ช่อง ",null,"เครื่องผสมสัญญาณเสียง 12 ช่อง ","-","เลขที่ 12/13 ม. 13 ต.บางตีนเป็ด อ.เมือง จ.เชิงเทรา เลขผู้เสียภาษี -","ใบส่งมอบงาน","-","PSR 023/2561","37/2561 ลว. 7 พ.ค 61","180/61",{"$f":"100/O5635","v":20},"จ้างก่อสร้างปรับปรุงซ่อมแซมห้องการะเกด จำนวน 1 งาน"," "," "," "," "," "," "," "," "," "," "," "," "," ",null," "," "," "," "," "," "," ","05","06","1112"," ",null,"9/23/2018",{"$f":"CONCATENATE(AB5635,\" ปี  \",AC5635,\" เดือน  \",AD5635,\" วัน  \")","v":"0 ปี  2 เดือน  16 วัน  "},{"$f":"A5635","v":6597}]
[{"$f":"A5635+1","v":6598},"61014901","2018-09-06",61,"เฉพาะเจาะจง","งบแผ่นดิน","102202150232","บริษัท ภพทรัพย์ วิศวกรรม (2003) จำกัด","เครื่องควบคุมระบบเสียงแบบดิจิตอล 1 ค.",1,130000,"05.06.1113",{"$f":"IF(BV5636=\"จำหน่าย\",0,SUM(J5636*K5636))","v":130000},{"$f":"IF(K5636<5000,0,M5636)","v":130000},5,{"$f":"DATE(YEAR(C5636)+O5636,MONTH(C5636),DAY(C5636))","v":"2023-09-06"},{"$f":"IF(NOT(OR(ISBLANK(P5636),ISBLANK(C5636))),P5636-C5636,\"\")","v":1826},{"$f":"SLN(N5636,,O5636)","v":26000},{"$f":"SLN(R5636,,12)","v":2166.6666666666665},{"$f":"SLN(N5636,,Q5636)","v":71.193866374589263},{"$f":"IF(N5636=0,0,IF(AE5636<=Q5636,1,0))","v":1},{"$f":"SUM(R5636*U5636/12)","v":2166.6666666666665},{"$f":"IF(N5636=0,0,IF((R5636*AB5636)+(R5636*AC5636/12)>=N5636,N5636-J5636,((R5636*AB5636)+(R5636*AC5636/12))))","v":4333.333333333333},{"$f":"SUM(T5636*U5636)","v":71.193866374589263},{"$f":"IF(N5636=0,0,IF((DATEDIF(C5636,TODAY(),\"d\")+1)*T5636>=N5636,N5636-J5636,(DATEDIF(C5636,TODAY(),\"d\")+1)*T5636))","v":5481.9277108433735},{"$f":"IF(U5636=0,0,IF(OR(DAY(C5636)=1,MONTH(C5636)<>MONTH(TODAY()),YEAR(C5636)<>YEAR(TODAY())),T5636*((DAY(DATE(YEAR(TODAY()),MONTH(TODAY())+1,1)-1))),T5636*((DAY(DATE(YEAR(TODAY()),MONTH(TODAY())+1,1)-1)-DAY(C5636)+1))))","v":2135.8159912376777},{"$f":"IF(N5636=0,0,IF(X5636>=N5636,(J5636),(N5636-Y5636)))","v":124518.07228915663},{"$f":"DATEDIF(C5636,TODAY(),\"Y\")","v":0},{"$f":"DATEDIF(C5636,TODAY(),\"YM\")","v":2},{"$f":"DATEDIF(C5636,TODAY(),\"md\")+1","v":16},{"$f":"DATEDIF(C5636,TODAY(),\"d\")+1","v":77},{"$f":"IF(N5636=0,\"No\",IF(AE5636>Q5636,\"NO\",\"YES\"))","v":"YES"},"8","278","งานอาคารสถานที่","ห้องการะเกด","นายสมศักดิ์ ล้ำเลิศ","เครื่องควบคุมระบบเสียงแบบดิจิตอล ",null,"เครื่องควบคุมระบบเสียงแบบดิจิตอล","-","เลขที่ 12/13 ม. 13 ต.บางตีนเป็ด อ.เมือง จ.เชิงเทรา เลขผู้เสียภาษี -","ใบส่งมอบงาน","-","PSR 023/2561","37/2561 ลว. 7 พ.ค 61","180/61",{"$f":"100/O5636","v":20},"จ้างก่อสร้างปรับปรุงซ่อมแซมห้องการะเกด จำนวน 1 งาน"," "," "," "," "," "," "," "," "," "," "," "," "," ",null," "," "," "," "," "," "," ","05","06","1113"," ",null,"9/23/2018",{"$f":"CONCATENATE(AB5636,\" ปี  \",AC5636,\" เดือน  \",AD5636,\" วัน  \")","v":"0 ปี  2 เดือน  16 วัน  "},{"$f":"A5636","v":6598}]
[{"$f":"A5636+1","v":6599},"61014901","2018-09-06",61,"เฉพาะเจาะจง","งบแผ่นดิน","102202150232","บริษัท ภพทรัพย์ วิศวกรรม (2003) จำกัด","เครื่องควบคุมระบบเสียงแบบดิจิตอลแบบ 2 ช่อง 2 ค.",2,58000,"05.06.1114-1115",{"$f":"IF(BV5637=\"จำหน่าย\",0,SUM(J5637*K5637))","v":116000},{"$f":"IF(K5637<5000,0,M5637)","v":116000},5,{"$f":"DATE(YEAR(C5637)+O5637,MONTH(C5637),DAY(C5637))","v":"2023-09-06"},{"$f":"IF(NOT(OR(ISBLANK(P5637),ISBLANK(C5637))),P5637-C5637,\"\")","v":1826},{"$f":"SLN(N5637,,O5637)","v":23200},{"$f":"SLN(R5637,,12)","v":1933.3333333333333},{"$f":"SLN(N5637,,Q5637)","v":63.526834611171964},{"$f":"IF(N5637=0,0,IF(AE5637<=Q5637,1,0))","v":1},{"$f":"SUM(R5637*U5637/12)","v":1933.3333333333333},{"$f":"IF(N5637=0,0,IF((R5637*AB5637)+(R5637*AC5637/12)>=N5637,N5637-J5637,((R5637*AB5637)+(R5637*AC5637/12))))","v":3866.6666666666665},{"$f":"SUM(T5637*U5637)","v":63.526834611171964},{"$f":"IF(N5637=0,0,IF((DATEDIF(C5637,TODAY(),\"d\")+1)*T5637>=N5637,N5637-J5637,(DATEDIF(C5637,TODAY(),\"d\")+1)*T5637))","v":4891.5662650602408},{"$f":"IF(U5637=0,0,IF(OR(DAY(C5637)=1,MONTH(C5637)<>MONTH(TODAY()),YEAR(C5637)<>YEAR(TODAY())),T5637*((DAY(DATE(YEAR(TODAY()),MONTH(TODAY())+1,1)-1))),T5637*((DAY(DATE(YEAR(TODAY()),MONTH(TODAY())+1,1)-1)-DAY(C5637)+1))))","v":1905.805038335159},{"$f":"IF(N5637=0,0,IF(X5637>=N5637,(J5637),(N5637-Y5637)))","v":111108.43373493975},{"$f":"DATEDIF(C5637,TODAY(),\"Y\")","v":0},{"$f":"DATEDIF(C5637,TODAY(),\"YM\")","v":2},{"$f":"DATEDIF(C5637,TODAY(),\"md\")+1","v":16},{"$f":"DATEDIF(C5637,TODAY(),\"d\")+1","v":77},{"$f":"IF(N5637=0,\"No\",IF(AE5637>Q5637,\"NO\",\"YES\"))","v":"YES"},"8","278","งานอาคารสถานที่","ห้องการะเกด","นายสมศักดิ์ ล้ำเลิศ","เครื่องควบคุมระบบเสียงแบบดิจิตอลแบบ 2 ช่อง ",null,"เครื่องควบคุมระบบเสียงแบบดิจิตอลแบบ 2 ช่อง ","-","เลขที่ 12/13 ม. 13 ต.บางตีนเป็ด อ.เมือง จ.เชิงเทรา เลขผู้เสียภาษี -","ใบส่งมอบงาน","-","PSR 023/2561","37/2561 ลว. 7 พ.ค 61","180/61",{"$f":"100/O5637","v":20},"จ้างก่อสร้างปรับปรุงซ่อมแซมห้องการะเกด จำนวน 1 งาน"," "," "," "," "," "," "," "," "," "," "," "," "," ",null," "," "," "," "," "," "," ","05","06","1114-1115"," ",null,"9/23/2018",{"$f":"CONCATENATE(AB5637,\" ปี  \",AC5637,\" เดือน  \",AD5637,\" วัน  \")","v":"0 ปี  2 เดือน  16 วัน  "},{"$f":"A5637","v":6599}]
[{"$f":"A5637+1","v":6600},"61014901","2018-09-06",61,"เฉพาะเจาะจง","งบแผ่นดิน","102202150232","บริษัท ภพทรัพย์ วิศวกรรม (2003) จำกัด","ลำโพงติดเพดาน 9 ชุด",9,7000,"05.13.992-1000",{"$f":"IF(BV5638=\"จำหน่าย\",0,SUM(J5638*K5638))","v":63000},{"$f":"IF(K5638<5000,0,M5638)","v":63000},5,{"$f":"DATE(YEAR(C5638)+O5638,MONTH(C5638),DAY(C5638))","v":"2023-09-06"},{"$f":"IF(NOT(OR(ISBLANK(P5638),ISBLANK(C5638))),P5638-C5638,\"\")","v":1826},{"$f":"SLN(N5638,,O5638)","v":12600},{"$f":"SLN(R5638,,12)","v":1050},{"$f":"SLN(N5638,,Q5638)","v":34.501642935377873},{"$f":"IF(N5638=0,0,IF(AE5638<=Q5638,1,0))","v":1},{"$f":"SUM(R5638*U5638/12)","v":1050},{"$f":"IF(N5638=0,0,IF((R5638*AB5638)+(R5638*AC5638/12)>=N5638,N5638-J5638,((R5638*AB5638)+(R5638*AC5638/12))))","v":2100},{"$f":"SUM(T5638*U5638)","v":34.501642935377873},{"$f":"IF(N5638=0,0,IF((DATEDIF(C5638,TODAY(),\"d\")+1)*T5638>=N5638,N5638-J5638,(DATEDIF(C5638,TODAY(),\"d\")+1)*T5638))","v":2656.6265060240962},{"$f":"IF(U5638=0,0,IF(OR(DAY(C5638)=1,MONTH(C5638)<>MONTH(TODAY()),YEAR(C5638)<>YEAR(TODAY())),T5638*((DAY(DATE(YEAR(TODAY()),MONTH(TODAY())+1,1)-1))),T5638*((DAY(DATE(YEAR(TODAY()),MONTH(TODAY())+1,1)-1)-DAY(C5638)+1))))","v":1035.0492880613363},{"$f":"IF(N5638=0,0,IF(X5638>=N5638,(J5638),(N5638-Y5638)))","v":60343.373493975902},{"$f":"DATEDIF(C5638,TODAY(),\"Y\")","v":0},{"$f":"DATEDIF(C5638,TODAY(),\"YM\")","v":2},{"$f":"DATEDIF(C5638,TODAY(),\"md\")+1","v":16},{"$f":"DATEDIF(C5638,TODAY(),\"d\")+1","v":77},{"$f":"IF(N5638=0,\"No\",IF(AE5638>Q5638,\"NO\",\"YES\"))","v":"YES"},"10","290","งานอาคารสถานที่","ห้องการะเกด","นายสมศักดิ์ ล้ำเลิศ","ลำโพงติดเพดาน ",null,"ลำโพงติดเพดาน ","-","เลขที่ 12/13 ม. 13 ต.บางตีนเป็ด อ.เมือง จ.เชิงเทรา เลขผู้เสียภาษี -","ใบส่งมอบงาน","-","PSR 023/2561","37/2561 ลว. 7 พ.ค 61","180/61",{"$f":"100/O5638","v":20},"จ้างก่อสร้างปรับปรุงซ่อมแซมห้องการะเกด จำนวน 1 งาน"," "," "," "," "," "," "," "," "," "," "," "," "," ",null," "," "," "," "," "," "," ","05","13","992-1000"," ",null,"9/23/2018",{"$f":"CONCATENATE(AB5638,\" ปี  \",AC5638,\" เดือน  \",AD5638,\" วัน  \")","v":"0 ปี  2 เดือน  16 วัน  "},{"$f":"A5638","v":6600}]
[{"$f":"A5638+1","v":6601},"61014901","2018-09-06",61,"เฉพาะเจาะจง","งบแผ่นดิน","102202150232","บริษัท ภพทรัพย์ วิศวกรรม (2003) จำกัด","ลำโพงหลักแบบลสยอาเรย์ 2 ชุด",2,50000,"05.13.1001-1002",{"$f":"IF(BV5639=\"จำหน่าย\",0,SUM(J5639*K5639))","v":100000},{"$f":"IF(K5639<5000,0,M5639)","v":100000},5,{"$f":"DATE(YEAR(C5639)+O5639,MONTH(C5639),DAY(C5639))","v":"2023-09-06"},{"$f":"IF(NOT(OR(ISBLANK(P5639),ISBLANK(C5639))),P5639-C5639,\"\")","v":1826},{"$f":"SLN(N5639,,O5639)","v":20000},{"$f":"SLN(R5639,,12)","v":1666.6666666666667},{"$f":"SLN(N5639,,Q5639)","v":54.7645125958379},{"$f":"IF(N5639=0,0,IF(AE5639<=Q5639,1,0))","v":1},{"$f":"SUM(R5639*U5639/12)","v":1666.6666666666667},{"$f":"IF(N5639=0,0,IF((R5639*AB5639)+(R5639*AC5639/12)>=N5639,N5639-J5639,((R5639*AB5639)+(R5639*AC5639/12))))","v":3333.3333333333335},{"$f":"SUM(T5639*U5639)","v":54.7645125958379},{"$f":"IF(N5639=0,0,IF((DATEDIF(C5639,TODAY(),\"d\")+1)*T5639>=N5639,N5639-J5639,(DATEDIF(C5639,TODAY(),\"d\")+1)*T5639))","v":4216.8674698795185},{"$f":"IF(U5639=0,0,IF(OR(DAY(C5639)=1,MONTH(C5639)<>MONTH(TODAY()),YEAR(C5639)<>YEAR(TODAY())),T5639*((DAY(DATE(YEAR(TODAY()),MONTH(TODAY())+1,1)-1))),T5639*((DAY(DATE(YEAR(TODAY()),MONTH(TODAY())+1,1)-1)-DAY(C5639)+1))))","v":1642.935377875137},{"$f":"IF(N5639=0,0,IF(X5639>=N5639,(J5639),(N5639-Y5639)))","v":95783.132530120478},{"$f":"DATEDIF(C5639,TODAY(),\"Y\")","v":0},{"$f":"DATEDIF(C5639,TODAY(),\"YM\")","v":2},{"$f":"DATEDIF(C5639,TODAY(),\"md\")+1","v":16},{"$f":"DATEDIF(C5639,TODAY(),\"d\")+1","v":77},{"$f":"IF(N5639=0,\"No\",IF(AE5639>Q5639,\"NO\",\"YES\"))","v":"YES"},"10","290","งานอาคารสถานที่","ห้องการะเกด","นายสมศักดิ์ ล้ำเลิศ","ลำโพงหลักแบบลสยอาเรย์ ",null,"ลำโพงหลักแบบลสยอาเรย์ ","-","เลขที่ 12/13 ม. 13 ต.บางตีนเป็ด อ.เมือง จ.เชิงเทรา เลขผู้เสียภาษี -","ใบส่งมอบงาน","-","PSR 023/2561","37/2561 ลว. 7 พ.ค 61","180/61",{"$f":"100/O5639","v":20},"จ้างก่อสร้างปรับปรุงซ่อมแซมห้องการะเกด จำนวน 1 งาน"," "," "," "," "," "," "," "," "," "," "," "," "," ",null," "," "," "," "," "," "," ","05","13","1001-1002"," ",null,"9/23/2018",{"$f":"CONCATENATE(AB5639,\" ปี  \",AC5639,\" เดือน  \",AD5639,\" วัน  \")","v":"0 ปี  2 เดือน  16 วัน  "},{"$f":"A5639","v":6601}]
[{"$f":"A5639+1","v":6602},"61014901","2018-09-06",61,"เฉพาะเจาะจง","งบแผ่นดิน","102202150232","บริษัท ภพทรัพย์ วิศวกรรม (2003) จำกัด","ลำโพงห้องควบคุม 2 ชุด",2,10000,"05.13.1003-1004",{"$f":"IF(BV5640=\"จำหน่าย\",0,SUM(J5640*K5640))","v":20000},{"$f":"IF(K5640<5000,0,M5640)","v":20000},5,{"$f":"DATE(YEAR(C5640)+O5640,MONTH(C5640),DAY(C5640))","v":"2023-09-06"},{"$f":"IF(NOT(OR(ISBLANK(P5640),ISBLANK(C5640))),P5640-C5640,\"\")","v":1826},{"$f":"SLN(N5640,,O5640)","v":4000},{"$f":"SLN(R5640,,12)","v":333.33333333333331},{"$f":"SLN(N5640,,Q5640)","v":10.95290251916758},{"$f":"IF(N5640=0,0,IF(AE5640<=Q5640,1,0))","v":1},{"$f":"SUM(R5640*U5640/12)","v":333.33333333333331},{"$f":"IF(N5640=0,0,IF((R5640*AB5640)+(R5640*AC5640/12)>=N5640,N5640-J5640,((R5640*AB5640)+(R5640*AC5640/12))))","v":666.66666666666663},{"$f":"SUM(T5640*U5640)","v":10.95290251916758},{"$f":"IF(N5640=0,0,IF((DATEDIF(C5640,TODAY(),\"d\")+1)*T5640>=N5640,N5640-J5640,(DATEDIF(C5640,TODAY(),\"d\")+1)*T5640))","v":843.37349397590367},{"$f":"IF(U5640=0,0,IF(OR(DAY(C5640)=1,MONTH(C5640)<>MONTH(TODAY()),YEAR(C5640)<>YEAR(TODAY())),T5640*((DAY(DATE(YEAR(TODAY()),MONTH(TODAY())+1,1)-1))),T5640*((DAY(DATE(YEAR(TODAY()),MONTH(TODAY())+1,1)-1)-DAY(C5640)+1))))","v":328.58707557502737},{"$f":"IF(N5640=0,0,IF(X5640>=N5640,(J5640),(N5640-Y5640)))","v":19156.626506024095},{"$f":"DATEDIF(C5640,TODAY(),\"Y\")","v":0},{"$f":"DATEDIF(C5640,TODAY(),\"YM\")","v":2},{"$f":"DATEDIF(C5640,TODAY(),\"md\")+1","v":16},{"$f":"DATEDIF(C5640,TODAY(),\"d\")+1","v":77},{"$f":"IF(N5640=0,\"No\",IF(AE5640>Q5640,\"NO\",\"YES\"))","v":"YES"},"10","290","งานอาคารสถานที่","ห้องการะเกด","นายสมศักดิ์ ล้ำเลิศ","ลำโพงห้องควบคุม ",null,"ลำโพงห้องควบคุม ","-","เลขที่ 12/13 ม. 13 ต.บางตีนเป็ด อ.เมือง จ.เชิงเทรา เลขผู้เสียภาษี -","ใบส่งมอบงาน","-","PSR 023/2561","37/2561 ลว. 7 พ.ค 61","180/61",{"$f":"100/O5640","v":20},"จ้างก่อสร้างปรับปรุงซ่อมแซมห้องการะเกด จำนวน 1 งาน"," "," "," "," "," "," "," "," "," "," "," "," "," ",null," "," "," "," "," "," "," ","05","13","1003-1004"," ",null,"9/23/2018",{"$f":"CONCATENATE(AB5640,\" ปี  \",AC5640,\" เดือน  \",AD5640,\" วัน  \")","v":"0 ปี  2 เดือน  16 วัน  "},{"$f":"A5640","v":6602}]
[{"$f":"A5640+1","v":6603},"61014901","2018-09-06",61,"เฉพาะเจาะจง","งบแผ่นดิน","102202150232","บริษัท ภพทรัพย์ วิศวกรรม (2003) จำกัด","เครื่องเล่น cd/mp3 1ค.",1,3000,"06.51.89",{"$f":"IF(BV5641=\"จำหน่าย\",0,SUM(J5641*K5641))","v":3000},{"$f":"IF(K5641<5000,0,M5641)","v":0},5,{"$f":"DATE(YEAR(C5641)+O5641,MONTH(C5641),DAY(C5641))","v":"2023-09-06"},{"$f":"IF(NOT(OR(ISBLANK(P5641),ISBLANK(C5641))),P5641-C5641,\"\")","v":1826},{"$f":"SLN(N5641,,O5641)","v":0},{"$f":"SLN(R5641,,12)","v":0},{"$f":"SLN(N5641,,Q5641)","v":0},{"$f":"IF(N5641=0,0,IF(AE5641<=Q5641,1,0))","v":0},{"$f":"SUM(R5641*U5641/12)","v":0},{"$f":"IF(N5641=0,0,IF((R5641*AB5641)+(R5641*AC5641/12)>=N5641,N5641-J5641,((R5641*AB5641)+(R5641*AC5641/12))))","v":0},{"$f":"SUM(T5641*U5641)","v":0},{"$f":"IF(N5641=0,0,IF((DATEDIF(C5641,TODAY(),\"d\")+1)*T5641>=N5641,N5641-J5641,(DATEDIF(C5641,TODAY(),\"d\")+1)*T5641))","v":0},{"$f":"IF(U5641=0,0,IF(OR(DAY(C5641)=1,MONTH(C5641)<>MONTH(TODAY()),YEAR(C5641)<>YEAR(TODAY())),T5641*((DAY(DATE(YEAR(TODAY()),MONTH(TODAY())+1,1)-1))),T5641*((DAY(DATE(YEAR(TODAY()),MONTH(TODAY())+1,1)-1)-DAY(C5641)+1))))","v":0},{"$f":"IF(N5641=0,0,IF(X5641>=N5641,(J5641),(N5641-Y5641)))","v":0},{"$f":"DATEDIF(C5641,TODAY(),\"Y\")","v":0},{"$f":"DATEDIF(C5641,TODAY(),\"YM\")","v":2},{"$f":"DATEDIF(C5641,TODAY(),\"md\")+1","v":16},{"$f":"DATEDIF(C5641,TODAY(),\"d\")+1","v":77},{"$f":"IF(N5641=0,\"No\",IF(AE5641>Q5641,\"NO\",\"YES\"))","v":"No"},"8","299","งานอาคารสถานที่","ห้องการะเกด","นายสมศักดิ์ ล้ำเลิศ","เครื่องเล่น cd/mp3 ",null,"เครื่องเล่น cd/mp3 ","-","เลขที่ 12/13 ม. 13 ต.บางตีนเป็ด อ.เมือง จ.เชิงเทรา เลขผู้เสียภาษี -","ใบส่งมอบงาน","-","PSR 023/2561","37/2561 ลว. 7 พ.ค 61","180/61",{"$f":"100/O5641","v":20},"จ้างก่อสร้างปรับปรุงซ่อมแซมห้องการะเกด จำนวน 1 งาน"," "," "," "," "," "," "," "," "," "," "," "," "," ",null," "," "," "," "," "," "," ","06","51","89"," ",null,"9/23/2018",{"$f":"CONCATENATE(AB5641,\" ปี  \",AC5641,\" เดือน  \",AD5641,\" วัน  \")","v":"0 ปี  2 เดือน  16 วัน  "},{"$f":"A5641","v":6603}]
[{"$f":"A5641+1","v":6604},"61014901","2018-09-06",61,"เฉพาะเจาะจง","งบแผ่นดิน","102202150232","บริษัท ภพทรัพย์ วิศวกรรม (2003) จำกัด","ขาไมค์โคโฟนแบบตั้งโต๊ะ 2 ชุด",2,600,"05.12.879-880",{"$f":"IF(BV5642=\"จำหน่าย\",0,SUM(J5642*K5642))","v":1200},{"$f":"IF(K5642<5000,0,M5642)","v":0},5,{"$f":"DATE(YEAR(C5642)+O5642,MONTH(C5642),DAY(C5642))","v":"2023-09-06"},{"$f":"IF(NOT(OR(ISBLANK(P5642),ISBLANK(C5642))),P5642-C5642,\"\")","v":1826},{"$f":"SLN(N5642,,O5642)","v":0},{"$f":"SLN(R5642,,12)","v":0},{"$f":"SLN(N5642,,Q5642)","v":0},{"$f":"IF(N5642=0,0,IF(AE5642<=Q5642,1,0))","v":0},{"$f":"SUM(R5642*U5642/12)","v":0},{"$f":"IF(N5642=0,0,IF((R5642*AB5642)+(R5642*AC5642/12)>=N5642,N5642-J5642,((R5642*AB5642)+(R5642*AC5642/12))))","v":0},{"$f":"SUM(T5642*U5642)","v":0},{"$f":"IF(N5642=0,0,IF((DATEDIF(C5642,TODAY(),\"d\")+1)*T5642>=N5642,N5642-J5642,(DATEDIF(C5642,TODAY(),\"d\")+1)*T5642))","v":0},{"$f":"IF(U5642=0,0,IF(OR(DAY(C5642)=1,MONTH(C5642)<>MONTH(TODAY()),YEAR(C5642)<>YEAR(TODAY())),T5642*((DAY(DATE(YEAR(TODAY()),MONTH(TODAY())+1,1)-1))),T5642*((DAY(DATE(YEAR(TODAY()),MONTH(TODAY())+1,1)-1)-DAY(C5642)+1))))","v":0},{"$f":"IF(N5642=0,0,IF(X5642>=N5642,(J5642),(N5642-Y5642)))","v":0},{"$f":"DATEDIF(C5642,TODAY(),\"Y\")","v":0},{"$f":"DATEDIF(C5642,TODAY(),\"YM\")","v":2},{"$f":"DATEDIF(C5642,TODAY(),\"md\")+1","v":16},{"$f":"DATEDIF(C5642,TODAY(),\"d\")+1","v":77},{"$f":"IF(N5642=0,\"No\",IF(AE5642>Q5642,\"NO\",\"YES\"))","v":"No"},"6","224","งานอาคารสถานที่","ห้องการะเกด","นายสมศักดิ์ ล้ำเลิศ","ขาไมค์โคโฟนแบบตั้งโต๊ะ ",null,"ขาไมค์โคโฟนแบบตั้งโต๊ะ ","-","เลขที่ 12/13 ม. 13 ต.บางตีนเป็ด อ.เมือง จ.เชิงเทรา เลขผู้เสียภาษี -","ใบส่งมอบงาน","-","PSR 023/2561","37/2561 ลว. 7 พ.ค 61","180/61",{"$f":"100/O5642","v":20},"จ้างก่อสร้างปรับปรุงซ่อมแซมห้องการะเกด จำนวน 1 งาน"," "," "," "," "," "," "," "," "," "," "," "," "," ",null," "," "," "," "," "," "," ","05","12","879-880"," ",null,"9/23/2018",{"$f":"CONCATENATE(AB5642,\" ปี  \",AC5642,\" เดือน  \",AD5642,\" วัน  \")","v":"0 ปี  2 เดือน  16 วัน  "},{"$f":"A5642","v":6604}]
[{"$f":"A5642+1","v":6605},"61014901","2018-09-06",61,"เฉพาะเจาะจง","งบแผ่นดิน","102202150232","บริษัท ภพทรัพย์ วิศวกรรม (2003) จำกัด","ขาไมค์โครโฟนแบบตั้งพื้น 2 ชุด",2,1200,"05.12.881-882",{"$f":"IF(BV5643=\"จำหน่าย\",0,SUM(J5643*K5643))","v":2400},{"$f":"IF(K5643<5000,0,M5643)","v":0},5,{"$f":"DATE(YEAR(C5643)+O5643,MONTH(C5643),DAY(C5643))","v":"2023-09-06"},{"$f":"IF(NOT(OR(ISBLANK(P5643),ISBLANK(C5643))),P5643-C5643,\"\")","v":1826},{"$f":"SLN(N5643,,O5643)","v":0},{"$f":"SLN(R5643,,12)","v":0},{"$f":"SLN(N5643,,Q5643)","v":0},{"$f":"IF(N5643=0,0,IF(AE5643<=Q5643,1,0))","v":0},{"$f":"SUM(R5643*U5643/12)","v":0},{"$f":"IF(N5643=0,0,IF((R5643*AB5643)+(R5643*AC5643/12)>=N5643,N5643-J5643,((R5643*AB5643)+(R5643*AC5643/12))))","v":0},{"$f":"SUM(T5643*U5643)","v":0},{"$f":"IF(N5643=0,0,IF((DATEDIF(C5643,TODAY(),\"d\")+1)*T5643>=N5643,N5643-J5643,(DATEDIF(C5643,TODAY(),\"d\")+1)*T5643))","v":0},{"$f":"IF(U5643=0,0,IF(OR(DAY(C5643)=1,MONTH(C5643)<>MONTH(TODAY()),YEAR(C5643)<>YEAR(TODAY())),T5643*((DAY(DATE(YEAR(TODAY()),MONTH(TODAY())+1,1)-1))),T5643*((DAY(DATE(YEAR(TODAY()),MONTH(TODAY())+1,1)-1)-DAY(C5643)+1))))","v":0},{"$f":"IF(N5643=0,0,IF(X5643>=N5643,(J5643),(N5643-Y5643)))","v":0},{"$f":"DATEDIF(C5643,TODAY(),\"Y\")","v":0},{"$f":"DATEDIF(C5643,TODAY(),\"YM\")","v":2},{"$f":"DATEDIF(C5643,TODAY(),\"md\")+1","v":16},{"$f":"DATEDIF(C5643,TODAY(),\"d\")+1","v":77},{"$f":"IF(N5643=0,\"No\",IF(AE5643>Q5643,\"NO\",\"YES\"))","v":"No"},"6","224","งานอาคารสถานที่","ห้องการะเกด","นายสมศักดิ์ ล้ำเลิศ","ขาไมค์โครโฟนแบบตั้งพื้น ",null,"ขาไมค์โครโฟนแบบตั้งพื้น ","-","เลขที่ 12/13 ม. 13 ต.บางตีนเป็ด อ.เมือง จ.เชิงเทรา เลขผู้เสียภาษี -","ใบส่งมอบงาน","-","PSR 023/2561","37/2561 ลว. 7 พ.ค 61","180/61",{"$f":"100/O5643","v":20},"จ้างก่อสร้างปรับปรุงซ่อมแซมห้องการะเกด จำนวน 1 งาน"," "," "," "," "," "," "," "," "," "," "," "," "," ",null," "," "," "," "," "," "," ","05","12","881-882"," ",null,"9/23/2018",{"$f":"CONCATENATE(AB5643,\" ปี  \",AC5643,\" เดือน  \",AD5643,\" วัน  \")","v":"0 ปี  2 เดือน  16 วัน  "},{"$f":"A5643","v":6605}]
[{"$f":"A5643+1","v":6606},"61014901","2018-09-06",61,"เฉพาะเจาะจง","งบแผ่นดิน","102202150232","บริษัท ภพทรัพย์ วิศวกรรม (2003) จำกัด","เครื่องรับสัญญาณ Hdmi เป็น Hdbase-t 2 ค.",2,32000,"06.49.08-09",{"$f":"IF(BV5644=\"จำหน่าย\",0,SUM(J5644*K5644))","v":64000},{"$f":"IF(K5644<5000,0,M5644)","v":64000},3,{"$f":"DATE(YEAR(C5644)+O5644,MONTH(C5644),DAY(C5644))","v":"2021-09-06"},{"$f":"IF(NOT(OR(ISBLANK(P5644),ISBLANK(C5644))),P5644-C5644,\"\")","v":1096},{"$f":"SLN(N5644,,O5644)","v":21333.333333333332},{"$f":"SLN(R5644,,12)","v":1777.7777777777776},{"$f":"SLN(N5644,,Q5644)","v":58.394160583941606},{"$f":"IF(N5644=0,0,IF(AE5644<=Q5644,1,0))","v":1},{"$f":"SUM(R5644*U5644/12)","v":1777.7777777777776},{"$f":"IF(N5644=0,0,IF((R5644*AB5644)+(R5644*AC5644/12)>=N5644,N5644-J5644,((R5644*AB5644)+(R5644*AC5644/12))))","v":3555.5555555555552},{"$f":"SUM(T5644*U5644)","v":58.394160583941606},{"$f":"IF(N5644=0,0,IF((DATEDIF(C5644,TODAY(),\"d\")+1)*T5644>=N5644,N5644-J5644,(DATEDIF(C5644,TODAY(),\"d\")+1)*T5644))","v":4496.350364963504},{"$f":"IF(U5644=0,0,IF(OR(DAY(C5644)=1,MONTH(C5644)<>MONTH(TODAY()),YEAR(C5644)<>YEAR(TODAY())),T5644*((DAY(DATE(YEAR(TODAY()),MONTH(TODAY())+1,1)-1))),T5644*((DAY(DATE(YEAR(TODAY()),MONTH(TODAY())+1,1)-1)-DAY(C5644)+1))))","v":1751.8248175182482},{"$f":"IF(N5644=0,0,IF(X5644>=N5644,(J5644),(N5644-Y5644)))","v":59503.649635036498},{"$f":"DATEDIF(C5644,TODAY(),\"Y\")","v":0},{"$f":"DATEDIF(C5644,TODAY(),\"YM\")","v":2},{"$f":"DATEDIF(C5644,TODAY(),\"md\")+1","v":16},{"$f":"DATEDIF(C5644,TODAY(),\"d\")+1","v":77},{"$f":"IF(N5644=0,\"No\",IF(AE5644>Q5644,\"NO\",\"YES\"))","v":"YES"},"8","284","งานอาคารสถานที่","ห้องการะเกด","นายสมศักดิ์ ล้ำเลิศ","เครื่องรับสัญญาณ Hdmi เป็น Hdbase-t ",null,"เครื่องรับสัญญาณ Hdmi เป็น Hdbase-t ","-","เลขที่ 12/13 ม. 13 ต.บางตีนเป็ด อ.เมือง จ.เชิงเทรา เลขผู้เสียภาษี -","ใบส่งมอบงาน","-","PSR 023/2561","37/2561 ลว. 7 พ.ค 61","180/61",{"$f":"100/O5644","v":33.333333333333336},"จ้างก่อสร้างปรับปรุงซ่อมแซมห้องการะเกด จำนวน 1 งาน"," "," "," "," "," "," "," "," "," "," "," "," "," ",null," "," "," "," "," "," "," ","06","49","08-09"," ",null,"9/23/2018",{"$f":"CONCATENATE(AB5644,\" ปี  \",AC5644,\" เดือน  \",AD5644,\" วัน  \")","v":"0 ปี  2 เดือน  16 วัน  "},{"$f":"A5644","v":6606}]
[{"$f":"A5644+1","v":6607},"61014901","2018-09-06",61,"เฉพาะเจาะจง","งบแผ่นดิน","102202150232","บริษัท ภพทรัพย์ วิศวกรรม (2003) จำกัด","เครื่องรับสัญญาณ Hdbase-t เป็น Hdmi 2 ค.",2,14000,"06.49.10-11",{"$f":"IF(BV5645=\"จำหน่าย\",0,SUM(J5645*K5645))","v":28000},{"$f":"IF(K5645<5000,0,M5645)","v":28000},5,{"$f":"DATE(YEAR(C5645)+O5645,MONTH(C5645),DAY(C5645))","v":"2023-09-06"},{"$f":"IF(NOT(OR(ISBLANK(P5645),ISBLANK(C5645))),P5645-C5645,\"\")","v":1826},{"$f":"SLN(N5645,,O5645)","v":5600},{"$f":"SLN(R5645,,12)","v":466.66666666666669},{"$f":"SLN(N5645,,Q5645)","v":15.334063526834612},{"$f":"IF(N5645=0,0,IF(AE5645<=Q5645,1,0))","v":1},{"$f":"SUM(R5645*U5645/12)","v":466.66666666666669},{"$f":"IF(N5645=0,0,IF((R5645*AB5645)+(R5645*AC5645/12)>=N5645,N5645-J5645,((R5645*AB5645)+(R5645*AC5645/12))))","v":933.33333333333337},{"$f":"SUM(T5645*U5645)","v":15.334063526834612},{"$f":"IF(N5645=0,0,IF((DATEDIF(C5645,TODAY(),\"d\")+1)*T5645>=N5645,N5645-J5645,(DATEDIF(C5645,TODAY(),\"d\")+1)*T5645))","v":1180.7228915662652},{"$f":"IF(U5645=0,0,IF(OR(DAY(C5645)=1,MONTH(C5645)<>MONTH(TODAY()),YEAR(C5645)<>YEAR(TODAY())),T5645*((DAY(DATE(YEAR(TODAY()),MONTH(TODAY())+1,1)-1))),T5645*((DAY(DATE(YEAR(TODAY()),MONTH(TODAY())+1,1)-1)-DAY(C5645)+1))))","v":460.02190580503839},{"$f":"IF(N5645=0,0,IF(X5645>=N5645,(J5645),(N5645-Y5645)))","v":26819.277108433736},{"$f":"DATEDIF(C5645,TODAY(),\"Y\")","v":0},{"$f":"DATEDIF(C5645,TODAY(),\"YM\")","v":2},{"$f":"DATEDIF(C5645,TODAY(),\"md\")+1","v":16},{"$f":"DATEDIF(C5645,TODAY(),\"d\")+1","v":77},{"$f":"IF(N5645=0,\"No\",IF(AE5645>Q5645,\"NO\",\"YES\"))","v":"YES"},"8","284","งานอาคารสถานที่","ห้องการะเกด","นายสมศักดิ์ ล้ำเลิศ","เครื่องรับสัญญาณ Hdbase-t เป็น Hdmi ",null,"เครื่องรับสัญญาณ Hdbase-t เป็น Hdmi ","-","เลขที่ 12/13 ม. 13 ต.บางตีนเป็ด อ.เมือง จ.เชิงเทรา เลขผู้เสียภาษี -","ใบส่งมอบงาน","-","PSR 023/2561","37/2561 ลว. 7 พ.ค 61","180/61",{"$f":"100/O5645","v":20},"จ้างก่อสร้างปรับปรุงซ่อมแซมห้องการะเกด จำนวน 1 งาน"," "," "," "," "," "," "," "," "," "," "," "," "," ",null," "," "," "," "," "," "," ","06","49","10-11"," ",null,"9/23/2018",{"$f":"CONCATENATE(AB5645,\" ปี  \",AC5645,\" เดือน  \",AD5645,\" วัน  \")","v":"0 ปี  2 เดือน  16 วัน  "},{"$f":"A5645","v":6607}]
[{"$f":"A5645+1","v":6608},"61014901","2018-09-06",61,"เฉพาะเจาะจง","งบแผ่นดิน","102202150232","บริษัท ภพทรัพย์ วิศวกรรม (2003) จำกัด","เครื่องรับส่งสัญญาณภาพ 1 ค.",1,4800,"06.49.04",{"$f":"IF(BV5646=\"จำหน่าย\",0,SUM(J5646*K5646))","v":4800},{"$f":"IF(K5646<5000,0,M5646)","v":0},5,{"$f":"DATE(YEAR(C5646)+O5646,MONTH(C5646),DAY(C5646))","v":"2023-09-06"},{"$f":"IF(NOT(OR(ISBLANK(P5646),ISBLANK(C5646))),P5646-C5646,\"\")","v":1826},{"$f":"SLN(N5646,,O5646)","v":0},{"$f":"SLN(R5646,,12)","v":0},{"$f":"SLN(N5646,,Q5646)","v":0},{"$f":"IF(N5646=0,0,IF(AE5646<=Q5646,1,0))","v":0},{"$f":"SUM(R5646*U5646/12)","v":0},{"$f":"IF(N5646=0,0,IF((R5646*AB5646)+(R5646*AC5646/12)>=N5646,N5646-J5646,((R5646*AB5646)+(R5646*AC5646/12))))","v":0},{"$f":"SUM(T5646*U5646)","v":0},{"$f":"IF(N5646=0,0,IF((DATEDIF(C5646,TODAY(),\"d\")+1)*T5646>=N5646,N5646-J5646,(DATEDIF(C5646,TODAY(),\"d\")+1)*T5646))","v":0},{"$f":"IF(U5646=0,0,IF(OR(DAY(C5646)=1,MONTH(C5646)<>MONTH(TODAY()),YEAR(C5646)<>YEAR(TODAY())),T5646*((DAY(DATE(YEAR(TODAY()),MONTH(TODAY())+1,1)-1))),T5646*((DAY(DATE(YEAR(TODAY()),MONTH(TODAY())+1,1)-1)-DAY(C5646)+1))))","v":0},{"$f":"IF(N5646=0,0,IF(X5646>=N5646,(J5646),(N5646-Y5646)))","v":0},{"$f":"DATEDIF(C5646,TODAY(),\"Y\")","v":0},{"$f":"DATEDIF(C5646,TODAY(),\"YM\")","v":2},{"$f":"DATEDIF(C5646,TODAY(),\"md\")+1","v":16},{"$f":"DATEDIF(C5646,TODAY(),\"d\")+1","v":77},{"$f":"IF(N5646=0,\"No\",IF(AE5646>Q5646,\"NO\",\"YES\"))","v":"No"},"8","284","งานอาคารสถานที่","ห้องการะเกด","นายสมศักดิ์ ล้ำเลิศ","เครื่องรับส่งสัญญาณภาพ ",null,"เครื่องรับส่งสัญญาณภาพ ","-","เลขที่ 12/13 ม. 13 ต.บางตีนเป็ด อ.เมือง จ.เชิงเทรา เลขผู้เสียภาษี -","ใบส่งมอบงาน","-","PSR 023/2561","37/2561 ลว. 7 พ.ค 61","180/61",{"$f":"100/O5646","v":20},"จ้างก่อสร้างปรับปรุงซ่อมแซมห้องการะเกด จำนวน 1 งาน"," "," "," "," "," "," "," "," "," "," "," "," "," ",null," "," "," "," "," "," "," ","06","49","04"," ",null,"9/23/2018",{"$f":"CONCATENATE(AB5646,\" ปี  \",AC5646,\" เดือน  \",AD5646,\" วัน  \")","v":"0 ปี  2 เดือน  16 วัน  "},{"$f":"A5646","v":6608}]
[{"$f":"A5646+1","v":6609},"61014901","2018-09-06",61,"เฉพาะเจาะจง","งบแผ่นดิน","102202150232","บริษัท ภพทรัพย์ วิศวกรรม (2003) จำกัด","เครื่องแยกสัญญาณเสียงดิจิตอลเป็นอนาล็อก 1 ค.",1,2000,"06.49.07",{"$f":"IF(BV5647=\"จำหน่าย\",0,SUM(J5647*K5647))","v":2000},{"$f":"IF(K5647<5000,0,M5647)","v":0},5,{"$f":"DATE(YEAR(C5647)+O5647,MONTH(C5647),DAY(C5647))","v":"2023-09-06"},{"$f":"IF(NOT(OR(ISBLANK(P5647),ISBLANK(C5647))),P5647-C5647,\"\")","v":1826},{"$f":"SLN(N5647,,O5647)","v":0},{"$f":"SLN(R5647,,12)","v":0},{"$f":"SLN(N5647,,Q5647)","v":0},{"$f":"IF(N5647=0,0,IF(AE5647<=Q5647,1,0))","v":0},{"$f":"SUM(R5647*U5647/12)","v":0},{"$f":"IF(N5647=0,0,IF((R5647*AB5647)+(R5647*AC5647/12)>=N5647,N5647-J5647,((R5647*AB5647)+(R5647*AC5647/12))))","v":0},{"$f":"SUM(T5647*U5647)","v":0},{"$f":"IF(N5647=0,0,IF((DATEDIF(C5647,TODAY(),\"d\")+1)*T5647>=N5647,N5647-J5647,(DATEDIF(C5647,TODAY(),\"d\")+1)*T5647))","v":0},{"$f":"IF(U5647=0,0,IF(OR(DAY(C5647)=1,MONTH(C5647)<>MONTH(TODAY()),YEAR(C5647)<>YEAR(TODAY())),T5647*((DAY(DATE(YEAR(TODAY()),MONTH(TODAY())+1,1)-1))),T5647*((DAY(DATE(YEAR(TODAY()),MONTH(TODAY())+1,1)-1)-DAY(C5647)+1))))","v":0},{"$f":"IF(N5647=0,0,IF(X5647>=N5647,(J5647),(N5647-Y5647)))","v":0},{"$f":"DATEDIF(C5647,TODAY(),\"Y\")","v":0},{"$f":"DATEDIF(C5647,TODAY(),\"YM\")","v":2},{"$f":"DATEDIF(C5647,TODAY(),\"md\")+1","v":16},{"$f":"DATEDIF(C5647,TODAY(),\"d\")+1","v":77},{"$f":"IF(N5647=0,\"No\",IF(AE5647>Q5647,\"NO\",\"YES\"))","v":"No"},"8","284","งานอาคารสถานที่","ห้องการะเกด","นายสมศักดิ์ ล้ำเลิศ","เครื่องแยกสัญญาณเสียงดิจิตอลเป็นอนาล็อก ",null,"เครื่องแยกสัญญาณเสียงดิจิตอลเป็นอนาล็อก ","-","เลขที่ 12/13 ม. 13 ต.บางตีนเป็ด อ.เมือง จ.เชิงเทรา เลขผู้เสียภาษี -","ใบส่งมอบงาน","-","PSR 023/2561","37/2561 ลว. 7 พ.ค 61","180/61",{"$f":"100/O5647","v":20},"จ้างก่อสร้างปรับปรุงซ่อมแซมห้องการะเกด จำนวน 1 งาน"," "," "," "," "," "," "," "," "," "," "," "," "," ",null," "," "," "," "," "," "," ","06","49","07"," ",null,"9/23/2018",{"$f":"CONCATENATE(AB5647,\" ปี  \",AC5647,\" เดือน  \",AD5647,\" วัน  \")","v":"0 ปี  2 เดือน  16 วัน  "},{"$f":"A5647","v":6609}]
[{"$f":"A5647+1","v":6610},"61014901","2018-09-06",61,"เฉพาะเจาะจง","งบแผ่นดิน","102202150232","บริษัท ภพทรัพย์ วิศวกรรม (2003) จำกัด","เครื่องสลับสัญญาณภาพและเสียง แบบ Hdmi 1 ค.",1,40000,"06.49.05",{"$f":"IF(BV5648=\"จำหน่าย\",0,SUM(J5648*K5648))","v":40000},{"$f":"IF(K5648<5000,0,M5648)","v":40000},5,{"$f":"DATE(YEAR(C5648)+O5648,MONTH(C5648),DAY(C5648))","v":"2023-09-06"},{"$f":"IF(NOT(OR(ISBLANK(P5648),ISBLANK(C5648))),P5648-C5648,\"\")","v":1826},{"$f":"SLN(N5648,,O5648)","v":8000},{"$f":"SLN(R5648,,12)","v":666.66666666666663},{"$f":"SLN(N5648,,Q5648)","v":21.90580503833516},{"$f":"IF(N5648=0,0,IF(AE5648<=Q5648,1,0))","v":1},{"$f":"SUM(R5648*U5648/12)","v":666.66666666666663},{"$f":"IF(N5648=0,0,IF((R5648*AB5648)+(R5648*AC5648/12)>=N5648,N5648-J5648,((R5648*AB5648)+(R5648*AC5648/12))))","v":1333.3333333333333},{"$f":"SUM(T5648*U5648)","v":21.90580503833516},{"$f":"IF(N5648=0,0,IF((DATEDIF(C5648,TODAY(),\"d\")+1)*T5648>=N5648,N5648-J5648,(DATEDIF(C5648,TODAY(),\"d\")+1)*T5648))","v":1686.7469879518073},{"$f":"IF(U5648=0,0,IF(OR(DAY(C5648)=1,MONTH(C5648)<>MONTH(TODAY()),YEAR(C5648)<>YEAR(TODAY())),T5648*((DAY(DATE(YEAR(TODAY()),MONTH(TODAY())+1,1)-1))),T5648*((DAY(DATE(YEAR(TODAY()),MONTH(TODAY())+1,1)-1)-DAY(C5648)+1))))","v":657.17415115005474},{"$f":"IF(N5648=0,0,IF(X5648>=N5648,(J5648),(N5648-Y5648)))","v":38313.25301204819},{"$f":"DATEDIF(C5648,TODAY(),\"Y\")","v":0},{"$f":"DATEDIF(C5648,TODAY(),\"YM\")","v":2},{"$f":"DATEDIF(C5648,TODAY(),\"md\")+1","v":16},{"$f":"DATEDIF(C5648,TODAY(),\"d\")+1","v":77},{"$f":"IF(N5648=0,\"No\",IF(AE5648>Q5648,\"NO\",\"YES\"))","v":"YES"},"8","284","งานอาคารสถานที่","ห้องการะเกด","นายสมศักดิ์ ล้ำเลิศ","เครื่องสลับสัญญาณภาพและเสียง แบบ Hdmi ",null,"เครื่องสลับสัญญาณภาพและเสียง แบบ Hdmi ","-","เลขที่ 12/13 ม. 13 ต.บางตีนเป็ด อ.เมือง จ.เชิงเทรา เลขผู้เสียภาษี -","ใบส่งมอบงาน","-","PSR 023/2561","37/2561 ลว. 7 พ.ค 61","180/61",{"$f":"100/O5648","v":20},"จ้างก่อสร้างปรับปรุงซ่อมแซมห้องการะเกด จำนวน 1 งาน"," "," "," "," "," "," "," "," "," "," "," "," "," ",null," "," "," "," "," "," "," ","06","49","05"," ",null,"9/23/2018",{"$f":"CONCATENATE(AB5648,\" ปี  \",AC5648,\" เดือน  \",AD5648,\" วัน  \")","v":"0 ปี  2 เดือน  16 วัน  "},{"$f":"A5648","v":6610}]
[{"$f":"A5648+1","v":6611},"61014901","2018-09-06",61,"เฉพาะเจาะจง","งบแผ่นดิน","102202150232","บริษัท ภพทรัพย์ วิศวกรรม (2003) จำกัด","เครื่องรับส่งสัญญาณภาพแบบไร้สาย 1 ค.",1,48000,"06.49.06",{"$f":"IF(BV5649=\"จำหน่าย\",0,SUM(J5649*K5649))","v":48000},{"$f":"IF(K5649<5000,0,M5649)","v":48000},5,{"$f":"DATE(YEAR(C5649)+O5649,MONTH(C5649),DAY(C5649))","v":"2023-09-06"},{"$f":"IF(NOT(OR(ISBLANK(P5649),ISBLANK(C5649))),P5649-C5649,\"\")","v":1826},{"$f":"SLN(N5649,,O5649)","v":9600},{"$f":"SLN(R5649,,12)","v":800},{"$f":"SLN(N5649,,Q5649)","v":26.286966046002192},{"$f":"IF(N5649=0,0,IF(AE5649<=Q5649,1,0))","v":1},{"$f":"SUM(R5649*U5649/12)","v":800},{"$f":"IF(N5649=0,0,IF((R5649*AB5649)+(R5649*AC5649/12)>=N5649,N5649-J5649,((R5649*AB5649)+(R5649*AC5649/12))))","v":1600},{"$f":"SUM(T5649*U5649)","v":26.286966046002192},{"$f":"IF(N5649=0,0,IF((DATEDIF(C5649,TODAY(),\"d\")+1)*T5649>=N5649,N5649-J5649,(DATEDIF(C5649,TODAY(),\"d\")+1)*T5649))","v":2024.0963855421687},{"$f":"IF(U5649=0,0,IF(OR(DAY(C5649)=1,MONTH(C5649)<>MONTH(TODAY()),YEAR(C5649)<>YEAR(TODAY())),T5649*((DAY(DATE(YEAR(TODAY()),MONTH(TODAY())+1,1)-1))),T5649*((DAY(DATE(YEAR(TODAY()),MONTH(TODAY())+1,1)-1)-DAY(C5649)+1))))","v":788.60898138006576},{"$f":"IF(N5649=0,0,IF(X5649>=N5649,(J5649),(N5649-Y5649)))","v":45975.903614457828},{"$f":"DATEDIF(C5649,TODAY(),\"Y\")","v":0},{"$f":"DATEDIF(C5649,TODAY(),\"YM\")","v":2},{"$f":"DATEDIF(C5649,TODAY(),\"md\")+1","v":16},{"$f":"DATEDIF(C5649,TODAY(),\"d\")+1","v":77},{"$f":"IF(N5649=0,\"No\",IF(AE5649>Q5649,\"NO\",\"YES\"))","v":"YES"},"8","284","งานอาคารสถานที่","ห้องการะเกด","นายสมศักดิ์ ล้ำเลิศ","เครื่องรับส่งสัญญาณภาพแบบไร้สาย ",null,"เครื่องรับส่งสัญญาณภาพแบบไร้สาย ","-","เลขที่ 12/13 ม. 13 ต.บางตีนเป็ด อ.เมือง จ.เชิงเทรา เลขผู้เสียภาษี -","ใบส่งมอบงาน","-","PSR 023/2561","37/2561 ลว. 7 พ.ค 61","180/61",{"$f":"100/O5649","v":20},"จ้างก่อสร้างปรับปรุงซ่อมแซมห้องการะเกด จำนวน 1 งาน"," "," "," "," "," "," "," "," "," "," "," "," "," ",null," "," "," "," "," "," "," ","06","49","06"," ",null,"9/23/2018",{"$f":"CONCATENATE(AB5649,\" ปี  \",AC5649,\" เดือน  \",AD5649,\" วัน  \")","v":"0 ปี  2 เดือน  16 วัน  "},{"$f":"A5649","v":6611}]
[{"$f":"A5649+1","v":6612},"61014901","2018-09-06",61,"เฉพาะเจาะจง","งบแผ่นดิน","102202150232","บริษัท ภพทรัพย์ วิศวกรรม (2003) จำกัด","เครื่องโปรเจคเตอร์ 1 ค.",1,133000,"06.19.656",{"$f":"IF(BV5650=\"จำหน่าย\",0,SUM(J5650*K5650))","v":133000},{"$f":"IF(K5650<5000,0,M5650)","v":133000},3,{"$f":"DATE(YEAR(C5650)+O5650,MONTH(C5650),DAY(C5650))","v":"2021-09-06"},{"$f":"IF(NOT(OR(ISBLANK(P5650),ISBLANK(C5650))),P5650-C5650,\"\")","v":1096},{"$f":"SLN(N5650,,O5650)","v":44333.333333333336},{"$f":"SLN(R5650,,12)","v":3694.4444444444448},{"$f":"SLN(N5650,,Q5650)","v":121.35036496350365},{"$f":"IF(N5650=0,0,IF(AE5650<=Q5650,1,0))","v":1},{"$f":"SUM(R5650*U5650/12)","v":3694.4444444444448},{"$f":"IF(N5650=0,0,IF((R5650*AB5650)+(R5650*AC5650/12)>=N5650,N5650-J5650,((R5650*AB5650)+(R5650*AC5650/12))))","v":7388.8888888888896},{"$f":"SUM(T5650*U5650)","v":121.35036496350365},{"$f":"IF(N5650=0,0,IF((DATEDIF(C5650,TODAY(),\"d\")+1)*T5650>=N5650,N5650-J5650,(DATEDIF(C5650,TODAY(),\"d\")+1)*T5650))","v":9343.9781021897816},{"$f":"IF(U5650=0,0,IF(OR(DAY(C5650)=1,MONTH(C5650)<>MONTH(TODAY()),YEAR(C5650)<>YEAR(TODAY())),T5650*((DAY(DATE(YEAR(TODAY()),MONTH(TODAY())+1,1)-1))),T5650*((DAY(DATE(YEAR(TODAY()),MONTH(TODAY())+1,1)-1)-DAY(C5650)+1))))","v":3640.5109489051097},{"$f":"IF(N5650=0,0,IF(X5650>=N5650,(J5650),(N5650-Y5650)))","v":123656.02189781022},{"$f":"DATEDIF(C5650,TODAY(),\"Y\")","v":0},{"$f":"DATEDIF(C5650,TODAY(),\"YM\")","v":2},{"$f":"DATEDIF(C5650,TODAY(),\"md\")+1","v":16},{"$f":"DATEDIF(C5650,TODAY(),\"d\")+1","v":77},{"$f":"IF(N5650=0,\"No\",IF(AE5650>Q5650,\"NO\",\"YES\"))","v":"YES"},"11","125","งานอาคารสถานที่","ห้องการะเกด","นายสมศักดิ์ ล้ำเลิศ","เครื่องโปรเจคเตอร์ ",null,"เครื่องโปรเจคเตอร์ พร้อมขาแขวน",null,"เลขที่ 12/13 ม. 13 ต.บางตีนเป็ด อ.เมือง จ.เชิงเทรา เลขผู้เสียภาษี -","ใบส่งมอบงาน","-","PSR 023/2561","37/2561 ลว. 7 พ.ค 61","180/61",{"$f":"100/O5650","v":33.333333333333336},"จ้างก่อสร้างปรับปรุงซ่อมแซมห้องการะเกด จำนวน 1 งาน"," "," "," "," "," "," "," "," "," "," "," "," "," ",null," "," "," "," "," "," "," ","06","19","656"," ",null,"9/23/2018",{"$f":"CONCATENATE(AB5650,\" ปี  \",AC5650,\" เดือน  \",AD5650,\" วัน  \")","v":"0 ปี  2 เดือน  16 วัน  "},{"$f":"A5650","v":6612}]
[{"$f":"A5650+1","v":6613},"61014901","2018-09-06",61,"เฉพาะเจาะจง","งบแผ่นดิน","102202150232","บริษัท ภพทรัพย์ วิศวกรรม (2003) จำกัด","จอรับภาพ 1 จอ",1,34000,"06.07.384",{"$f":"IF(BV5651=\"จำหน่าย\",0,SUM(J5651*K5651))","v":34000},{"$f":"IF(K5651<5000,0,M5651)","v":34000},5,{"$f":"DATE(YEAR(C5651)+O5651,MONTH(C5651),DAY(C5651))","v":"2023-09-06"},{"$f":"IF(NOT(OR(ISBLANK(P5651),ISBLANK(C5651))),P5651-C5651,\"\")","v":1826},{"$f":"SLN(N5651,,O5651)","v":6800},{"$f":"SLN(R5651,,12)","v":566.66666666666663},{"$f":"SLN(N5651,,Q5651)","v":18.619934282584886},{"$f":"IF(N5651=0,0,IF(AE5651<=Q5651,1,0))","v":1},{"$f":"SUM(R5651*U5651/12)","v":566.66666666666663},{"$f":"IF(N5651=0,0,IF((R5651*AB5651)+(R5651*AC5651/12)>=N5651,N5651-J5651,((R5651*AB5651)+(R5651*AC5651/12))))","v":1133.3333333333333},{"$f":"SUM(T5651*U5651)","v":18.619934282584886},{"$f":"IF(N5651=0,0,IF((DATEDIF(C5651,TODAY(),\"d\")+1)*T5651>=N5651,N5651-J5651,(DATEDIF(C5651,TODAY(),\"d\")+1)*T5651))","v":1433.7349397590363},{"$f":"IF(U5651=0,0,IF(OR(DAY(C5651)=1,MONTH(C5651)<>MONTH(TODAY()),YEAR(C5651)<>YEAR(TODAY())),T5651*((DAY(DATE(YEAR(TODAY()),MONTH(TODAY())+1,1)-1))),T5651*((DAY(DATE(YEAR(TODAY()),MONTH(TODAY())+1,1)-1)-DAY(C5651)+1))))","v":558.59802847754656},{"$f":"IF(N5651=0,0,IF(X5651>=N5651,(J5651),(N5651-Y5651)))","v":32566.265060240963},{"$f":"DATEDIF(C5651,TODAY(),\"Y\")","v":0},{"$f":"DATEDIF(C5651,TODAY(),\"YM\")","v":2},{"$f":"DATEDIF(C5651,TODAY(),\"md\")+1","v":16},{"$f":"DATEDIF(C5651,TODAY(),\"d\")+1","v":77},{"$f":"IF(N5651=0,\"No\",IF(AE5651>Q5651,\"NO\",\"YES\"))","v":"YES"},"7/2","8","งานอาคารสถานที่","ห้องการะเกด","นายสมศักดิ์ ล้ำเลิศ","จอรับภาพ ",null,"จอรับภาพ ","ขนาด 200 นิ้ว","เลขที่ 12/13 ม. 13 ต.บางตีนเป็ด อ.เมือง จ.เชิงเทรา เลขผู้เสียภาษี -","ใบส่งมอบงาน","-","PSR 023/2561","37/2561 ลว. 7 พ.ค 61","180/61",{"$f":"100/O5651","v":20},"จ้างก่อสร้างปรับปรุงซ่อมแซมห้องการะเกด จำนวน 1 งาน"," "," "," "," "," "," "," "," "," "," "," "," "," ",null," "," "," "," "," "," "," ","06","1907","384"," ",null,"9/23/2018",{"$f":"CONCATENATE(AB5651,\" ปี  \",AC5651,\" เดือน  \",AD5651,\" วัน  \")","v":"0 ปี  2 เดือน  16 วัน  "},{"$f":"A5651","v":6613}]
[{"$f":"A5651+1","v":6614},"61014901","2018-09-06",61,"เฉพาะเจาะจง","งบแผ่นดิน","102202150232","บริษัท ภพทรัพย์ วิศวกรรม (2003) จำกัด","เครื่องควบคุมหลัก 1 ค.",1,45000,"05.55.356",{"$f":"IF(BV5652=\"จำหน่าย\",0,SUM(J5652*K5652))","v":45000},{"$f":"IF(K5652<5000,0,M5652)","v":45000},3,{"$f":"DATE(YEAR(C5652)+O5652,MONTH(C5652),DAY(C5652))","v":"2021-09-06"},{"$f":"IF(NOT(OR(ISBLANK(P5652),ISBLANK(C5652))),P5652-C5652,\"\")","v":1096},{"$f":"SLN(N5652,,O5652)","v":15000},{"$f":"SLN(R5652,,12)","v":1250},{"$f":"SLN(N5652,,Q5652)","v":41.058394160583944},{"$f":"IF(N5652=0,0,IF(AE5652<=Q5652,1,0))","v":1},{"$f":"SUM(R5652*U5652/12)","v":1250},{"$f":"IF(N5652=0,0,IF((R5652*AB5652)+(R5652*AC5652/12)>=N5652,N5652-J5652,((R5652*AB5652)+(R5652*AC5652/12))))","v":2500},{"$f":"SUM(T5652*U5652)","v":41.058394160583944},{"$f":"IF(N5652=0,0,IF((DATEDIF(C5652,TODAY(),\"d\")+1)*T5652>=N5652,N5652-J5652,(DATEDIF(C5652,TODAY(),\"d\")+1)*T5652))","v":3161.4963503649637},{"$f":"IF(U5652=0,0,IF(OR(DAY(C5652)=1,MONTH(C5652)<>MONTH(TODAY()),YEAR(C5652)<>YEAR(TODAY())),T5652*((DAY(DATE(YEAR(TODAY()),MONTH(TODAY())+1,1)-1))),T5652*((DAY(DATE(YEAR(TODAY()),MONTH(TODAY())+1,1)-1)-DAY(C5652)+1))))","v":1231.7518248175184},{"$f":"IF(N5652=0,0,IF(X5652>=N5652,(J5652),(N5652-Y5652)))","v":41838.503649635037},{"$f":"DATEDIF(C5652,TODAY(),\"Y\")","v":0},{"$f":"DATEDIF(C5652,TODAY(),\"YM\")","v":2},{"$f":"DATEDIF(C5652,TODAY(),\"md\")+1","v":16},{"$f":"DATEDIF(C5652,TODAY(),\"d\")+1","v":77},{"$f":"IF(N5652=0,\"No\",IF(AE5652>Q5652,\"NO\",\"YES\"))","v":"YES"},"10","56","งานอาคารสถานที่","ห้องการะเกด","นายสมศักดิ์ ล้ำเลิศ","เครื่องควบคุมหลัก ",null,"เครื่องควบคุมหลัก ","-","เลขที่ 12/13 ม. 13 ต.บางตีนเป็ด อ.เมือง จ.เชิงเทรา เลขผู้เสียภาษี -","ใบส่งมอบงาน","-","PSR 023/2561","37/2561 ลว. 7 พ.ค 61","180/61",{"$f":"100/O5652","v":33.333333333333336},"จ้างก่อสร้างปรับปรุงซ่อมแซมห้องการะเกด จำนวน 1 งาน"," "," "," "," "," "," "," "," "," "," "," "," "," ",null," "," "," "," "," "," "," ","05","55","356"," ",null,"9/23/2018",{"$f":"CONCATENATE(AB5652,\" ปี  \",AC5652,\" เดือน  \",AD5652,\" วัน  \")","v":"0 ปี  2 เดือน  16 วัน  "},{"$f":"A5652","v":6614}]
[{"$f":"A5652+1","v":6615},"61014901","2018-09-06",61,"เฉพาะเจาะจง","งบแผ่นดิน","102202150232","บริษัท ภพทรัพย์ วิศวกรรม (2003) จำกัด","โปรแกรมควบคุมสำหรับจอสัมผัส 1 ค.",1,30000,"01.53.5848",{"$f":"IF(BV5653=\"จำหน่าย\",0,SUM(J5653*K5653))","v":30000},{"$f":"IF(K5653<5000,0,M5653)","v":30000},5,{"$f":"DATE(YEAR(C5653)+O5653,MONTH(C5653),DAY(C5653))","v":"2023-09-06"},{"$f":"IF(NOT(OR(ISBLANK(P5653),ISBLANK(C5653))),P5653-C5653,\"\")","v":1826},{"$f":"SLN(N5653,,O5653)","v":6000},{"$f":"SLN(R5653,,12)","v":500},{"$f":"SLN(N5653,,Q5653)","v":16.42935377875137},{"$f":"IF(N5653=0,0,IF(AE5653<=Q5653,1,0))","v":1},{"$f":"SUM(R5653*U5653/12)","v":500},{"$f":"IF(N5653=0,0,IF((R5653*AB5653)+(R5653*AC5653/12)>=N5653,N5653-J5653,((R5653*AB5653)+(R5653*AC5653/12))))","v":1000},{"$f":"SUM(T5653*U5653)","v":16.42935377875137},{"$f":"IF(N5653=0,0,IF((DATEDIF(C5653,TODAY(),\"d\")+1)*T5653>=N5653,N5653-J5653,(DATEDIF(C5653,TODAY(),\"d\")+1)*T5653))","v":1265.0602409638554},{"$f":"IF(U5653=0,0,IF(OR(DAY(C5653)=1,MONTH(C5653)<>MONTH(TODAY()),YEAR(C5653)<>YEAR(TODAY())),T5653*((DAY(DATE(YEAR(TODAY()),MONTH(TODAY())+1,1)-1))),T5653*((DAY(DATE(YEAR(TODAY()),MONTH(TODAY())+1,1)-1)-DAY(C5653)+1))))","v":492.88061336254111},{"$f":"IF(N5653=0,0,IF(X5653>=N5653,(J5653),(N5653-Y5653)))","v":28734.939759036144},{"$f":"DATEDIF(C5653,TODAY(),\"Y\")","v":0},{"$f":"DATEDIF(C5653,TODAY(),\"YM\")","v":2},{"$f":"DATEDIF(C5653,TODAY(),\"md\")+1","v":16},{"$f":"DATEDIF(C5653,TODAY(),\"d\")+1","v":77},{"$f":"IF(N5653=0,\"No\",IF(AE5653>Q5653,\"NO\",\"YES\"))","v":"YES"},"10","126","งานอาคารสถานที่","ห้องการะเกด","นายสมศักดิ์ ล้ำเลิศ","โปรแกรมควบคุมสำหรับจอสัมผัส ",null,"โปรแกรมควบคุมสำหรับจอสัมผัส ","-","เลขที่ 12/13 ม. 13 ต.บางตีนเป็ด อ.เมือง จ.เชิงเทรา เลขผู้เสียภาษี -","ใบส่งมอบงาน","-","PSR 023/2561","37/2561 ลว. 7 พ.ค 61","180/61",{"$f":"100/O5653","v":20},"จ้างก่อสร้างปรับปรุงซ่อมแซมห้องการะเกด จำนวน 1 งาน"," "," "," "," "," "," "," "," "," "," "," "," "," ",null," "," "," "," "," "," "," ","01","53","5848"," ",null,"9/23/2018",{"$f":"CONCATENATE(AB5653,\" ปี  \",AC5653,\" เดือน  \",AD5653,\" วัน  \")","v":"0 ปี  2 เดือน  16 วัน  "},{"$f":"A5653","v":6615}]
[{"$f":"A5653+1","v":6616},"61014901","2018-09-06",61,"เฉพาะเจาะจง","งบแผ่นดิน","102202150232","บริษัท ภพทรัพย์ วิศวกรรม (2003) จำกัด","เครื่องควบคุมแบบไร้สาย 1 ค.",1,15000,"05.55.357",{"$f":"IF(BV5654=\"จำหน่าย\",0,SUM(J5654*K5654))","v":15000},{"$f":"IF(K5654<5000,0,M5654)","v":15000},3,{"$f":"DATE(YEAR(C5654)+O5654,MONTH(C5654),DAY(C5654))","v":"2021-09-06"},{"$f":"IF(NOT(OR(ISBLANK(P5654),ISBLANK(C5654))),P5654-C5654,\"\")","v":1096},{"$f":"SLN(N5654,,O5654)","v":5000},{"$f":"SLN(R5654,,12)","v":416.66666666666669},{"$f":"SLN(N5654,,Q5654)","v":13.686131386861314},{"$f":"IF(N5654=0,0,IF(AE5654<=Q5654,1,0))","v":1},{"$f":"SUM(R5654*U5654/12)","v":416.66666666666669},{"$f":"IF(N5654=0,0,IF((R5654*AB5654)+(R5654*AC5654/12)>=N5654,N5654-J5654,((R5654*AB5654)+(R5654*AC5654/12))))","v":833.33333333333337},{"$f":"SUM(T5654*U5654)","v":13.686131386861314},{"$f":"IF(N5654=0,0,IF((DATEDIF(C5654,TODAY(),\"d\")+1)*T5654>=N5654,N5654-J5654,(DATEDIF(C5654,TODAY(),\"d\")+1)*T5654))","v":1053.8321167883212},{"$f":"IF(U5654=0,0,IF(OR(DAY(C5654)=1,MONTH(C5654)<>MONTH(TODAY()),YEAR(C5654)<>YEAR(TODAY())),T5654*((DAY(DATE(YEAR(TODAY()),MONTH(TODAY())+1,1)-1))),T5654*((DAY(DATE(YEAR(TODAY()),MONTH(TODAY())+1,1)-1)-DAY(C5654)+1))))","v":410.58394160583941},{"$f":"IF(N5654=0,0,IF(X5654>=N5654,(J5654),(N5654-Y5654)))","v":13946.16788321168},{"$f":"DATEDIF(C5654,TODAY(),\"Y\")","v":0},{"$f":"DATEDIF(C5654,TODAY(),\"YM\")","v":2},{"$f":"DATEDIF(C5654,TODAY(),\"md\")+1","v":16},{"$f":"DATEDIF(C5654,TODAY(),\"d\")+1","v":77},{"$f":"IF(N5654=0,\"No\",IF(AE5654>Q5654,\"NO\",\"YES\"))","v":"YES"},"10","126","งานอาคารสถานที่","ห้องการะเกด","นายสมศักดิ์ ล้ำเลิศ","เครื่องควบคุมแบบไร้สาย ",null,"เครื่องควบคุมแบบไร้สาย ","-","เลขที่ 12/13 ม. 13 ต.บางตีนเป็ด อ.เมือง จ.เชิงเทรา เลขผู้เสียภาษี -","ใบส่งมอบงาน","-","PSR 023/2561","37/2561 ลว. 7 พ.ค 61","180/61",{"$f":"100/O5654","v":33.333333333333336},"จ้างก่อสร้างปรับปรุงซ่อมแซมห้องการะเกด จำนวน 1 งาน"," "," "," "," "," "," "," "," "," "," "," "," "," ",null," "," "," "," "," "," "," ","05","55","357"," ",null,"9/23/2018",{"$f":"CONCATENATE(AB5654,\" ปี  \",AC5654,\" เดือน  \",AD5654,\" วัน  \")","v":"0 ปี  2 เดือน  16 วัน  "},{"$f":"A5654","v":6616}]
[{"$f":"A5654+1","v":6617},"61014901","2018-09-06",61,"เฉพาะเจาะจง","งบแผ่นดิน","102202150232","บริษัท ภพทรัพย์ วิศวกรรม (2003) จำกัด","เครื่องรับส่งสัญญาณแบบสายสำหรับระบบเครือข่ายเน็ตเวิร์ค 1 ค.",1,1200,"05.55.359",{"$f":"IF(BV5655=\"จำหน่าย\",0,SUM(J5655*K5655))","v":1200},{"$f":"IF(K5655<5000,0,M5655)","v":0},3,{"$f":"DATE(YEAR(C5655)+O5655,MONTH(C5655),DAY(C5655))","v":"2021-09-06"},{"$f":"IF(NOT(OR(ISBLANK(P5655),ISBLANK(C5655))),P5655-C5655,\"\")","v":1096},{"$f":"SLN(N5655,,O5655)","v":0},{"$f":"SLN(R5655,,12)","v":0},{"$f":"SLN(N5655,,Q5655)","v":0},{"$f":"IF(N5655=0,0,IF(AE5655<=Q5655,1,0))","v":0},{"$f":"SUM(R5655*U5655/12)","v":0},{"$f":"IF(N5655=0,0,IF((R5655*AB5655)+(R5655*AC5655/12)>=N5655,N5655-J5655,((R5655*AB5655)+(R5655*AC5655/12))))","v":0},{"$f":"SUM(T5655*U5655)","v":0},{"$f":"IF(N5655=0,0,IF((DATEDIF(C5655,TODAY(),\"d\")+1)*T5655>=N5655,N5655-J5655,(DATEDIF(C5655,TODAY(),\"d\")+1)*T5655))","v":0},{"$f":"IF(U5655=0,0,IF(OR(DAY(C5655)=1,MONTH(C5655)<>MONTH(TODAY()),YEAR(C5655)<>YEAR(TODAY())),T5655*((DAY(DATE(YEAR(TODAY()),MONTH(TODAY())+1,1)-1))),T5655*((DAY(DATE(YEAR(TODAY()),MONTH(TODAY())+1,1)-1)-DAY(C5655)+1))))","v":0},{"$f":"IF(N5655=0,0,IF(X5655>=N5655,(J5655),(N5655-Y5655)))","v":0},{"$f":"DATEDIF(C5655,TODAY(),\"Y\")","v":0},{"$f":"DATEDIF(C5655,TODAY(),\"YM\")","v":2},{"$f":"DATEDIF(C5655,TODAY(),\"md\")+1","v":16},{"$f":"DATEDIF(C5655,TODAY(),\"d\")+1","v":77},{"$f":"IF(N5655=0,\"No\",IF(AE5655>Q5655,\"NO\",\"YES\"))","v":"No"},"10","126","งานอาคารสถานที่","ห้องการะเกด","นายสมศักดิ์ ล้ำเลิศ","เครื่องรับส่งสัญญาณแบบสายสำหรับระบบเครือข่ายเน็ตเวิร์ค ",null,"เครื่องรับส่งสัญญาณแบบสายสำหรับระบบเครือข่ายเน็ตเวิร์ค ","-","เลขที่ 12/13 ม. 13 ต.บางตีนเป็ด อ.เมือง จ.เชิงเทรา เลขผู้เสียภาษี -","ใบส่งมอบงาน","-","PSR 023/2561","37/2561 ลว. 7 พ.ค 61","180/61",{"$f":"100/O5655","v":33.333333333333336},"จ้างก่อสร้างปรับปรุงซ่อมแซมห้องการะเกด จำนวน 1 งาน"," "," "," "," "," "," "," "," "," "," "," "," "," ",null," "," "," "," "," "," "," ","05","55","359"," ",null,"9/23/2018",{"$f":"CONCATENATE(AB5655,\" ปี  \",AC5655,\" เดือน  \",AD5655,\" วัน  \")","v":"0 ปี  2 เดือน  16 วัน  "},{"$f":"A5655","v":6617}]
[{"$f":"A5655+1","v":6618},"61014901","2018-09-06",61,"เฉพาะเจาะจง","งบแผ่นดิน","102202150232","บริษัท ภพทรัพย์ วิศวกรรม (2003) จำกัด","กล่องรีเลย์ควบคุมจอขึ้น-ลง 1 ค.",1,3500,"05.55.360",{"$f":"IF(BV5656=\"จำหน่าย\",0,SUM(J5656*K5656))","v":3500},{"$f":"IF(K5656<5000,0,M5656)","v":0},3,{"$f":"DATE(YEAR(C5656)+O5656,MONTH(C5656),DAY(C5656))","v":"2021-09-06"},{"$f":"IF(NOT(OR(ISBLANK(P5656),ISBLANK(C5656))),P5656-C5656,\"\")","v":1096},{"$f":"SLN(N5656,,O5656)","v":0},{"$f":"SLN(R5656,,12)","v":0},{"$f":"SLN(N5656,,Q5656)","v":0},{"$f":"IF(N5656=0,0,IF(AE5656<=Q5656,1,0))","v":0},{"$f":"SUM(R5656*U5656/12)","v":0},{"$f":"IF(N5656=0,0,IF((R5656*AB5656)+(R5656*AC5656/12)>=N5656,N5656-J5656,((R5656*AB5656)+(R5656*AC5656/12))))","v":0},{"$f":"SUM(T5656*U5656)","v":0},{"$f":"IF(N5656=0,0,IF((DATEDIF(C5656,TODAY(),\"d\")+1)*T5656>=N5656,N5656-J5656,(DATEDIF(C5656,TODAY(),\"d\")+1)*T5656))","v":0},{"$f":"IF(U5656=0,0,IF(OR(DAY(C5656)=1,MONTH(C5656)<>MONTH(TODAY()),YEAR(C5656)<>YEAR(TODAY())),T5656*((DAY(DATE(YEAR(TODAY()),MONTH(TODAY())+1,1)-1))),T5656*((DAY(DATE(YEAR(TODAY()),MONTH(TODAY())+1,1)-1)-DAY(C5656)+1))))","v":0},{"$f":"IF(N5656=0,0,IF(X5656>=N5656,(J5656),(N5656-Y5656)))","v":0},{"$f":"DATEDIF(C5656,TODAY(),\"Y\")","v":0},{"$f":"DATEDIF(C5656,TODAY(),\"YM\")","v":2},{"$f":"DATEDIF(C5656,TODAY(),\"md\")+1","v":16},{"$f":"DATEDIF(C5656,TODAY(),\"d\")+1","v":77},{"$f":"IF(N5656=0,\"No\",IF(AE5656>Q5656,\"NO\",\"YES\"))","v":"No"},"10","126","งานอาคารสถานที่","ห้องการะเกด","นายสมศักดิ์ ล้ำเลิศ","กล่องรีเลย์ควบคุมจอขึ้น-ลง ",null,"กล่องรีเลย์ควบคุมจอขึ้น-ลง ","-","เลขที่ 12/13 ม. 13 ต.บางตีนเป็ด อ.เมือง จ.เชิงเทรา เลขผู้เสียภาษี -","ใบส่งมอบงาน","-","PSR 023/2561","37/2561 ลว. 7 พ.ค 61","180/61",{"$f":"100/O5656","v":33.333333333333336},"จ้างก่อสร้างปรับปรุงซ่อมแซมห้องการะเกด จำนวน 1 งาน"," "," "," "," "," "," "," "," "," "," "," "," "," ",null," "," "," "," "," "," "," ","05","55","360"," ",null,"9/23/2018",{"$f":"CONCATENATE(AB5656,\" ปี  \",AC5656,\" เดือน  \",AD5656,\" วัน  \")","v":"0 ปี  2 เดือน  16 วัน  "},{"$f":"A5656","v":6618}]
[{"$f":"A5656+1","v":6619},"61014901","2018-09-06",61,"เฉพาะเจาะจง","งบแผ่นดิน","102202150232","บริษัท ภพทรัพย์ วิศวกรรม (2003) จำกัด","ตู้เก็บอุปกรณ์ 1 ตู้",1,20000,"01.06.1040",{"$f":"IF(BV5657=\"จำหน่าย\",0,SUM(J5657*K5657))","v":20000},{"$f":"IF(K5657<5000,0,M5657)","v":20000},8,{"$f":"DATE(YEAR(C5657)+O5657,MONTH(C5657),DAY(C5657))","v":"2026-09-06"},{"$f":"IF(NOT(OR(ISBLANK(P5657),ISBLANK(C5657))),P5657-C5657,\"\")","v":2922},{"$f":"SLN(N5657,,O5657)","v":2500},{"$f":"SLN(R5657,,12)","v":208.33333333333334},{"$f":"SLN(N5657,,Q5657)","v":6.8446269678302532},{"$f":"IF(N5657=0,0,IF(AE5657<=Q5657,1,0))","v":1},{"$f":"SUM(R5657*U5657/12)","v":208.33333333333334},{"$f":"IF(N5657=0,0,IF((R5657*AB5657)+(R5657*AC5657/12)>=N5657,N5657-J5657,((R5657*AB5657)+(R5657*AC5657/12))))","v":416.66666666666669},{"$f":"SUM(T5657*U5657)","v":6.8446269678302532},{"$f":"IF(N5657=0,0,IF((DATEDIF(C5657,TODAY(),\"d\")+1)*T5657>=N5657,N5657-J5657,(DATEDIF(C5657,TODAY(),\"d\")+1)*T5657))","v":527.03627652292948},{"$f":"IF(U5657=0,0,IF(OR(DAY(C5657)=1,MONTH(C5657)<>MONTH(TODAY()),YEAR(C5657)<>YEAR(TODAY())),T5657*((DAY(DATE(YEAR(TODAY()),MONTH(TODAY())+1,1)-1))),T5657*((DAY(DATE(YEAR(TODAY()),MONTH(TODAY())+1,1)-1)-DAY(C5657)+1))))","v":205.3388090349076},{"$f":"IF(N5657=0,0,IF(X5657>=N5657,(J5657),(N5657-Y5657)))","v":19472.963723477071},{"$f":"DATEDIF(C5657,TODAY(),\"Y\")","v":0},{"$f":"DATEDIF(C5657,TODAY(),\"YM\")","v":2},{"$f":"DATEDIF(C5657,TODAY(),\"md\")+1","v":16},{"$f":"DATEDIF(C5657,TODAY(),\"d\")+1","v":77},{"$f":"IF(N5657=0,\"No\",IF(AE5657>Q5657,\"NO\",\"YES\"))","v":"YES"},"5","100","งานอาคารสถานที่","ห้องการะเกด","นายสมศักดิ์ ล้ำเลิศ","ตู้เก็บอุปกรณ์ ",null,"ตู้เก็บอุปกรณ์ ","ขนาด 19 นิ้ว","เลขที่ 12/13 ม. 13 ต.บางตีนเป็ด อ.เมือง จ.เชิงเทรา เลขผู้เสียภาษี -","ใบส่งมอบงาน","-","PSR 023/2561","37/2561 ลว. 7 พ.ค 61","180/61",{"$f":"100/O5657","v":12.5},"จ้างก่อสร้างปรับปรุงซ่อมแซมห้องการะเกด จำนวน 1 งาน"," "," "," "," "," "," "," "," "," "," "," "," "," ",null," "," "," "," "," "," "," ","01","06","1040"," ",null,"9/23/2018",{"$f":"CONCATENATE(AB5657,\" ปี  \",AC5657,\" เดือน  \",AD5657,\" วัน  \")","v":"0 ปี  2 เดือน  16 วัน  "},{"$f":"A5657","v":6619}]
[{"$f":"A5657+1","v":6620},"61014286","2018-08-31",61,"ฉพาะเจาะจง","งบแผ่นดิน","102202150131","บริษัท แปดริ้วเฟอร์นิเจอร์ จำกัด","ตู้เหล็ก 2 บานเปิด",10,5243,"01.07.1032-1041",{"$f":"IF(BV5658=\"จำหน่าย\",0,SUM(J5658*K5658))","v":52430},{"$f":"IF(K5658<5000,0,M5658)","v":52430},8,{"$f":"DATE(YEAR(C5658)+O5658,MONTH(C5658),DAY(C5658))","v":"2026-08-31"},{"$f":"IF(NOT(OR(ISBLANK(P5658),ISBLANK(C5658))),P5658-C5658,\"\")","v":2922},{"$f":"SLN(N5658,,O5658)","v":6553.75},{"$f":"SLN(R5658,,12)","v":546.14583333333337},{"$f":"SLN(N5658,,Q5658)","v":17.943189596167009},{"$f":"IF(N5658=0,0,IF(AE5658<=Q5658,1,0))","v":1},{"$f":"SUM(R5658*U5658/12)","v":546.14583333333337},{"$f":"IF(N5658=0,0,IF((R5658*AB5658)+(R5658*AC5658/12)>=N5658,N5658-J5658,((R5658*AB5658)+(R5658*AC5658/12))))","v":1092.2916666666667},{"$f":"SUM(T5658*U5658)","v":17.943189596167009},{"$f":"IF(N5658=0,0,IF((DATEDIF(C5658,TODAY(),\"d\")+1)*T5658>=N5658,N5658-J5658,(DATEDIF(C5658,TODAY(),\"d\")+1)*T5658))","v":1489.2847364818617},{"$f":"IF(U5658=0,0,IF(OR(DAY(C5658)=1,MONTH(C5658)<>MONTH(TODAY()),YEAR(C5658)<>YEAR(TODAY())),T5658*((DAY(DATE(YEAR(TODAY()),MONTH(TODAY())+1,1)-1))),T5658*((DAY(DATE(YEAR(TODAY()),MONTH(TODAY())+1,1)-1)-DAY(C5658)+1))))","v":538.29568788501024},{"$f":"IF(N5658=0,0,IF(X5658>=N5658,(J5658),(N5658-Y5658)))","v":50940.715263518141},{"$f":"DATEDIF(C5658,TODAY(),\"Y\")","v":0},{"$f":"DATEDIF(C5658,TODAY(),\"YM\")","v":2},{"$f":"DATEDIF(C5658,TODAY(),\"md\")+1","v":22},{"$f":"DATEDIF(C5658,TODAY(),\"d\")+1","v":83},{"$f":"IF(N5658=0,\"No\",IF(AE5658>Q5658,\"NO\",\"YES\"))","v":"YES"},"5","251","การเงิน","-","นางสาววนิดา ดิษฐวัฒน์","ตู้เหล็ก 2 บานเปิด",null,"ตู้เหล็ก 2 บานเปิด","ยี่ห้อ star","เลขที่ 191/72-191/73 ถ.มหาจักรพรรดิ์ ต.หน้าเมือง อ.เมือง จ.ฉะเชิงเทรา เลขผู้เสียภาษี 0245534000749","ใบส่งของ/ใบกำกับภาษี","037","1841","-","196/61",{"$f":"100/O5658","v":12.5},null," "," "," "," "," "," "," "," "," "," "," "," "," ",null," "," "," "," "," "," "," ","01","01","1032-1041"," ",null,"9/30/2018",{"$f":"CONCATENATE(AB5658,\" ปี  \",AC5658,\" เดือน  \",AD5658,\" วัน  \")","v":"0 ปี  2 เดือน  22 วัน  "},{"$f":"A5658","v":6620}]
[{"$f":"A5658+1","v":6621},"61014286","2018-08-31",61,"ฉพาะเจาะจง","งบแผ่นดิน","102202150131","บริษัท แปดริ้วเฟอร์นิเจอร์ จำกัด","ตู้เหล็ก 2 บานเปิดกระจก",6,4400,"01.07.1042-1047",{"$f":"IF(BV5659=\"จำหน่าย\",0,SUM(J5659*K5659))","v":26400},{"$f":"IF(K5659<5000,0,M5659)","v":0},8,{"$f":"DATE(YEAR(C5659)+O5659,MONTH(C5659),DAY(C5659))","v":"2026-08-31"},{"$f":"IF(NOT(OR(ISBLANK(P5659),ISBLANK(C5659))),P5659-C5659,\"\")","v":2922},{"$f":"SLN(N5659,,O5659)","v":0},{"$f":"SLN(R5659,,12)","v":0},{"$f":"SLN(N5659,,Q5659)","v":0},{"$f":"IF(N5659=0,0,IF(AE5659<=Q5659,1,0))","v":0},{"$f":"SUM(R5659*U5659/12)","v":0},{"$f":"IF(N5659=0,0,IF((R5659*AB5659)+(R5659*AC5659/12)>=N5659,N5659-J5659,((R5659*AB5659)+(R5659*AC5659/12))))","v":0},{"$f":"SUM(T5659*U5659)","v":0},{"$f":"IF(N5659=0,0,IF((DATEDIF(C5659,TODAY(),\"d\")+1)*T5659>=N5659,N5659-J5659,(DATEDIF(C5659,TODAY(),\"d\")+1)*T5659))","v":0},{"$f":"IF(U5659=0,0,IF(OR(DAY(C5659)=1,MONTH(C5659)<>MONTH(TODAY()),YEAR(C5659)<>YEAR(TODAY())),T5659*((DAY(DATE(YEAR(TODAY()),MONTH(TODAY())+1,1)-1))),T5659*((DAY(DATE(YEAR(TODAY()),MONTH(TODAY())+1,1)-1)-DAY(C5659)+1))))","v":0},{"$f":"IF(N5659=0,0,IF(X5659>=N5659,(J5659),(N5659-Y5659)))","v":0},{"$f":"DATEDIF(C5659,TODAY(),\"Y\")","v":0},{"$f":"DATEDIF(C5659,TODAY(),\"YM\")","v":2},{"$f":"DATEDIF(C5659,TODAY(),\"md\")+1","v":22},{"$f":"DATEDIF(C5659,TODAY(),\"d\")+1","v":83},{"$f":"IF(N5659=0,\"No\",IF(AE5659>Q5659,\"NO\",\"YES\"))","v":"No"},"5","251","กองนโยบายและแผน","-","นางสาวประนอม เงินบุคคล","ตู้เหล็ก 2 บานเปิดกระจก",null,"ตู้เหล็ก 2 บานเปิดกระจก","ยี่ห้อ iso","เลขที่ 191/72-191/73 ถ.มหาจักรพรรดิ์ ต.หน้าเมือง อ.เมือง จ.ฉะเชิงเทรา เลขผู้เสียภาษี 0245534000749","ใบส่งของ/ใบกำกับภาษี","037","1841","-","196/61",{"$f":"100/O5659","v":12.5},null," "," "," "," "," "," "," "," "," "," "," "," "," ",null," "," "," "," "," "," "," ","01","07","1042-1047"," ",null,"9/30/2018",{"$f":"CONCATENATE(AB5659,\" ปี  \",AC5659,\" เดือน  \",AD5659,\" วัน  \")","v":"0 ปี  2 เดือน  22 วัน  "},{"$f":"A5659","v":6621}]
[{"$f":"A5659+1","v":6622},"61014286","2018-08-31",61,"ฉพาะเจาะจง","งบแผ่นดิน","102202150131","บริษัท แปดริ้วเฟอร์นิเจอร์ จำกัด","ตู้เอกสารเตี้ยบานเปิด 2 ใบ",2,3700,"01.06.1045-1046",{"$f":"IF(BV5660=\"จำหน่าย\",0,SUM(J5660*K5660))","v":7400},{"$f":"IF(K5660<5000,0,M5660)","v":0},8,{"$f":"DATE(YEAR(C5660)+O5660,MONTH(C5660),DAY(C5660))","v":"2026-08-31"},{"$f":"IF(NOT(OR(ISBLANK(P5660),ISBLANK(C5660))),P5660-C5660,\"\")","v":2922},{"$f":"SLN(N5660,,O5660)","v":0},{"$f":"SLN(R5660,,12)","v":0},{"$f":"SLN(N5660,,Q5660)","v":0},{"$f":"IF(N5660=0,0,IF(AE5660<=Q5660,1,0))","v":0},{"$f":"SUM(R5660*U5660/12)","v":0},{"$f":"IF(N5660=0,0,IF((R5660*AB5660)+(R5660*AC5660/12)>=N5660,N5660-J5660,((R5660*AB5660)+(R5660*AC5660/12))))","v":0},{"$f":"SUM(T5660*U5660)","v":0},{"$f":"IF(N5660=0,0,IF((DATEDIF(C5660,TODAY(),\"d\")+1)*T5660>=N5660,N5660-J5660,(DATEDIF(C5660,TODAY(),\"d\")+1)*T5660))","v":0},{"$f":"IF(U5660=0,0,IF(OR(DAY(C5660)=1,MONTH(C5660)<>MONTH(TODAY()),YEAR(C5660)<>YEAR(TODAY())),T5660*((DAY(DATE(YEAR(TODAY()),MONTH(TODAY())+1,1)-1))),T5660*((DAY(DATE(YEAR(TODAY()),MONTH(TODAY())+1,1)-1)-DAY(C5660)+1))))","v":0},{"$f":"IF(N5660=0,0,IF(X5660>=N5660,(J5660),(N5660-Y5660)))","v":0},{"$f":"DATEDIF(C5660,TODAY(),\"Y\")","v":0},{"$f":"DATEDIF(C5660,TODAY(),\"YM\")","v":2},{"$f":"DATEDIF(C5660,TODAY(),\"md\")+1","v":22},{"$f":"DATEDIF(C5660,TODAY(),\"d\")+1","v":83},{"$f":"IF(N5660=0,\"No\",IF(AE5660>Q5660,\"NO\",\"YES\"))","v":"No"},"5","100","งานเลขาผู้บริหาร","-","นางสาววันทยา บัวทอง","ตู้เอกสารเตี้ยบานเปิด ",null,"ตู้เอกสารเตี้ยบานเปิด ","ยี่ห้อ itk","เลขที่ 191/72-191/73 ถ.มหาจักรพรรดิ์ ต.หน้าเมือง อ.เมือง จ.ฉะเชิงเทรา เลขผู้เสียภาษี 0245534000749","ใบส่งของ/ใบกำกับภาษี","037","1841","-","196/61",{"$f":"100/O5660","v":12.5},null," "," "," "," "," "," "," "," "," "," "," "," "," ",null," "," "," "," "," "," "," ","01","06","1045-1046"," ",null,"9/30/2018",{"$f":"CONCATENATE(AB5660,\" ปี  \",AC5660,\" เดือน  \",AD5660,\" วัน  \")","v":"0 ปี  2 เดือน  22 วัน  "},{"$f":"A5660","v":6622}]
[{"$f":"A5660+1","v":6623},"61014286","2018-08-31",61,"ฉพาะเจาะจง","งบแผ่นดิน","102202150131","บริษัท แปดริ้วเฟอร์นิเจอร์ จำกัด","ตู้เอกสารสูงบานเปิด 3 ใบ",3,6800,"01.06.1047-1049",{"$f":"IF(BV5661=\"จำหน่าย\",0,SUM(J5661*K5661))","v":20400},{"$f":"IF(K5661<5000,0,M5661)","v":20400},8,{"$f":"DATE(YEAR(C5661)+O5661,MONTH(C5661),DAY(C5661))","v":"2026-08-31"},{"$f":"IF(NOT(OR(ISBLANK(P5661),ISBLANK(C5661))),P5661-C5661,\"\")","v":2922},{"$f":"SLN(N5661,,O5661)","v":2550},{"$f":"SLN(R5661,,12)","v":212.5},{"$f":"SLN(N5661,,Q5661)","v":6.9815195071868583},{"$f":"IF(N5661=0,0,IF(AE5661<=Q5661,1,0))","v":1},{"$f":"SUM(R5661*U5661/12)","v":212.5},{"$f":"IF(N5661=0,0,IF((R5661*AB5661)+(R5661*AC5661/12)>=N5661,N5661-J5661,((R5661*AB5661)+(R5661*AC5661/12))))","v":425},{"$f":"SUM(T5661*U5661)","v":6.9815195071868583},{"$f":"IF(N5661=0,0,IF((DATEDIF(C5661,TODAY(),\"d\")+1)*T5661>=N5661,N5661-J5661,(DATEDIF(C5661,TODAY(),\"d\")+1)*T5661))","v":579.46611909650926},{"$f":"IF(U5661=0,0,IF(OR(DAY(C5661)=1,MONTH(C5661)<>MONTH(TODAY()),YEAR(C5661)<>YEAR(TODAY())),T5661*((DAY(DATE(YEAR(TODAY()),MONTH(TODAY())+1,1)-1))),T5661*((DAY(DATE(YEAR(TODAY()),MONTH(TODAY())+1,1)-1)-DAY(C5661)+1))))","v":209.44558521560575},{"$f":"IF(N5661=0,0,IF(X5661>=N5661,(J5661),(N5661-Y5661)))","v":19820.533880903491},{"$f":"DATEDIF(C5661,TODAY(),\"Y\")","v":0},{"$f":"DATEDIF(C5661,TODAY(),\"YM\")","v":2},{"$f":"DATEDIF(C5661,TODAY(),\"md\")+1","v":22},{"$f":"DATEDIF(C5661,TODAY(),\"d\")+1","v":83},{"$f":"IF(N5661=0,\"No\",IF(AE5661>Q5661,\"NO\",\"YES\"))","v":"YES"},"5","100","งานเลขาผู้บริหาร","-","นางสาววันทยา บัวทอง","ตู้เอกสารสูงบานเปิด ",null,"ตู้เอกสารสูงบานเปิด ","ยี่ห้อ itk","เลขที่ 191/72-191/73 ถ.มหาจักรพรรดิ์ ต.หน้าเมือง อ.เมือง จ.ฉะเชิงเทรา เลขผู้เสียภาษี 0245534000749","ใบส่งของ/ใบกำกับภาษี","037","1841","-","196/61",{"$f":"100/O5661","v":12.5},null," "," "," "," "," "," "," "," "," "," "," "," "," ",null," "," "," "," "," "," "," ","01","06","1047-1049"," ",null,"9/30/2018",{"$f":"CONCATENATE(AB5661,\" ปี  \",AC5661,\" เดือน  \",AD5661,\" วัน  \")","v":"0 ปี  2 เดือน  22 วัน  "},{"$f":"A5661","v":6623}]
[{"$f":"A5661+1","v":6624},"61014286","2018-08-31",61,"ฉพาะเจาะจง","งบแผ่นดิน","102202150131","บริษัท แปดริ้วเฟอร์นิเจอร์ จำกัด","โต๊ะทำงาน 1 ตัว",1,5900,"01.02.13736",{"$f":"IF(BV5662=\"จำหน่าย\",0,SUM(J5662*K5662))","v":5900},{"$f":"IF(K5662<5000,0,M5662)","v":5900},8,{"$f":"DATE(YEAR(C5662)+O5662,MONTH(C5662),DAY(C5662))","v":"2026-08-31"},{"$f":"IF(NOT(OR(ISBLANK(P5662),ISBLANK(C5662))),P5662-C5662,\"\")","v":2922},{"$f":"SLN(N5662,,O5662)","v":737.5},{"$f":"SLN(R5662,,12)","v":61.458333333333336},{"$f":"SLN(N5662,,Q5662)","v":2.0191649555099249},{"$f":"IF(N5662=0,0,IF(AE5662<=Q5662,1,0))","v":1},{"$f":"SUM(R5662*U5662/12)","v":61.458333333333336},{"$f":"IF(N5662=0,0,IF((R5662*AB5662)+(R5662*AC5662/12)>=N5662,N5662-J5662,((R5662*AB5662)+(R5662*AC5662/12))))","v":122.91666666666667},{"$f":"SUM(T5662*U5662)","v":2.0191649555099249},{"$f":"IF(N5662=0,0,IF((DATEDIF(C5662,TODAY(),\"d\")+1)*T5662>=N5662,N5662-J5662,(DATEDIF(C5662,TODAY(),\"d\")+1)*T5662))","v":167.59069130732377},{"$f":"IF(U5662=0,0,IF(OR(DAY(C5662)=1,MONTH(C5662)<>MONTH(TODAY()),YEAR(C5662)<>YEAR(TODAY())),T5662*((DAY(DATE(YEAR(TODAY()),MONTH(TODAY())+1,1)-1))),T5662*((DAY(DATE(YEAR(TODAY()),MONTH(TODAY())+1,1)-1)-DAY(C5662)+1))))","v":60.574948665297747},{"$f":"IF(N5662=0,0,IF(X5662>=N5662,(J5662),(N5662-Y5662)))","v":5732.4093086926759},{"$f":"DATEDIF(C5662,TODAY(),\"Y\")","v":0},{"$f":"DATEDIF(C5662,TODAY(),\"YM\")","v":2},{"$f":"DATEDIF(C5662,TODAY(),\"md\")+1","v":22},{"$f":"DATEDIF(C5662,TODAY(),\"d\")+1","v":83},{"$f":"IF(N5662=0,\"No\",IF(AE5662>Q5662,\"NO\",\"YES\"))","v":"YES"},"5","199","งานเลขาผู้บริหาร","-","นางสาววันทยา บัวทอง","โต๊ะทำงาน ",null,"โต๊ะทำงาน ","-","เลขที่ 191/72-191/73 ถ.มหาจักรพรรดิ์ ต.หน้าเมือง อ.เมือง จ.ฉะเชิงเทรา เลขผู้เสียภาษี 0245534000749","ใบส่งของ/ใบกำกับภาษี","037","1841","-","196/61",{"$f":"100/O5662","v":12.5},null," "," "," "," "," "," "," "," "," "," "," "," "," ",null," "," "," "," "," "," "," ","01","02","13736"," ",null,"9/30/2018",{"$f":"CONCATENATE(AB5662,\" ปี  \",AC5662,\" เดือน  \",AD5662,\" วัน  \")","v":"0 ปี  2 เดือน  22 วัน  "},{"$f":"A5662","v":6624}]
[{"$f":"A5662+1","v":6625},"61014286","2018-08-31",61,"ฉพาะเจาะจง","งบแผ่นดิน","102202150131","บริษัท แปดริ้วเฟอร์นิเจอร์ จำกัด","ตู้เตี้ยบานเปิด 1 ใบ",1,3700,"01.06.1050",{"$f":"IF(BV5663=\"จำหน่าย\",0,SUM(J5663*K5663))","v":3700},{"$f":"IF(K5663<5000,0,M5663)","v":0},8,{"$f":"DATE(YEAR(C5663)+O5663,MONTH(C5663),DAY(C5663))","v":"2026-08-31"},{"$f":"IF(NOT(OR(ISBLANK(P5663),ISBLANK(C5663))),P5663-C5663,\"\")","v":2922},{"$f":"SLN(N5663,,O5663)","v":0},{"$f":"SLN(R5663,,12)","v":0},{"$f":"SLN(N5663,,Q5663)","v":0},{"$f":"IF(N5663=0,0,IF(AE5663<=Q5663,1,0))","v":0},{"$f":"SUM(R5663*U5663/12)","v":0},{"$f":"IF(N5663=0,0,IF((R5663*AB5663)+(R5663*AC5663/12)>=N5663,N5663-J5663,((R5663*AB5663)+(R5663*AC5663/12))))","v":0},{"$f":"SUM(T5663*U5663)","v":0},{"$f":"IF(N5663=0,0,IF((DATEDIF(C5663,TODAY(),\"d\")+1)*T5663>=N5663,N5663-J5663,(DATEDIF(C5663,TODAY(),\"d\")+1)*T5663))","v":0},{"$f":"IF(U5663=0,0,IF(OR(DAY(C5663)=1,MONTH(C5663)<>MONTH(TODAY()),YEAR(C5663)<>YEAR(TODAY())),T5663*((DAY(DATE(YEAR(TODAY()),MONTH(TODAY())+1,1)-1))),T5663*((DAY(DATE(YEAR(TODAY()),MONTH(TODAY())+1,1)-1)-DAY(C5663)+1))))","v":0},{"$f":"IF(N5663=0,0,IF(X5663>=N5663,(J5663),(N5663-Y5663)))","v":0},{"$f":"DATEDIF(C5663,TODAY(),\"Y\")","v":0},{"$f":"DATEDIF(C5663,TODAY(),\"YM\")","v":2},{"$f":"DATEDIF(C5663,TODAY(),\"md\")+1","v":22},{"$f":"DATEDIF(C5663,TODAY(),\"d\")+1","v":83},{"$f":"IF(N5663=0,\"No\",IF(AE5663>Q5663,\"NO\",\"YES\"))","v":"No"},"5","100","งานเลขาผู้บริหาร","-","นางสาววันทยา บัวทอง","ตู้เตี้ยบานเปิด ",null,"ตู้เตี้ยบานเปิด ","-","เลขที่ 191/72-191/73 ถ.มหาจักรพรรดิ์ ต.หน้าเมือง อ.เมือง จ.ฉะเชิงเทรา เลขผู้เสียภาษี 0245534000749","ใบส่งของ/ใบกำกับภาษี","037","1841","-","196/61",{"$f":"100/O5663","v":12.5},null," "," "," "," "," "," "," "," "," "," "," "," "," ",null," "," "," "," "," "," "," ","01","06","1050"," ",null,"9/30/2018",{"$f":"CONCATENATE(AB5663,\" ปี  \",AC5663,\" เดือน  \",AD5663,\" วัน  \")","v":"0 ปี  2 เดือน  22 วัน  "},{"$f":"A5663","v":6625}]
[{"$f":"A5663+1","v":6626},"61014286","2018-08-31",61,"ฉพาะเจาะจง","งบแผ่นดิน","102202150131","บริษัท แปดริ้วเฟอร์นิเจอร์ จำกัด","ตู้สูงช่วบงบนบานเปิด-ปิด ทึบ 3ใบ",3,7800,"01.06.1051-1053",{"$f":"IF(BV5664=\"จำหน่าย\",0,SUM(J5664*K5664))","v":23400},{"$f":"IF(K5664<5000,0,M5664)","v":23400},8,{"$f":"DATE(YEAR(C5664)+O5664,MONTH(C5664),DAY(C5664))","v":"2026-08-31"},{"$f":"IF(NOT(OR(ISBLANK(P5664),ISBLANK(C5664))),P5664-C5664,\"\")","v":2922},{"$f":"SLN(N5664,,O5664)","v":2925},{"$f":"SLN(R5664,,12)","v":243.75},{"$f":"SLN(N5664,,Q5664)","v":8.0082135523613971},{"$f":"IF(N5664=0,0,IF(AE5664<=Q5664,1,0))","v":1},{"$f":"SUM(R5664*U5664/12)","v":243.75},{"$f":"IF(N5664=0,0,IF((R5664*AB5664)+(R5664*AC5664/12)>=N5664,N5664-J5664,((R5664*AB5664)+(R5664*AC5664/12))))","v":487.5},{"$f":"SUM(T5664*U5664)","v":8.0082135523613971},{"$f":"IF(N5664=0,0,IF((DATEDIF(C5664,TODAY(),\"d\")+1)*T5664>=N5664,N5664-J5664,(DATEDIF(C5664,TODAY(),\"d\")+1)*T5664))","v":664.68172484599597},{"$f":"IF(U5664=0,0,IF(OR(DAY(C5664)=1,MONTH(C5664)<>MONTH(TODAY()),YEAR(C5664)<>YEAR(TODAY())),T5664*((DAY(DATE(YEAR(TODAY()),MONTH(TODAY())+1,1)-1))),T5664*((DAY(DATE(YEAR(TODAY()),MONTH(TODAY())+1,1)-1)-DAY(C5664)+1))))","v":240.24640657084191},{"$f":"IF(N5664=0,0,IF(X5664>=N5664,(J5664),(N5664-Y5664)))","v":22735.318275154004},{"$f":"DATEDIF(C5664,TODAY(),\"Y\")","v":0},{"$f":"DATEDIF(C5664,TODAY(),\"YM\")","v":2},{"$f":"DATEDIF(C5664,TODAY(),\"md\")+1","v":22},{"$f":"DATEDIF(C5664,TODAY(),\"d\")+1","v":83},{"$f":"IF(N5664=0,\"No\",IF(AE5664>Q5664,\"NO\",\"YES\"))","v":"YES"},"5","100","งานเลขาผู้บริหาร","-","นางสาววันทยา บัวทอง","ตู้สูงช่วบงบนบานเปิด-ปิด ทึบ ",null,"ตู้สูงช่วบงบนบานเปิด-ปิด ทึบ ","-","เลขที่ 191/72-191/73 ถ.มหาจักรพรรดิ์ ต.หน้าเมือง อ.เมือง จ.ฉะเชิงเทรา เลขผู้เสียภาษี 0245534000749","ใบส่งของ/ใบกำกับภาษี","037","1841","-","196/61",{"$f":"100/O5664","v":12.5},null," "," "," "," "," "," "," "," "," "," "," "," "," ",null," "," "," "," "," "," "," ","01","06","1051-1053"," ",null,"9/30/2018",{"$f":"CONCATENATE(AB5664,\" ปี  \",AC5664,\" เดือน  \",AD5664,\" วัน  \")","v":"0 ปี  2 เดือน  22 วัน  "},{"$f":"A5664","v":6626}]
[{"$f":"A5664+1","v":6627},"61014525","2018-09-12",61,"เฉพาะเจาะจง","งบแผ่นดิน","102202150131","บริษัท เอร์เฟ็คท์ ออฟฟิศ เฟอร์นิเจอร์ จำกัด","โต๊ะประชุมตรง 18 ตัว",18,23047.8,"01.02.13737-13754",{"$f":"IF(BV5665=\"จำหน่าย\",0,SUM(J5665*K5665))","v":414860.39999999997},{"$f":"IF(K5665<5000,0,M5665)","v":414860.39999999997},8,{"$f":"DATE(YEAR(C5665)+O5665,MONTH(C5665),DAY(C5665))","v":"2026-09-12"},{"$f":"IF(NOT(OR(ISBLANK(P5665),ISBLANK(C5665))),P5665-C5665,\"\")","v":2922},{"$f":"SLN(N5665,,O5665)","v":51857.549999999996},{"$f":"SLN(R5665,,12)","v":4321.4624999999996},{"$f":"SLN(N5665,,Q5665)","v":141.97823408624228},{"$f":"IF(N5665=0,0,IF(AE5665<=Q5665,1,0))","v":1},{"$f":"SUM(R5665*U5665/12)","v":4321.4624999999996},{"$f":"IF(N5665=0,0,IF((R5665*AB5665)+(R5665*AC5665/12)>=N5665,N5665-J5665,((R5665*AB5665)+(R5665*AC5665/12))))","v":8642.9249999999993},{"$f":"SUM(T5665*U5665)","v":141.97823408624228},{"$f":"IF(N5665=0,0,IF((DATEDIF(C5665,TODAY(),\"d\")+1)*T5665>=N5665,N5665-J5665,(DATEDIF(C5665,TODAY(),\"d\")+1)*T5665))","v":10080.454620123202},{"$f":"IF(U5665=0,0,IF(OR(DAY(C5665)=1,MONTH(C5665)<>MONTH(TODAY()),YEAR(C5665)<>YEAR(TODAY())),T5665*((DAY(DATE(YEAR(TODAY()),MONTH(TODAY())+1,1)-1))),T5665*((DAY(DATE(YEAR(TODAY()),MONTH(TODAY())+1,1)-1)-DAY(C5665)+1))))","v":4259.3470225872688},{"$f":"IF(N5665=0,0,IF(X5665>=N5665,(J5665),(N5665-Y5665)))","v":404779.94537987676},{"$f":"DATEDIF(C5665,TODAY(),\"Y\")","v":0},{"$f":"DATEDIF(C5665,TODAY(),\"YM\")","v":2},{"$f":"DATEDIF(C5665,TODAY(),\"md\")+1","v":10},{"$f":"DATEDIF(C5665,TODAY(),\"d\")+1","v":71},{"$f":"IF(N5665=0,\"No\",IF(AE5665>Q5665,\"NO\",\"YES\"))","v":"YES"},"5","200","งานอาคารสถานที่","ห้องเจ้าเสวย อาคารราชนครินทร์","นายสมศักดิ์ ล้ำเลิศ","โต๊ะประชุมตรง ",null,"โต๊ะประชุมตรง ","ขนาด 180*75*75 ซม.","เลขที่ 196 ซ.ท่าข้าม 12 แขวงแสมดำ เขตบางขุนเทียน กรุงเทพ เลขผู้เสียภาษี 0105533025056","ต้นฉบับใบส่งของ","-","pfinv/61090576",null,"197/61",{"$f":"100/O5665","v":12.5},null," "," "," "," "," "," "," "," "," "," "," "," "," ",null," "," "," "," "," "," "," ","01","02","13737-13754"," ",null,"9/30/2018",{"$f":"CONCATENATE(AB5665,\" ปี  \",AC5665,\" เดือน  \",AD5665,\" วัน  \")","v":"0 ปี  2 เดือน  10 วัน  "},{"$f":"A5665","v":6627}]
[{"$f":"A5665+1","v":6628},"61014525","2018-09-12",61,"เฉพาะเจาะจง","งบแผ่นดิน","102202150131","บริษัท เอร์เฟ็คท์ ออฟฟิศ เฟอร์นิเจอร์ จำกัด","โต๊ะประชุมโค้ง 2 ชุด",2,16692,"01.02.13755-13756",{"$f":"IF(BV5666=\"จำหน่าย\",0,SUM(J5666*K5666))","v":33384},{"$f":"IF(K5666<5000,0,M5666)","v":33384},8,{"$f":"DATE(YEAR(C5666)+O5666,MONTH(C5666),DAY(C5666))","v":"2026-09-12"},{"$f":"IF(NOT(OR(ISBLANK(P5666),ISBLANK(C5666))),P5666-C5666,\"\")","v":2922},{"$f":"SLN(N5666,,O5666)","v":4173},{"$f":"SLN(R5666,,12)","v":347.75},{"$f":"SLN(N5666,,Q5666)","v":11.425051334702259},{"$f":"IF(N5666=0,0,IF(AE5666<=Q5666,1,0))","v":1},{"$f":"SUM(R5666*U5666/12)","v":347.75},{"$f":"IF(N5666=0,0,IF((R5666*AB5666)+(R5666*AC5666/12)>=N5666,N5666-J5666,((R5666*AB5666)+(R5666*AC5666/12))))","v":695.5},{"$f":"SUM(T5666*U5666)","v":11.425051334702259},{"$f":"IF(N5666=0,0,IF((DATEDIF(C5666,TODAY(),\"d\")+1)*T5666>=N5666,N5666-J5666,(DATEDIF(C5666,TODAY(),\"d\")+1)*T5666))","v":811.17864476386035},{"$f":"IF(U5666=0,0,IF(OR(DAY(C5666)=1,MONTH(C5666)<>MONTH(TODAY()),YEAR(C5666)<>YEAR(TODAY())),T5666*((DAY(DATE(YEAR(TODAY()),MONTH(TODAY())+1,1)-1))),T5666*((DAY(DATE(YEAR(TODAY()),MONTH(TODAY())+1,1)-1)-DAY(C5666)+1))))","v":342.75154004106776},{"$f":"IF(N5666=0,0,IF(X5666>=N5666,(J5666),(N5666-Y5666)))","v":32572.821355236141},{"$f":"DATEDIF(C5666,TODAY(),\"Y\")","v":0},{"$f":"DATEDIF(C5666,TODAY(),\"YM\")","v":2},{"$f":"DATEDIF(C5666,TODAY(),\"md\")+1","v":10},{"$f":"DATEDIF(C5666,TODAY(),\"d\")+1","v":71},{"$f":"IF(N5666=0,\"No\",IF(AE5666>Q5666,\"NO\",\"YES\"))","v":"YES"},"5","200","งานอาคารสถานที่","ห้องเจ้าเสวย อาคารราชนครินทร์","นายสมศักดิ์ ล้ำเลิศ","โต๊ะประชุมโค้ง ",null,"โต๊ะประชุมโค้ง พร้อมขาปิดจบ","ขนาด 70.5*2.5*73 ซม.","เลขที่ 196 ซ.ท่าข้าม 12 แขวงแสมดำ เขตบางขุนเทียน กรุงเทพ เลขผู้เสียภาษี 0105533025056","ต้นฉบับใบส่งของ","-","pfinv/61090576",null,"197/61",{"$f":"100/O5666","v":12.5},null," "," "," "," "," "," "," "," "," "," "," "," "," ",null," "," "," "," "," "," "," ","01","02","13755-13756"," ",null,"9/30/2018",{"$f":"CONCATENATE(AB5666,\" ปี  \",AC5666,\" เดือน  \",AD5666,\" วัน  \")","v":"0 ปี  2 เดือน  10 วัน  "},{"$f":"A5666","v":6628}]
[{"$f":"A5666+1","v":6629},"61014391","2018-09-05",61,"เฉพาะเจาะจง","งบแผ่นดิน","10022150131","ร้าน โกลด์ คัลเลอร์แล็บ","กล้องดิจิตอล Dslr 1 ตัว",1,50485,"06.01.282",{"$f":"IF(BV5667=\"จำหน่าย\",0,SUM(J5667*K5667))","v":50485},{"$f":"IF(K5667<5000,0,M5667)","v":50485},5,{"$f":"DATE(YEAR(C5667)+O5667,MONTH(C5667),DAY(C5667))","v":"2023-09-05"},{"$f":"IF(NOT(OR(ISBLANK(P5667),ISBLANK(C5667))),P5667-C5667,\"\")","v":1826},{"$f":"SLN(N5667,,O5667)","v":10097},{"$f":"SLN(R5667,,12)","v":841.41666666666663},{"$f":"SLN(N5667,,Q5667)","v":27.647864184008764},{"$f":"IF(N5667=0,0,IF(AE5667<=Q5667,1,0))","v":1},{"$f":"SUM(R5667*U5667/12)","v":841.41666666666663},{"$f":"IF(N5667=0,0,IF((R5667*AB5667)+(R5667*AC5667/12)>=N5667,N5667-J5667,((R5667*AB5667)+(R5667*AC5667/12))))","v":1682.8333333333333},{"$f":"SUM(T5667*U5667)","v":27.647864184008764},{"$f":"IF(N5667=0,0,IF((DATEDIF(C5667,TODAY(),\"d\")+1)*T5667>=N5667,N5667-J5667,(DATEDIF(C5667,TODAY(),\"d\")+1)*T5667))","v":2156.5334063526834},{"$f":"IF(U5667=0,0,IF(OR(DAY(C5667)=1,MONTH(C5667)<>MONTH(TODAY()),YEAR(C5667)<>YEAR(TODAY())),T5667*((DAY(DATE(YEAR(TODAY()),MONTH(TODAY())+1,1)-1))),T5667*((DAY(DATE(YEAR(TODAY()),MONTH(TODAY())+1,1)-1)-DAY(C5667)+1))))","v":829.43592552026291},{"$f":"IF(N5667=0,0,IF(X5667>=N5667,(J5667),(N5667-Y5667)))","v":48328.466593647317},{"$f":"DATEDIF(C5667,TODAY(),\"Y\")","v":0},{"$f":"DATEDIF(C5667,TODAY(),\"YM\")","v":2},{"$f":"DATEDIF(C5667,TODAY(),\"md\")+1","v":17},{"$f":"DATEDIF(C5667,TODAY(),\"d\")+1","v":78},{"$f":"IF(N5667=0,\"No\",IF(AE5667>Q5667,\"NO\",\"YES\"))","v":"YES"},"7","170","งานประชาสัมพันธ์",null,"นายสุพจน์ สกุลธรรม","กล้องดิจิตอล Dslr ",null,"กล้องดิจิตอล Dslr ","ยี่ห","เลขที่ 101/7 ถ.มหาจักรพรรดิ์ ต.หน้าเมือง อ.เมือง จ.ฉะเชิงเทรา เลขผู้เสียภาษี 3249900078988","ต้นฉบับใบส่งของ/ใบกำกับภาษี","017","0821","-","198/61",{"$f":"100/O5667","v":20},null," "," "," "," "," "," "," "," "," "," "," "," "," ",null," "," "," "," "," "," "," ","06","01","282"," ",null,"9/30/2018",{"$f":"CONCATENATE(AB5667,\" ปี  \",AC5667,\" เดือน  \",AD5667,\" วัน  \")","v":"0 ปี  2 เดือน  17 วัน  "},{"$f":"A5667","v":6629}]
[{"$f":"A5667+1","v":6630},"61014391","2018-09-05",61,"เฉพาะเจาะจง","งบแผ่นดิน","102202150131","ร้าน โกล์ด คัลเลอร์แล็บ","กล้องถ่ายวีดีโอ 1 ตัว",1,47035,"06.17.330",{"$f":"IF(BV5668=\"จำหน่าย\",0,SUM(J5668*K5668))","v":47035},{"$f":"IF(K5668<5000,0,M5668)","v":47035},5,{"$f":"DATE(YEAR(C5668)+O5668,MONTH(C5668),DAY(C5668))","v":"2023-09-05"},{"$f":"IF(NOT(OR(ISBLANK(P5668),ISBLANK(C5668))),P5668-C5668,\"\")","v":1826},{"$f":"SLN(N5668,,O5668)","v":9407},{"$f":"SLN(R5668,,12)","v":783.91666666666663},{"$f":"SLN(N5668,,Q5668)","v":25.758488499452355},{"$f":"IF(N5668=0,0,IF(AE5668<=Q5668,1,0))","v":1},{"$f":"SUM(R5668*U5668/12)","v":783.91666666666663},{"$f":"IF(N5668=0,0,IF((R5668*AB5668)+(R5668*AC5668/12)>=N5668,N5668-J5668,((R5668*AB5668)+(R5668*AC5668/12))))","v":1567.8333333333333},{"$f":"SUM(T5668*U5668)","v":25.758488499452355},{"$f":"IF(N5668=0,0,IF((DATEDIF(C5668,TODAY(),\"d\")+1)*T5668>=N5668,N5668-J5668,(DATEDIF(C5668,TODAY(),\"d\")+1)*T5668))","v":2009.1621029572837},{"$f":"IF(U5668=0,0,IF(OR(DAY(C5668)=1,MONTH(C5668)<>MONTH(TODAY()),YEAR(C5668)<>YEAR(TODAY())),T5668*((DAY(DATE(YEAR(TODAY()),MONTH(TODAY())+1,1)-1))),T5668*((DAY(DATE(YEAR(TODAY()),MONTH(TODAY())+1,1)-1)-DAY(C5668)+1))))","v":772.75465498357062},{"$f":"IF(N5668=0,0,IF(X5668>=N5668,(J5668),(N5668-Y5668)))","v":45025.837897042715},{"$f":"DATEDIF(C5668,TODAY(),\"Y\")","v":0},{"$f":"DATEDIF(C5668,TODAY(),\"YM\")","v":2},{"$f":"DATEDIF(C5668,TODAY(),\"md\")+1","v":17},{"$f":"DATEDIF(C5668,TODAY(),\"d\")+1","v":78},{"$f":"IF(N5668=0,\"No\",IF(AE5668>Q5668,\"NO\",\"YES\"))","v":"YES"},"7","146","งานประชาสัมพันธ์",null,"นายสุพจน์ สกุลธรรม","กล้องถ่ายวีดีโอ ",null,"กล้องถ่ายวีดีโอ ",null,"เลขที่ 101/7 ถงมหาจักรพรรดิ์ ต.หน้าเมือง อ.เมือง จ.ฉะเชิงเทรา เลขผู้เสียภาษี 3249900078988","ต้นฉบับใบส่งของ/ใบกำกับภาษี","017","0821","-","198/61",{"$f":"100/O5668","v":20},null," "," "," "," "," "," "," "," "," "," "," "," "," ",null," "," "," "," "," "," "," ","06","17","330"," ",null,"9/30/2018",{"$f":"CONCATENATE(AB5668,\" ปี  \",AC5668,\" เดือน  \",AD5668,\" วัน  \")","v":"0 ปี  2 เดือน  17 วัน  "},{"$f":"A5668","v":6630}]
[{"$f":"A5668+1","v":6631},"61014391","2018-09-05",61,"เฉพาะเจาะจง","งบแผ่นดิน","102202150131","ร้าน โกล์ด คัลเลอร์แล็บ","แฟลช สำหรับกล้องดิจิตอล 1 ตัว",1,10580,"06.02.49",{"$f":"IF(BV5669=\"จำหน่าย\",0,SUM(J5669*K5669))","v":10580},{"$f":"IF(K5669<5000,0,M5669)","v":10580},5,{"$f":"DATE(YEAR(C5669)+O5669,MONTH(C5669),DAY(C5669))","v":"2023-09-05"},{"$f":"IF(NOT(OR(ISBLANK(P5669),ISBLANK(C5669))),P5669-C5669,\"\")","v":1826},{"$f":"SLN(N5669,,O5669)","v":2116},{"$f":"SLN(R5669,,12)","v":176.33333333333334},{"$f":"SLN(N5669,,Q5669)","v":5.7940854326396494},{"$f":"IF(N5669=0,0,IF(AE5669<=Q5669,1,0))","v":1},{"$f":"SUM(R5669*U5669/12)","v":176.33333333333334},{"$f":"IF(N5669=0,0,IF((R5669*AB5669)+(R5669*AC5669/12)>=N5669,N5669-J5669,((R5669*AB5669)+(R5669*AC5669/12))))","v":352.66666666666669},{"$f":"SUM(T5669*U5669)","v":5.7940854326396494},{"$f":"IF(N5669=0,0,IF((DATEDIF(C5669,TODAY(),\"d\")+1)*T5669>=N5669,N5669-J5669,(DATEDIF(C5669,TODAY(),\"d\")+1)*T5669))","v":451.93866374589265},{"$f":"IF(U5669=0,0,IF(OR(DAY(C5669)=1,MONTH(C5669)<>MONTH(TODAY()),YEAR(C5669)<>YEAR(TODAY())),T5669*((DAY(DATE(YEAR(TODAY()),MONTH(TODAY())+1,1)-1))),T5669*((DAY(DATE(YEAR(TODAY()),MONTH(TODAY())+1,1)-1)-DAY(C5669)+1))))","v":173.82256297918948},{"$f":"IF(N5669=0,0,IF(X5669>=N5669,(J5669),(N5669-Y5669)))","v":10128.061336254108},{"$f":"DATEDIF(C5669,TODAY(),\"Y\")","v":0},{"$f":"DATEDIF(C5669,TODAY(),\"YM\")","v":2},{"$f":"DATEDIF(C5669,TODAY(),\"md\")+1","v":17},{"$f":"DATEDIF(C5669,TODAY(),\"d\")+1","v":78},{"$f":"IF(N5669=0,\"No\",IF(AE5669>Q5669,\"NO\",\"YES\"))","v":"YES"},"8","131","งานประชาสัมพันธ์",null,"นายสุพจน์ สกุลธรรม","แฟลช สำหรับกล้องดิจิตอล ",null,"แฟลช สำหรับกล้องดิจิตอล ",null,"เลขที่ 101/7 ถงมหาจักรพรรดิ์ ต.หน้าเมือง อ.เมือง จ.ฉะเชิงเทรา เลขผู้เสียภาษี 3249900078988","ต้นฉบับใบส่งของ/ใบกำกับภาษี","017","0821","-","198/61",{"$f":"100/O5669","v":20},null," "," "," "," "," "," "," "," "," "," "," "," "," ",null," "," "," "," "," "," "," ","06","02","49"," ",null,"9/30/2018",{"$f":"CONCATENATE(AB5669,\" ปี  \",AC5669,\" เดือน  \",AD5669,\" วัน  \")","v":"0 ปี  2 เดือน  17 วัน  "},{"$f":"A5669","v":6631}]
[{"$f":"A5669+1","v":6632},"61014391","2018-09-05",61,"เฉพาะเจาะจง","งบแผ่นดิน","102202150131","ร้าน โกล์ด คัลเลอร์แล็บ","ขาตั้งกล้องโมโนพอต 1 ตัว",1,16100,"01.58.728",{"$f":"IF(BV5670=\"จำหน่าย\",0,SUM(J5670*K5670))","v":16100},{"$f":"IF(K5670<5000,0,M5670)","v":16100},8,{"$f":"DATE(YEAR(C5670)+O5670,MONTH(C5670),DAY(C5670))","v":"2026-09-05"},{"$f":"IF(NOT(OR(ISBLANK(P5670),ISBLANK(C5670))),P5670-C5670,\"\")","v":2922},{"$f":"SLN(N5670,,O5670)","v":2012.5},{"$f":"SLN(R5670,,12)","v":167.70833333333334},{"$f":"SLN(N5670,,Q5670)","v":5.5099247091033536},{"$f":"IF(N5670=0,0,IF(AE5670<=Q5670,1,0))","v":1},{"$f":"SUM(R5670*U5670/12)","v":167.70833333333334},{"$f":"IF(N5670=0,0,IF((R5670*AB5670)+(R5670*AC5670/12)>=N5670,N5670-J5670,((R5670*AB5670)+(R5670*AC5670/12))))","v":335.41666666666669},{"$f":"SUM(T5670*U5670)","v":5.5099247091033536},{"$f":"IF(N5670=0,0,IF((DATEDIF(C5670,TODAY(),\"d\")+1)*T5670>=N5670,N5670-J5670,(DATEDIF(C5670,TODAY(),\"d\")+1)*T5670))","v":429.7741273100616},{"$f":"IF(U5670=0,0,IF(OR(DAY(C5670)=1,MONTH(C5670)<>MONTH(TODAY()),YEAR(C5670)<>YEAR(TODAY())),T5670*((DAY(DATE(YEAR(TODAY()),MONTH(TODAY())+1,1)-1))),T5670*((DAY(DATE(YEAR(TODAY()),MONTH(TODAY())+1,1)-1)-DAY(C5670)+1))))","v":165.2977412731006},{"$f":"IF(N5670=0,0,IF(X5670>=N5670,(J5670),(N5670-Y5670)))","v":15670.225872689938},{"$f":"DATEDIF(C5670,TODAY(),\"Y\")","v":0},{"$f":"DATEDIF(C5670,TODAY(),\"YM\")","v":2},{"$f":"DATEDIF(C5670,TODAY(),\"md\")+1","v":17},{"$f":"DATEDIF(C5670,TODAY(),\"d\")+1","v":78},{"$f":"IF(N5670=0,\"No\",IF(AE5670>Q5670,\"NO\",\"YES\"))","v":"YES"},"11","32","งานประชาสัมพันธ์",null,"นายสุพจน์ สกุลธรรม","ขาตั้งกล้องโมโนพอต ",null,"ขาตั้งกล้องโมโนพอต ",null,"เลขที่ 101/7 ถงมหาจักรพรรดิ์ ต.หน้าเมือง อ.เมือง จ.ฉะเชิงเทรา เลขผู้เสียภาษี 3249900078988","ต้นฉบับใบส่งของ/ใบกำกับภาษี","017","0821","-","198/61",{"$f":"100/O5670","v":12.5},null," "," "," "," "," "," "," "," "," "," "," "," "," ",null," "," "," "," "," "," "," ","01","58","728"," ",null,"9/30/2018",{"$f":"CONCATENATE(AB5670,\" ปี  \",AC5670,\" เดือน  \",AD5670,\" วัน  \")","v":"0 ปี  2 เดือน  17 วัน  "},{"$f":"A5670","v":6632}]
[{"$f":"A5670+1","v":6633},"61014391","2018-09-05",61,"เฉพาะเจาะจง","งบแผ่นดิน","102202150131","ร้าน โกล์ด คัลเลอร์แล็บ","ขาตั้งกล้อง 3 ขา 1 ตัว",1,17135,"01.58.729",{"$f":"IF(BV5671=\"จำหน่าย\",0,SUM(J5671*K5671))","v":17135},{"$f":"IF(K5671<5000,0,M5671)","v":17135},8,{"$f":"DATE(YEAR(C5671)+O5671,MONTH(C5671),DAY(C5671))","v":"2026-09-05"},{"$f":"IF(NOT(OR(ISBLANK(P5671),ISBLANK(C5671))),P5671-C5671,\"\")","v":2922},{"$f":"SLN(N5671,,O5671)","v":2141.875},{"$f":"SLN(R5671,,12)","v":178.48958333333334},{"$f":"SLN(N5671,,Q5671)","v":5.8641341546885695},{"$f":"IF(N5671=0,0,IF(AE5671<=Q5671,1,0))","v":1},{"$f":"SUM(R5671*U5671/12)","v":178.48958333333334},{"$f":"IF(N5671=0,0,IF((R5671*AB5671)+(R5671*AC5671/12)>=N5671,N5671-J5671,((R5671*AB5671)+(R5671*AC5671/12))))","v":356.97916666666669},{"$f":"SUM(T5671*U5671)","v":5.8641341546885695},{"$f":"IF(N5671=0,0,IF((DATEDIF(C5671,TODAY(),\"d\")+1)*T5671>=N5671,N5671-J5671,(DATEDIF(C5671,TODAY(),\"d\")+1)*T5671))","v":457.40246406570844},{"$f":"IF(U5671=0,0,IF(OR(DAY(C5671)=1,MONTH(C5671)<>MONTH(TODAY()),YEAR(C5671)<>YEAR(TODAY())),T5671*((DAY(DATE(YEAR(TODAY()),MONTH(TODAY())+1,1)-1))),T5671*((DAY(DATE(YEAR(TODAY()),MONTH(TODAY())+1,1)-1)-DAY(C5671)+1))))","v":175.92402464065708},{"$f":"IF(N5671=0,0,IF(X5671>=N5671,(J5671),(N5671-Y5671)))","v":16677.597535934292},{"$f":"DATEDIF(C5671,TODAY(),\"Y\")","v":0},{"$f":"DATEDIF(C5671,TODAY(),\"YM\")","v":2},{"$f":"DATEDIF(C5671,TODAY(),\"md\")+1","v":17},{"$f":"DATEDIF(C5671,TODAY(),\"d\")+1","v":78},{"$f":"IF(N5671=0,\"No\",IF(AE5671>Q5671,\"NO\",\"YES\"))","v":"YES"},"11","32","งานประชาสัมพันธ์",null,"นายสุพจน์ สกุลธรรม","ขาตั้งกล้อง 3 ขา ",null,"ขาตั้งกล้อง 3 ขา สำหรับถ่ายสวีดีโอและภาพนิ่ง",null,"เลขที่ 101/7 ถงมหาจักรพรรดิ์ ต.หน้าเมือง อ.เมือง จ.ฉะเชิงเทรา เลขผู้เสียภาษี 3249900078988","ต้นฉบับใบส่งของ/ใบกำกับภาษี","017","0821","-","198/61",{"$f":"100/O5671","v":12.5},null," "," "," "," "," "," "," "," "," "," "," "," "," ",null," "," "," "," "," "," "," ","01","58","729"," ",null,"9/30/2018",{"$f":"CONCATENATE(AB5671,\" ปี  \",AC5671,\" เดือน  \",AD5671,\" วัน  \")","v":"0 ปี  2 เดือน  17 วัน  "},{"$f":"A5671","v":6633}]
[{"$f":"A5671+1","v":6634},"61013901","2018-07-13",61,"เฉพาะเจาะจง","รายได้","0222011331","นายไกรกฤษ์ มานะวะ","ลำโพงช่วยสอน 6 ค.",6,5600,"05.13.1010-1015",{"$f":"IF(BV5672=\"จำหน่าย\",0,SUM(J5672*K5672))","v":33600},{"$f":"IF(K5672<5000,0,M5672)","v":33600},5,{"$f":"DATE(YEAR(C5672)+O5672,MONTH(C5672),DAY(C5672))","v":"2023-07-13"},{"$f":"IF(NOT(OR(ISBLANK(P5672),ISBLANK(C5672))),P5672-C5672,\"\")","v":1826},{"$f":"SLN(N5672,,O5672)","v":6720},{"$f":"SLN(R5672,,12)","v":560},{"$f":"SLN(N5672,,Q5672)","v":18.400876232201533},{"$f":"IF(N5672=0,0,IF(AE5672<=Q5672,1,0))","v":1},{"$f":"SUM(R5672*U5672/12)","v":560},{"$f":"IF(N5672=0,0,IF((R5672*AB5672)+(R5672*AC5672/12)>=N5672,N5672-J5672,((R5672*AB5672)+(R5672*AC5672/12))))","v":2240},{"$f":"SUM(T5672*U5672)","v":18.400876232201533},{"$f":"IF(N5672=0,0,IF((DATEDIF(C5672,TODAY(),\"d\")+1)*T5672>=N5672,N5672-J5672,(DATEDIF(C5672,TODAY(),\"d\")+1)*T5672))","v":2428.9156626506024},{"$f":"IF(U5672=0,0,IF(OR(DAY(C5672)=1,MONTH(C5672)<>MONTH(TODAY()),YEAR(C5672)<>YEAR(TODAY())),T5672*((DAY(DATE(YEAR(TODAY()),MONTH(TODAY())+1,1)-1))),T5672*((DAY(DATE(YEAR(TODAY()),MONTH(TODAY())+1,1)-1)-DAY(C5672)+1))))","v":552.02628696604597},{"$f":"IF(N5672=0,0,IF(X5672>=N5672,(J5672),(N5672-Y5672)))","v":31171.084337349399},{"$f":"DATEDIF(C5672,TODAY(),\"Y\")","v":0},{"$f":"DATEDIF(C5672,TODAY(),\"YM\")","v":4},{"$f":"DATEDIF(C5672,TODAY(),\"md\")+1","v":9},{"$f":"DATEDIF(C5672,TODAY(),\"d\")+1","v":132},{"$f":"IF(N5672=0,\"No\",IF(AE5672>Q5672,\"NO\",\"YES\"))","v":"YES"},"10","290","คณะครุศาสตร์",null,"นายดรัณภพ เพียรจัด","ลำโพงช่วยสอน ",null,"ลำโพงช่วยสอน +ไมค์ลอย","ขนาด 8 นิ้ว","เลขที่ 30/6 ถ.ศรีโสธรตัดใหม่ ต.หน้าเมือง อ.เมือง จ.ฉะเชิงเทรา ","ใบส่งของชั่วคราว","1","18","-","199/61",{"$f":"100/O5672","v":20},null," "," "," "," "," "," "," "," "," "," "," "," "," ",null," "," "," "," "," "," "," ","05","13","1010-1015"," ",null,"9/30/2018",{"$f":"CONCATENATE(AB5672,\" ปี  \",AC5672,\" เดือน  \",AD5672,\" วัน  \")","v":"0 ปี  4 เดือน  9 วัน  "},{"$f":"A5672","v":6634}]
[{"$f":"A5672+1","v":6635},"61013901","2018-07-13",61,"เฉพาะเจาะจง","รายได้","0222011331","นายไกรกฤษ์ มานะวะ","เครื่องปริ๊นส์สี 2 ค.",2,7000,"01.72.1145-1146",{"$f":"IF(BV5673=\"จำหน่าย\",0,SUM(J5673*K5673))","v":14000},{"$f":"IF(K5673<5000,0,M5673)","v":14000},3,{"$f":"DATE(YEAR(C5673)+O5673,MONTH(C5673),DAY(C5673))","v":"2021-07-13"},{"$f":"IF(NOT(OR(ISBLANK(P5673),ISBLANK(C5673))),P5673-C5673,\"\")","v":1096},{"$f":"SLN(N5673,,O5673)","v":4666.666666666667},{"$f":"SLN(R5673,,12)","v":388.88888888888891},{"$f":"SLN(N5673,,Q5673)","v":12.773722627737227},{"$f":"IF(N5673=0,0,IF(AE5673<=Q5673,1,0))","v":1},{"$f":"SUM(R5673*U5673/12)","v":388.88888888888891},{"$f":"IF(N5673=0,0,IF((R5673*AB5673)+(R5673*AC5673/12)>=N5673,N5673-J5673,((R5673*AB5673)+(R5673*AC5673/12))))","v":1555.5555555555557},{"$f":"SUM(T5673*U5673)","v":12.773722627737227},{"$f":"IF(N5673=0,0,IF((DATEDIF(C5673,TODAY(),\"d\")+1)*T5673>=N5673,N5673-J5673,(DATEDIF(C5673,TODAY(),\"d\")+1)*T5673))","v":1686.131386861314},{"$f":"IF(U5673=0,0,IF(OR(DAY(C5673)=1,MONTH(C5673)<>MONTH(TODAY()),YEAR(C5673)<>YEAR(TODAY())),T5673*((DAY(DATE(YEAR(TODAY()),MONTH(TODAY())+1,1)-1))),T5673*((DAY(DATE(YEAR(TODAY()),MONTH(TODAY())+1,1)-1)-DAY(C5673)+1))))","v":383.21167883211683},{"$f":"IF(N5673=0,0,IF(X5673>=N5673,(J5673),(N5673-Y5673)))","v":12313.868613138686},{"$f":"DATEDIF(C5673,TODAY(),\"Y\")","v":0},{"$f":"DATEDIF(C5673,TODAY(),\"YM\")","v":4},{"$f":"DATEDIF(C5673,TODAY(),\"md\")+1","v":9},{"$f":"DATEDIF(C5673,TODAY(),\"d\")+1","v":132},{"$f":"IF(N5673=0,\"No\",IF(AE5673>Q5673,\"NO\",\"YES\"))","v":"YES"},"10","168","คณะครุศาสตร์",null,"นายดรัณภพ เพียรจัด","เครื่องปริ๊นส์สี ",null,"เครื่องปริ๊นส์สี ","ยี่ห้อ canon","เลขที่ 30/6 ถ.ศรีโสธรตัดใหม่ ต.หน้าเมือง อ.เมือง จ.ฉะเชิงเทรา ","ใบส่งของชั่วคราว","1","18","-","199/61",{"$f":"100/O5673","v":33.333333333333336},null," "," "," "," "," "," "," "," "," "," "," "," "," ",null," "," "," "," "," "," "," ","01","72","1145-1146"," ",null,"9/30/2018",{"$f":"CONCATENATE(AB5673,\" ปี  \",AC5673,\" เดือน  \",AD5673,\" วัน  \")","v":"0 ปี  4 เดือน  9 วัน  "},{"$f":"A5673","v":6635}]
[{"$f":"A5673+1","v":6636},"61014954","2018-09-14",61,"ประกวดราคาด้วยระบบอิเล็กทรอนิกส์","งบแผ่นดิน","102101030131","บริษัท ออโต ไดแด็กติก จำกัด","ครุภัณฑ์ห้องปฏิบัติการระบบไฮดรอลิกส์และนิวเมติกส์ 1 ชุด",1,3188000,"04.42.04",{"$f":"IF(BV5674=\"จำหน่าย\",0,SUM(J5674*K5674))","v":3188000},{"$f":"IF(K5674<5000,0,M5674)","v":3188000},5,{"$f":"DATE(YEAR(C5674)+O5674,MONTH(C5674),DAY(C5674))","v":"2023-09-14"},{"$f":"IF(NOT(OR(ISBLANK(P5674),ISBLANK(C5674))),P5674-C5674,\"\")","v":1826},{"$f":"SLN(N5674,,O5674)","v":637600},{"$f":"SLN(R5674,,12)","v":53133.333333333336},{"$f":"SLN(N5674,,Q5674)","v":1745.8926615553121},{"$f":"IF(N5674=0,0,IF(AE5674<=Q5674,1,0))","v":1},{"$f":"SUM(R5674*U5674/12)","v":53133.333333333336},{"$f":"IF(N5674=0,0,IF((R5674*AB5674)+(R5674*AC5674/12)>=N5674,N5674-J5674,((R5674*AB5674)+(R5674*AC5674/12))))","v":106266.66666666667},{"$f":"SUM(T5674*U5674)","v":1745.8926615553121},{"$f":"IF(N5674=0,0,IF((DATEDIF(C5674,TODAY(),\"d\")+1)*T5674>=N5674,N5674-J5674,(DATEDIF(C5674,TODAY(),\"d\")+1)*T5674))","v":120466.59364731653},{"$f":"IF(U5674=0,0,IF(OR(DAY(C5674)=1,MONTH(C5674)<>MONTH(TODAY()),YEAR(C5674)<>YEAR(TODAY())),T5674*((DAY(DATE(YEAR(TODAY()),MONTH(TODAY())+1,1)-1))),T5674*((DAY(DATE(YEAR(TODAY()),MONTH(TODAY())+1,1)-1)-DAY(C5674)+1))))","v":52376.779846659359},{"$f":"IF(N5674=0,0,IF(X5674>=N5674,(J5674),(N5674-Y5674)))","v":3067533.4063526834},{"$f":"DATEDIF(C5674,TODAY(),\"Y\")","v":0},{"$f":"DATEDIF(C5674,TODAY(),\"YM\")","v":2},{"$f":"DATEDIF(C5674,TODAY(),\"md\")+1","v":8},{"$f":"DATEDIF(C5674,TODAY(),\"d\")+1","v":69},{"$f":"IF(N5674=0,\"No\",IF(AE5674>Q5674,\"NO\",\"YES\"))","v":"YES"},"7","230","คณะเทคโนโลยีอุตสาหกรรม",null,"นายจักรพันธ์ ปิ่นทอง","ครุภัณฑ์ห้องปฏิบัติการระบบไฮดรอลิกส์และนิวเมติกส์ ",null,"ครุภัณฑ์ห้องปฏิบัติการระบบไฮดรอลิกส์และนิวเมติกส์ ",null,"เลขที่ 111 ซ.สุขุมวิท แขวงพระโขนงใต้ เขตพระโขนง กรุงเทพฯ เลขผู้เสียภาษี 0105543001265","ใบส่งสินค้า/ใบกำกับภาษี","-","IV61/0101","42/2561 ลว.28 พ.ค 61","200/61",{"$f":"100/O5674","v":20},null," "," "," "," "," "," "," "," "," "," "," "," "," ",null," "," "," "," "," "," "," ","04","42","04"," ",null,"9/30/2018",{"$f":"CONCATENATE(AB5674,\" ปี  \",AC5674,\" เดือน  \",AD5674,\" วัน  \")","v":"0 ปี  2 เดือน  8 วัน  "},{"$f":"A5674","v":6636}]
[{"$f":"A5674+1","v":6637},"01-029-2561","2018-06-10",61,"เฉพาะเจาะจง","รายได้","-","บริษัท สยาม เน็ตเวิร์ค โซลูชั้น จำกัด","เครื่องรูดคีย์การ์ด 3 ค.",3,10000,"01.58.725-727",{"$f":"IF(BV5675=\"จำหน่าย\",0,SUM(J5675*K5675))","v":30000},{"$f":"IF(K5675<5000,0,M5675)","v":30000},8,{"$f":"DATE(YEAR(C5675)+O5675,MONTH(C5675),DAY(C5675))","v":"2026-06-10"},{"$f":"IF(NOT(OR(ISBLANK(P5675),ISBLANK(C5675))),P5675-C5675,\"\")","v":2922},{"$f":"SLN(N5675,,O5675)","v":3750},{"$f":"SLN(R5675,,12)","v":312.5},{"$f":"SLN(N5675,,Q5675)","v":10.266940451745381},{"$f":"IF(N5675=0,0,IF(AE5675<=Q5675,1,0))","v":1},{"$f":"SUM(R5675*U5675/12)","v":312.5},{"$f":"IF(N5675=0,0,IF((R5675*AB5675)+(R5675*AC5675/12)>=N5675,N5675-J5675,((R5675*AB5675)+(R5675*AC5675/12))))","v":1562.5},{"$f":"SUM(T5675*U5675)","v":10.266940451745381},{"$f":"IF(N5675=0,0,IF((DATEDIF(C5675,TODAY(),\"d\")+1)*T5675>=N5675,N5675-J5675,(DATEDIF(C5675,TODAY(),\"d\")+1)*T5675))","v":1694.0451745379878},{"$f":"IF(U5675=0,0,IF(OR(DAY(C5675)=1,MONTH(C5675)<>MONTH(TODAY()),YEAR(C5675)<>YEAR(TODAY())),T5675*((DAY(DATE(YEAR(TODAY()),MONTH(TODAY())+1,1)-1))),T5675*((DAY(DATE(YEAR(TODAY()),MONTH(TODAY())+1,1)-1)-DAY(C5675)+1))))","v":308.00821355236144},{"$f":"IF(N5675=0,0,IF(X5675>=N5675,(J5675),(N5675-Y5675)))","v":28305.954825462013},{"$f":"DATEDIF(C5675,TODAY(),\"Y\")","v":0},{"$f":"DATEDIF(C5675,TODAY(),\"YM\")","v":5},{"$f":"DATEDIF(C5675,TODAY(),\"md\")+1","v":12},{"$f":"DATEDIF(C5675,TODAY(),\"d\")+1","v":165},{"$f":"IF(N5675=0,\"No\",IF(AE5675>Q5675,\"NO\",\"YES\"))","v":"YES"},"11","32","หอพัก นศ. 4 หลัง มรร.บางคล้า",null,"นางสาวอธิกมาส เจื้อยแจ้ว","เครื่องรูดคีย์การ์ด ",null,"เครื่องรูดคีย์การ์ด ",null,"เลขที่ 45/31 ม.5 ต.แพรกษาใหม่ อ.เมืองสมุทรปราการ จ.สมุทรปราการ เลขผู้เสียภาษี 0115555008251","ใบวางบิล/ใบแจ้งหนี้ ต้นฉบับ","-","BL000242","-","189/61",{"$f":"100/O5675","v":12.5},null," "," "," "," "," "," "," "," "," "," "," "," "," ",null," "," "," "," "," "," "," ","01","58","725-727"," ",null,"9/30/2018",{"$f":"CONCATENATE(AB5675,\" ปี  \",AC5675,\" เดือน  \",AD5675,\" วัน  \")","v":"0 ปี  5 เดือน  12 วัน  "},{"$f":"A5675","v":6637}]
[{"$f":"A5675+1","v":6638},"04-037-2561","2018-06-20",61,"เฉพาะเจาะจง","รายได้","-","ร้านเบ็ญจาเฟอร์นิเจอร์ บางคล้า","โต๊ะหมู่บูชา ขนาด 9 1 ชุด",1,6900,"01.34.33",{"$f":"IF(BV5676=\"จำหน่าย\",0,SUM(J5676*K5676))","v":6900},{"$f":"IF(K5676<5000,0,M5676)","v":6900},8,{"$f":"DATE(YEAR(C5676)+O5676,MONTH(C5676),DAY(C5676))","v":"2026-06-20"},{"$f":"IF(NOT(OR(ISBLANK(P5676),ISBLANK(C5676))),P5676-C5676,\"\")","v":2922},{"$f":"SLN(N5676,,O5676)","v":862.5},{"$f":"SLN(R5676,,12)","v":71.875},{"$f":"SLN(N5676,,Q5676)","v":2.3613963039014374},{"$f":"IF(N5676=0,0,IF(AE5676<=Q5676,1,0))","v":1},{"$f":"SUM(R5676*U5676/12)","v":71.875},{"$f":"IF(N5676=0,0,IF((R5676*AB5676)+(R5676*AC5676/12)>=N5676,N5676-J5676,((R5676*AB5676)+(R5676*AC5676/12))))","v":359.375},{"$f":"SUM(T5676*U5676)","v":2.3613963039014374},{"$f":"IF(N5676=0,0,IF((DATEDIF(C5676,TODAY(),\"d\")+1)*T5676>=N5676,N5676-J5676,(DATEDIF(C5676,TODAY(),\"d\")+1)*T5676))","v":366.01642710472282},{"$f":"IF(U5676=0,0,IF(OR(DAY(C5676)=1,MONTH(C5676)<>MONTH(TODAY()),YEAR(C5676)<>YEAR(TODAY())),T5676*((DAY(DATE(YEAR(TODAY()),MONTH(TODAY())+1,1)-1))),T5676*((DAY(DATE(YEAR(TODAY()),MONTH(TODAY())+1,1)-1)-DAY(C5676)+1))))","v":70.841889117043124},{"$f":"IF(N5676=0,0,IF(X5676>=N5676,(J5676),(N5676-Y5676)))","v":6533.9835728952776},{"$f":"DATEDIF(C5676,TODAY(),\"Y\")","v":0},{"$f":"DATEDIF(C5676,TODAY(),\"YM\")","v":5},{"$f":"DATEDIF(C5676,TODAY(),\"md\")+1","v":2},{"$f":"DATEDIF(C5676,TODAY(),\"d\")+1","v":155},{"$f":"IF(N5676=0,\"No\",IF(AE5676>Q5676,\"NO\",\"YES\"))","v":"YES"},"6/2","1","หอพัก นศ. 4 หลัง มรร.บางคล้า",null,"นางสาวอธิกมาส เจื่อยแจ้ว","โต๊ะหมู่บูชา ขนาด 9 ",null,"โต๊ะหมู่บูชา ขนาด 9 ","ขนาด 9","เลขที่ 32/9 ถ.วัฒนปรีดา ต.บางคตล้า อ.บางคล้า จ.ฉะเชิงเทรา ","บิลเงินสด","-","-","-","188/61",{"$f":"100/O5676","v":12.5},null," "," "," "," "," "," "," "," "," "," "," "," "," ",null," "," "," "," "," "," "," ","01","34","33"," ",null,"9/30/2018",{"$f":"CONCATENATE(AB5676,\" ปี  \",AC5676,\" เดือน  \",AD5676,\" วัน  \")","v":"0 ปี  5 เดือน  2 วัน  "},{"$f":"A5676","v":6638}]
[{"$f":"A5676+1","v":6639},"04-036-2561","2018-06-14",61,"เฉพาะเจาะจง","รายได้","-","ร้านเบ็ญจาเฟอร์นิเจอร์ บางคล้า","เครื่องปั๊มลม 1 ค.",1,12500,"09.01.25",{"$f":"IF(BV5677=\"จำหน่าย\",0,SUM(J5677*K5677))","v":12500},{"$f":"IF(K5677<5000,0,M5677)","v":12500},5,{"$f":"DATE(YEAR(C5677)+O5677,MONTH(C5677),DAY(C5677))","v":"2023-06-14"},{"$f":"IF(NOT(OR(ISBLANK(P5677),ISBLANK(C5677))),P5677-C5677,\"\")","v":1826},{"$f":"SLN(N5677,,O5677)","v":2500},{"$f":"SLN(R5677,,12)","v":208.33333333333334},{"$f":"SLN(N5677,,Q5677)","v":6.8455640744797375},{"$f":"IF(N5677=0,0,IF(AE5677<=Q5677,1,0))","v":1},{"$f":"SUM(R5677*U5677/12)","v":208.33333333333334},{"$f":"IF(N5677=0,0,IF((R5677*AB5677)+(R5677*AC5677/12)>=N5677,N5677-J5677,((R5677*AB5677)+(R5677*AC5677/12))))","v":1041.6666666666667},{"$f":"SUM(T5677*U5677)","v":6.8455640744797375},{"$f":"IF(N5677=0,0,IF((DATEDIF(C5677,TODAY(),\"d\")+1)*T5677>=N5677,N5677-J5677,(DATEDIF(C5677,TODAY(),\"d\")+1)*T5677))","v":1102.1358159912377},{"$f":"IF(U5677=0,0,IF(OR(DAY(C5677)=1,MONTH(C5677)<>MONTH(TODAY()),YEAR(C5677)<>YEAR(TODAY())),T5677*((DAY(DATE(YEAR(TODAY()),MONTH(TODAY())+1,1)-1))),T5677*((DAY(DATE(YEAR(TODAY()),MONTH(TODAY())+1,1)-1)-DAY(C5677)+1))))","v":205.36692223439212},{"$f":"IF(N5677=0,0,IF(X5677>=N5677,(J5677),(N5677-Y5677)))","v":11397.864184008762},{"$f":"DATEDIF(C5677,TODAY(),\"Y\")","v":0},{"$f":"DATEDIF(C5677,TODAY(),\"YM\")","v":5},{"$f":"DATEDIF(C5677,TODAY(),\"md\")+1","v":8},{"$f":"DATEDIF(C5677,TODAY(),\"d\")+1","v":161},{"$f":"IF(N5677=0,\"No\",IF(AE5677>Q5677,\"NO\",\"YES\"))","v":"YES"},"7","231","หอพัก นศ. 4 หลัง มรร.บางคล้า",null,"นางสาวอธิกมาส เจื่อยแจ้ว","เครื่องปั๊มลม ",null,"เครื่องปั๊มลม ","ขนาด 36 ลิตร","เลขที่ 32/9 ถ.วัฒนปรีดา ต.บางคตล้า อ.บางคล้า จ.ฉะเชิงเทรา ","บิลเงินสด","-","-","-","186/61",{"$f":"100/O5677","v":20},null," "," "," "," "," "," "," "," "," "," "," "," "," ",null," "," "," "," "," "," "," ","09","01","25"," ",null,"10/5/2018",{"$f":"CONCATENATE(AB5677,\" ปี  \",AC5677,\" เดือน  \",AD5677,\" วัน  \")","v":"0 ปี  5 เดือน  8 วัน  "},{"$f":"A5677","v":6639}]
[{"$f":"A5677+1","v":6640},"04-039-2561","2018-06-14",61,"เฉพาะเจาะจง","รายได้","-","ร้าน พี.ซี.คลินิค","วิทยุสื่อสาร 5 ค.",5,1990,"05.19.189-193",{"$f":"IF(BV5678=\"จำหน่าย\",0,SUM(J5678*K5678))","v":9950},{"$f":"IF(K5678<5000,0,M5678)","v":0},5,{"$f":"DATE(YEAR(C5678)+O5678,MONTH(C5678),DAY(C5678))","v":"2023-06-14"},{"$f":"IF(NOT(OR(ISBLANK(P5678),ISBLANK(C5678))),P5678-C5678,\"\")","v":1826},{"$f":"SLN(N5678,,O5678)","v":0},{"$f":"SLN(R5678,,12)","v":0},{"$f":"SLN(N5678,,Q5678)","v":0},{"$f":"IF(N5678=0,0,IF(AE5678<=Q5678,1,0))","v":0},{"$f":"SUM(R5678*U5678/12)","v":0},{"$f":"IF(N5678=0,0,IF((R5678*AB5678)+(R5678*AC5678/12)>=N5678,N5678-J5678,((R5678*AB5678)+(R5678*AC5678/12))))","v":0},{"$f":"SUM(T5678*U5678)","v":0},{"$f":"IF(N5678=0,0,IF((DATEDIF(C5678,TODAY(),\"d\")+1)*T5678>=N5678,N5678-J5678,(DATEDIF(C5678,TODAY(),\"d\")+1)*T5678))","v":0},{"$f":"IF(U5678=0,0,IF(OR(DAY(C5678)=1,MONTH(C5678)<>MONTH(TODAY()),YEAR(C5678)<>YEAR(TODAY())),T5678*((DAY(DATE(YEAR(TODAY()),MONTH(TODAY())+1,1)-1))),T5678*((DAY(DATE(YEAR(TODAY()),MONTH(TODAY())+1,1)-1)-DAY(C5678)+1))))","v":0},{"$f":"IF(N5678=0,0,IF(X5678>=N5678,(J5678),(N5678-Y5678)))","v":0},{"$f":"DATEDIF(C5678,TODAY(),\"Y\")","v":0},{"$f":"DATEDIF(C5678,TODAY(),\"YM\")","v":5},{"$f":"DATEDIF(C5678,TODAY(),\"md\")+1","v":8},{"$f":"DATEDIF(C5678,TODAY(),\"d\")+1","v":161},{"$f":"IF(N5678=0,\"No\",IF(AE5678>Q5678,\"NO\",\"YES\"))","v":"No"},"8","65","หอพัก นศ. 4 หลัง มรร.บางคล้า",null,null,"วิทยุสื่อสาร ",null,"วิทยุสื่อสาร ","ยี่ห้อ Fujitel รุ่น Fb-5h","เลขที่ 342 ถ.ศุขประยูร ต.หน้าเมือง อ.เมือง จ.ฉะเชิงเทรา เลขผู้เสียภาษี 3240100484720","ต้นฉบับใบเสร็จรับเงิน/ใบกำกับภาษี","-","PC-IV610801",null,"185/61",{"$f":"100/O5678","v":20},null," "," "," "," "," "," "," "," "," "," "," "," "," ",null," "," "," "," "," "," "," ","05","19","189-193"," ",null,"10/5/2018",{"$f":"CONCATENATE(AB5678,\" ปี  \",AC5678,\" เดือน  \",AD5678,\" วัน  \")","v":"0 ปี  5 เดือน  8 วัน  "},{"$f":"A5678","v":6640}]
[{"$f":"A5678+1","v":6641},"04-024-2561","2018-04-30",61,"เฉพาะเจาะจง","รายได้","-","ร้าน เบ็ญจาเฟอร์นิเจอร์ บางคล้า","ทีวี พร้อม ขาแขวน 1 ชุด",1,9191,"05.10.617",{"$f":"IF(BV5679=\"จำหน่าย\",0,SUM(J5679*K5679))","v":9191},{"$f":"IF(K5679<5000,0,M5679)","v":9191},5,{"$f":"DATE(YEAR(C5679)+O5679,MONTH(C5679),DAY(C5679))","v":"2023-04-30"},{"$f":"IF(NOT(OR(ISBLANK(P5679),ISBLANK(C5679))),P5679-C5679,\"\")","v":1826},{"$f":"SLN(N5679,,O5679)","v":1838.2},{"$f":"SLN(R5679,,12)","v":153.18333333333334},{"$f":"SLN(N5679,,Q5679)","v":5.0334063526834614},{"$f":"IF(N5679=0,0,IF(AE5679<=Q5679,1,0))","v":1},{"$f":"SUM(R5679*U5679/12)","v":153.18333333333334},{"$f":"IF(N5679=0,0,IF((R5679*AB5679)+(R5679*AC5679/12)>=N5679,N5679-J5679,((R5679*AB5679)+(R5679*AC5679/12))))","v":919.1},{"$f":"SUM(T5679*U5679)","v":5.0334063526834614},{"$f":"IF(N5679=0,0,IF((DATEDIF(C5679,TODAY(),\"d\")+1)*T5679>=N5679,N5679-J5679,(DATEDIF(C5679,TODAY(),\"d\")+1)*T5679))","v":1036.8817086527931},{"$f":"IF(U5679=0,0,IF(OR(DAY(C5679)=1,MONTH(C5679)<>MONTH(TODAY()),YEAR(C5679)<>YEAR(TODAY())),T5679*((DAY(DATE(YEAR(TODAY()),MONTH(TODAY())+1,1)-1))),T5679*((DAY(DATE(YEAR(TODAY()),MONTH(TODAY())+1,1)-1)-DAY(C5679)+1))))","v":151.00219058050385},{"$f":"IF(N5679=0,0,IF(X5679>=N5679,(J5679),(N5679-Y5679)))","v":8154.1182913472067},{"$f":"DATEDIF(C5679,TODAY(),\"Y\")","v":0},{"$f":"DATEDIF(C5679,TODAY(),\"YM\")","v":6},{"$f":"DATEDIF(C5679,TODAY(),\"md\")+1","v":23},{"$f":"DATEDIF(C5679,TODAY(),\"d\")+1","v":206},{"$f":"IF(N5679=0,\"No\",IF(AE5679>Q5679,\"NO\",\"YES\"))","v":"YES"},"10","103","หอพัก นศ.4 หลัง มรร.บางคล้า",null,"นางสาวอธิกมาส บุณยธรรมกุล","ทีวี พร้อม ขาแขวน ",null,"ทีวี พร้อม ขาแขวน ","ยี่ห้อ Tosiba ขนาด 32 นิ้ว","เลขที่ 32/9 ถ.วัฒนาปรีดา ต.บางคล้า อ.บางคล้า จ.ฉะเชิงเทรา","บิลเงินสด","-","-","-","184/61",{"$f":"100/O5679","v":20},null," "," "," "," "," "," "," "," "," "," "," "," "," ",null," "," "," "," "," "," "," ","05","10","617"," ",null,"9/30/2018",{"$f":"CONCATENATE(AB5679,\" ปี  \",AC5679,\" เดือน  \",AD5679,\" วัน  \")","v":"0 ปี  6 เดือน  23 วัน  "},{"$f":"A5679","v":6641}]
[{"$f":"A5679+1","v":6642},"04-038-2561","2018-06-18",61,"เฉพาะเจาะจง","รายได้","-","ร้าน ไอที เซอร์วิส แอนด์ คอมพ์ ชอป","เครื่องคอมพิวเตอร์ 5 ค.",5,16000,"01.53.5849-5853",{"$f":"IF(BV5680=\"จำหน่าย\",0,SUM(J5680*K5680))","v":80000},{"$f":"IF(K5680<5000,0,M5680)","v":80000},5,{"$f":"DATE(YEAR(C5680)+O5680,MONTH(C5680),DAY(C5680))","v":"2023-06-18"},{"$f":"IF(NOT(OR(ISBLANK(P5680),ISBLANK(C5680))),P5680-C5680,\"\")","v":1826},{"$f":"SLN(N5680,,O5680)","v":16000},{"$f":"SLN(R5680,,12)","v":1333.3333333333333},{"$f":"SLN(N5680,,Q5680)","v":43.81161007667032},{"$f":"IF(N5680=0,0,IF(AE5680<=Q5680,1,0))","v":1},{"$f":"SUM(R5680*U5680/12)","v":1333.3333333333333},{"$f":"IF(N5680=0,0,IF((R5680*AB5680)+(R5680*AC5680/12)>=N5680,N5680-J5680,((R5680*AB5680)+(R5680*AC5680/12))))","v":6666.666666666667},{"$f":"SUM(T5680*U5680)","v":43.81161007667032},{"$f":"IF(N5680=0,0,IF((DATEDIF(C5680,TODAY(),\"d\")+1)*T5680>=N5680,N5680-J5680,(DATEDIF(C5680,TODAY(),\"d\")+1)*T5680))","v":6878.4227820372398},{"$f":"IF(U5680=0,0,IF(OR(DAY(C5680)=1,MONTH(C5680)<>MONTH(TODAY()),YEAR(C5680)<>YEAR(TODAY())),T5680*((DAY(DATE(YEAR(TODAY()),MONTH(TODAY())+1,1)-1))),T5680*((DAY(DATE(YEAR(TODAY()),MONTH(TODAY())+1,1)-1)-DAY(C5680)+1))))","v":1314.3483023001095},{"$f":"IF(N5680=0,0,IF(X5680>=N5680,(J5680),(N5680-Y5680)))","v":73121.577217962767},{"$f":"DATEDIF(C5680,TODAY(),\"Y\")","v":0},{"$f":"DATEDIF(C5680,TODAY(),\"YM\")","v":5},{"$f":"DATEDIF(C5680,TODAY(),\"md\")+1","v":4},{"$f":"DATEDIF(C5680,TODAY(),\"d\")+1","v":157},{"$f":"IF(N5680=0,\"No\",IF(AE5680>Q5680,\"NO\",\"YES\"))","v":"YES"},"10","49","หอพัก นศ.4 หลัง มรร.บางคล้า",null,"นางสาวอธิกมาส บุณยธรรมกุล","เครื่องคอมพิวเตอร์ ",null,"เครื่องคอมพิวเตอร์ ","ยี่ห้อ Hp รุ่น Pavliion 22-c0001d","เลขที่ 131/43-44 ถ.ชุมพล ต.หน้าเมือง อ.เมือง จ.ฉะเชิงเทรา เลขผู้เสียภาษี 3249900001659","ใบส่งสินค้า/ใบแจ้งหนี้","-","so-610227","-","183/61",{"$f":"100/O5680","v":20},null," "," "," "," "," "," "," "," "," "," "," "," "," ",null," "," "," "," "," "," "," ","01","53","5849-5853"," ",null,"9/30/2018",{"$f":"CONCATENATE(AB5680,\" ปี  \",AC5680,\" เดือน  \",AD5680,\" วัน  \")","v":"0 ปี  5 เดือน  4 วัน  "},{"$f":"A5680","v":6642}]
[{"$f":"A5680+1","v":6643},"04-046-2561","2018-08-02",61,"เฉพาะเจาะจง","รายได้","-","ร้าน พี.ซี.คลินิค","เครื่องพิมพ์แบบมัลติฟังก์ชั่นเลเซอร์ 1 ค.",1,5490,"01.72.1144",{"$f":"IF(BV5681=\"จำหน่าย\",0,SUM(J5681*K5681))","v":5490},{"$f":"IF(K5681<5000,0,M5681)","v":5490},3,{"$f":"DATE(YEAR(C5681)+O5681,MONTH(C5681),DAY(C5681))","v":"2021-08-02"},{"$f":"IF(NOT(OR(ISBLANK(P5681),ISBLANK(C5681))),P5681-C5681,\"\")","v":1096},{"$f":"SLN(N5681,,O5681)","v":1830},{"$f":"SLN(R5681,,12)","v":152.5},{"$f":"SLN(N5681,,Q5681)","v":5.0091240875912408},{"$f":"IF(N5681=0,0,IF(AE5681<=Q5681,1,0))","v":1},{"$f":"SUM(R5681*U5681/12)","v":152.5},{"$f":"IF(N5681=0,0,IF((R5681*AB5681)+(R5681*AC5681/12)>=N5681,N5681-J5681,((R5681*AB5681)+(R5681*AC5681/12))))","v":457.5},{"$f":"SUM(T5681*U5681)","v":5.0091240875912408},{"$f":"IF(N5681=0,0,IF((DATEDIF(C5681,TODAY(),\"d\")+1)*T5681>=N5681,N5681-J5681,(DATEDIF(C5681,TODAY(),\"d\")+1)*T5681))","v":561.021897810219},{"$f":"IF(U5681=0,0,IF(OR(DAY(C5681)=1,MONTH(C5681)<>MONTH(TODAY()),YEAR(C5681)<>YEAR(TODAY())),T5681*((DAY(DATE(YEAR(TODAY()),MONTH(TODAY())+1,1)-1))),T5681*((DAY(DATE(YEAR(TODAY()),MONTH(TODAY())+1,1)-1)-DAY(C5681)+1))))","v":150.27372262773721},{"$f":"IF(N5681=0,0,IF(X5681>=N5681,(J5681),(N5681-Y5681)))","v":4928.9781021897807},{"$f":"DATEDIF(C5681,TODAY(),\"Y\")","v":0},{"$f":"DATEDIF(C5681,TODAY(),\"YM\")","v":3},{"$f":"DATEDIF(C5681,TODAY(),\"md\")+1","v":20},{"$f":"DATEDIF(C5681,TODAY(),\"d\")+1","v":112},{"$f":"IF(N5681=0,\"No\",IF(AE5681>Q5681,\"NO\",\"YES\"))","v":"YES"},"10","168","หอพัก นศ.4 หลัง มรร.บางคล้า",null,"นางสาวอธิกมาส บุณยธรรมกุล","เครื่องพิมพ์แบบมัลติฟังก์ชั่นเลเซอร์ ",null,"เครื่องพิมพ์แบบมัลติฟังก์ชั่นเลเซอร์ ","ยี่ห้อ Brother รุ่น mfc-l2700d","เลขที่ 342 ถ.ศุขประยูร ต.หน้าเมือง อ.เมือง จ.ฉะเชิงเทรา เลขผู้เสียภาษี 3249900001659","ต้นฉบับใบเสร็จรับเงิน/ใบกำกับภาษี","-","pc-610812","-","182/61",{"$f":"100/O5681","v":33.333333333333336},null," "," "," "," "," "," "," "," "," "," "," "," "," ",null," "," "," "," "," "," "," ","01","72","1144"," ",null,"9/30/2018",{"$f":"CONCATENATE(AB5681,\" ปี  \",AC5681,\" เดือน  \",AD5681,\" วัน  \")","v":"0 ปี  3 เดือน  20 วัน  "},{"$f":"A5681","v":6643}]
[{"$f":"A5681+1","v":6644},"61013646","2018-09-12",61,"ประกวดราคาอิเล็กทรอนิกส์","งบแผ่นดิน","102101011031","บริษัท ฟิวเจอร์กรีนเอ็นจิเนียริ่ง จำกัด","เครื่องกำเนิดไฟฟ้า 1 ค.",1,969000,"05.01.115",{"$f":"IF(BV5682=\"จำหน่าย\",0,SUM(J5682*K5682))","v":969000},{"$f":"IF(K5682<5000,0,M5682)","v":969000},15,{"$f":"DATE(YEAR(C5682)+O5682,MONTH(C5682),DAY(C5682))","v":"2033-09-12"},{"$f":"IF(NOT(OR(ISBLANK(P5682),ISBLANK(C5682))),P5682-C5682,\"\")","v":5479},{"$f":"SLN(N5682,,O5682)","v":64600},{"$f":"SLN(R5682,,12)","v":5383.333333333333},{"$f":"SLN(N5682,,Q5682)","v":176.85709070998357},{"$f":"IF(N5682=0,0,IF(AE5682<=Q5682,1,0))","v":1},{"$f":"SUM(R5682*U5682/12)","v":5383.333333333333},{"$f":"IF(N5682=0,0,IF((R5682*AB5682)+(R5682*AC5682/12)>=N5682,N5682-J5682,((R5682*AB5682)+(R5682*AC5682/12))))","v":10766.666666666666},{"$f":"SUM(T5682*U5682)","v":176.85709070998357},{"$f":"IF(N5682=0,0,IF((DATEDIF(C5682,TODAY(),\"d\")+1)*T5682>=N5682,N5682-J5682,(DATEDIF(C5682,TODAY(),\"d\")+1)*T5682))","v":12556.853440408833},{"$f":"IF(U5682=0,0,IF(OR(DAY(C5682)=1,MONTH(C5682)<>MONTH(TODAY()),YEAR(C5682)<>YEAR(TODAY())),T5682*((DAY(DATE(YEAR(TODAY()),MONTH(TODAY())+1,1)-1))),T5682*((DAY(DATE(YEAR(TODAY()),MONTH(TODAY())+1,1)-1)-DAY(C5682)+1))))","v":5305.7127212995074},{"$f":"IF(N5682=0,0,IF(X5682>=N5682,(J5682),(N5682-Y5682)))","v":956443.14655959117},{"$f":"DATEDIF(C5682,TODAY(),\"Y\")","v":0},{"$f":"DATEDIF(C5682,TODAY(),\"YM\")","v":2},{"$f":"DATEDIF(C5682,TODAY(),\"md\")+1","v":10},{"$f":"DATEDIF(C5682,TODAY(),\"d\")+1","v":71},{"$f":"IF(N5682=0,\"No\",IF(AE5682>Q5682,\"NO\",\"YES\"))","v":"YES"},"8","47","สำนักวิทยบริการฯ",null,"นายณรงค์ศักดิ์ พุดเผือก","เครื่องกำเนิดไฟฟ้า ",null,"เครื่องกำเนิดไฟฟ้า ","ขนาด 200KW","เลขที่ 107/13 6 ม.13 ต.บางพลีใหญ่ องบางพลี จ.สมุทรปราการ เลขผู้เสียภาษี 0105554156311","ใบส่งของ/ใบกำกับภาษี(ต้นฉบับ)","-","FGE-IV-61-024","43/2561 ลว.30 พ.ค 61","202/61",{"$f":"100/O5682","v":6.666666666666667},null," "," "," "," "," "," "," "," "," "," "," "," "," ",null," "," "," "," "," "," "," ","05","01","115"," ",null,"9/30/2018",{"$f":"CONCATENATE(AB5682,\" ปี  \",AC5682,\" เดือน  \",AD5682,\" วัน  \")","v":"0 ปี  2 เดือน  10 วัน  "},{"$f":"A5682","v":6644}]
[{"$f":"A5682+1","v":6645},"61014994","2018-09-20",61,"ประกวดราคาอิเล็กทรอนิกส์","รายได้","202202150231","บริษัท แอล.เอช.เอ็ม.คอมพิวเตอร์ จำกัด","เครื่องปรับอากาศ 58ค.",58,30555,"01.29.2493-2550",{"$f":"IF(BV5683=\"จำหน่าย\",0,SUM(J5683*K5683))","v":1772190},{"$f":"IF(K5683<5000,0,M5683)","v":1772190},8,{"$f":"DATE(YEAR(C5683)+O5683,MONTH(C5683),DAY(C5683))","v":"2026-09-20"},{"$f":"IF(NOT(OR(ISBLANK(P5683),ISBLANK(C5683))),P5683-C5683,\"\")","v":2922},{"$f":"SLN(N5683,,O5683)","v":221523.75},{"$f":"SLN(R5683,,12)","v":18460.3125},{"$f":"SLN(N5683,,Q5683)","v":606.49897330595479},{"$f":"IF(N5683=0,0,IF(AE5683<=Q5683,1,0))","v":1},{"$f":"SUM(R5683*U5683/12)","v":18460.3125},{"$f":"IF(N5683=0,0,IF((R5683*AB5683)+(R5683*AC5683/12)>=N5683,N5683-J5683,((R5683*AB5683)+(R5683*AC5683/12))))","v":36920.625},{"$f":"SUM(T5683*U5683)","v":606.49897330595479},{"$f":"IF(N5683=0,0,IF((DATEDIF(C5683,TODAY(),\"d\")+1)*T5683>=N5683,N5683-J5683,(DATEDIF(C5683,TODAY(),\"d\")+1)*T5683))","v":38209.435318275151},{"$f":"IF(U5683=0,0,IF(OR(DAY(C5683)=1,MONTH(C5683)<>MONTH(TODAY()),YEAR(C5683)<>YEAR(TODAY())),T5683*((DAY(DATE(YEAR(TODAY()),MONTH(TODAY())+1,1)-1))),T5683*((DAY(DATE(YEAR(TODAY()),MONTH(TODAY())+1,1)-1)-DAY(C5683)+1))))","v":18194.969199178642},{"$f":"IF(N5683=0,0,IF(X5683>=N5683,(J5683),(N5683-Y5683)))","v":1733980.5646817249},{"$f":"DATEDIF(C5683,TODAY(),\"Y\")","v":0},{"$f":"DATEDIF(C5683,TODAY(),\"YM\")","v":2},{"$f":"DATEDIF(C5683,TODAY(),\"md\")+1","v":2},{"$f":"DATEDIF(C5683,TODAY(),\"d\")+1","v":63},{"$f":"IF(N5683=0,\"No\",IF(AE5683>Q5683,\"NO\",\"YES\"))","v":"YES"},"10","209","สนง.อธิการบดี มรร.บางคล้า",null,"นายบัญชา บีซัน","เครื่องปรับอากาศ ",null,"เครื่องปรับอากาศ ","ยี่ห้อ Focus ขนาด 30000 บีทียู","เลขที่ 286/16-126 ถ.แสงชูโต ต.บ้านเหนือ อ.เมือง จ.กาญจนบุรี เลขผู้เสียภาษี 0715535000101","ใบส่งสินค้า/ใบแจ้งหนี้/ใบกำกับภาษี","-","INV-064/61","52/2561 ลว.2 ส.ค 61","201/61",{"$f":"100/O5683","v":12.5},null," "," "," "," "," "," "," "," "," "," "," "," "," ",null," "," "," "," "," "," "," ","01","29","2493-2550"," ",null,"9/30/2018",{"$f":"CONCATENATE(AB5683,\" ปี  \",AC5683,\" เดือน  \",AD5683,\" วัน  \")","v":"0 ปี  2 เดือน  2 วัน  "},{"$f":"A5683","v":6645}]
[{"$f":"A5683+1","v":6646},"62000118","2018-10-24",62,"เฉพาะเจาะจง","รายได้","206201190231","ห้างหุ้นส่วนจำกัด เสียงชัยแอร์","เครื่องปรับอากาศแบบตู้ตั้งพื้น 1 ค.",1,54000,"01.29.2567",{"$f":"IF(BV5684=\"จำหน่าย\",0,SUM(J5684*K5684))","v":54000},{"$f":"IF(K5684<5000,0,M5684)","v":54000},8,{"$f":"DATE(YEAR(C5684)+O5684,MONTH(C5684),DAY(C5684))","v":"2026-10-24"},{"$f":"IF(NOT(OR(ISBLANK(P5684),ISBLANK(C5684))),P5684-C5684,\"\")","v":2922},{"$f":"SLN(N5684,,O5684)","v":6750},{"$f":"SLN(R5684,,12)","v":562.5},{"$f":"SLN(N5684,,Q5684)","v":18.480492813141684},{"$f":"IF(N5684=0,0,IF(AE5684<=Q5684,1,0))","v":1},{"$f":"SUM(R5684*U5684/12)","v":562.5},{"$f":"IF(N5684=0,0,IF((R5684*AB5684)+(R5684*AC5684/12)>=N5684,N5684-J5684,((R5684*AB5684)+(R5684*AC5684/12))))","v":0},{"$f":"SUM(T5684*U5684)","v":18.480492813141684},{"$f":"IF(N5684=0,0,IF((DATEDIF(C5684,TODAY(),\"d\")+1)*T5684>=N5684,N5684-J5684,(DATEDIF(C5684,TODAY(),\"d\")+1)*T5684))","v":535.93429158110882},{"$f":"IF(U5684=0,0,IF(OR(DAY(C5684)=1,MONTH(C5684)<>MONTH(TODAY()),YEAR(C5684)<>YEAR(TODAY())),T5684*((DAY(DATE(YEAR(TODAY()),MONTH(TODAY())+1,1)-1))),T5684*((DAY(DATE(YEAR(TODAY()),MONTH(TODAY())+1,1)-1)-DAY(C5684)+1))))","v":554.41478439425055},{"$f":"IF(N5684=0,0,IF(X5684>=N5684,(J5684),(N5684-Y5684)))","v":53464.065708418893},{"$f":"DATEDIF(C5684,TODAY(),\"Y\")","v":0},{"$f":"DATEDIF(C5684,TODAY(),\"YM\")","v":0},{"$f":"DATEDIF(C5684,TODAY(),\"md\")+1","v":29},{"$f":"DATEDIF(C5684,TODAY(),\"d\")+1","v":29},{"$f":"IF(N5684=0,\"No\",IF(AE5684>Q5684,\"NO\",\"YES\"))","v":"YES"},"10","210","สนง.อธิการบดี มรร.บางคล้า",null,"นายกิจจา พุฒตาล","เครื่องปรับอากาศแบบตู้ตั้งพื้น ",null,"เครื่องปรับอากาศแบบตู้ตั้งพื้น ","ขนาด 60000 บีทียู รุ่น fcf3m-56","เลขที่ 4 ถ.สวนสมเด็จ ต.หน้าเมือง อ.เมือง จ.ฉะเชิงเทรา เลขผู้เสียภาษี 0243536000523","017/0843","017","0843","-","001/62",{"$f":"100/O5684","v":12.5},null," "," "," "," "," "," "," "," "," "," "," "," "," ",null," "," "," "," "," "," "," ","01","29","2567"," ",null,"10/31/2018",{"$f":"CONCATENATE(AB5684,\" ปี  \",AC5684,\" เดือน  \",AD5684,\" วัน  \")","v":"0 ปี  0 เดือน  29 วัน  "},{"$f":"A5684","v":6646}]
[{"$f":"A5684+1","v":6647},"-","2018-09-28",62,"เฉพาะเจาะจง","รายได้","-","ร้าน ไอที เซอร์วิส แอนด์ คอมพ์ ชอป","เครื่องคอมพิวเตอร์ All in one",1,19000,"01.53.5860",{"$f":"IF(BV5685=\"จำหน่าย\",0,SUM(J5685*K5685))","v":19000},{"$f":"IF(K5685<5000,0,M5685)","v":19000},5,{"$f":"DATE(YEAR(C5685)+O5685,MONTH(C5685),DAY(C5685))","v":"2023-09-28"},{"$f":"IF(NOT(OR(ISBLANK(P5685),ISBLANK(C5685))),P5685-C5685,\"\")","v":1826},{"$f":"SLN(N5685,,O5685)","v":3800},{"$f":"SLN(R5685,,12)","v":316.66666666666669},{"$f":"SLN(N5685,,Q5685)","v":10.405257393209201},{"$f":"IF(N5685=0,0,IF(AE5685<=Q5685,1,0))","v":1},{"$f":"SUM(R5685*U5685/12)","v":316.66666666666669},{"$f":"IF(N5685=0,0,IF((R5685*AB5685)+(R5685*AC5685/12)>=N5685,N5685-J5685,((R5685*AB5685)+(R5685*AC5685/12))))","v":316.66666666666669},{"$f":"SUM(T5685*U5685)","v":10.405257393209201},{"$f":"IF(N5685=0,0,IF((DATEDIF(C5685,TODAY(),\"d\")+1)*T5685>=N5685,N5685-J5685,(DATEDIF(C5685,TODAY(),\"d\")+1)*T5685))","v":572.28915662650604},{"$f":"IF(U5685=0,0,IF(OR(DAY(C5685)=1,MONTH(C5685)<>MONTH(TODAY()),YEAR(C5685)<>YEAR(TODAY())),T5685*((DAY(DATE(YEAR(TODAY()),MONTH(TODAY())+1,1)-1))),T5685*((DAY(DATE(YEAR(TODAY()),MONTH(TODAY())+1,1)-1)-DAY(C5685)+1))))","v":312.15772179627601},{"$f":"IF(N5685=0,0,IF(X5685>=N5685,(J5685),(N5685-Y5685)))","v":18427.710843373494},{"$f":"DATEDIF(C5685,TODAY(),\"Y\")","v":0},{"$f":"DATEDIF(C5685,TODAY(),\"YM\")","v":1},{"$f":"DATEDIF(C5685,TODAY(),\"md\")+1","v":25},{"$f":"DATEDIF(C5685,TODAY(),\"d\")+1","v":55},{"$f":"IF(N5685=0,\"No\",IF(AE5685>Q5685,\"NO\",\"YES\"))","v":"YES"},"10","126","โรงแรมบางปะกงปาร์ค",null,"นายฤทธิกร สรศักดิ์เกษม","เครื่องคอมพิวเตอร์ All in one",null,"เครื่องคอมพิวเตอร์ All in one","ยี่ห้อ Hp รุ่น Pavlion 22-b205","เลขที่ 131/43-44 ถ.ชุมพล ต.หน้าเมือง อ.เมือง จ.ฉะเชิงเทรา เลขผู้เสียภาษี 3249900001659","ใบส่งสินค้า/ใบแจ้งหนี้","-","so-610031","-","002/62",{"$f":"100/O5685","v":20},null," "," "," "," "," "," "," "," "," "," "," "," "," ",null," "," "," "," "," "," "," ","01","53","5860"," ",null,"10/31/2018",{"$f":"CONCATENATE(AB5685,\" ปี  \",AC5685,\" เดือน  \",AD5685,\" วัน  \")","v":"0 ปี  1 เดือน  25 วัน  "},{"$f":"A5685","v":6647}]
[{"$f":"A5685+1","v":6648},"-","2018-09-28",62,"เฉพาะเจาะจง","รายได้","-","ร้าน ไอที เซอร์วิส แอนด์ คอมพ์ ชอป","เครื่องพิมพ์ ",1,4300,"01.72.1147",{"$f":"IF(BV5686=\"จำหน่าย\",0,SUM(J5686*K5686))","v":4300},{"$f":"IF(K5686<5000,0,M5686)","v":0},3,{"$f":"DATE(YEAR(C5686)+O5686,MONTH(C5686),DAY(C5686))","v":"2021-09-28"},{"$f":"IF(NOT(OR(ISBLANK(P5686),ISBLANK(C5686))),P5686-C5686,\"\")","v":1096},{"$f":"SLN(N5686,,O5686)","v":0},{"$f":"SLN(R5686,,12)","v":0},{"$f":"SLN(N5686,,Q5686)","v":0},{"$f":"IF(N5686=0,0,IF(AE5686<=Q5686,1,0))","v":0},{"$f":"SUM(R5686*U5686/12)","v":0},{"$f":"IF(N5686=0,0,IF((R5686*AB5686)+(R5686*AC5686/12)>=N5686,N5686-J5686,((R5686*AB5686)+(R5686*AC5686/12))))","v":0},{"$f":"SUM(T5686*U5686)","v":0},{"$f":"IF(N5686=0,0,IF((DATEDIF(C5686,TODAY(),\"d\")+1)*T5686>=N5686,N5686-J5686,(DATEDIF(C5686,TODAY(),\"d\")+1)*T5686))","v":0},{"$f":"IF(U5686=0,0,IF(OR(DAY(C5686)=1,MONTH(C5686)<>MONTH(TODAY()),YEAR(C5686)<>YEAR(TODAY())),T5686*((DAY(DATE(YEAR(TODAY()),MONTH(TODAY())+1,1)-1))),T5686*((DAY(DATE(YEAR(TODAY()),MONTH(TODAY())+1,1)-1)-DAY(C5686)+1))))","v":0},{"$f":"IF(N5686=0,0,IF(X5686>=N5686,(J5686),(N5686-Y5686)))","v":0},{"$f":"DATEDIF(C5686,TODAY(),\"Y\")","v":0},{"$f":"DATEDIF(C5686,TODAY(),\"YM\")","v":1},{"$f":"DATEDIF(C5686,TODAY(),\"md\")+1","v":25},{"$f":"DATEDIF(C5686,TODAY(),\"d\")+1","v":55},{"$f":"IF(N5686=0,\"No\",IF(AE5686>Q5686,\"NO\",\"YES\"))","v":"No"},"10","168","โรงแรมบางปะกงปาร์ค",null,"นายฤทธิกร สรศักดิ์เกษม","เครื่องพิมพ์ ",null,"เครื่องพิมพ์ ","ยี่ห้อ canon รุ่น g2000+tink","เลขที่ 131/43-44 ถ.ชุมพล ต.หน้าเมือง อ.เมือง จ.ฉะเชิงเทรา เลขผู้เสียภาษี 3249900001659","ใบส่งสินค้า/ใบแจ้งหนี้","-","so-610031","-","002/62",{"$f":"100/O5686","v":33.333333333333336},null," "," "," "," "," "," "," "," "," "," "," "," "," ",null," "," "," "," "," "," "," ","01","72","1147"," ",null,"10/31/2018",{"$f":"CONCATENATE(AB5686,\" ปี  \",AC5686,\" เดือน  \",AD5686,\" วัน  \")","v":"0 ปี  1 เดือน  25 วัน  "},{"$f":"A5686","v":6648}]
[{"$f":"A5686+1","v":6649},"62000238","2018-10-31",62,"เฉพาะเจาะจง","รายได้","G02202060331","บริษัท เอ.เอส.เทคดนโลยี แอนด์ คอมมูนิเคชั่น จำกัด","เครื่องคอมพิวเตอร์ All in one",1,31565,"01.53.5861",{"$f":"IF(BV5687=\"จำหน่าย\",0,SUM(J5687*K5687))","v":31565},{"$f":"IF(K5687<5000,0,M5687)","v":31565},5,{"$f":"DATE(YEAR(C5687)+O5687,MONTH(C5687),DAY(C5687))","v":"2023-10-31"},{"$f":"IF(NOT(OR(ISBLANK(P5687),ISBLANK(C5687))),P5687-C5687,\"\")","v":1826},{"$f":"SLN(N5687,,O5687)","v":6313},{"$f":"SLN(R5687,,12)","v":526.08333333333337},{"$f":"SLN(N5687,,Q5687)","v":17.286418400876233},{"$f":"IF(N5687=0,0,IF(AE5687<=Q5687,1,0))","v":1},{"$f":"SUM(R5687*U5687/12)","v":526.08333333333337},{"$f":"IF(N5687=0,0,IF((R5687*AB5687)+(R5687*AC5687/12)>=N5687,N5687-J5687,((R5687*AB5687)+(R5687*AC5687/12))))","v":0},{"$f":"SUM(T5687*U5687)","v":17.286418400876233},{"$f":"IF(N5687=0,0,IF((DATEDIF(C5687,TODAY(),\"d\")+1)*T5687>=N5687,N5687-J5687,(DATEDIF(C5687,TODAY(),\"d\")+1)*T5687))","v":380.30120481927713},{"$f":"IF(U5687=0,0,IF(OR(DAY(C5687)=1,MONTH(C5687)<>MONTH(TODAY()),YEAR(C5687)<>YEAR(TODAY())),T5687*((DAY(DATE(YEAR(TODAY()),MONTH(TODAY())+1,1)-1))),T5687*((DAY(DATE(YEAR(TODAY()),MONTH(TODAY())+1,1)-1)-DAY(C5687)+1))))","v":518.59255202628697},{"$f":"IF(N5687=0,0,IF(X5687>=N5687,(J5687),(N5687-Y5687)))","v":31184.698795180724},{"$f":"DATEDIF(C5687,TODAY(),\"Y\")","v":0},{"$f":"DATEDIF(C5687,TODAY(),\"YM\")","v":0},{"$f":"DATEDIF(C5687,TODAY(),\"md\")+1","v":22},{"$f":"DATEDIF(C5687,TODAY(),\"d\")+1","v":22},{"$f":"IF(N5687=0,\"No\",IF(AE5687>Q5687,\"NO\",\"YES\"))","v":"YES"},"10","126","งานประชุมและพิธีการ",null,"นางสาวจิราพร โสภา","เครื่องคอมพิวเตอร์ All in one",null,"เครื่องคอมพิวเตอร์ All in one","ยี่ห้อ Lenovo รุ่น V510z 16 GB","เลขที่ 139/17 ซ.คู้บอน 27 แยก 25 แขวงท่าแร้ง เขตบางเขน กรุงเทพฯ เลขผู้เสียภาษี 0105537018089","ใบกำกับภาษี/ใบส่งสินค้า/ใบแจ้งหนี้","-","IV0031877","-","003/62",{"$f":"100/O5687","v":20},null," "," "," "," "," "," "," "," "," "," "," "," "," ",null," "," "," "," "," "," "," ","01","53","5861"," ",null,"10/31/2018",{"$f":"CONCATENATE(AB5687,\" ปี  \",AC5687,\" เดือน  \",AD5687,\" วัน  \")","v":"0 ปี  0 เดือน  22 วัน  "},{"$f":"A5687","v":6649}]
[{"$f":"A5687+1","v":6650},"62000238","2018-10-31",62,"เฉพาะเจาะจง","รายได้","G02202060331","บริษัท เอ.เอส.เทคโนโลยี แอนด์ คอมมูนิเคชั่น จำกัด","เครื่องคอมพิวเตอร์ All in one",1,28335,"01.53.5862",{"$f":"IF(BV5688=\"จำหน่าย\",0,SUM(J5688*K5688))","v":28335},{"$f":"IF(K5688<5000,0,M5688)","v":28335},5,{"$f":"DATE(YEAR(C5688)+O5688,MONTH(C5688),DAY(C5688))","v":"2023-10-31"},{"$f":"IF(NOT(OR(ISBLANK(P5688),ISBLANK(C5688))),P5688-C5688,\"\")","v":1826},{"$f":"SLN(N5688,,O5688)","v":5667},{"$f":"SLN(R5688,,12)","v":472.25},{"$f":"SLN(N5688,,Q5688)","v":15.517524644030669},{"$f":"IF(N5688=0,0,IF(AE5688<=Q5688,1,0))","v":1},{"$f":"SUM(R5688*U5688/12)","v":472.25},{"$f":"IF(N5688=0,0,IF((R5688*AB5688)+(R5688*AC5688/12)>=N5688,N5688-J5688,((R5688*AB5688)+(R5688*AC5688/12))))","v":0},{"$f":"SUM(T5688*U5688)","v":15.517524644030669},{"$f":"IF(N5688=0,0,IF((DATEDIF(C5688,TODAY(),\"d\")+1)*T5688>=N5688,N5688-J5688,(DATEDIF(C5688,TODAY(),\"d\")+1)*T5688))","v":341.3855421686747},{"$f":"IF(U5688=0,0,IF(OR(DAY(C5688)=1,MONTH(C5688)<>MONTH(TODAY()),YEAR(C5688)<>YEAR(TODAY())),T5688*((DAY(DATE(YEAR(TODAY()),MONTH(TODAY())+1,1)-1))),T5688*((DAY(DATE(YEAR(TODAY()),MONTH(TODAY())+1,1)-1)-DAY(C5688)+1))))","v":465.52573932092008},{"$f":"IF(N5688=0,0,IF(X5688>=N5688,(J5688),(N5688-Y5688)))","v":27993.614457831325},{"$f":"DATEDIF(C5688,TODAY(),\"Y\")","v":0},{"$f":"DATEDIF(C5688,TODAY(),\"YM\")","v":0},{"$f":"DATEDIF(C5688,TODAY(),\"md\")+1","v":22},{"$f":"DATEDIF(C5688,TODAY(),\"d\")+1","v":22},{"$f":"IF(N5688=0,\"No\",IF(AE5688>Q5688,\"NO\",\"YES\"))","v":"YES"},"10","126","งานประชุมและพิธีการ",null,"นางสาวจิราพร โสภา","เครื่องคอมพิวเตอร์ All in one",null,"เครื่องคอมพิวเตอร์ All in one","ยี่ห้อ Lenovo รุ่น V510z 8 GB","เลขที่ 139/17 ซ.คู้บอน 27 แยก 25 แขวงท่าแร้ง เขตบางเขน กรุงเทพฯ เลขผู้เสียภาษี 0105537018089","ใบกำกับภาษี/ใบส่งสินค้า/ใบแจ้งหนี้","-","IV0031877","-","003/62",{"$f":"100/O5688","v":20},null," "," "," "," "," "," "," "," "," "," "," "," "," ",null," "," "," "," "," "," "," ","01","53","5862"," ",null,"10/31/2018",{"$f":"CONCATENATE(AB5688,\" ปี  \",AC5688,\" เดือน  \",AD5688,\" วัน  \")","v":"0 ปี  0 เดือน  22 วัน  "},{"$f":"A5688","v":6650}]
[{"$f":"A5688+1","v":6651},"-","2018-09-14",62,"เฉพาะเจาะจง","รายได้","-","ร้าน วินเนอร์ คอมพิวเตอร์","อุปกรณ์กระจายสัญญาณแบบไร้สาย",6,4500,"05.55.362-367",{"$f":"IF(BV5689=\"จำหน่าย\",0,SUM(J5689*K5689))","v":27000},{"$f":"IF(K5689<5000,0,M5689)","v":0},3,{"$f":"DATE(YEAR(C5689)+O5689,MONTH(C5689),DAY(C5689))","v":"2021-09-14"},{"$f":"IF(NOT(OR(ISBLANK(P5689),ISBLANK(C5689))),P5689-C5689,\"\")","v":1096},{"$f":"SLN(N5689,,O5689)","v":0},{"$f":"SLN(R5689,,12)","v":0},{"$f":"SLN(N5689,,Q5689)","v":0},{"$f":"IF(N5689=0,0,IF(AE5689<=Q5689,1,0))","v":0},{"$f":"SUM(R5689*U5689/12)","v":0},{"$f":"IF(N5689=0,0,IF((R5689*AB5689)+(R5689*AC5689/12)>=N5689,N5689-J5689,((R5689*AB5689)+(R5689*AC5689/12))))","v":0},{"$f":"SUM(T5689*U5689)","v":0},{"$f":"IF(N5689=0,0,IF((DATEDIF(C5689,TODAY(),\"d\")+1)*T5689>=N5689,N5689-J5689,(DATEDIF(C5689,TODAY(),\"d\")+1)*T5689))","v":0},{"$f":"IF(U5689=0,0,IF(OR(DAY(C5689)=1,MONTH(C5689)<>MONTH(TODAY()),YEAR(C5689)<>YEAR(TODAY())),T5689*((DAY(DATE(YEAR(TODAY()),MONTH(TODAY())+1,1)-1))),T5689*((DAY(DATE(YEAR(TODAY()),MONTH(TODAY())+1,1)-1)-DAY(C5689)+1))))","v":0},{"$f":"IF(N5689=0,0,IF(X5689>=N5689,(J5689),(N5689-Y5689)))","v":0},{"$f":"DATEDIF(C5689,TODAY(),\"Y\")","v":0},{"$f":"DATEDIF(C5689,TODAY(),\"YM\")","v":2},{"$f":"DATEDIF(C5689,TODAY(),\"md\")+1","v":8},{"$f":"DATEDIF(C5689,TODAY(),\"d\")+1","v":69},{"$f":"IF(N5689=0,\"No\",IF(AE5689>Q5689,\"NO\",\"YES\"))","v":"No"},"10","56","โรงแรมบางปะกงปาร์ค",null,"นายฤทธิ์กร ศรศักดิ์เกษม","อุปกรณ์กระจายสัญญาณแบบไร้สาย",null,"อุปกรณ์กระจายสัญญาณแบบไร้สาย พร้อมติดตั้ง","ยี่ห้อ TP-link","เลขที่ 55/1 ม.4 ต.บางตีนเป็ด อ.เมือง จ.ฉะเชิงเทรา เลขผู้เสียภาษี 3240500009727","ใบแจ้งหนี้/ใบกำกับภาษี/ใบส่งสินค้า","-","IV61-00162","-","004/62",{"$f":"100/O5689","v":33.333333333333336},null," "," "," "," "," "," "," "," "," "," "," "," "," ",null," "," "," "," "," "," "," ","05","55","362-367"," ",null,"10/31/2018",{"$f":"CONCATENATE(AB5689,\" ปี  \",AC5689,\" เดือน  \",AD5689,\" วัน  \")","v":"0 ปี  2 เดือน  8 วัน  "},{"$f":"A5689","v":6651}]
[{"$f":"A5689+1","v":6652},"62000310","2018-11-02",62,"เฉพาะเจาะจง","รายได้","G02202060531","บริษัท ยูไนเต็ดแมชชินเนอรี่ จำกัด","รถตัดหญ้าแบบนั่งขับ 4 ล้อ",1,86135,"08.03.123",{"$f":"IF(BV5690=\"จำหน่าย\",0,SUM(J5690*K5690))","v":86135},{"$f":"IF(K5690<5000,0,M5690)","v":86135},5,{"$f":"DATE(YEAR(C5690)+O5690,MONTH(C5690),DAY(C5690))","v":"2023-11-02"},{"$f":"IF(NOT(OR(ISBLANK(P5690),ISBLANK(C5690))),P5690-C5690,\"\")","v":1826},{"$f":"SLN(N5690,,O5690)","v":17227},{"$f":"SLN(R5690,,12)","v":1435.5833333333333},{"$f":"SLN(N5690,,Q5690)","v":47.17141292442497},{"$f":"IF(N5690=0,0,IF(AE5690<=Q5690,1,0))","v":1},{"$f":"SUM(R5690*U5690/12)","v":1435.5833333333333},{"$f":"IF(N5690=0,0,IF((R5690*AB5690)+(R5690*AC5690/12)>=N5690,N5690-J5690,((R5690*AB5690)+(R5690*AC5690/12))))","v":0},{"$f":"SUM(T5690*U5690)","v":47.17141292442497},{"$f":"IF(N5690=0,0,IF((DATEDIF(C5690,TODAY(),\"d\")+1)*T5690>=N5690,N5690-J5690,(DATEDIF(C5690,TODAY(),\"d\")+1)*T5690))","v":943.42825848849941},{"$f":"IF(U5690=0,0,IF(OR(DAY(C5690)=1,MONTH(C5690)<>MONTH(TODAY()),YEAR(C5690)<>YEAR(TODAY())),T5690*((DAY(DATE(YEAR(TODAY()),MONTH(TODAY())+1,1)-1))),T5690*((DAY(DATE(YEAR(TODAY()),MONTH(TODAY())+1,1)-1)-DAY(C5690)+1))))","v":1367.9709748083242},{"$f":"IF(N5690=0,0,IF(X5690>=N5690,(J5690),(N5690-Y5690)))","v":85191.571741511507},{"$f":"DATEDIF(C5690,TODAY(),\"Y\")","v":0},{"$f":"DATEDIF(C5690,TODAY(),\"YM\")","v":0},{"$f":"DATEDIF(C5690,TODAY(),\"md\")+1","v":20},{"$f":"DATEDIF(C5690,TODAY(),\"d\")+1","v":20},{"$f":"IF(N5690=0,\"No\",IF(AE5690>Q5690,\"NO\",\"YES\"))","v":"YES"},"9","007","งานอาคารสถานที่ฯ",null,"นายอภิวัฒน์ วงศ์ณรัตน์","รถตัดหญ้าแบบนั่งขับ ",null,"รถตัดหญ้าแบบนั่งขับ ","ยี่ห้อ MTD ขนาด 12.5 แรงม้า","เลขที่ 10,20 ถ.หลานหลวง แขวงบ้านมาตร เขตป้อมปราบศัตรูพ่าย กรุงเทพฯ เลขผู้เสียภาษี 0105499000556 ","ต้นฉบับใบกำกับภาษี/ใบส่งสินค้า/ใบแจ้งหนี้","-","22204","-","005/62",{"$f":"100/O5690","v":20},null," "," "," "," "," "," "," "," "," "," "," "," "," ",null," "," "," "," "," "," "," ","08","03","123"," ",null,"11/11/2018",{"$f":"CONCATENATE(AB5690,\" ปี  \",AC5690,\" เดือน  \",AD5690,\" วัน  \")","v":"0 ปี  0 เดือน  20 วัน  "},{"$f":"A5690","v":6652}]

{"sheet":"report1","index":2,"n_rows":40,"n_cols":11,"rows_kept":40,"cut":false,"hidden":false,"merged":[[0,0,0,4],[1,0,1,6]]}
[" มหาวิทยาลัยราชภัฏราชนครินทร์",null,null,null,null,"ข้อมูล ณ วันที่",{"$f":"TODAY()","v":"2018-11-21"}]
[" บัญชีรายการค่าเสื่อมราคาและค่าเสื่อมราคาสะสม ครุภัณฑ์ ประจำเดือน....ตุลาคม........................... ปีงบประมาณ  ..2562..........................."]
[null,"ปีงบประมาณ","ราคาทุน ที่คิดค่าเสื่อม","ค่าเสื่อมราคาเดือนปัจจุบัน","ค่าเสื่อมราคาสะสม","ผลรวม ของ มูลค่าสุทธิ   "]
[null,40,12718799.960000001,0,12718585.960000001,214]
[null,41,7450027.1000000006,0,7449910.1000000006,117]
[null,42,14388463.449999999,0,14388313.449999999,150]
[null,43,23259439.02,0,23259173.02,266]
[null,44,35495483.189999998,0,35495147.189999998,336,null,null," "]
[null,45,35016359.479999997,0,35016073.479999997,286]
[null,46,15528642.190000001,0,15528259.190000001,383]
[null,47,26388130.020000003,0,26387806.020000003,324,null,null," "]
[null,48,10574642.16,0,10574381.16,261]
[null,49,17631283.120000008,10595.259116627121,17292492.110054761,338791.00994524558,null," "]
[null,50,44606511.419999994,0,44605253.419999994,1258,null,null," "]
[null,51,35133847.07,0,35132564.07,1283]
[null,52,35653812.690000013,0,35652916.690000013,896]
[null,53,23789263.48,6037.2221208249684,23306325.673283447,482937.8067165541,null," "]
[null,54,60438715.894799985,238660.13556807951,58392909.380273506,2045806.5145264829,null," "]
[null,55,27938775.949999999,71391.338479487516,24746312.406925041,3192463.5430749473,null," "]
[null,56,86537526.909999996,482686.97507369024,70134616.332998067,16402910.577001922]
[null,57,11367724.010000002,125639.66877624366,10002449.498849574,1365274.51115043]
[null,58,41098129.500000007,422707.07531937445,24941790.016929097,16156339.483070875]
[null,59,49120238.899999991,789157.54024362378,25124567.609517522,23995671.290482473]
[null,60,24225127.689999998,304416.83120512904,6010037.4772221884,18215090.212777808]
[null,61,64983040.899999991,920563.819980992,7008394.9627609942,57974645.937239014,null," "]
[null,62,132900,1850.6907975377337,1213.0132626829889,131686.98673731703,null," "," "," "," "]
[null,"ผลรวมสุทธิ",703476884.10479987,3373706.5566816102,563169492.23207688,140307391.87272307," "," "," "," "," "]
[null,null,null,null,null,null,null," "]
[]
[]
[]
[]
[]
[]
[null,null,null,"     ขอรับรองว่าข้อความข้างต้นเป็นความจริงทุกประการ"]
[null,null,null,"                              "]
[]
[null," "," ","  ลงชื่อ...........................................................................ผู้รับผิดชอบ"]
[null,null,null,"         (รองศาสตราจารย์ ดร.ดวงพร ภู่ผะกา)"]
[null,null,null,"                         อธิการบดี"]

{"sheet":"report2","index":3,"n_rows":10,"n_cols":3,"rows_kept":10,"cut":false,"hidden":false,"merged":[[1,0,1,4]]}
[]
["รายงานหน่วยงานที่รับผิดชอบ"]
[]
["หน่วยงาน","(หลายรายการ)"]
["สาขา","(ทั้งหมด)"]
[]
["ปีงบประมาณ","จำนวน ","ผลรวมราคาทุนรวม"]
[61,1,17000]
[62,2,59900]
["ผลรวมทั้งหมด",3,76900]

{"sheet":"report3","index":4,"n_rows":10,"n_cols":3,"rows_kept":10,"cut":false,"hidden":false,"merged":[[1,1,1,4]]}
[]
[null,"รายงานผู้เบิก"]
[]
["หน่วยงาน","(หลายรายการ)"]
["ผู้เบิก","(ทั้งหมด)"]
[]
["ปีงบประมาณ","จำนวน ","ผลรวมราคาทุนรวม"]
[59,2,63850]
[62,2,59900]
["ผลรวมทั้งหมด",4,123750]

{"sheet":"report4","index":5,"n_rows":32,"n_cols":3,"rows_kept":32,"cut":false,"hidden":false,"merged":[[1,1,1,3]]}
[]
[null,"รายงานครุภัณฑ์"]
[]
["หมวด","01"]
["ประเภท","29"]
["หมายเลข","(ทั้งหมด)"]
[]
["ปีงบประมาณ","จำนวน ","ผลรวม มูลค่าสุทธิ   "]
[40,4,37]
[41,11,21]
[42,19,51]
[43,10,36]
[44,8,112]
[45,7,9]
[46,14,22]
[47,11,35]
[48,11,11]
[49,13,21]
[50,35,105]
[51,27,87]
[52,19,31]
[53,38,195]
[54,23,559113.39185489342]
[55,16,338745.51916495548]
[56,45,4943995.6009582495]
[57,5,220445.76112251883]
[58,14,1200563.7457118414]
[59,10,1247679.3915126626]
[60,19,11424742.453114305]
[61,34,24765484.999486648]
[62,1,53648.870636550309]
["ผลรวมทั้งหมด",394,44755192.733562633]

{"sheet":"ทะเบียนคุมทรัพย์สิน","index":6,"n_rows":32,"n_cols":14,"rows_kept":32,"cut":false,"hidden":false,"merged":[[12,2,12,4],[31,2,31,5],[28,2,28,5],[32,7,32,8],[0,0,0,14],[24,12,24,14],[25,12,25,14],[26,12,26,14],[27,12,27,14],[24,7,24,8],[25,7,25,8],[26,7,26,8],[27,7,27,8],[2,12,2,14],[6,8,6,14],[8,5,8,6],[32,12,32,14],[28,12,28,14],[29,12,29,14],[30,12,30,14],[31,12,31,14],[14,2,14,4],[15,2,15,4],[22,7,22,8],[22,2,22,4],[27,2,27,5],[25,2,25,5],[26,2,26,5],[24,2,24,5],[6,3,6,6],[8,2,8,3],[9,2,9,3],[32,9,32,11],[31,9,31,11],[27,9,27,11],[28,9,28,11],[29,9,29,11],[30,9,30,11],[32,2,32,5],[30,7,30,8],[31,7,31,8],[29,2,29,5],[28,7,28,8],[29,7,29,8],[30,2,30,5],[8,9,8,10],[9,12,9,14],[19,13,19,14],[26,9,26,11],[25,9,25,11],[24,9,24,11],[20,13,20,14],[16,13,16,14],[4,7,4,9],[3,7,3,9],[3,1,3,4],[4,1,4,4],[5,2,5,14],[3,12,3,14],[8,7,8,8],[1,8,1,14],[18,2,18,4],[19,2,19,4],[20,2,20,4],[17,13,17,14],[18,13,18,14],[16,2,16,4],[17,2,17,4],[7,1,7,14],[12,13,12,14],[13,13,13,14],[14,13,14,14],[15,13,15,14],[9,9,9,10],[13,2,13,4]]}
["ทะเบียนคุมทรัพย์สิน"]
[null,null,null,null,null,null,null,null,"ส่วนราชการ มหาวิทยาลัยราชภัฏราชนครินทร์"]
[null,null,null,null,null," ",null,null," ",null,null,"หน่วยงาน","หน่วยงาน"]
["ประเภท","ปรถเภท",null,null,null,"ลักษณะ/คุณสมบัติ",null,"ลักษณะ/คุณสมบัติ",null,null,null,"สาขา","สาขา"]
["รหัส","02.01.10",null,null,null,"รุ่น/แบบ/ขนาด",null,"รุ่น/แบบ/ขนาด"]
["หมายเลขเครื่อง",null,"หมายเลขเครื่อง"]
["สถานที่ตั้ง/หน่วยงานที่รับผิดชอบ",null,null,"หน่วยงาน",null,null,null,"ชื่อผู้ขาย","บริษัท/ร้านค้า"]
["ที่อยู่","ที่อยู่ผู้ขาย"]
["ประเภทเงิน",null,"ประเภท",null,"วิธีการได้มา","วิธีการที่ได้มา",null,"ชื่อผู้รับของ/ผู้รับผิดชอบ",null,"ผู้เบิก"]
["เอกสารอ้างอิง",null,"เอกสารอ้างอิง",null,"ใบเสร็จเล่มที่","ใบเสร็จเล่มที่","ใบเสร็จเลขที่","ใบเสร็จเลขที่","สัญญาเลขที่","สัญญาเลขที่",null,"เลขที่ใบเบิก","เลขที่ใบเบิกพัสดุ"]
[null,null,null,null,null,null,null,null," ","เล่ม","คุมเล่ม","คุมหน้า"]
[]
["วันที่ เดือน ปี","ที่เอกสาร","รายการ",null,null,"จำนวน","    ราคา     ต่อหน่วย","มูลค่ารวม","อายุการใช้งาน","อัตราค่าเสื่อมราคา %","ค่าเสื่อมราคาประจำปี","ค่าเสื่อมราคาสะสม","มูลค่าสุทธิ","หมายเหตุ"]
["2018-07-15","อกสาร","รถยนต์เก๋ง 4 ประตู 1 คัน",null,null,1,1190000,1190000,1,100,1190000,16301.369863013701,1173698.63013699,"หมายเหตุ"]
[]
[]
[]
[]
[]
[]
[]
[]
["ประเภทครุภัณฑ์",null,"ปรถเภท",null,null,null,"หมายเลขครุภัณฑ์","02.01.10"]
[]
["ครั้งที่","วัน เดือน ปี","รายการ",null,null,null,"จำนวนหน่วย","จำนวนเงิน",null,"ร้าน/หจก./บริษัทที่รับซ่อม",null,null,"หมายเหตุ/เอกสารอ้างอิง"]
["ซI","ซII","ซIII",null,null,null,"ซIv","ซv",null,"ซvi",null,null,"ซvii"]
["ซI LL","ซII LL","ซIIILL",null,null,null,"ซIvLL","ซvLL",null,"ซviLL",null,null,"ซviiLL"]
["ซILLL","ซIILLL","ซIIILLL",null,null,null,"ซIvLLL","ซvLLL",null,"ซviLLL",null,null,"ซviiLLL"]
[]
[]
[]
[null,null," ",null,null,null,null," "]

{"sheet":" Search","index":7,"n_rows":22,"n_cols":7,"rows_kept":22,"cut":false,"hidden":false,"merged":[[0,4,0,5],[10,4,10,5],[11,4,11,5],[12,4,12,5],[1,0,1,1],[8,4,8,5],[9,4,9,5],[1,4,1,5],[3,4,3,5],[5,4,5,5],[6,4,6,5],[7,4,7,5],[4,4,4,5],[3,1,3,2],[2,0,2,6]]}
[null,null,null,null,"ข้อมูล ณ วันที่ :",null,{"$f":"TODAY()","v":"2018-11-21"}]
["ค้นหาครุภัณฑ์รายตัว",null,null,null," ",null," "]
["โปรดระบุหมายเลขครุภัณฑ์ที่ต้องการทราบรายละเอียด ในช่อง \"เลขครุภัณฑ์\""]
["เลขครุภัณฑ์ :","08.03.118-121",null,null,"ลำดับการบันทึก :",null,{"$f":"VLOOKUP(B4,'40-now'!L:BZ,67,FALSE)","v":6037}]
["รายการ :",{"$f":"VLOOKUP(G4,'40-now'!A:BZ,9,FALSE)","v":"เครื่องตัดหญ้าสายสะพาย 4 ค."},null,null,"วันที่บันทึก :",null,{"$f":"VLOOKUP(G4,'40-now'!A:BZ,76,FALSE)","v":0}]
["วันที่ได้มา :",{"$f":"VLOOKUP(G4,'40-now'!A:BZ,3,FALSE)","v":"2017-08-08"},null,null,"ปีงบประมาณ :",null,{"$f":"VLOOKUP(G4,'40-now'!A:BZ,4,FALSE)","v":60}]
["จำนวน :",{"$f":"VLOOKUP(G4,'40-now'!A:BZ,10,FALSE)","v":4},null,null,"วิธีการได้มา :",null,{"$f":"VLOOKUP(G4,'40-now'!A:BZ,5,FALSE)","v":"ตกลงราคา"}]
["ราคาต่อหน่วย :",{"$f":"VLOOKUP(G4,'40-now'!A:BZ,11,FALSE)","v":9400}," บาท",null,"ประเภทงบประมาณ :",null,{"$f":"VLOOKUP(G4,'40-now'!A:BZ,6,FALSE)","v":"รายได้"}]
["ราคารวม :",{"$f":"VLOOKUP(G4,'40-now'!A:BZ,13,FALSE)","v":37600}," บาท",null,"ทะเบียนคุมเล่มที่ :",null,{"$f":"VLOOKUP(G4,'40-now'!A:BZ,33,FALSE)","v":"9"}]
["อายุการใช้งาน :",{"$f":"VLOOKUP(G4,'40-now'!A:BZ,15,FALSE)","v":5}," ปี",null,"ทะเบียนคุมหน้าที่ :",null,{"$f":"VLOOKUP(G4,'40-now'!A:BZ,34,FALSE)","v":"5"}]
["ใช้งานมาแล้ว :",{"$f":"VLOOKUP(G4,'40-now'!A:BZ,77,FALSE)","v":"1 ปี  3 เดือน  14 วัน  "},null,null,"หน่วยงาน :",null,{"$f":"VLOOKUP(G4,'40-now'!A:BZ,35,FALSE)","v":"มรร.บางคล้า"}]
["ค่าเสื่อมราค่าต่อวัน :",{"$f":"VLOOKUP(G4,'40-now'!A:BZ,20,FALSE)","v":20.591456736035049}," บาท",null,"สาขา :",null,{"$f":"VLOOKUP(G4,'40-now'!A:BZ,36,FALSE)","v":"-"}]
["ค่าเสื่อมราคาสะสม :",{"$f":"VLOOKUP(G4,'40-now'!A:BZ,25,FALSE)","v":9698.5761226725081}," บาท",null,"ผู้เบิก :",null,{"$f":"VLOOKUP(G4,'40-now'!A:BZ,37,FALSE)","v":"นายอุดร พิมแก้ว"}]
["มูลค่าสุทธิ :",{"$f":"VLOOKUP(G4,'40-now'!A:BZ,27,FALSE)","v":27901.423877327492}," บาท",null," "]
[null,null,null,null," "]
[null,null,null,null," "]
[null,null,null,null," ",null," "]
[null,null,null,null," ",null," "]
[null,null,null,null," "]
[null,null,null,null," "]
[null,null,null,null," "]
[null,null,null,null," "]

{"sheet":"Sheet2","index":8,"n_rows":12,"n_cols":21,"rows_kept":12,"cut":false,"hidden":true,"merged":[]}
[]
[null,null,null,null,null,null,{"$f":"IF(U2=0,0,IF(OR(DAY(C2)=1,MONTH(C2)<>MONTH(TODAY()),YEAR(C2)<>YEAR(TODAY())),T2*((DAY(DATE(YEAR(C2),MONTH(C2)+1,1)-1))),T2*((DAY(DATE(YEAR(C2),MONTH(C2)+1,1)-1)-DAY(C2)+1))))","v":0}]
[null,null,{"$f":"IF(U6=0,0,IF(DAY(C6)=1,T6*(DAY(DATE(YEAR(C6),MONTH(C6)+1,1)-1)),T6*(DAY(DATE(YEAR(C6),MONTH(C6)+1,1)-1)-DAY(C6)+1)))","v":24},null,null,null,{"$f":"IF(U3=0,0,IF(OR(DAY(C3)=1,MONTH(C3)<>MONTH(TODAY()),YEAR(C3)<>YEAR(TODAY())),T3*((DAY(DATE(YEAR(C3),MONTH(C3)+1,1)-1))),T3*((DAY(DATE(YEAR(C3),MONTH(C3)+1,1)-1)-DAY(C3)+1))))","v":0}]
[null,null,{"$f":"IF(U6=0,0,IF(OR(DAY(C6)=1,MONTH(C6)<>MONTH(TODAY()),YEAR(C6)<>YEAR(TODAY())),(DAY(DATE(YEAR(C6),MONTH(C6)+1,1)-1)),(DAY(DATE(YEAR(C6),MONTH(C6)+1,1)-1)-DAY(C6)+1)))","v":31},{"$f":"IF(DAY(C6)=1&(MONTH(C6)<>MONTH(TODAY()))&(YEAR(C6)<>YEAR(TODAY())),(DAY(DATE(YEAR(C6),MONTH(C6)+1,1)-1)),(DAY(DATE(YEAR(C6),MONTH(C6)+1,1)-1)-DAY(C6)+1))","v":12},{"$f":"IF(DAY(C3)<=15,DATEDIF(C3,TODAY(),\"YM\")+1,IF(DAY(C3)=31,DATEDIF(C3,TODAY(),\"YM\")+1,IF(DAY(C3)=30,DATEDIF(C3,TODAY(),\"YM\")+1,IF(DAY(C3)=29,DATEDIF(C3,TODAY(),\"YM\")+1,DATEDIF(C3,TODAY(),\"YM\")))))","v":9},null,{"$f":"IF(U4=0,0,IF(OR(DAY(C4)=1,MONTH(C4)<>MONTH(TODAY()),YEAR(C4)<>YEAR(TODAY())),T4*((DAY(DATE(YEAR(C4),MONTH(C4)+1,1)-1))),T4*((DAY(DATE(YEAR(C4),MONTH(C4)+1,1)-1)-DAY(C4)+1))))","v":0},null,null,null,null,null,null,null,null,null,null,null,null,null,1]
[null,null,{"$f":"IF(U6=0,0,IF(DAY(C6)=1,(DAY(DATE(YEAR(C6),MONTH(C6)+1,1)-1)),(DAY(DATE(YEAR(C6),MONTH(C6)+1,1)-1)-DAY(C6)+1)))","v":12},null,null,null,{"$f":"IF(U5=0,0,IF(OR(DAY(C5)=1,MONTH(C5)<>MONTH(TODAY()),YEAR(C5)<>YEAR(TODAY())),T5*((DAY(DATE(YEAR(C5),MONTH(C5)+1,1)-1))),T5*((DAY(DATE(YEAR(C5),MONTH(C5)+1,1)-1)-DAY(C5)+1))))","v":0},null,null,null,null,null,null,null,null,null,null,null,null,null,0]
[null,null,"2017-08-20",null,null,null,{"$f":"IF(U6=0,0,IF(OR(DAY(C6)=1,MONTH(C6)<>MONTH(TODAY()),YEAR(C6)<>YEAR(TODAY())),((DAY(DATE(YEAR(TODAY()),MONTH(TODAY())+1,1)-1))),((DAY(DATE(YEAR(TODAY()),MONTH(TODAY())+1,1)-1)-DAY(C6)+1))))","v":30},null,null,null,null,null,null,null,null,null,null,null,null,2,1]
[null,null,null,null,null,null,{"$f":"IF(U6=0,0,IF(OR(DAY(C6)=1,MONTH(C6)<>MONTH(TODAY()),YEAR(C6)<>YEAR(TODAY())),((DAY(DATE(YEAR(C6),MONTH(C6)+1,1)-1))),((DAY(DATE(YEAR(C6),MONTH(C6)+1,1)-1)-DAY(C6)+1))))","v":31}]
[null,null,null,null,null,null,{"$f":"(DAY(DATE(YEAR(TODAY()),MONTH(TODAY())+1,1)-1))","v":30}]
[]
[]
[]
[null,null,null,null,null,null,null," "]